{"text_format":"1","workbook":"xlsx","n_sheets":15,"sheets":["Panel","Cotizador","ListarArchivos","Trama","configuracion","Calculadora","Slip","tabla","Tasas","Actividades","Listas desplegables","CIIU","Info","Planes de Fraccionamiento","Período corto"],"not_rendered":{"charts":0,"images":13,"macros":1,"external_links":1,"defined_names":31,"comments":0,"pivot_tables":0},"unopened":[],"bounds":{"document_bytes":16777216,"sheet_cells":100000,"rows_first":2000,"rows_last":500,"rows_between":2000,"halvings":0,"cell_chars":16384,"cell_head_chars":4096},"cells_cut":0,"cells_raw":0,"read":"whole","date_system":"1900"}

{"sheet":"Panel","index":0,"n_rows":7,"n_cols":20,"rows_kept":7,"cut":false,"hidden":false,"merged":[[6,5,7,18],[2,19,3,20]]}
[]
[]
[null,null,null,null,null,null,null,null,null,null,null,null,null,null,null,null,null,null,null,"Versión 1.0"]
[]
[]
[]
[null,null,null,null,null,"ESTE COTIZADOR SOLO ES COMPATABLE CON EXCEL 2017 EN ADELANTE.\nNO ES COMPATIBLE CON iOS (MACBOOK)."]

{"sheet":"Cotizador","index":1,"n_rows":163,"n_cols":12,"rows_kept":163,"cut":false,"hidden":false,"merged":[[95,1,95,2],[109,1,109,2],[63,7,63,8],[120,1,120,2],[121,1,121,2],[96,1,96,2],[89,1,89,2],[76,1,79,1],[107,1,107,2],[122,1,122,2],[47,4,48,4],[47,5,48,10],[115,1,115,2],[116,1,116,2],[117,1,117,2],[110,1,110,2],[111,1,111,2],[112,1,112,2],[113,1,113,2],[114,1,114,2],[90,1,90,2],[93,1,93,2],[94,1,94,2],[62,2,62,4],[62,7,62,8],[1,1,1,9],[12,1,13,1],[7,7,7,10],[91,1,91,2],[92,1,92,2],[69,5,69,6],[10,2,10,4],[8,7,8,10],[9,7,9,10],[57,1,57,2],[59,2,59,4],[60,2,60,4],[10,7,10,10],[11,7,11,10],[14,7,14,10],[63,2,63,4],[126,1,126,11],[105,1,105,2],[106,1,106,2],[97,1,97,2],[98,1,98,2],[108,1,108,2],[99,1,99,2],[100,1,100,2],[101,1,101,2],[102,1,102,2],[103,1,103,2],[104,1,104,2],[123,1,123,2],[124,1,124,2],[118,1,118,2],[119,1,119,2],[59,7,59,8],[60,7,60,8],[43,1,43,2],[155,1,155,11],[2,3,2,7],[5,1,5,11],[20,1,20,11],[22,1,22,2],[17,9,17,10],[7,2,7,3],[17,2,17,3],[67,1,67,2],[14,2,14,4],[15,2,15,4],[8,2,8,4],[9,2,9,4],[12,2,13,4],[11,2,11,4],[39,1,41,1],[24,4,24,10],[45,4,46,4],[45,5,46,10],[12,7,12,10],[13,7,13,10],[41,2,41,3],[17,5,17,6],[18,2,18,6],[32,1,32,2],[39,2,39,3],[40,2,40,3]]}
[1]
[]
[null,null,"PRODUCTO:","Suma Asegurada Fija"]
[]
[]
[null,"I) Información del Cliente y Corredor (Obligatoria para generar Emisión PDF) "]
[]
[null,"RUC",null,null,{"$f":"IF(C8=\"\",\"\",IF(LEFT(C8,1)=\"1\",\"Persona Natural\",IF(LEFT(C8,1)=\"2\",\"Empresa\",IF(LEN(C8)=8,\"Persona Natural\",\"\"))))","v":""},null,"Dirección"]
[null,"Razón Social",null,null,null,null,"Nro"]
[null,"Nombre Comercial (si es diferente)",null,null,null,null,"Dpto/Piso/Int"]
[null,"CIIU",null,null,null,null,"Lt"]
[null,"Sector / Industria",null,null,null,null,"Mz"]
[null,"Descripción de la Actividad",null,null,null,null,"Distrito"]
[null,null,null,null,null,null,"Provincia"]
[null,"Correo Electrónico",null,null,null,null,"Departamento"]
[null,"Teléfono"]
[]
[null,"RUC del Corredor",null,null,"Código del Corredor",null,null,null,"Comisión del Corredor",0.25]
[null,"Razón Social del Corredor"]
[]
[null,"II) Datos para la Cotización"]
[]
[null,"Actividad que se va a asegurar"]
[]
[null,"¿Los asegurados realizan la misma actividad?","Si",null,{"$f":"IF(C25=\"No\",\"Recuerde que cada actividad que realiza debe cotizarse como un grupo distinto.  Seleccione la cantidad de grupos en 'Llenar Campos de Actividad'\",\"\")","v":""}]
[]
[null,null,"Llenar Campos de Actividad",null,"GRUPO 1",null,"GRUPO 2",null,"GRUPO 3",null,"GRUPO 4"]
[]
[null,"¿Cuál es su ocupación?",null,null,null,{"$f":"VLOOKUP(E30,Actividades!$Q$5:$R$10,2,0)+IF(OR(Cotizador!E31=\"Nunca / 1 vez al mes\",Cotizador!E31=\"2 veces al mes\"),0,6)","v":{"$error":"#N/A"}},null,{"$f":"VLOOKUP(G30,Actividades!$Q$5:$R$10,2,0)+IF(OR(Cotizador!G31=\"Nunca / 1 vez al mes\",Cotizador!G31=\"2 veces al mes\"),0,6)","v":{"$error":"#N/A"}},null,{"$f":"VLOOKUP(I30,Actividades!$Q$5:$R$10,2,0)+IF(OR(Cotizador!I31=\"Nunca / 1 vez al mes\",Cotizador!I31=\"2 veces al mes\"),0,6)","v":{"$error":"#N/A"}},null,{"$f":"VLOOKUP(K30,Actividades!$Q$5:$R$10,2,0)+IF(OR(Cotizador!K31=\"Nunca / 1 vez al mes\",Cotizador!K31=\"2 veces al mes\"),0,6)","v":{"$error":"#N/A"}}]
[null,"¿Qué tipo de actividad realiza en el día a día?"]
[null,"¿Con qué frecuencia realiza viajes?"]
[]
[null,{"$f":"IF(D3=\"Tripulantes\",\"Datos del Vehículo de los Tripulantes\",IF(D3=\"Ocupantes\",\"Datos del Vehículo de los Ocupantes\",\"Datos del Vehículo de los Tripulantes / Ocupantes\"))","v":"Datos del Vehículo de los Tripulantes / Ocupantes"}]
[]
[null,"Tipo de Transporte","Aéreo"]
[null,"Número de matrícula del vehículo"]
[]
[null,"¿Tienes más vehículos?","No"]
[]
[null,"Números de Matrícula"]
[]
[]
[]
[null,"Datos de los Viajes"]
[]
[null,"N° de viajes al año",null,null,"Motivo del Viaje"]
[null,"N° promedio de días por viaje"]
[null,"N° de días de viaje al año",{"$f":"C46*C47","v":0},null,"Lugar del Viaje"]
[null,"N° personas que viajan juntas"]
[]
[null,{"$f":"IF(D3=\"Accidentes Individual\",\"Fecha de Nacimiento\",\"¿Cuántos asegurados pertenecen a este grupo?\")","v":"¿Cuántos asegurados pertenecen a este grupo?"}]
[]
[null,null,null,null,"24 horas"]
[]
[null,"Monto de la Planilla Anual"]
[null,"Sueldo Máximo Mensual"]
[]
[null,{"$f":"IF(D3=\"Aforo\",\"Detalle del Aforo\",IF(D3=\"Eventos\",\"Detalle del Evento\",\"Detalle del Aforo / Detalle del Evento\"))","v":"Detalle del Aforo / Detalle del Evento"}]
[]
[null,"Nombre de Local",null,null,null,null,"Aforo Promedio"]
[null,"Tipo de Local",null,null,null,null,"Aforo Máximo"]
[]
[null,"Nombre de Evento",null,null,null,null,"N° de Asistentes"]
[null,"Lugar del Evento",null,null,null,null,"Duración del Evento"]
[]
[null,"Tipo de Riesgo",null,null,{"$f":"IF(OR(D3=\"Suma Asegurada Fija\",D3=\"Suma Asegurada Variable\",D3=\"Accidentes Individual\"),VLOOKUP($E$29,Actividades!$C$4:$O$219,Cotizador!F29,0),IF(OR(Cotizador!D3=\"Ocupantes\",D3=\"Tripulantes\",Cotizador!D3=\"Viajes\"),\"Grupo1\"))","v":{"$error":"#N/A"}},null,{"$f":"IF(OR(D3=\"Suma Asegurada Fija\",D3=\"Suma Asegurada Variable\",),VLOOKUP($G$29,Actividades!$C$4:$O$219,Cotizador!H29,0),\"\")","v":{"$error":"#N/A"}},null,{"$f":"IF(OR(D3=\"Suma Asegurada Fija\",D3=\"Suma Asegurada Variable\",),VLOOKUP($I$29,Actividades!$C$4:$O$219,Cotizador!J29,0),\"\")","v":{"$error":"#N/A"}},null,{"$f":"IF(OR(D3=\"Suma Asegurada Fija\",D3=\"Suma Asegurada Variable\",),VLOOKUP($K$29,Actividades!$C$4:$O$219,Cotizador!L29,0),\"\")","v":{"$error":"#N/A"}}]
[]
[null,"Coberturas"]
[]
[null,"Inicio de Vigencia",null,null,"Tipo de póliza","Nominativa"]
[null,"Fin de Vigencia"]
[null,"Días de Vigencia",{"$f":"IF(AND(C70<>\"\",C71<>\"\"),IF(C71-C70=0,1,C71-C70),\"\")","v":""}]
[null,"Tipo de Moneda"]
[]
[null,null,null,null,"GRUPO 1",null,"GRUPO 2",null,"GRUPO 3",null,"GRUPO 4"]
[]
[null,{"$f":"IF(D3=\"Suma Asegurada Variable\",\"Ingrese la cantidad de sueldos que desea asegurar.\n\nRecuerde que solo puede cotizar una suma asegurada máxima de $ 200,000 o S/ 660,000 en Muerte Accidental / Invalidez Permanente.\",\"Ingrese los montos que desea asegurar.\n\nRecuerde que solo puede cotizar una suma asegurada máxima de $ 200,000 o S/ 660,000 en Muerte Accidental / Invalidez Permanente.\")","v":"Ingrese los montos que desea asegurar.\n\nRecuerde que solo puede cotizar una suma asegurada máxima de $ 200,000 o S/ 660,000 en Muerte Accidental / Invalidez Permanente."},"Muerte Accidental"]
[null,null,"Invalidez Permanente"]
[null,null,"Gastos de Curación"]
[null,null,"Gastos de Sepelio"]
[null,null,"Incapacidad Temporal",null,{"$f":"IF(E82*E83=0,0,E82*E83)","v":0},null,{"$f":"IF(G82*G83=0,0,G82*G83)","v":0},null,{"$f":"IF(I82*I83=0,0,I82*I83)","v":0},null,{"$f":"IF(K82*K83=0,0,K82*K83)","v":0}]
[null,null,"Suma asegurada máxima por día"]
[null,null,"Número máximo de días"]
[null,null,"Desamparo Súbito Familiar"]
[null,null,"Renta Hospitalaria Diaria"]
[null,null,"Repatriación de Restos Mortales"]
[null,null,"Límite agregado anual por GC"]
[]
[null,"CLÁUSULAS ADICIONALES",null,null,"GRUPO 1",null,"GRUPO 2",null,"GRUPO 3",null,"GRUPO 4"]
[null,"Cláusula por la cobertura de Terrorismo y otros riesgos. "]
[null,"Cláusula de ampliación del límite máximo de edad, personas mayores de 70 y hasta los 80 años inclusive."]
[null,"Cláusula de asegurado menor de edad"]
[null,"Por limitación a horas de trabajo."]
[null,"Cláusula por la práctica no profesional de deportes y/o actividades de riesgo. Nivel 1 (Fútbol, béisbol, básquetbol)"]
[null,"Cláusula por la práctica no profesional de deportes y/o actividades de riesgo. Nivel 2 (Polo, jockey, pesca en altamar, rodeo, rugby, esquí acuático, equitación, tabla hawaiana)"]
[null,"Cláusula por la práctica no profesional de deportes y/o actividades de riesgo. Nivel 3 (Pesca submarina, karate, judo, boxeo, pesas, andinismo y caminatas en alta montaña)"]
[null,"Cláusula por la conducción urbana o rural de motocicletas, motonetas y otros vehículos similares."]
[null,"Cláusula para pasajeros que usan cualquier medio habitual de transporte público de personas, en vehículos que no recorren itinerarios regulares y fijos. "]
[null,"Ocupantes de vehiculos automotores particulares (no comerciales) por accidentes de tránsito."]
[null,"Cláusula para pasajeros de aviones y/o helicópteros particulares y/o de la FAP por viajes eventuales. Nivel 1 (Para pasajeros de aviones de propiedad o alquilados por empresas comerciales, industriales y bancos)"]
[null,"Cláusula para pasajeros de aviones y/o helicópteros particulares y/o de la FAP por viajes eventuales. Nivel 2 (Otros excepto helicópteros)"]
[null,"Cláusula para pasajeros de aviones y/o helicópteros particulares y/o de la FAP por viajes eventuales. Nivel 3 (Aviones de la FAP y helicópteros particulares y/o de la FAP utilizados en el transporte de personas)"]
[null,"Pescadores y/o Estibadores"]
[null,"Cláusula de invalidez permanente parcial previa al seguro."]
[null,"Muerte accidental en transporte público y aviación comercial"]
[null,"Por usar y/o portar armas"]
[null,"Por cubrir gastos no reembolsables por ESSALUD"]
[null,"Terremoto y/o temblor y/o huaycos y/u otros fenómenos de la naturaleza"]
[null,"Cláusula de invalidez permanente parcial previa al seguro."]
[null,"Cláusula por la cobertura de Terrorismo y otros riesgos. "]
[null,"Por limitación a horas de trabajo."]
[null,"Cláusula por la práctica no profesional de deportes y/o actividades de riesgo. Nivel 1 (Fútbol, béisbol, básquetbol)"]
[null,"Cláusula por la práctica no profesional de deportes y/o actividades de riesgo. Nivel 2 (Polo, jockey, pesca en altamar, rodeo, rugby, esquí acuático, equitación, tabla hawaiana)"]
[null,"Cláusula por la práctica no profesional de deportes y/o actividades de riesgo. Nivel 3 (Pesca submarina, karate, judo, boxeo, pesas, andinismo y caminatas en alta montaña)"]
[null,"Cláusula por la conducción urbana o rural de motocicletas, motonetas y otros vehículos similares."]
[null,"Cláusula para pasajeros que usan cualquier medio habitual de transporte público de personas, en vehículos que no recorren itinerarios regulares y fijos. "]
[null,"Cláusula para pasajeros de aviones y/o helicópteros particulares y/o de la FAP por viajes eventuales. Nivel 1 (Para pasajeros de aviones de propiedad o alquilados por empresas comerciales, industriales y bancos)"]
[null,"Cláusula para pasajeros de aviones y/o helicópteros particulares y/o de la FAP por viajes eventuales. Nivel 2 (Otros excepto helicópteros)"]
[null,"Cláusula para pasajeros de aviones y/o helicópteros particulares y/o de la FAP por viajes eventuales. Nivel 3 (Aviones de la FAP y helicópteros particulares y/o de la FAP utilizados en el transporte de personas)"]
[null,"Cláusula de accidentes personales para viajes y/o corto plazo."]
[null,"Pescadores y/o Estibadores"]
[null,"Cláusula de ampliación del límite máximo de edad, personas mayores de 70 y hasta los 80 años inclusive."]
[null,"Ocupantes de vehiculos automotores particulares (no comerciales) por accidentes de tránsito."]
[null,"Por usar y/o portar armas"]
[null,"Por cubrir gastos no reembolsables por ESSALUD"]
[]
[null,"III) Cálculo de la Prima"]
[]
[null,"Descuento / Incremento Comercial (Digite entre - 10% a 100%)",0,null,{"$f":"IF(E29<>\"\",IF(E51=\"\",\"Colocar N° de Asegurados\",\"\"),\"\")","v":""},null,{"$f":"IF(G29<>\"\",IF(G51=\"\",\"Colocar N° de Asegurados\",\"\"),\"\")","v":""},null,{"$f":"IF(I29<>\"\",IF(I51=\"\",\"Colocar N° de Asegurados\",\"\"),\"\")","v":""},null,{"$f":"IF(K29<>\"\",IF(K51=\"\",\"Colocar N° de Asegurados\",\"\"),\"\")","v":""}]
[]
[null,null,"TOTAL",null,"GRUPO 1",null,"GRUPO 2",null,"GRUPO 3",null,"GRUPO 4"]
[]
[null,"Utilidad GW:",{"$f":"E133","v":0},null,{"$f":"IFERROR(IF(D3=\"Suma Asegurada Fija\",Calculadora!$O$17,IF(D3=\"Suma Asegurada Variable\",Calculadora!$BG$17,IF(D3=\"Tripulantes\",Calculadora!$CU$17,IF(D3=\"Ocupantes\",Calculadora!$DL$17,IF(D3=\"Viajes\",Calculadora!$ED$17,IF(Cotizador!D3=\"Aforo\",Calculadora!$ER$17,IF(D3=\"Eventos\",Calculadora!$FI$17,IF(D3=\"Accidentes Individual\",Calculadora!$FZ$17,0.1)))))))),0)","v":0},null,{"$f":"IFERROR(Calculadora!$Q$17,0)","v":0},null,{"$f":"IFERROR(Calculadora!$S$17,0)","v":0},null,{"$f":"IFERROR(Calculadora!$U$17,0)","v":0}]
[]
[null,{"$f":"IF(D3=\"Suma Asegurada Variable\",\"Tasa sobre Planilla Anual\",\"Prima Neta Anual por Persona\")","v":"Prima Neta Anual por Persona"},{"$f":"E135+G135+I135+K135","v":0},null,{"$f":"IF($D$3=\"Suma Asegurada Fija\",Calculadora!I5,IF($D$3=\"Suma Asegurada Variable\",Calculadora!BA5,0))","v":0},null,{"$f":"IF($D$3=\"Suma Asegurada Fija\",Calculadora!J5,IF($D$3=\"Suma Asegurada Variable\",Calculadora!BB5,0))","v":0},null,{"$f":"IF($D$3=\"Suma Asegurada Fija\",Calculadora!K5,IF($D$3=\"Suma Asegurada Variable\",Calculadora!BC5,0))","v":0},null,{"$f":"IF($D$3=\"Suma Asegurada Fija\",Calculadora!L5,IF($D$3=\"Suma Asegurada Variable\",Calculadora!BD5,0))","v":0}]
[null,"Prima Neta Total Anual",{"$f":"E136+G136+I136+K136","v":0},null,{"$f":"IF($D$3=\"Suma Asegurada Fija\",Calculadora!I6,IF($D$3=\"Suma Asegurada Variable\",Calculadora!BA6,0))","v":0},null,{"$f":"IF($D$3=\"Suma Asegurada Fija\",Calculadora!J6,IF($D$3=\"Suma Asegurada Variable\",Calculadora!BB6,0))","v":0},null,{"$f":"IF($D$3=\"Suma Asegurada Fija\",Calculadora!K6,IF($D$3=\"Suma Asegurada Variable\",Calculadora!BC6,0))","v":0},null,{"$f":"IF($D$3=\"Suma Asegurada Fija\",Calculadora!L6,IF($D$3=\"Suma Asegurada Variable\",Calculadora!BD6,0))","v":0}]
[null,"Prima Neta por la Vigencia",{"$f":"E137+G137+I137+K137","v":0},null,{"$f":"IF($D$3=\"Suma Asegurada Fija\",Calculadora!I7,IF($D$3=\"Suma Asegurada Variable\",Calculadora!BA7,0))","v":0},null,{"$f":"IF($D$3=\"Suma Asegurada Fija\",Calculadora!J7,IF($D$3=\"Suma Asegurada Variable\",Calculadora!BB7,0))","v":0},null,{"$f":"IF($D$3=\"Suma Asegurada Fija\",Calculadora!K7,IF($D$3=\"Suma Asegurada Variable\",Calculadora!BC7,0))","v":0},null,{"$f":"IF($D$3=\"Suma Asegurada Fija\",Calculadora!L7,IF($D$3=\"Suma Asegurada Variable\",Calculadora!BD7,0))","v":0}]
[null,"Derecho de Emisión",0,null,{"$f":"IF($D$3=\"Suma Asegurada Fija\",Calculadora!I8,IF($D$3=\"Suma Asegurada Variable\",Calculadora!BA8,0))","v":0},null,{"$f":"IF($D$3=\"Suma Asegurada Fija\",Calculadora!J8,IF($D$3=\"Suma Asegurada Variable\",Calculadora!BB8,0))","v":0},null,{"$f":"IF($D$3=\"Suma Asegurada Fija\",Calculadora!K8,IF($D$3=\"Suma Asegurada Variable\",Calculadora!BC8,0))","v":0},null,{"$f":"IF($D$3=\"Suma Asegurada Fija\",Calculadora!L8,IF($D$3=\"Suma Asegurada Variable\",Calculadora!BD8,0))","v":0}]
[null,"Prima Comercial",0,null,{"$f":"IF($D$3=\"Suma Asegurada Fija\",Calculadora!I9,IF($D$3=\"Suma Asegurada Variable\",Calculadora!BA9,0))","v":0},null,{"$f":"IF($D$3=\"Suma Asegurada Fija\",Calculadora!J9,IF($D$3=\"Suma Asegurada Variable\",Calculadora!BB9,0))","v":0},null,{"$f":"IF($D$3=\"Suma Asegurada Fija\",Calculadora!K9,IF($D$3=\"Suma Asegurada Variable\",Calculadora!BC9,0))","v":0},null,{"$f":"IF($D$3=\"Suma Asegurada Fija\",Calculadora!L9,IF($D$3=\"Suma Asegurada Variable\",Calculadora!BD9,0))","v":0}]
[null,"Impuesto General a las Ventas",0,null,{"$f":"IF($D$3=\"Suma Asegurada Fija\",Calculadora!I10,IF($D$3=\"Suma Asegurada Variable\",Calculadora!BA10,0))","v":0},null,{"$f":"IF($D$3=\"Suma Asegurada Fija\",Calculadora!J10,IF($D$3=\"Suma Asegurada Variable\",Calculadora!BB10,0))","v":0},null,{"$f":"IF($D$3=\"Suma Asegurada Fija\",Calculadora!K10,IF($D$3=\"Suma Asegurada Variable\",Calculadora!BC10,0))","v":0},null,{"$f":"IF($D$3=\"Suma Asegurada Fija\",Calculadora!L10,IF($D$3=\"Suma Asegurada Variable\",Calculadora!BD10,0))","v":0}]
[null,"Prima Total",{"$f":"E141+G141+I141+K141","v":0},null,{"$f":"IF($D$3=\"Suma Asegurada Fija\",Calculadora!I11,IF($D$3=\"Suma Asegurada Variable\",Calculadora!BA11,0))","v":0},null,{"$f":"IF($D$3=\"Suma Asegurada Fija\",Calculadora!J11,IF($D$3=\"Suma Asegurada Variable\",Calculadora!BB11,0))","v":0},null,{"$f":"IF($D$3=\"Suma Asegurada Fija\",Calculadora!K11,IF($D$3=\"Suma Asegurada Variable\",Calculadora!BC11,0))","v":0},null,{"$f":"IF($D$3=\"Suma Asegurada Fija\",Calculadora!L11,IF($D$3=\"Suma Asegurada Variable\",Calculadora!BD11,0))","v":0}]
[]
[null,"Prima Neta Anual por Persona",{"$f":"E143","v":0},null,{"$f":"IF($D$3=\"Tripulantes\",Calculadora!CR5,IF($D$3=\"Ocupantes\",Calculadora!DI5,IF($D$3=\"Viajes\",Calculadora!DZ5,IF($D$3=\"Aforo\",Calculadora!EN9,IF($D$3=\"Eventos\",Calculadora!FE9,IF($D$3=\"Accidentes Individual\",Calculadora!FV9,0))))))","v":0}]
[null,{"$f":"IF(D3=\"Viajes\",\"Prima Neta por Día de Viaje\", \"Prima Neta por Persona por Vigencia\")","v":"Prima Neta por Persona por Vigencia"},0,null,{"$f":"IF($D$3=\"Tripulantes\",Calculadora!CR6,IF($D$3=\"Ocupantes\",Calculadora!DI6,IF($D$3=\"Viajes\",Calculadora!DZ6,IF($D$3=\"Aforo\",Calculadora!EN10,IF($D$3=\"Eventos\",Calculadora!FE10,IF($D$3=\"Accidentes Individual\",Calculadora!FV10,0))))))","v":0}]
[null,"Derecho de Emisión",0,null,{"$f":"IF($D$3=\"Tripulantes\",Calculadora!CR7,IF($D$3=\"Ocupantes\",Calculadora!DI7,IF($D$3=\"Viajes\",Calculadora!DZ7,IF($D$3=\"Aforo\",Calculadora!EN11,IF($D$3=\"Eventos\",Calculadora!FE11,IF($D$3=\"Accidentes Individual\",Calculadora!FV11,0))))))","v":0}]
[null,{"$f":"IF(D3=\"Viajes\",\"Prima Comercial por Día de Viaje\", \"Prima Comercial por Persona por Vigencia\")","v":"Prima Comercial por Persona por Vigencia"},0,null,{"$f":"IF($D$3=\"Tripulantes\",Calculadora!CR8,IF($D$3=\"Ocupantes\",Calculadora!DI8,IF($D$3=\"Viajes\",Calculadora!DZ8,IF($D$3=\"Aforo\",Calculadora!EN12,IF($D$3=\"Eventos\",Calculadora!FE12,IF($D$3=\"Accidentes Individual\",Calculadora!FV12,0))))))","v":0}]
[null,"Impuesto General a las Ventas",0,null,{"$f":"IF($D$3=\"Tripulantes\",Calculadora!CR9,IF($D$3=\"Ocupantes\",Calculadora!DI9,IF($D$3=\"Viajes\",Calculadora!DZ9,IF($D$3=\"Aforo\",Calculadora!EN13,IF($D$3=\"Eventos\",Calculadora!FE13,IF($D$3=\"Accidentes Individual\",Calculadora!FV13,0))))))","v":0}]
[null,{"$f":"IF(D3=\"Viajes\",\"Prima Total por Día de Viaje\", \"Prima Total por Persona por Vigencia\")","v":"Prima Total por Persona por Vigencia"},0,null,{"$f":"IF($D$3=\"Tripulantes\",Calculadora!CR10,IF($D$3=\"Ocupantes\",Calculadora!DI10,IF($D$3=\"Viajes\",Calculadora!DZ10,IF($D$3=\"Aforo\",Calculadora!EN14,IF($D$3=\"Eventos\",Calculadora!FE14,IF($D$3=\"Accidentes Individual\",Calculadora!FV14,0))))))","v":0}]
[]
[null,{"$f":"IF(OR($D$3=\"Tripulantes\",$D$3=\"Ocupantes\"),\"Prima Neta por Total de Asegurados\",IF($D$3=\"Viajes\",\"Prima Neta por Total de Días de Viaje\",IF(D3=\"Aforo\",\"Prima Neta por Aforo Máximo\",IF(D3=\"Eventos\",\"Prima Neta por Total de Asistentes al Evento\",\"Prima Neta\"))))","v":"Prima Neta"},{"$f":"E150","v":0},null,{"$f":"IF($D$3=\"Tripulantes\",Calculadora!CS6,IF($D$3=\"Ocupantes\",Calculadora!DJ6,IF($D$3=\"Viajes\",Calculadora!EA6,IF($D$3=\"Aforo\",Calculadora!EO10,IF($D$3=\"Eventos\",Calculadora!FF10,0)))))","v":0}]
[null,"Derecho de Emisión",{"$f":"E151","v":0},null,{"$f":"IF($D$3=\"Tripulantes\",Calculadora!CS7,IF($D$3=\"Ocupantes\",Calculadora!DJ7,IF($D$3=\"Viajes\",Calculadora!EA7,IF($D$3=\"Aforo\",Calculadora!EO11,IF($D$3=\"Eventos\",Calculadora!FF11,0)))))","v":0}]
[null,{"$f":"IF(OR($D$3=\"Tripulantes\",$D$3=\"Ocupantes\"),\"Prima Comercial por Total de Asegurados\",IF($D$3=\"Viajes\",\"Prima Comercial por Total de Días de Viaje\",IF(D3=\"Aforo\",\"Prima Comercial por Aforo Máximo\",IF(D3=\"Eventos\",\"Prima Comercial por Total de Asistentes al Evento\",\"Prima Neta\"))))","v":"Prima Neta"},{"$f":"E152","v":0},null,{"$f":"IF($D$3=\"Tripulantes\",Calculadora!CS8,IF($D$3=\"Ocupantes\",Calculadora!DJ8,IF($D$3=\"Viajes\",Calculadora!EA8,IF($D$3=\"Aforo\",Calculadora!EO12,IF($D$3=\"Eventos\",Calculadora!FF12,0)))))","v":0}]
[null,"Impuesto General a las Ventas",{"$f":"E153","v":0},null,{"$f":"IF($D$3=\"Tripulantes\",Calculadora!CS9,IF($D$3=\"Ocupantes\",Calculadora!DJ9,IF($D$3=\"Viajes\",Calculadora!EA9,IF($D$3=\"Aforo\",Calculadora!EO13,IF($D$3=\"Eventos\",Calculadora!FF13,0)))))","v":0}]
[null,{"$f":"IF(OR($D$3=\"Tripulantes\",$D$3=\"Ocupantes\"),\"Prima Total por Total de Asegurados\",IF($D$3=\"Viajes\",\"Prima Total por Total de Días de Viaje\",IF(D3=\"Aforo\",\"Prima Total por Aforo Máximo\",IF(D3=\"Eventos\",\"Prima Total por Total de Asistentes al Evento\",\"Prima Neta\"))))","v":"Prima Neta"},{"$f":"E154","v":0},null,{"$f":"IF($D$3=\"Tripulantes\",Calculadora!CS10,IF($D$3=\"Ocupantes\",Calculadora!DJ10,IF($D$3=\"Viajes\",Calculadora!EA10,IF($D$3=\"Aforo\",Calculadora!EO14,IF($D$3=\"Eventos\",Calculadora!FF14,0)))))","v":0}]
[]
[null,"IV) Forma de Pago (Obligatoria para generar Emisión PDF) "]
[]
[null,"Forma de pago","Débito Automático"]
[]
[null,"Número de Cuotas"]
[null,"Prima Total por Cuota",{"$f":"IFERROR(C163/C160,0)","v":0}]
[null,"Interés Total"]
[null,"Prima Comercial + IGV"]

{"sheet":"ListarArchivos","index":2,"n_rows":10,"n_cols":8,"rows_kept":10,"cut":false,"hidden":false,"merged":[[0,2,0,4],[0,8,1,8],[1,2,2,4],[2,9,4,9]]}
[null,null,"D:\\Documentos\\ESCRITORIO\\Cotizadores\\Accidentes Colectivos\\ACCO",null,null,null,"Ir al Panel"]
[null,null,"Listar Slips Generados por Producto"]
[null,null,null,null,null,null,"Carpeta","Suma Asegurada Fija"]
[]
[]
[]
[]
[]
[null,null,"Dar doble clic sobre el nombre del archivo PDF para abrirlo"]
[null,null,"Nombre del Archivo","Tamaño bytes","Ultima modificación"]

{"sheet":"Trama","index":3,"n_rows":4,"n_cols":7,"rows_kept":4,"cut":false,"hidden":false,"merged":[[1,6,2,6],[0,0,0,6]]}
["Formato de Trama: Accidentes Personales"]
[null,null,null,null,null,null,"Solo se llena si es Suma Asegurada Variable"]
[]
["NOMBRES","APELLIDO PATERNO","APELLIDO MATERNO","SEXO","FECHA DE NACIMIENTO","DNI","SUELDO"]

{"sheet":"configuracion","index":4,"n_rows":13,"n_cols":49,"rows_kept":13,"cut":false,"hidden":true,"merged":[[2,47,2,48],[1,3,1,4],[2,18,2,19],[2,24,2,25],[2,39,3,39],[2,40,2,42],[2,30,2,31],[2,32,2,33],[2,34,2,35],[1,40,1,41]]}
[null,null,null,null,null,null,null,null,null,null,null,"Ir a Panel"]
[null,null,null,"VARIABLES DE CONFIGURACIÓN",null,null,null,null,null,null,null,null,null,null,null,null,null,null,null,null,null,null,null,null,null,null,null,null,null,"Límites diferenciado por perfil de usuario",null,null,null,null,null,null,null,null,null,null,"Los Grupos indicados son los permitidos",null,null,null,null,null,"PRIMA TOTAL MÁXIMA"]
[null,null,null,null,null,null,null,null,null,null,null,null,null,null,null,null,null,null,"DIAS MINIMOS PARA APLICAR CUOTAS",null,null,null,null,null,"PRIMA MINIMA",null,null,null,null,null,"Producto",null,"Comercial",null,"Broker",null,null,null,null,"Sector","Autonomías",null,null,null,null,null,null,"Producto"]
[null,null,null,"Perfil:","Comercial",null,null,null,null,null,null,null,"NumerodeGrupos",null,null,"Tipo de Cambio",null,null,"DIAS DESDE INICIO VIGENCIA","ADICIONALES",null,null,null,"PRODUCTO","DOLARES","SOLES",null,null,null,"COBERTURAS","DOLARES","SOLES","DOLARES","SOLES","DOLARES","SOLES",null,null,null,null,"Broker","Comercial","Producto",null,null,null,"COBERTURAS","DOLARES","SOLES"]
[null,null,null,null,null,null,null,null,null,null,null,null,4,null,null,3.3,null,null,120,15,null,null,null,"Suma Asegurada Fija",50,{"$f":"ROUND(Y5*$P$5,0)","v":165},null,null,null,"Muerte Accidental",500000,{"$f":"ROUND(AE5*$P$5,0)","v":1650000},200000,{"$f":"ROUND(AG5*$P$5,0)","v":660000},200000,{"$f":"ROUND(AI5*$P$5,0)","v":660000},null,null,null,"Actividades Deportivas y de Esparcimiento","Grupo1|Grupo2","Grupo1|Grupo2|Grupo3","Sin límite",null,null,null,"Producto","sin limite","sin limite"]
[null,null,null,null,null,null,null,null,null,null,null,null,null,null,null,null,null,null,null,null,null,null,null,"Suma Asegurada Variable",50,{"$f":"ROUND(Y6*$P$5,0)","v":165},null,null,null,"Invalidez Permanente",1,1,1,1,1,1,null,null,null,"Construcción","Grupo1|Grupo2","Grupo1|Grupo2","Sin límite",null,null,null,"Comercial",30000,{"$f":"ROUND(AV6*$P$5,0)","v":99000}]
[null,null,null,null,null,null,null,null,null,null,null,null,null,null,null,null,null,null,null,null,null,null,null,"Tripulantes",50,{"$f":"ROUND(Y7*$P$5,0)","v":165},null,null,null,"Gastos de Curación","sin limite","sin limite",0.3,0.3,0.3,0.3,null,null,null,"Energia y Agua","Grupo1|Grupo2","Grupo1|Grupo2","Sin límite",null,null,null,"Broker",10000,{"$f":"ROUND(AV7*$P$5,0)","v":33000}]
[null,null,null,null,null,null,null,null,null,null,null,null,null,null,null,null,null,null,null,null,null,null,null,"Ocupantes",50,{"$f":"ROUND(Y8*$P$5,0)","v":165},null,null,null,"Gastos de Sepelio","sin limite","sin limite",0.3,0.3,0.3,0.3,null,null,null,"Mineras","NoAplica","Grupo1|Grupo2","Sin límite"]
[null,null,null,null,null,null,null,null,null,null,null,null,null,null,null,null,null,null,null,null,null,null,null,"Viajes",50,165,null,null,null,"Incapacidad Temporal","sin limite","sin limite",0.3,0.3,0.3,0.3,null,null,null,"Transporte y Aviación","Grupo1|Grupo2","Grupo1|Grupo2|Grupo3","Sin límite"]
[null,null,null,null,null,null,null,null,null,null,null,null,null,null,null,null,null,null,null,null,null,null,null,"Aforo",50,165,null,null,null,"Desamparo Súbito Familiar","sin limite","sin limite","No aplica","No aplica","No aplica","No aplica"]
[null,null,null,null,null,null,null,null,null,null,null,null,null,null,null,null,null,null,null,null,null,null,null,"Eventos",50,165,null,null,null,"Renta Hospitalaria Diaria por Accidente","sin limite","sin limite","No aplica","No aplica","No aplica","No aplica"]
[null,null,null,null,null,null,null,null,null,null,null,null,null,null,null,null,null,null,null,null,null,null,null,"Accidentes Individual",50,165,null,null,null,"Repatriación de Restos Mortales","sin limite","sin limite",0.3,0.3,0.3,0.3]
[null,null,null,null,null,null,null,null,null,null,null,null,null,null,null,null,null,null,null,null,null,null,null,null,null,null,null,null,null,"Límite agregado anual por gastos de curación por accidente","sin limite","sin limite","No aplica","No aplica","No aplica","No aplica"]

{"sheet":"Calculadora","index":5,"n_rows":77,"n_cols":208,"rows_kept":77,"cut":false,"hidden":true,"merged":[[34,173,34,174],[39,156,39,157],[44,173,44,174],[45,173,45,174],[46,173,46,174],[47,173,47,174],[48,173,48,174],[49,173,49,174],[35,173,35,174],[36,173,36,174],[37,173,37,174],[38,173,38,174],[39,173,39,174],[40,173,40,174],[41,173,41,174],[42,173,42,174],[43,173,43,174],[46,156,46,157],[47,156,47,157],[34,156,34,157],[35,156,35,157],[36,156,36,157],[37,156,37,157],[38,156,38,157],[23,173,23,174],[24,173,24,174],[25,173,25,174],[26,173,26,174],[27,173,27,174],[29,178,29,185],[30,178,30,185],[32,173,32,174],[33,173,33,174],[0,173,0,186],[2,180,2,181],[3,180,3,181],[11,180,11,181],[18,173,18,174],[19,173,19,174],[20,173,20,174],[21,173,21,174],[22,173,22,174],[51,139,51,140],[46,139,46,140],[47,139,47,140],[48,139,48,140],[49,139,49,140],[50,139,50,140],[48,156,48,157],[49,156,49,157],[50,156,50,157],[51,156,51,157],[30,161,30,168],[31,161,31,168],[33,156,33,157],[0,156,0,169],[2,163,2,164],[3,163,3,164],[11,163,11,164],[18,156,18,157],[19,156,19,157],[20,156,20,157],[21,156,21,157],[22,156,22,157],[45,139,45,140],[40,156,40,157],[41,156,41,157],[42,156,42,157],[43,156,43,157],[44,156,44,157],[45,156,45,157],[23,156,23,157],[24,156,24,157],[25,156,25,157],[26,156,26,157],[27,156,27,157],[28,156,28,157],[36,139,36,140],[37,139,37,140],[38,139,38,140],[39,139,39,140],[40,139,40,140],[41,139,41,140],[42,139,42,140],[43,139,43,140],[44,139,44,140],[25,139,25,140],[26,139,26,140],[27,139,27,140],[28,139,28,140],[30,144,30,151],[31,144,31,151],[33,139,33,140],[34,139,34,140],[35,139,35,140],[2,57,2,58],[2,59,2,60],[2,61,2,62],[2,63,2,64],[18,88,18,89],[19,88,19,89],[20,88,20,89],[21,88,21,89],[22,88,22,89],[24,88,24,89],[25,88,25,89],[26,88,26,89],[27,88,27,89],[27,105,27,106],[28,105,28,106],[30,110,30,117],[31,110,31,117],[2,19,2,20],[2,15,2,16],[22,139,22,140],[23,139,23,140],[24,139,24,140],[43,0,43,1],[34,0,34,1],[35,0,35,1],[36,0,36,1],[37,0,37,1],[38,0,38,1],[3,19,3,20],[31,24,31,31],[30,32,30,39],[31,32,31,39],[27,0,27,1],[28,0,28,1],[31,8,31,15],[30,8,30,15],[30,16,30,23],[31,16,31,23],[30,24,30,31],[23,44,23,45],[24,44,24,45],[26,0,26,1],[0,139,0,152],[2,146,2,147],[3,146,3,147],[11,146,11,147],[18,139,18,140],[19,139,19,140],[20,139,20,140],[21,139,21,140],[0,0,0,40],[3,57,3,58],[3,59,3,60],[3,61,3,62],[3,63,3,64],[11,57,11,58],[11,59,11,60],[11,61,11,62],[11,63,11,64],[0,44,0,84],[3,15,3,16],[11,15,11,16],[2,17,2,18],[3,17,3,18],[11,17,11,18],[49,0,49,1],[11,19,11,20],[19,0,19,1],[18,0,18,1],[33,0,33,1],[48,0,48,1],[49,44,49,45],[2,13,2,14],[3,13,3,14],[11,13,11,14],[44,0,44,1],[45,0,45,1],[46,0,46,1],[47,0,47,1],[39,0,39,1],[40,0,40,1],[41,0,41,1],[42,0,42,1],[20,0,20,1],[21,0,21,1],[22,0,22,1],[23,0,23,1],[24,0,24,1],[25,0,25,1],[26,44,26,45],[27,44,27,45],[34,88,34,89],[35,88,35,89],[36,88,36,89],[37,88,37,89],[38,88,38,89],[18,44,18,45],[19,44,19,45],[20,44,20,45],[21,44,21,45],[22,44,22,45],[36,44,36,45],[37,44,37,45],[25,44,25,45],[38,44,38,45],[31,52,31,59],[31,60,31,67],[31,68,31,75],[31,76,31,83],[33,44,33,45],[28,44,28,45],[30,52,30,59],[30,60,30,67],[30,68,30,75],[30,76,30,83],[50,44,50,45],[51,44,51,45],[0,88,0,101],[2,97,2,98],[3,97,3,98],[11,97,11,98],[44,44,44,45],[45,44,45,45],[46,44,46,45],[47,44,47,45],[48,44,48,45],[39,44,39,45],[40,44,40,45],[41,44,41,45],[42,44,42,45],[43,44,43,45],[34,44,34,45],[35,44,35,45],[46,88,46,89],[31,93,31,100],[33,88,33,89],[28,88,28,89],[43,88,43,89],[0,105,0,118],[2,114,2,115],[3,114,3,115],[11,114,11,115],[18,105,18,106],[19,105,19,106],[20,105,20,106],[21,105,21,106],[22,105,22,106],[30,93,30,100],[23,88,23,89],[39,105,39,106],[40,105,40,106],[41,105,41,106],[42,105,42,106],[39,88,39,89],[40,88,40,89],[41,88,41,89],[42,88,42,89],[30,127,30,134],[31,127,31,134],[33,122,33,123],[34,122,34,123],[35,122,35,123],[36,122,36,123],[37,122,37,123],[38,122,38,123],[33,105,33,106],[23,122,23,123],[24,122,24,123],[25,122,25,123],[26,122,26,123],[44,105,44,106],[45,105,45,106],[46,105,46,106],[39,122,39,123],[40,122,40,123],[41,122,41,123],[42,122,42,123],[43,122,43,123],[43,105,43,106],[34,105,34,106],[35,105,35,106],[36,105,36,106],[37,105,37,106],[38,105,38,106],[27,122,27,123],[28,122,28,123],[23,105,23,106],[24,105,24,106],[25,105,25,106],[26,105,26,106],[0,122,0,135],[2,132,2,133],[3,132,3,133],[11,132,11,133],[18,122,18,123],[19,122,19,123],[20,122,20,123],[21,122,21,123],[22,122,22,123],[52,0,52,1],[52,44,52,45],[49,122,49,123],[50,122,50,123],[51,122,51,123],[44,122,44,123],[45,122,45,123],[46,122,46,123],[47,122,47,123],[48,122,48,123],[47,105,47,106],[48,105,48,106],[47,88,47,89],[48,88,48,89],[50,0,50,1],[51,0,51,1],[49,105,49,106],[50,105,50,106],[51,105,51,106],[49,88,49,89],[50,88,50,89],[51,88,51,89],[44,88,44,89],[45,88,45,89],[11,200,11,201],[18,190,18,191],[19,190,19,191],[20,190,20,191],[21,190,21,191],[22,190,22,191],[0,190,0,205],[2,200,2,201],[3,200,3,201],[31,198,31,205],[33,190,33,191],[34,190,34,191],[35,190,35,191],[36,190,36,191],[23,190,23,191],[24,190,24,191],[25,190,25,191],[26,190,26,191],[27,190,27,191],[28,190,28,191],[30,198,30,205],[46,190,46,191],[47,190,47,191],[48,190,48,191],[49,190,49,191],[50,190,50,191],[51,190,51,191],[52,190,52,191],[37,190,37,191],[38,190,38,191],[39,190,39,191],[40,190,40,191],[41,190,41,191],[42,190,42,191],[43,190,43,191],[44,190,44,191],[45,190,45,191]]}
["Cotizador ACCO Empleados Suma Fija",null,null,null,null,null,null,null,null,null,null,null,null,null,null,null,null,null,null,null,null,null,null,null,null,null,null,null,null,null,null,null,null,null,null,null,null,null,null,null,null,null,"ESF",null,"Cotizador ACCO Empleados Tasa",null,null,null,null,null,null,null,null,null,null,null,null,null,null,null,null,null,null,null,null,null,null,null,null,null,null,null,null,null,null,null,null,null,null,null,null,null,null,null,null,null,"TAS",null,"Cotizador ACCO Tripulantes",null,null,null,null,null,null,null,null,null,null,null,null,null,null,"TRI",null,"Cotizador ACCO Ocupantes",null,null,null,null,null,null,null,null,null,null,null,null,null,null,"OCU",null,"Cotizador ACCO Viajes",null,null,null,null,null,null,null,null,null,null,null,null,null,null,"VIA",null,"Cotizador ACCO Aforo",null,null,null,null,null,null,null,null,null,null,null,null,null,null,"AFO",null,"Cotizador ACCO Eventos",null,null,null,null,null,null,null,null,null,null,null,null,null,null,"EVE",null,"Cotizador ACCI",null,null,null,null,null,null,null,null,null,null,null,null,null,null,"ACI",null,"Cotizador ACCO - HOMOLOGACIÓN",null,null,null,null,null,null,null,null,null,null,null,null,null,null,null,null,"HOMO"]
[]
["Inicio de Vigencia:",{"$f":"Cotizador!$C$70","v":0},null,"Comisión",{"$f":"Cotizador!J18","v":0.25},null,null,null,1,2,3,4,null,"GRUPO 1",null,"GRUPO 2",null,"GRUPO 3",null,"GRUPO 4",null,null,null,null,null,null,null,null,null,null,null,null,null,null,null,null,null,null,null,null,null,null,null,null,"Inicio de Vigencia:",{"$f":"Cotizador!$C$70","v":0},null,"Comisión",{"$f":"Cotizador!J18","v":0.25},null,null,null,1,2,3,4,null,"GRUPO 1",null,"GRUPO 2",null,"GRUPO 3",null,"GRUPO 4",null,null,null,null,null,null,null,null,null,null,null,null,null,null,null,null,null,null,null,null,null,null,null,null,"Inicio de Vigencia:",{"$f":"Cotizador!$C$70","v":0},null,"Comisión",{"$f":"Cotizador!J18","v":0.25},null,null,1,null,"GRUPO 1",null,null,null,null,null,null,null,"Inicio de Vigencia:",{"$f":"Cotizador!$C$70","v":0},null,"Comisión",{"$f":"Cotizador!$J$18","v":0.25},null,null,1,null,"GRUPO 1",null,null,null,null,null,null,null,"N° de viajes al año",{"$f":"Cotizador!C46","v":0},null,"Comisión",{"$f":"Cotizador!$J$18","v":0.25},null,null,"Día","Total",null,"GRUPO 1",null,null,null,null,null,null,"Inicio de Vigencia:",{"$f":"Cotizador!$C$70","v":0},null,"Comisión",{"$f":"Cotizador!$J$18","v":0.25},null,null,"GRUPO 1",null,null,null,null,null,null,null,null,null,"Inicio de Vigencia:",{"$f":"Cotizador!$C$70","v":0},null,"Comisión",{"$f":"Cotizador!$J$18","v":0.25},null,null,"GRUPO 1",null,null,null,null,null,null,null,null,null,"Inicio de Vigencia:",{"$f":"Cotizador!$C$70","v":0},null,"Comisión",{"$f":"Cotizador!$J$18","v":0.25},null,null,"GRUPO 1",null,null,null,null,null,null,null,null,null,"Inicio de Vigencia:",{"$f":"Cotizador!$C$70","v":0},null,"Comisión",{"$f":"Cotizador!J18","v":0.25},null,null,null,1,null,"GRUPO 1"]
["Fin de Vigencia:",{"$f":"Cotizador!$C$71","v":0},null,"GA",0.2,null,null,"CÁLCULO","GRUPO 1","GRUPO 2","GRUPO 3","GRUPO 4",null,"POLICY",null,"POLICY",null,"POLICY",null,"POLICY",null,null,null,null,null,null,null,null,null,null,null,null,null,null,null,null,null,null,null,null,null,null,null,null,"Fin de Vigencia:",{"$f":"Cotizador!$C$71","v":0},null,"GA",0.2,null,null,"CÁLCULO","GRUPO 1","GRUPO 2","GRUPO 3","GRUPO 4",null,"POLICY",null,"POLICY",null,"POLICY",null,"POLICY",null,null,null,null,null,null,null,null,null,null,null,null,null,null,null,null,null,null,null,null,null,null,null,null,"Fin de Vigencia:",{"$f":"Cotizador!$C$71","v":0},null,"GA",0.2,null,"CÁLCULO","Persona","Total","POLICY",null,null,null,null,null,null,null,"Fin de Vigencia:",{"$f":"Cotizador!$C$71","v":0},null,"GA",0.2,null,"CÁLCULO","Persona","Grupo","POLICY",null,null,null,null,null,null,null,"N° promedio de días por viaje",{"$f":"Cotizador!C47","v":0},null,"GA",0.2,null,"CÁLCULO","GRUPO 1","GRUPO 1",null,"POLICY",null,null,null,null,null,null,"Fin de Vigencia:",{"$f":"Cotizador!$C$71","v":0},null,"GA",0.2,null,null,"POLICY",null,null,null,null,null,null,null,null,null,"Fin de Vigencia:",{"$f":"Cotizador!$C$71","v":0},null,"GA",0.2,null,null,"POLICY",null,null,null,null,null,null,null,null,null,"Fin de Vigencia:",{"$f":"Cotizador!$C$71","v":0},null,"GA",0.2,null,null,"POLICY",null,null,null,null,null,null,null,null,null,"Fin de Vigencia:",{"$f":"Cotizador!$C$71","v":0},null,"GA",0.2,null,null,"CÁLCULO","GRUPO 1",null,"POLICY"]
["Días de Vigencia:",{"$f":"IF(B4-B3=0,1,B4-B3)","v":1},null,"Utilidad",0.1,null,null,"PN Anual por P",{"$f":"ROUND(IFERROR($J$59*(1+Cotizador!$C$129+$B$6),J59),2)","v":0},{"$f":"ROUND(IFERROR(J65*(1+Cotizador!$C$129+$B$6),J65),2)","v":0},{"$f":"ROUND(IFERROR(J71*(1+Cotizador!$C$129+$B$6),J71),2)","v":0},{"$f":"ROUND(IFERROR($J$77*(1+Cotizador!$C$129+$B$6),$J$77),2)","v":0},null,"Prima Neta",{"$f":"J59","v":0},"Prima Neta",{"$f":"J65","v":0},"Prima Neta",{"$f":"J71","v":0},"Prima Neta",{"$f":"J77","v":0},null,null,null,null,null,null,null,null,null,null,null,null,null,null,null,null,null,null,null,null,null,null,null,"Días de Vigencia:",{"$f":"IF(AT4-AT3=0,1,AT4-AT3)","v":1},null,"Utilidad",0.1,null,null,"Tasa por P",{"$f":"IFERROR(ROUND(BB59,4)*(1+Cotizador!$C$129+$AT$6),ROUND(BB59,4))","v":0},{"$f":"IFERROR(ROUND(BB65,4)*(1+Cotizador!$C$129+$AT$6),ROUND(BB65,4))","v":0},{"$f":"IFERROR(ROUND(BB71,4)*(1+Cotizador!$C$129+$AT$6),ROUND(BB71,4))","v":0},{"$f":"IFERROR(ROUND(BB77,4)*(1+Cotizador!$C$129+$AT$6),ROUND(BB77,4))","v":0},null,"Prima Neta",{"$f":"BB59","v":0},"Prima Neta",{"$f":"BB65","v":0},"Prima Neta",{"$f":"BB71","v":0},"Prima Neta",{"$f":"BB77","v":0},null,null,null,null,null,null,null,null,null,null,null,null,null,null,null,null,null,null,null,null,null,null,null,"Días de Vigencia:",{"$f":"IF(CL4-CL3=0,1,CL4-CL3)","v":1},null,"Utilidad",0.1,null,"PN Anual por P",{"$f":"ROUND(IFERROR(CT58*(1+Cotizador!$C$129+$CL$6),CT58),2)","v":0},null,"Prima Neta",{"$f":"GT5","v":0},null,null,null,null,null,null,"Días de Vigencia:",{"$f":"IF(DC4-DC3=0,1,DC4-DC3)","v":1},null,"Utilidad",0.1,null,"PN Anual por P",{"$f":"ROUND(IFERROR(DK58*(1+Cotizador!$C$129+$DC$6),DK58),2)","v":0},null,"Prima Neta",{"$f":"GT5","v":0},null,null,null,null,null,null,"N° de días de viaje al año",{"$f":"DT3*DT4","v":0},null,"Utilidad",0.1,null,"PN por P",{"$f":"ROUND(IFERROR(EB58*(1+Cotizador!$C$129+$DT$6),EB58),2)","v":0},"X",null,"Prima Neta",{"$f":"GQ5/DT4","v":{"$error":"#DIV/0!"}},null,null,null,null,null,"Días de Vigencia:",{"$f":"IF(EK4-EK3=0,1,EK4-EK3)","v":1},null,"Utilidad",0.1,null,null,"Prima Neta",{"$f":"ES58","v":0},null,null,null,null,null,null,null,null,"Días de Vigencia:",{"$f":"IF(FB4-FB3=0,1,FB4-FB3)","v":1},null,"Utilidad",0.1,null,null,"Prima Neta",{"$f":"FJ58","v":0},null,null,null,null,null,null,null,null,"Días de Vigencia:",{"$f":"IF(FS4-FS3=0,1,FS4-FS3)","v":1},null,"Utilidad",0.1,null,null,"Prima Neta",{"$f":"GA56","v":0},null,null,null,null,null,null,null,null,"Días de Vigencia:",{"$f":"IF(GJ4-GJ3=0,1,GJ4-GJ3)","v":1},null,"Utilidad",0.1,null,null,"PN Anual por P",{"$f":"ROUND(IFERROR($J$59*(1+Cotizador!$C$129+$B$6),GR59),2)","v":0},null,"Prima Neta",{"$f":"GR59","v":0},null,{"$f":"Cotizador!D3","v":"Suma Asegurada Fija"}]
["Colchón",0.1,null,"DE",0.03,null,null,"Por Vigencia",{"$f":"ROUND(I5*IF($B$5<=366,LOOKUP($B$5-1,'Período corto'!$B$2:$D$18),$B$5/365),2)","v":0},{"$f":"ROUND(J5*IF($B$5<=366,LOOKUP($B$5-1,'Período corto'!$B$2:$D$18),$B$5/365),2)","v":0},{"$f":"ROUND(K5*IF($B$5<=366,LOOKUP($B$5-1,'Período corto'!$B$2:$D$18),$B$5/365),2)","v":0},{"$f":"ROUND(L5*IF($B$5<=366,LOOKUP($B$5-1,'Período corto'!$B$2:$D$18),$B$5/365),2)","v":0},null,"Comisión",0.25,"Comisión",0.25,"Comisión",0.25,"Comisión",0.25,null,null,null,null,null,null,null,null,null,null,null,null,null,null,null,null,null,null,null,null,null,null,null,"Colchón",0.1,null,"DE",0.03,null,null,"PN Total Anual",{"$f":"ROUND(BA5*AU13,2)","v":0},{"$f":"ROUND(BB5*AV13,2)","v":0},{"$f":"ROUND(BC5*AW13,2)","v":0},{"$f":"ROUND(BD5*AX13,2)","v":0},null,"Comisión",0.25,"Comisión",0.25,"Comisión",0.25,"Comisión",0.25,null,null,null,null,null,null,null,null,null,null,null,null,null,null,null,null,null,null,null,null,null,null,null,"Colchón",0.1,null,"DE",0.03,null,"Por Vigencia",{"$f":"ROUND(CR5*IF($CL$5<=366,LOOKUP($CL$5-1,'Período corto'!$B$2:$D$18),$CL$5/366),2)","v":0},{"$f":"ROUND(CR6*CM12,2)","v":0},"Comisión",0.25,null,null,null,null,null,null,"Colchón",0.1,null,"DE",0.03,null,"Por Vigencia",{"$f":"ROUND(DI5*IF($DC$5<=366,LOOKUP($DC$5-1,'Período corto'!$B$2:$D$18),$DC$5/366),2)","v":0},{"$f":"ROUND(DD12*DI6,2)","v":0},"Comisión",0.25,null,null,null,null,null,null,"Colchón",0.1,null,"DE",0.03,null,"PN x Día / Total",{"$f":"ROUND(IFERROR(+DZ5*IF($DT$4<=366,LOOKUP($DT$4-1,'Período corto'!$B$2:$D$18),$DT$4/366),0),2)","v":0},{"$f":"ROUND(DZ6*$DT$5,2)","v":0},null,"Comisión",0.25,null,null,null,null,null,"Colchón",0.1,null,"DE",0.03,null,null,"Comisión",0.25,null,null,null,null,null,null,null,null,"Colchón",0.1,null,"DE",0.03,null,null,"Comisión",0.25,null,null,null,null,null,null,null,null,"Colchón",0.1,null,"DE",0.03,null,null,"Comisión",0.25,null,null,null,null,null,null,null,null,"Colchón",0.1,null,"DE",0.03,null,null,"Por Vigencia",{"$f":"ROUND(GQ5*IF($B$5<=366,LOOKUP($B$5-1,'Período corto'!$B$2:$D$18),$B$5/365),2)","v":0},null,"Comisión",0.25]
[null,null,null,null,null,null,null,"Prima Neta Total",{"$f":"ROUND(I6*C12,2)","v":0},{"$f":"ROUND(J6*D12,2)","v":0},{"$f":"ROUND(K6*E12,2)","v":0},{"$f":"ROUND(L6*F12,2)","v":0},null,"Gasto Técnico",0,"Gasto Técnico",0,"Gasto Técnico",0,"Gasto Técnico",0,null,null,null,null,null,null,null,null,null,null,null,null,null,null,null,null,null,null,null,null,null,null,null,null,null,null,null,null,null,null,"PN x Vigencia",{"$f":"ROUND(BA6*IF($AT$5<=366,LOOKUP($AT$5-1,'Período corto'!$B$2:$D$18),$AT$5/366),2)","v":0},{"$f":"ROUND(BB6*IF($AT$5<=366,LOOKUP($AT$5-1,'Período corto'!$B$2:$D$18),$AT$5/366),2)","v":0},{"$f":"ROUND(BC6*IF($AT$5<=366,LOOKUP($AT$5-1,'Período corto'!$B$2:$D$18),$AT$5/366),2)","v":0},{"$f":"ROUND(BD6*IF($AT$5<=366,LOOKUP($AT$5-1,'Período corto'!$B$2:$D$18),$AT$5/366),2)","v":0},null,"Gasto Técnico",0,"Gasto Técnico",0,"Gasto Técnico",0,"Gasto Técnico",0,null,null,null,null,null,null,null,null,null,null,null,null,null,null,null,null,null,null,null,null,null,null,null,null,null,null,null,null,null,"DE",{"$f":"ROUND(CR6*3%,2)","v":0},{"$f":"ROUND(CS6*3%,2)","v":0},"Gasto Técnico",0,null,null,null,null,null,null,null,null,null,null,null,null,"DE",{"$f":"ROUND(DI6*$DF$6,2)","v":0},{"$f":"ROUND(DJ6*$DF$6,2)","v":0},"Gasto Técnico",0,null,null,null,null,null,null,null,null,null,null,null,null,"DE",{"$f":"ROUND(DW6*DZ6,2)","v":0},{"$f":"ROUND(EA6*$DW$6,2)","v":0},null,"Gasto Técnico",0,null,null,null,null,null,"Aforo Máximo",{"$f":"Cotizador!H61","v":0},null,null,null,null,null,"Gasto Técnico",0,null,null,null,null,null,null,null,null,"N° Asistentes",{"$f":"Cotizador!H63","v":0},null,null,"Personas","Total",null,"Gasto Técnico",0,null,null,null,null,null,null,null,null,"Grupo",{"$f":"Cotizador!E66","v":{"$error":"#N/A"}},null,null,null,null,null,"Gasto Técnico",0,null,null,null,null,null,null,null,null,null,null,null,null,null,null,null,"Prima Neta Total",{"$f":"ROUND(GQ6*GK12,2)","v":0},null,"Gasto Técnico",0]
[null,null,1,2,3,4,null,"DE",{"$f":"ROUND(I7*$E$6,2)","v":0},{"$f":"ROUND(J7*$E$6,2)","v":0},0,{"$f":"ROUND(L7*$E$6,2)","v":0},null,"Administrativo",0.2,"Administrativo",0.2,"Administrativo",0.2,"Administrativo",0.2,null,null,null,null,null,null,null,null,null,null,null,null,null,null,null,null,null,null,null,null,null,null,null,null,null,1,2,3,4,null,"DE",{"$f":"ROUND(BA7*$AW$6,2)","v":0},{"$f":"ROUND(BB7*$AW$6,2)","v":0},{"$f":"ROUND(BC7*$AW$6,2)","v":0},{"$f":"ROUND(BD7*$AW$6,2)","v":0},null,"Administrativo",0.2,"Administrativo",0.2,"Administrativo",0.2,"Administrativo",0.2,null,null,null,null,null,null,null,null,null,null,null,null,null,null,null,null,null,null,null,null,null,null,null,null,null,1,null,null,null,"Prima Comercial",{"$f":"ROUND(CR6+CR7,2)","v":0},{"$f":"ROUND(CS6+CS7,2)","v":0},"Administrativo",0.2,null,null,null,null,null,null,null,null,1,null,null,null,"Prima Comercial",{"$f":"ROUND(DI6+DI7,2)","v":0},{"$f":"ROUND(DJ6+DJ7,2)","v":0},"Administrativo",0.2,null,null,null,null,null,null,null,null,1,null,null,null,"PC x Día / Total",{"$f":"ROUND(DZ6+DZ7,2)","v":0},{"$f":"ROUND(EA6+EA7,2)","v":0},null,"Administrativo",0.2,null,null,null,null,null,"Aforo Promedio",{"$f":"Cotizador!H60","v":0},null,"CÁLCULO","GRUPO 1",null,null,"Administrativo",0.2,null,null,null,null,null,null,null,null,null,null,null,"CÁLCULO","GRUPO 1","GRUPO 1",null,"Administrativo",0.2,null,null,null,null,null,null,null,null,"Columna",{"$f":"IF(FS7=\"Grupo1\",2,IF(FS7=\"Grupo2\",3,IF(FS7=\"Grupo3\",4,IF(FS7=\"Grupo4\",5,0))))","v":{"$error":"#N/A"}},null,"CÁLCULO","GRUPO 1",null,null,"Administrativo",0.2,null,null,null,null,null,null,null,null,null,null,1,null,null,null,null,"DE",{"$f":"ROUND(GQ7*$E$6,2)","v":0},null,"Administrativo",0.2]
[null,null,"GRUPO 1","GRUPO 2","GRUPO 3","GRUPO 4",null,"Prima Comercial",{"$f":"ROUND(I7+I8,2)","v":0},{"$f":"ROUND(J7+J8,2)","v":0},0,0,null,"Utilidad",0.1,"Utilidad",0.1,"Utilidad",0.1,"Utilidad",0.1,null,null,null,null,null,null,null,null,null,null,null,null,null,null,null,null,null,null,null,null,null,null,null,null,null,"GRUPO 1","GRUPO 2","GRUPO 3","GRUPO 4",null,"Prima Comercial",{"$f":"ROUND(BA7+BA8,2)","v":0},{"$f":"ROUND(BB7+BB8,2)","v":0},{"$f":"ROUND(BC7+BC8,2)","v":0},{"$f":"ROUND(BD7+BD8,2)","v":0},null,"Utilidad",0.1,"Utilidad",0.1,"Utilidad",0.1,"Utilidad",0.1,null,null,null,null,null,null,null,null,null,null,null,null,null,null,null,null,null,null,null,null,null,null,null,null,null,"GRUPO 1",null,null,null,"IGV",{"$f":"ROUND(CR8*18%,2)","v":0},{"$f":"ROUND(CS8*18%,2)","v":0},"Utilidad",0.1,null,null,null,null,null,null,null,null,"GRUPO 1",null,null,null,"IGV",{"$f":"ROUND(DI8*18%,2)","v":0},{"$f":"ROUND(DJ8*18%,2)","v":0},"Utilidad",0.1,null,null,null,null,null,null,null,null,"GRUPO 1",null,null,null,"IGV",{"$f":"ROUND(DZ8*18%,2)","v":0},{"$f":"ROUND(EA8*18%,2)","v":0},null,"Utilidad",0.1,null,null,null,null,null,null,null,null,"PN Anual por P",{"$f":"ROUND(IFERROR(IFERROR(ES58*(1+Cotizador!$C$129+$EK$6),ES58),0),2)","v":0},null,null,"Utilidad",0.1,null,null,null,null,null,null,null,null,null,null,null,"PN Anual por P",{"$f":"ROUND(IFERROR(IFERROR(FJ58*(1+Cotizador!$C$129+$FB$6),FJ58),0),2)","v":0},{"$f":"ROUND(FE9*$FB$7,2)","v":0},null,"Utilidad",0.1,null,null,null,null,null,null,null,null,null,null,null,"PN Anual por P",{"$f":"ROUND(IFERROR(IF(FT22>100000,GA56*2*IF(FS14>65,1.5,1),GA56*IF(FS14>65,1.5,1))*(1+Cotizador!$C$129+$FS$6),GA56),2)","v":0},null,null,"Utilidad",0.1,null,null,null,null,null,null,null,null,null,null,"GRUPO 1",null,null,null,null,"Prima Comercial",{"$f":"ROUND(GQ7+GQ8,2)","v":0},null,"Utilidad",0.1]
[null,"Sector:",{"$f":"Cotizador!$C$12","v":0},{"$f":"C10","v":0},{"$f":"D10","v":0},{"$f":"E10","v":0},null,"IGV",{"$f":"ROUND(I9*18%,2)","v":0},{"$f":"ROUND(J9*18%,2)","v":0},0,{"$f":"ROUND(L9*18%,2)","v":0},null,null,null,null,null,null,null,null,null,null,null,null,null,null,null,null,null,null,null,null,null,null,null,null,null,null,null,null,null,null,null,null,null,"Sector:",{"$f":"Cotizador!$C$12","v":0},{"$f":"AU10","v":0},{"$f":"AV10","v":0},{"$f":"AW10","v":0},null,"IGV",{"$f":"ROUND(BA9*18%,2)","v":0},{"$f":"ROUND(BB9*18%,2)","v":0},{"$f":"ROUND(BC9*18%,2)","v":0},{"$f":"ROUND(BD9*18%,2)","v":0},null,null,null,null,null,null,null,null,null,null,null,null,null,null,null,null,null,null,null,null,null,null,null,null,null,null,null,null,null,null,null,null,null,"Sector:",{"$f":"Cotizador!$C$12","v":0},null,null,null,"Prima Total",{"$f":"CR8+CR9","v":0},{"$f":"CS8+CS9","v":0},null,null,null,null,null,null,null,null,null,"Sector:",{"$f":"Cotizador!$C$12","v":0},null,null,null,"Prima Total",{"$f":"DI8+DI9","v":0},{"$f":"DJ8+DJ9","v":0},null,null,null,null,null,null,null,null,null,"Sector:",{"$f":"Cotizador!C12","v":0},null,null,null,"PT x Día / Total",{"$f":"DZ8+DZ9","v":0},{"$f":"EA8+EA9","v":0},null,null,null,null,null,null,null,null,"Deducible GC",0,null,"Por Vigencia",{"$f":"MAX(ROUND(EN9*IF($DC$5<=366,LOOKUP($DC$5-1,'Período corto'!$B$2:$D$18),$DC$5/366),2),IF(Cotizador!C73=\"Soles\",EO17,Calculadora!EN17))","v":0},{"$f":"ROUND(EN10*EK7,2)","v":0},null,null,null,null,null,null,null,null,null,null,null,"Deducible GC",0,null,"Por Vigencia",{"$f":"MAX(ROUND(FE9*IF(FB5<=366,LOOKUP(FB5-1,'Período corto'!$B$2:$D$18),FB5/366),2),IF(Cotizador!C73=\"Soles\",FF17,Calculadora!FE17))","v":0},{"$f":"ROUND(FE10*$FB$7,2)","v":0},null,null,null,null,null,null,null,null,null,null,null,"Deducible GC",0,null,"Por Vigencia",{"$f":"ROUND(FV9*IF(FS5<=366,LOOKUP(FS5-1,'Período corto'!$B$2:$D$18),FS5/366),2)","v":0},null,null,null,null,null,null,null,null,null,null,null,null,null,"Sector:",{"$f":"Cotizador!$C$12","v":0},null,null,null,null,"IGV",{"$f":"ROUND(GQ9*18%,2)","v":0}]
[null,"Grupo:",{"$f":"Cotizador!$E$66","v":{"$error":"#N/A"}},{"$f":"Cotizador!$G$66","v":{"$error":"#N/A"}},{"$f":"Cotizador!$I$66","v":{"$error":"#N/A"}},{"$f":"Cotizador!$K$66","v":{"$error":"#N/A"}},null,"Prima Total",{"$f":"I9+I10","v":0},{"$f":"J9+J10","v":0},0,0,null,"Prima de Riesgo",{"$f":"O5*(1-$E$3-$E$4-$E$5)","v":0},"Prima de Riesgo",{"$f":"Q5*(1-$E$3-$E$4-$E$5)","v":0},"Prima de Riesgo",{"$f":"S5*(1-$E$3-$E$4-$E$5)","v":0},"Prima de Riesgo",{"$f":"U5*(1-$E$3-$E$4-$E$5)","v":0},null,null,null,null,null,null,null,null,null,null,null,null,null,null,null,null,null,null,null,null,null,null,null,null,"Grupo:",{"$f":"Cotizador!$E$66","v":{"$error":"#N/A"}},{"$f":"Cotizador!$G$66","v":{"$error":"#N/A"}},{"$f":"Cotizador!$I$66","v":{"$error":"#N/A"}},{"$f":"Cotizador!$K$66","v":{"$error":"#N/A"}},null,"Prima Total",{"$f":"BA9+BA10","v":0},{"$f":"BB9+BB10","v":0},0,0,null,"Prima de Riesgo",{"$f":"BG5*(1-$AW$3-$AW$4-$AW$5)","v":0},"Prima de Riesgo",{"$f":"BI5*(1-$AW$3-$AW$4-$AW$5)","v":0},"Prima de Riesgo",{"$f":"BK5*(1-$AW$3-$AW$4-$AW$5)","v":0},"Prima de Riesgo",{"$f":"BM5*(1-$AW$3-$AW$4-$AW$5)","v":0},null,null,null,null,null,null,null,null,null,null,null,null,null,null,null,null,null,null,null,null,null,null,null,null,"Grupo:",{"$f":"Cotizador!E66","v":{"$error":"#N/A"}},null,null,null,null,null,null,"Prima de Riesgo",{"$f":"CU5*(1-$CO$3-$CO$4-$CO$5)","v":0},null,null,null,null,null,null,null,"Grupo:",{"$f":"Cotizador!$E$66","v":{"$error":"#N/A"}},null,null,null,null,null,null,"Prima de Riesgo",{"$f":"DL5*(1-$DF$3-$DF$4-$DF$5)","v":0},null,null,null,null,null,null,null,"Grupo:",{"$f":"Cotizador!E66","v":{"$error":"#N/A"}},null,null,null,null,null,null,null,"Prima de Riesgo",{"$f":"ED5*(1-$DW$3-$DW$4-$DW$5)","v":{"$error":"#DIV/0!"}},null,null,null,null,null,"Deducible IT",0,"días","DE",{"$f":"ROUND(EN10*$EN$6,2)","v":0},{"$f":"ROUND(EO10*3%,2)","v":0},null,"Prima de Riesgo",{"$f":"ER5*(1-$EN$3-$EN$4-$EN$5)","v":0},null,null,null,null,null,null,null,null,"Deducible IT",0,"días","DE",{"$f":"ROUND(FE10*$FE$6,2)","v":0},{"$f":"ROUND(FF10*$FE$6,2)","v":0},null,"Prima de Riesgo",{"$f":"FI5*(1-$FE$3-$FE$4-$FE$5)","v":0},null,null,null,null,null,null,null,null,"Deducible IT",0,"días","DE",{"$f":"ROUND(FV10*$EN$6,2)","v":0},null,null,"Prima de Riesgo",{"$f":"FZ5*(1-$FV$3-$FV$4-$FV$5)","v":0},null,null,null,null,null,null,null,null,null,"Grupo:","Grupo1",null,null,null,null,"Prima Total",{"$f":"GQ9+GQ10","v":0},null,"Prima de Riesgo",{"$f":"GT5*(1-$E$3-$E$4-$E$5)","v":0}]
[null,"Asegurados:",{"$f":"Cotizador!$E$51","v":0},{"$f":"Cotizador!$G$51","v":0},{"$f":"Cotizador!$I$51","v":0},{"$f":"Cotizador!$K$51","v":0},null,null,null,null,null,null,null,"OBJETIVO",null,"OBJETIVO",null,"OBJETIVO",null,"OBJETIVO",null,null,null,null,null,null,null,null,null,null,null,null,null,null,null,null,null,null,null,null,null,null,null,null,null,"Asegurados:",{"$f":"Cotizador!$E$51","v":0},{"$f":"Cotizador!$G$51","v":0},{"$f":"Cotizador!$I$51","v":0},{"$f":"Cotizador!$K$51","v":0},null,null,null,null,null,null,null,"OBJETIVO",null,"OBJETIVO",null,"OBJETIVO",null,"OBJETIVO",null,null,null,null,null,null,null,null,null,null,null,null,null,null,null,null,null,null,null,null,null,null,null,null,null,"Asegurados:",{"$f":"Cotizador!$E$51","v":0},null,null,null,null,null,null,"OBJETIVO",null,null,null,null,null,null,null,null,"Asegurados:",{"$f":"Cotizador!$E$51","v":0},null,null,null,null,null,null,"OBJETIVO",null,null,null,null,null,null,null,null,"Asegurados:",{"$f":"Cotizador!E51","v":0},null,null,null,null,null,null,null,"OBJETIVO",null,null,null,null,null,null,"Deducible RH",0,"días","Prima Comercial",{"$f":"ROUND(EN10+EN11,2)","v":0},{"$f":"ROUND(EO10+EO11,2)","v":0},null,"OBJETIVO",null,null,null,null,null,null,null,null,null,"Deducible RH",0,"días","Prima Comercial",{"$f":"ROUND(FE10+FE11,2)","v":0},{"$f":"ROUND(FF10+FF11,2)","v":0},null,"OBJETIVO",null,null,null,null,null,null,null,null,null,"Deducible RH",0,"días","Prima Comercial",{"$f":"ROUND(FV10+FV11,2)","v":0},null,null,"OBJETIVO",null,null,null,null,null,null,null,null,null,null,"Asegurados:",{"$f":"Cotizador!$E$51","v":0},null,null,null,null,null,null,null,"OBJETIVO"]
[null,null,null,null,null,null,null,null,1,2,3,4,null,"Prima Objetiva",{"$f":"IFERROR(I6,O5)","v":0},"Prima Objetiva",{"$f":"IFERROR(J6,Q5)","v":0},"Prima Objetiva",{"$f":"IFERROR(K6,S5)","v":0},"Prima Objetiva",{"$f":"IFERROR(L6,U5)","v":0},null,null,null,null,null,null,null,null,null,null,null,null,null,null,null,null,null,null,null,null,null,null,null,null,"Planilla Anual",{"$f":"Cotizador!$E$55","v":0},{"$f":"Cotizador!$G$55","v":0},{"$f":"Cotizador!$I$55","v":0},{"$f":"Cotizador!$K$55","v":0},null,null,1,2,3,4,null,"Prima Objetiva",{"$f":"IFERROR(BA5,BG5)","v":0},"Prima Objetiva",{"$f":"IFERROR(BB5,BI5)","v":0},"Prima Objetiva",{"$f":"IFERROR(BC5,BK5)","v":0},"Prima Objetiva",{"$f":"IFERROR(BD5,BM5)","v":0},null,null,null,null,null,null,null,null,null,null,null,null,null,null,null,null,null,null,null,null,null,null,null,null,null,null,null,null,null,null,1,null,"Prima Objetiva",{"$f":"IFERROR(CR6,CT58)","v":0},null,null,null,null,null,null,null,null,null,null,null,null,null,1,null,"Prima Objetiva",{"$f":"IFERROR(DI6,DK58)","v":0},null,null,null,null,null,null,null,null,null,null,null,null,null,1,null,null,"Prima Objetiva",{"$f":"DZ6","v":0},null,null,null,null,null,null,null,null,"IGV",{"$f":"ROUND(EN12*18%,2)","v":0},{"$f":"ROUND(EO12*18%,2)","v":0},null,"Prima Objetiva",{"$f":"EN10","v":0},null,null,null,null,null,null,null,null,null,null,null,"IGV",{"$f":"ROUND(FE12*18%,2)","v":0},{"$f":"ROUND(FF12*18%,2)","v":0},null,"Prima Objetiva",{"$f":"FE10","v":0},null,null,null,null,null,null,null,null,null,null,null,"IGV",{"$f":"ROUND(FV12*18%,2)","v":0},null,null,"Prima Objetiva",{"$f":"FV10","v":0},null,null,null,null,null,null,null,null,null,null,null,null,null,null,null,null,1,null,"Prima Objetiva",{"$f":"IFERROR(GQ6,GT5)","v":0}]
[null,"Deducible GC",0,0,0,0,null,null,"GRUPO 1","GRUPO 2","GRUPO 3","GRUPO 4",null,"Comisión",{"$f":"$E$3","v":0.25},"Comisión",{"$f":"$E$3","v":0.25},"Comisión",{"$f":"$E$3","v":0.25},"Comisión",{"$f":"$E$3","v":0.25},null,null,null,null,null,null,null,null,null,null,null,null,null,null,null,null,null,null,null,null,null,null,null,null,"Deducible GC",0,0,0,0,null,null,"GRUPO 1","GRUPO 2","GRUPO 3","GRUPO 4",null,"Comisión",{"$f":"$E$3","v":0.25},"Comisión",{"$f":"$E$3","v":0.25},"Comisión",{"$f":"$E$3","v":0.25},"Comisión",{"$f":"$E$3","v":0.25},null,null,null,null,null,null,null,null,null,null,null,null,null,null,null,null,null,null,null,null,null,null,null,null,"Deducible GC",0,null,null,null,null,"GRUPO 1",null,"Comisión",{"$f":"$E$3","v":0.25},null,null,null,null,null,null,null,"Deducible GC",0,null,null,null,null,"GRUPO 1",null,"Comisión",{"$f":"$E$3","v":0.25},null,null,null,null,null,null,null,"Deducible GC",0,null,null,null,null,"GRUPO 1",null,null,"Comisión",{"$f":"$E$3","v":0.25},null,null,null,null,null,"Rango Número",3,null,"Prima Total",{"$f":"EN12+EN13","v":0},{"$f":"ROUND(EO12+EO13,2)","v":0},null,"Comisión",{"$f":"$E$3","v":0.25},null,null,null,null,null,null,null,null,"Rango Número",3,null,"Prima Total",{"$f":"FE12+FE13","v":0},{"$f":"FF12+FF13","v":0},null,"Comisión",{"$f":"$E$3","v":0.25},null,null,null,null,null,null,null,null,"Edad",{"$f":"ROUND((TODAY()-Cotizador!E51)/365,0)","v":121},null,"Prima Total",{"$f":"FV12+FV13","v":0},null,null,"Comisión",{"$f":"$E$3","v":0.25},null,null,null,null,null,null,null,null,null,"Deducible GC",0,null,null,null,null,null,"GRUPO 1",null,"Comisión",{"$f":"$E$3","v":0.25}]
[null,"Deducible IT",0,0,0,0,"días","N° de Grupo",{"$f":"+HLOOKUP(Cotizador!E66,Tasas!$E$7:$H$8,2,0)","v":{"$error":"#N/A"}},{"$f":"+HLOOKUP(Cotizador!G66,Tasas!$E$7:$H$8,2,0)","v":{"$error":"#N/A"}},{"$f":"+HLOOKUP(Cotizador!I66,Tasas!$E$7:$H$8,2,0)","v":{"$error":"#N/A"}},{"$f":"+HLOOKUP(Cotizador!K66,Tasas!$E$7:$H$8,2,0)","v":{"$error":"#N/A"}},null,"Gasto Técnico",{"$f":"O7","v":0},"Gasto Técnico",{"$f":"Q7","v":0},"Gasto Técnico",{"$f":"S7","v":0},"Gasto Técnico",{"$f":"U7","v":0},null,null,null,null,null,null,null,null,null,null,null,null,null,null,null,null,null,null,null,null,null,null,null,null,"Deducible IT",0,0,0,0,"días","N° de Grupo",{"$f":"+HLOOKUP(AU11,Tasas!$E$7:$H$8,2,0)","v":{"$error":"#N/A"}},{"$f":"+HLOOKUP(AV11,Tasas!$E$7:$H$8,2,0)","v":{"$error":"#N/A"}},{"$f":"+HLOOKUP(AW11,Tasas!$E$7:$H$8,2,0)","v":{"$error":"#N/A"}},{"$f":"+HLOOKUP(AX11,Tasas!$E$7:$H$8,2,0)","v":{"$error":"#N/A"}},null,"Gasto Técnico",{"$f":"BG7","v":0},"Gasto Técnico",{"$f":"BI7","v":0},"Gasto Técnico",{"$f":"BK7","v":0},"Gasto Técnico",{"$f":"BM7","v":0},null,null,null,null,null,null,null,null,null,null,null,null,null,null,null,null,null,null,null,null,null,null,null,null,"Deducible IT",0,"días",null,null,"N° de Grupo",{"$f":"+HLOOKUP(CM11,Tasas!$E$7:$H$8,2,0)","v":{"$error":"#N/A"}},null,"Gasto Técnico",{"$f":"CU7","v":0},null,null,null,null,null,null,null,"Deducible IT",0,"días",null,null,"N° de Grupo",{"$f":"+HLOOKUP(DD11,Tasas!$E$7:$H$8,2,0)","v":{"$error":"#N/A"}},null,"Gasto Técnico",{"$f":"DL7","v":0},null,null,null,null,null,null,null,"Deducible IT",0,"días",null,null,"N° de Grupo",{"$f":"+HLOOKUP(DU11,Tasas!$E$7:$H$8,2,0)","v":{"$error":"#N/A"}},null,null,"Gasto Técnico",{"$f":"ED7","v":0},null,null,null,null,null,"Rango Asegurados",{"$f":"+IF(OR(EK7=0,EK7=\"\"),\"\",IF(EK7<=50,\"1-50\",IF(EK7<=400,\"50-400\",\">400\")))","v":""},null,null,"USD","PEN",null,"Gasto Técnico",{"$f":"ER7","v":0},null,null,null,null,null,null,null,null,"Rango Asegurados",{"$f":"+IF(OR(FB7=0,FB7=\"\"),\"\",IF(FB7<=50,\"1-50\",IF(FB7<=400,\"50-400\",\">400\")))","v":""},null,null,"USD","PEN",null,"Gasto Técnico",{"$f":"FI7","v":0},null,null,null,null,null,null,null,null,null,null,null,null,null,null,null,"Gasto Técnico",{"$f":"FZ7","v":0},null,null,null,null,null,null,null,null,null,"Deducible IT",0,"días",null,null,null,"N° de Grupo",{"$f":"+HLOOKUP(Cotizador!E66,Tasas!$E$7:$H$8,2,0)","v":{"$error":"#N/A"}},null,"Gasto Técnico",{"$f":"GT7","v":0}]
[null,"Deducible RH",0,0,0,0,"días","N° de Sector",{"$f":"+VLOOKUP(C$10,Tasas!$B$11:$C$31,2,0)+IF(I17=\"1-50\",0,IF(I17=\"50-400\",21,42))","v":{"$error":"#N/A"}},{"$f":"+VLOOKUP(D$10,Tasas!$B$11:$C$31,2,0)+IF(J17=\"1-50\",0,IF(J17=\"50-400\",21,42))","v":{"$error":"#N/A"}},{"$f":"+VLOOKUP(E$10,Tasas!$B$11:$C$31,2,0)+IF(K17=\"1-50\",0,IF(K17=\"50-400\",21,42))","v":{"$error":"#N/A"}},{"$f":"+VLOOKUP(F$10,Tasas!$B$11:$C$31,2,0)+IF(L17=\"1-50\",0,IF(L17=\"50-400\",21,42))","v":{"$error":"#N/A"}},null,"Administrativo",{"$f":"O8","v":0.2},"Administrativo",{"$f":"Q8","v":0.2},"Administrativo",{"$f":"S8","v":0.2},"Administrativo",{"$f":"U8","v":0.2},null,null,null,null,null,null,null,null,null,null,null,null,null,null,null,null,null,null,null,null,null,null,null,null,"Deducible RH",0,0,0,0,"días","N° de Sector",{"$f":"+VLOOKUP(AU$10,Tasas!$B$11:$C$31,2,0)+IF(BA17=\"1-50\",0,IF(BA17=\"50-400\",21,42))","v":{"$error":"#N/A"}},{"$f":"+VLOOKUP(AV$10,Tasas!$B$11:$C$31,2,0)+IF(BB17=\"1-50\",0,IF(BB17=\"50-400\",21,42))","v":{"$error":"#N/A"}},{"$f":"+VLOOKUP(AW$10,Tasas!$B$11:$C$31,2,0)+IF(BC17=\"1-50\",0,IF(BC17=\"50-400\",21,42))","v":{"$error":"#N/A"}},{"$f":"+VLOOKUP(AX$10,Tasas!$B$11:$C$31,2,0)+IF(BD17=\"1-50\",0,IF(BD17=\"50-400\",21,42))","v":{"$error":"#N/A"}},null,"Administrativo",{"$f":"BG8","v":0.2},"Administrativo",{"$f":"BI8","v":0.2},"Administrativo",{"$f":"BK8","v":0.2},"Administrativo",{"$f":"BM8","v":0.2},null,null,null,null,null,null,null,null,null,null,null,null,null,null,null,null,null,null,null,null,null,null,null,null,"Deducible RH",0,"días",null,null,"N° de Sector",{"$f":"+VLOOKUP(CM$10,Tasas!$B$11:$C$31,2,0)+IF(CR17=\"1-50\",0,IF(CR17=\"50-400\",21,42))","v":{"$error":"#N/A"}},null,"Administrativo",{"$f":"CU8","v":0.2},null,null,null,null,null,null,null,"Deducible RH",0,"días",null,null,"N° de Sector",{"$f":"+VLOOKUP(DD$10,Tasas!$B$11:$C$31,2,0)+IF(DI17=\"1-50\",0,IF(DI17=\"50-400\",21,42))","v":{"$error":"#N/A"}},null,"Administrativo",{"$f":"DL8","v":0.2},null,null,null,null,null,null,null,"Deducible RH",0,"días",null,null,"N° de Sector",{"$f":"+VLOOKUP(DU$10,Tasas!$B$11:$C$31,2,0)+IF(DZ17=\"1-50\",0,IF(DZ17=\"50-400\",21,42))","v":{"$error":"#N/A"}},null,null,"Administrativo",{"$f":"ED8","v":0.2},null,null,null,null,null,null,null,null,"Prima Mínima",30,100,null,"Administrativo",{"$f":"ER8","v":0.2},null,null,null,null,null,null,null,null,null,null,null,"Prima Mínima",30,100,null,"Administrativo",{"$f":"FI8","v":0.2},null,null,null,null,null,null,null,null,null,null,null,null,null,null,null,"Administrativo",{"$f":"FZ8","v":0.2},null,null,null,null,null,null,null,null,null,"Deducible RH",0,"días",null,null,null,"N° de Sector",{"$f":"+VLOOKUP(GK$10,Tasas!$B$11:$C$31,2,0)+IF(GQ17=\"1-50\",0,IF(GQ17=\"50-400\",21,42))","v":{"$error":"#N/A"}},null,"Administrativo",{"$f":"GT8","v":0.2}]
[null,null,null,null,null,null,null,"Rango",{"$f":"+IF(OR(C12=0,C12=\"\"),\"\",IF(C12<=50,\"1-50\",IF(C12<=400,\"50-400\",\">400\")))","v":""},{"$f":"+IF(OR(D12=0,D12=\"\"),\"\",IF(D12<=50,\"1-50\",IF(D12<=400,\"50-400\",\">400\")))","v":""},"","",null,"Utilidad",{"$f":"((O13)-(O19)-(O13*O14)-(O13*O15)-(O13*O16))/O13","v":{"$error":"#DIV/0!"}},"Utilidad",{"$f":"((Q13)-(Q19)-(Q13*Q14)-(Q13*Q15)-(Q13*Q16))/Q13","v":{"$error":"#DIV/0!"}},"Utilidad",{"$f":"((S13)-(S19)-(S13*S14)-(S13*S15)-(S13*S16))/S13","v":{"$error":"#DIV/0!"}},"Utilidad",{"$f":"((U13)-(U19)-(U13*U14)-(U13*U15)-(U13*U16))/U13","v":{"$error":"#DIV/0!"}},null,null,null,null,null,null,null,null,null,null,null,null,null,null,null,null,null,null,null,null,null,null,null,null,null,null,null,null,null,null,"Rango",{"$f":"+IF(OR(AU12=0,AU12=\"\"),\"\",IF(AU12<=50,\"1-50\",IF(AU12<=400,\"50-400\",\">400\")))","v":""},{"$f":"+IF(OR(AV12=0,AV12=\"\"),\"\",IF(AV12<=50,\"1-50\",IF(AV12<=400,\"50-400\",\">400\")))","v":""},"","",null,"Utilidad",{"$f":"((BG13)-(BG19)-(BG13*BG14)-(BG13*BG15)-(BG13*BG16))/BG13","v":{"$error":"#DIV/0!"}},"Utilidad",{"$f":"((BI13)-(BI19)-(BI13*BI14)-(BI13*BI15)-(BI13*BI16))/BI13","v":{"$error":"#DIV/0!"}},"Utilidad",{"$f":"((BK13)-(BK19)-(BK13*BK14)-(BK13*BK15)-(BK13*BK16))/BK13","v":{"$error":"#DIV/0!"}},"Utilidad",{"$f":"((BM13)-(BM19)-(BM13*BM14)-(BM13*BM15)-(BM13*BM16))/BM13","v":{"$error":"#DIV/0!"}},null,null,null,null,null,null,null,null,null,null,null,null,null,null,null,null,null,null,null,null,null,null,null,null,null,null,null,null,null,"Rango",{"$f":"+IF(OR(CM12=0,CM12=\"\"),\"\",IF(CM12<=50,\"1-50\",IF(CM12<=400,\"50-400\",\">400\")))","v":""},null,"Utilidad",{"$f":"((CU13)-(CU19)-(CU13*CU14)-(CU13*CU15)-(CU13*CU16))/CU13","v":{"$error":"#DIV/0!"}},null,null,null,null,null,null,null,null,null,null,null,null,"Rango",{"$f":"+IF(OR(DD12=0,DD12=\"\"),\"\",IF(DD12<=50,\"1-50\",IF(DD12<=400,\"50-400\",\">400\")))","v":""},null,"Utilidad",{"$f":"((DL13)-(DL19)-(DL13*DL14)-(DL13*DL15)-(DL13*DL16))/DL13","v":{"$error":"#DIV/0!"}},null,null,null,null,null,null,null,null,null,null,null,null,"Rango",{"$f":"+IF(OR(DU12=0,DU12=\"\"),\"\",IF(DU12<=50,\"1-50\",IF(DU12<=400,\"50-400\",\">400\")))","v":""},null,null,"Utilidad",{"$f":"((ED13)-(ED19)-(ED13*ED14)-(ED13*ED15)-(ED13*ED16))/ED13","v":{"$error":"#DIV/0!"}},null,null,null,null,null,null,null,null,"Por Persona",{"$f":"IFERROR(ROUND(EN16/EK7,2),0)","v":0},{"$f":"IFERROR(ROUND(EO16/EK7,2),0)","v":0},null,"Utilidad",{"$f":"((ER13)-(ER19)-(ER13*ER14)-(ER13*ER15)-(ER13*ER16))/ER13","v":{"$error":"#DIV/0!"}},null,null,null,null,null,null,null,null,null,null,null,"Por Persona",{"$f":"IFERROR(ROUND(FE16/FB7,2),0)","v":0},{"$f":"IFERROR(ROUND(FF16/FB7,2),0)","v":0},null,"Utilidad",{"$f":"((FI13)-(FI19)-(FI13*FI14)-(FI13*FI15)-(FI13*FI16))/FI13","v":{"$error":"#DIV/0!"}},null,null,null,null,null,null,null,null,null,null,null,null,null,null,null,"Utilidad",{"$f":"((FZ13)-(FZ19)-(FZ13*FZ14)-(FZ13*FZ15)-(FZ13*FZ16))/FZ13","v":{"$error":"#DIV/0!"}},null,null,null,null,null,null,null,null,null,null,null,null,null,null,null,"Rango",{"$f":"+IF(OR(GK12=0,GK12=\"\"),\"\",IF(GK12<=50,\"1-50\",IF(GK12<=400,\"50-400\",\">400\")))","v":""},null,"Utilidad",{"$f":"((GT13)-(GT19)-(GT13*GT14)-(GT13*GT15)-(GT13*GT16))/GT13","v":{"$error":"#DIV/0!"}}]
[]
["SUMA ASEGURADA",null,1,2,3,4,null,"Tasas de Riesgo",1,2,3,4,null,"Prima de Riesgo",{"$f":"O11","v":0},"Prima de Riesgo",{"$f":"Q11","v":0},"Prima de Riesgo",{"$f":"S11","v":0},"Prima de Riesgo",{"$f":"U11","v":0},null,null,null,null,null,null,null,null,null,null,null,null,null,null,null,null,null,null,null,null,null,null,null,"SUMA ASEGURADA",null,1,2,3,4,null,"Tasas de Riesgo",1,2,3,4,null,"Prima de Riesgo",{"$f":"BG11","v":0},"Prima de Riesgo",{"$f":"BI11","v":0},"Prima de Riesgo",{"$f":"BK11","v":0},"Prima de Riesgo",{"$f":"BM11","v":0},null,null,null,null,null,null,null,null,null,null,null,null,null,null,null,null,null,null,null,null,null,null,null,"SUMA ASEGURADA",null,1,null,null,null,"Tasas de Riesgo",1,null,"Prima de Riesgo",{"$f":"CU11","v":0},null,null,null,null,null,null,"SUMA ASEGURADA",null,1,null,null,null,"Tasas de Riesgo",1,null,"Prima de Riesgo",{"$f":"DL11","v":0},null,null,null,null,null,null,"SUMA ASEGURADA",null,1,null,null,null,"Tasas de Riesgo",1,null,null,"Prima de Riesgo",{"$f":"ED11","v":{"$error":"#DIV/0!"}},null,null,null,null,null,"SUMA ASEGURADA",null,1,null,"Tasas de Riesgo",1,null,"Prima de Riesgo",{"$f":"ER11","v":0},null,null,null,null,null,null,null,null,"SUMA ASEGURADA",null,1,null,"Tasas de Riesgo",1,null,"Prima de Riesgo",{"$f":"FI11","v":0},null,null,null,null,null,null,null,null,"SUMA ASEGURADA",null,1,null,"Tasas de Riesgo",1,null,"Prima de Riesgo",{"$f":"FZ11","v":0},null,null,null,null,null,null,null,null,"SUMA ASEGURADA",null,1,null,null,null,null,"Tasas de Riesgo",1,null,"Prima de Riesgo",{"$f":"GT11","v":0}]
["Coberturas Principales",null,"GRUPO 1","GRUPO 2","GRUPO 3","GRUPO 4",null,"Principales","GRUPO 1","GRUPO 2","GRUPO 3","GRUPO 4",null,null,null,null,null,null,null,null,null,null,null,null,null,null,null,null,null,null,null,null,null,null,null,null,null,null,null,null,null,null,null,null,"Coberturas Principales",null,"GRUPO 1","GRUPO 2","GRUPO 3","GRUPO 4",null,"Principales","GRUPO 1","GRUPO 2","GRUPO 3","GRUPO 4",null,null,null,null,null,null,null,null,null,null,null,null,null,null,null,null,null,null,null,null,null,null,null,null,null,null,null,null,null,null,null,null,"Coberturas Principales",null,"GRUPO 1",null,null,null,"Principales","GRUPO 1",null,null,null,null,null,null,null,null,null,"Coberturas Principales",null,"GRUPO 1",null,null,null,"Principales","GRUPO 1",null,null,null,null,null,null,null,null,null,"Coberturas Principales",null,"GRUPO 1",null,null,null,"Principales","GRUPO 1",null,null,null,null,null,null,null,null,null,"Coberturas Principales",null,"GRUPO 1",null,"Principales","GRUPO 1",null,null,null,null,null,null,null,null,null,null,null,"Coberturas Principales",null,"GRUPO 1",null,"Principales","GRUPO 1",null,null,null,null,null,null,null,null,null,null,null,"Coberturas Principales",null,"GRUPO 1",null,"Principales","GRUPO 1",null,null,null,null,null,null,null,null,null,null,null,"Coberturas Principales",null,"GRUPO 1",null,null,null,null,"Principales","GRUPO 1"]
["Gastos de Curación:",null,{"$f":"Cotizador!$E$79","v":0},{"$f":"Cotizador!$G$79","v":0},{"$f":"Cotizador!$I$79","v":0},{"$f":"Cotizador!$K$79","v":0},null,0,{"$f":"+IF(OR(C21=0,C21=\"\"),0,VLOOKUP(I$16,Tasas!$C$11:$AN$73,I$15+$H21+2,0))","v":0},{"$f":"+IF(OR(D21=0,D21=\"\"),0,VLOOKUP(J$16,Tasas!$C$11:$AN$73,J$15+$H21+2,0))","v":0},{"$f":"+IF(OR(E21=0,E21=\"\"),0,VLOOKUP(K$16,Tasas!$C$11:$AN$73,K$15+$H21+2,0))","v":0},{"$f":"+IF(OR(F21=0,F21=\"\"),0,VLOOKUP(L$16,Tasas!$C$11:$AN$73,L$15+$H21+2,0))","v":0},null,null,null,null,null,null,null,null,null,null,null,null,null,null,null,null,null,null,null,null,null,null,null,null,null,null,null,null,null,null,null,null,"Gastos de Curación:",null,{"$f":"Cotizador!$E$79","v":0},{"$f":"Cotizador!$G$79","v":0},{"$f":"Cotizador!$I$79","v":0},{"$f":"Cotizador!$K$79","v":0},null,0,{"$f":"+IF(OR(AU21=0,AU21=\"\"),0,VLOOKUP(BA$16,Tasas!$C$11:$BY$73,BA$15+$AZ21+39,0))","v":0},{"$f":"+IF(OR(AV21=0,AV21=\"\"),0,VLOOKUP(BB$16,Tasas!$C$11:$BY$73,BB$15+$AZ21+39,0))","v":0},{"$f":"+IF(OR(AW21=0,AW21=\"\"),0,VLOOKUP(BC$16,Tasas!$C$11:$BY$73,BC$15+$AZ21+39,0))","v":0},{"$f":"+IF(OR(AX21=0,AX21=\"\"),0,VLOOKUP(BD$16,Tasas!$C$11:$BY$73,BD$15+$AZ21+39,0))","v":0},null,null,null,null,null,null,null,null,null,null,null,null,null,null,null,null,null,null,null,null,null,null,null,null,null,null,null,null,null,null,null,null,"Gastos de Curación:",null,{"$f":"Cotizador!$E$79","v":0},null,null,null,2,{"$f":"+IF(OR(CM21=0,CM21=\"\"),0,VLOOKUP(CR$17,Tasas!$CA$10:$CJ$12,Calculadora!CQ21,0))","v":0},null,"RANGO ASEG.","FILA",null,null,null,null,null,null,"Gastos de Curación:",null,{"$f":"Cotizador!$E$79","v":0},null,null,null,2,{"$f":"+IF(OR(DD21=0,DD21=\"\"),0,VLOOKUP(DI$17,Tasas!$CN$10:$CW$12,Calculadora!DH21,0))","v":0},null,"RANGO ASEG.","FILA",null,null,null,null,null,null,"Gastos de Curación:",null,{"$f":"Cotizador!$E$79","v":0},null,null,null,2,{"$f":"+IF(OR(DU21=0,DU21=\"\"),0,VLOOKUP(DZ$17,Tasas!$DA$10:$DJ$12,Calculadora!DY21,0))","v":0},null,null,"RANGO ASEG.","FILA",null,null,null,null,null,"Gastos de Curación:",null,{"$f":"Cotizador!$E$79","v":0},null,2,{"$f":"IF(OR(EL21=0,EL21=\"\"),0,VLOOKUP(EK$15,Tasas!$DN$10:$DW$12,Calculadora!EN21,0))","v":0},null,"RANGO ASEG.","FILA",null,null,null,null,null,null,null,null,"Gastos de Curación:",null,{"$f":"Cotizador!$E$79","v":0},null,2,{"$f":"IF(OR(FC21=0,FC21=\"\"),0,VLOOKUP(FB$15,Tasas!$EA$10:$EJ$12,Calculadora!FE21,0))","v":0},null,"RANGO ASEG.","FILA",null,null,null,null,null,null,null,null,"Gastos de Curación:",null,{"$f":"Cotizador!$E$79","v":0},null,1,{"$f":"IF(OR(FT21=0,FT21=\"\"),0,VLOOKUP(FV21,Tasas!$EO$15:$ES$22,Calculadora!$FS$8,0))","v":0},null,"Grupo1",2,null,null,null,null,null,null,null,null,"Gastos de Curación:",null,{"$f":"Cotizador!$E$79","v":0},null,null,null,null,0,{"$f":"+IF(OR(GK21=0,GK21=\"\"),0,VLOOKUP(GQ$16,Tasas!$FY$11:$HJ$73,GQ$15+$H21+2,0))","v":0}]
["Muerte Accidental:",null,{"$f":"Cotizador!$E$77","v":0},{"$f":"Cotizador!$G$77","v":0},{"$f":"Cotizador!$I$77","v":0},{"$f":"Cotizador!$K$77","v":0},null,4,{"$f":"+IF(OR(C22=0,C22=\"\"),0,VLOOKUP(I$16,Tasas!$C$11:$AN$73,I$15+$H22+2,0))","v":0},{"$f":"+IF(OR(D22=0,D22=\"\"),0,VLOOKUP(J$16,Tasas!$C$11:$AN$73,J$15+$H22+2,0))","v":0},{"$f":"+IF(OR(E22=0,E22=\"\"),0,VLOOKUP(K$16,Tasas!$C$11:$AN$73,K$15+$H22+2,0))","v":0},{"$f":"+IF(OR(F22=0,F22=\"\"),0,VLOOKUP(L$16,Tasas!$C$11:$AN$73,L$15+$H22+2,0))","v":0},null,null,null,null,null,null,null,null,null,null,null,null,null,null,null,null,null,null,null,null,null,null,null,null,null,null,null,null,null,null,null,null,"Muerte Accidental:",null,{"$f":"Cotizador!$E$77","v":0},{"$f":"Cotizador!$G$77","v":0},{"$f":"Cotizador!$I$77","v":0},{"$f":"Cotizador!$K$77","v":0},null,4,{"$f":"+IF(OR(AU22=0,AU22=\"\"),0,VLOOKUP(BA$16,Tasas!$C$11:$BY$73,BA$15+$AZ22+39,0))","v":0},{"$f":"+IF(OR(AV22=0,AV22=\"\"),0,VLOOKUP(BB$16,Tasas!$C$11:$BY$73,BB$15+$AZ22+39,0))","v":0},{"$f":"+IF(OR(AW22=0,AW22=\"\"),0,VLOOKUP(BC$16,Tasas!$C$11:$BY$73,BC$15+$AZ22+39,0))","v":0},{"$f":"+IF(OR(AX22=0,AX22=\"\"),0,VLOOKUP(BD$16,Tasas!$C$11:$BY$73,BD$15+$AZ22+39,0))","v":0},null,null,null,null,null,null,null,null,null,null,null,null,null,null,null,null,null,null,null,null,null,null,null,null,null,null,null,null,null,null,null,null,"Muerte Accidental:",null,{"$f":"Cotizador!$E$77","v":0},null,null,null,3,{"$f":"+IF(OR(CM22=0,CM22=\"\"),0,VLOOKUP(CR$17,Tasas!$CA$10:$CJ$12,Calculadora!CQ22,0))","v":0},null,"1-50",0,null,null,null,null,null,null,"Muerte Accidental:",null,{"$f":"Cotizador!$E$77","v":0},null,null,null,3,{"$f":"+IF(OR(DD22=0,DD22=\"\"),0,VLOOKUP(DI$17,Tasas!$CN$10:$CW$12,Calculadora!DH22,0))","v":0},null,"1-50",0,null,null,null,null,null,null,"Muerte Accidental:",null,{"$f":"Cotizador!$E$77","v":0},null,null,null,3,{"$f":"+IF(OR(DU22=0,DU22=\"\"),0,VLOOKUP(DZ$17,Tasas!$DA$10:$DJ$12,Calculadora!DY22,0))","v":0},null,null,"1-50",0,null,null,null,null,null,"Muerte Accidental:",null,{"$f":"Cotizador!$E$77","v":0},null,3,{"$f":"IF(OR(EL22=0,EL22=\"\"),0,VLOOKUP(EK$15,Tasas!$DN$10:$DW$12,Calculadora!EN22,0))","v":0},null,"1-50",0,null,null,null,null,null,null,null,null,"Muerte Accidental:",null,{"$f":"Cotizador!$E$77","v":0},null,3,{"$f":"IF(OR(FC22=0,FC22=\"\"),0,VLOOKUP(FB$15,Tasas!$EA$10:$EJ$12,Calculadora!FE22,0))","v":0},null,"1-50",0,null,null,null,null,null,null,null,null,"Muerte Accidental:",null,{"$f":"Cotizador!$E$77","v":0},null,2,{"$f":"IF(OR(FT22=0,FT22=\"\"),0,VLOOKUP(FV22,Tasas!$EO$15:$ES$22,Calculadora!$FS$8,0))","v":0},null,"Grupo2",10,null,null,null,null,null,null,null,null,"Muerte Accidental:",null,{"$f":"Cotizador!$E$77","v":0},null,null,null,null,4,{"$f":"+IF(OR(GK22=0,GK22=\"\"),0,VLOOKUP(GQ$16,Tasas!$FY$11:$HJ$73,GQ$15+$H22+2,0))","v":0}]
["Gastos de Sepelio:",null,{"$f":"Cotizador!$E$80","v":0},{"$f":"Cotizador!$G$80","v":0},{"$f":"Cotizador!$I$80","v":0},{"$f":"Cotizador!$K$80","v":0},null,8,{"$f":"+IF(OR(C23=0,C23=\"\"),0,VLOOKUP(I$16,Tasas!$C$11:$AN$73,I$15+$H23+2,0))","v":0},{"$f":"+IF(OR(D23=0,D23=\"\"),0,VLOOKUP(J$16,Tasas!$C$11:$AN$73,J$15+$H23+2,0))","v":0},{"$f":"+IF(OR(E23=0,E23=\"\"),0,VLOOKUP(K$16,Tasas!$C$11:$AN$73,K$15+$H23+2,0))","v":0},{"$f":"+IF(OR(F23=0,F23=\"\"),0,VLOOKUP(L$16,Tasas!$C$11:$AN$73,L$15+$H23+2,0))","v":0},null,null,null,null,null,null,null,null,null,null,null,null,null,null,null,null,null,null,null,null,null,null,null,null,null,null,null,null,null,null,null,null,"Gastos de Sepelio:",null,{"$f":"Cotizador!$E$80","v":0},{"$f":"Cotizador!$G$80","v":0},{"$f":"Cotizador!$I$80","v":0},{"$f":"Cotizador!$K$80","v":0},null,8,{"$f":"+IF(OR(AU23=0,AU23=\"\"),0,VLOOKUP(BA$16,Tasas!$C$11:$BY$73,BA$15+$AZ23+39,0))","v":0},{"$f":"+IF(OR(AV23=0,AV23=\"\"),0,VLOOKUP(BB$16,Tasas!$C$11:$BY$73,BB$15+$AZ23+39,0))","v":0},{"$f":"+IF(OR(AW23=0,AW23=\"\"),0,VLOOKUP(BC$16,Tasas!$C$11:$BY$73,BC$15+$AZ23+39,0))","v":0},{"$f":"+IF(OR(AX23=0,AX23=\"\"),0,VLOOKUP(BD$16,Tasas!$C$11:$BY$73,BD$15+$AZ23+39,0))","v":0},null,null,null,null,null,null,null,null,null,null,null,null,null,null,null,null,null,null,null,null,null,null,null,null,null,null,null,null,null,null,null,null,"Gastos de Sepelio:",null,{"$f":"Cotizador!$E$80","v":0},null,null,null,4,{"$f":"+IF(OR(CM23=0,CM23=\"\"),0,VLOOKUP(CR$17,Tasas!$CA$10:$CJ$12,Calculadora!CQ23,0))","v":0},null,"50-400",1,null,null,null,null,null,null,"Gastos de Sepelio:",null,{"$f":"Cotizador!$E$80","v":0},null,null,null,4,{"$f":"+IF(OR(DD23=0,DD23=\"\"),0,VLOOKUP(DI$17,Tasas!$CN$10:$CW$12,Calculadora!DH23,0))","v":0},null,"50-400",1,null,null,null,null,null,null,"Gastos de Sepelio:",null,{"$f":"Cotizador!$E$80","v":0},null,null,null,4,{"$f":"+IF(OR(DU23=0,DU23=\"\"),0,VLOOKUP(DZ$17,Tasas!$DA$10:$DJ$12,Calculadora!DY23,0))","v":0},null,null,"50-400",1,null,null,null,null,null,"Gastos de Sepelio:",null,{"$f":"Cotizador!$E$80","v":0},null,4,{"$f":"IF(OR(EL23=0,EL23=\"\"),0,VLOOKUP(EK$15,Tasas!$DN$10:$DW$12,Calculadora!EN23,0))","v":0},null,"50-400",1,null,null,null,null,null,null,null,null,"Gastos de Sepelio:",null,{"$f":"Cotizador!$E$80","v":0},null,4,{"$f":"IF(OR(FC23=0,FC23=\"\"),0,VLOOKUP(FB$15,Tasas!$EA$10:$EJ$12,Calculadora!FE23,0))","v":0},null,"50-400",1,null,null,null,null,null,null,null,null,"Gastos de Sepelio:",null,{"$f":"Cotizador!$E$80","v":0},null,3,{"$f":"IF(OR(FT23=0,FT23=\"\"),0,VLOOKUP(FV23,Tasas!$EO$15:$ES$22,Calculadora!$FS$8,0))","v":0},null,"Grupo3",18,null,null,null,null,null,null,null,null,"Gastos de Sepelio:",null,{"$f":"Cotizador!$E$80","v":0},null,null,null,null,8,{"$f":"+IF(OR(GK23=0,GK23=\"\"),0,VLOOKUP(GQ$16,Tasas!$FY$11:$HJ$73,GQ$15+$H23+2,0))","v":0}]
["Invalidez Permanente:",null,{"$f":"Cotizador!$E$78","v":0},{"$f":"Cotizador!$G$78","v":0},{"$f":"Cotizador!$I$78","v":0},{"$f":"Cotizador!$K$78","v":0},null,12,{"$f":"+IF(OR(C24=0,C24=\"\"),0,VLOOKUP(I$16,Tasas!$C$11:$AN$73,I$15+$H24+2,0))","v":0},{"$f":"+IF(OR(D24=0,D24=\"\"),0,VLOOKUP(J$16,Tasas!$C$11:$AN$73,J$15+$H24+2,0))","v":0},{"$f":"+IF(OR(E24=0,E24=\"\"),0,VLOOKUP(K$16,Tasas!$C$11:$AN$73,K$15+$H24+2,0))","v":0},{"$f":"+IF(OR(F24=0,F24=\"\"),0,VLOOKUP(L$16,Tasas!$C$11:$AN$73,L$15+$H24+2,0))","v":0},null,null,null,null,null,null,null,null,null,null,null,null,null,null,null,null,null,null,null,null,null,null,null,null,null,null,null,null,null,null,null,null,"Invalidez Permanente:",null,{"$f":"Cotizador!$E$78","v":0},{"$f":"Cotizador!$G$78","v":0},{"$f":"Cotizador!$I$78","v":0},{"$f":"Cotizador!$K$78","v":0},null,12,{"$f":"+IF(OR(AU24=0,AU24=\"\"),0,VLOOKUP(BA$16,Tasas!$C$11:$BY$73,BA$15+$AZ24+39,0))","v":0},{"$f":"+IF(OR(AV24=0,AV24=\"\"),0,VLOOKUP(BB$16,Tasas!$C$11:$BY$73,BB$15+$AZ24+39,0))","v":0},{"$f":"+IF(OR(AW24=0,AW24=\"\"),0,VLOOKUP(BC$16,Tasas!$C$11:$BY$73,BC$15+$AZ24+39,0))","v":0},{"$f":"+IF(OR(AX24=0,AX24=\"\"),0,VLOOKUP(BD$16,Tasas!$C$11:$BY$73,BD$15+$AZ24+39,0))","v":0},null,null,null,null,null,null,null,null,null,null,null,null,null,null,null,null,null,null,null,null,null,null,null,null,null,null,null,null,null,null,null,null,"Invalidez Permanente:",null,{"$f":"Cotizador!$E$78","v":0},null,null,null,5,{"$f":"+IF(OR(CM24=0,CM24=\"\"),0,VLOOKUP(CR$17,Tasas!$CA$10:$CJ$12,Calculadora!CQ24,0))","v":0},null,">400",2,null,null,null,null,null,null,"Invalidez Permanente:",null,{"$f":"Cotizador!$E$78","v":0},null,null,null,5,{"$f":"+IF(OR(DD24=0,DD24=\"\"),0,VLOOKUP(DI$17,Tasas!$CN$10:$CW$12,Calculadora!DH24,0))","v":0},null,">400",2,null,null,null,null,null,null,"Invalidez Permanente:",null,{"$f":"Cotizador!$E$78","v":0},null,null,null,5,{"$f":"+IF(OR(DU24=0,DU24=\"\"),0,VLOOKUP(DZ$17,Tasas!$DA$10:$DJ$12,Calculadora!DY24,0))","v":0},null,null,">400",2,null,null,null,null,null,"Invalidez Permanente:",null,{"$f":"Cotizador!$E$78","v":0},null,5,{"$f":"IF(OR(EL24=0,EL24=\"\"),0,VLOOKUP(EK$15,Tasas!$DN$10:$DW$12,Calculadora!EN24,0))","v":0},null,">400",2,null,null,null,null,null,null,null,null,"Invalidez Permanente:",null,{"$f":"Cotizador!$E$78","v":0},null,5,{"$f":"IF(OR(FC24=0,FC24=\"\"),0,VLOOKUP(FB$15,Tasas!$EA$10:$EJ$12,Calculadora!FE24,0))","v":0},null,">400",2,null,null,null,null,null,null,null,null,"Invalidez Permanente:",null,{"$f":"Cotizador!$E$78","v":0},null,4,{"$f":"IF(OR(FT24=0,FT24=\"\"),0,VLOOKUP(FV24,Tasas!$EO$15:$ES$22,Calculadora!$FS$8,0))","v":0},null,"Grupo4",26,null,null,null,null,null,null,null,null,"Invalidez Permanente:",null,{"$f":"Cotizador!$E$78","v":0},null,null,null,null,12,{"$f":"+IF(OR(GK24=0,GK24=\"\"),0,VLOOKUP(GQ$16,Tasas!$FY$11:$HJ$73,GQ$15+$H24+2,0))","v":0}]
["Incapacidad Temporal:",null,{"$f":"Cotizador!$E$81","v":0},{"$f":"Cotizador!$G$81","v":0},{"$f":"Cotizador!$I$81","v":0},{"$f":"Cotizador!$K$81","v":0},null,16,{"$f":"+IF(OR(C25=0,C25=\"\"),0,VLOOKUP(I$16,Tasas!$C$11:$AN$73,I$15+$H25+2,0))","v":0},{"$f":"+IF(OR(D25=0,D25=\"\"),0,VLOOKUP(J$16,Tasas!$C$11:$AN$73,J$15+$H25+2,0))","v":0},{"$f":"+IF(OR(E25=0,E25=\"\"),0,VLOOKUP(K$16,Tasas!$C$11:$AN$73,K$15+$H25+2,0))","v":0},{"$f":"+IF(OR(F25=0,F25=\"\"),0,VLOOKUP(L$16,Tasas!$C$11:$AN$73,L$15+$H25+2,0))","v":0},null,null,null,null,null,null,null,null,null,null,null,null,null,null,null,null,null,null,null,null,null,null,null,null,null,null,null,null,null,null,null,null,"Incapacidad Temporal:",null,{"$f":"Cotizador!$E$81","v":0},{"$f":"Cotizador!$G$81","v":0},{"$f":"Cotizador!$I$81","v":0},{"$f":"Cotizador!$K$81","v":0},null,16,{"$f":"+IF(OR(AU25=0,AU25=\"\"),0,VLOOKUP(BA$16,Tasas!$C$11:$BY$73,BA$15+$AZ25+39,0))","v":0},{"$f":"+IF(OR(AV25=0,AV25=\"\"),0,VLOOKUP(BB$16,Tasas!$C$11:$BY$73,BB$15+$AZ25+39,0))","v":0},{"$f":"+IF(OR(AW25=0,AW25=\"\"),0,VLOOKUP(BC$16,Tasas!$C$11:$BY$73,BC$15+$AZ25+39,0))","v":0},{"$f":"+IF(OR(AX25=0,AX25=\"\"),0,VLOOKUP(BD$16,Tasas!$C$11:$BY$73,BD$15+$AZ25+39,0))","v":0},null,null,null,null,null,null,null,null,null,null,null,null,null,null,null,null,null,null,null,null,null,null,null,null,null,null,null,null,null,null,null,null,"Incapacidad Temporal:",null,{"$f":"Cotizador!$E$81","v":0},null,null,null,6,{"$f":"+IF(OR(CM25=0,CM25=\"\"),0,VLOOKUP(CR$17,Tasas!$CA$10:$CJ$12,Calculadora!CQ25,0))","v":0},null,null,null,null,null,null,null,null,null,"Incapacidad Temporal:",null,{"$f":"Cotizador!$E$81","v":0},null,null,null,6,{"$f":"+IF(OR(DD25=0,DD25=\"\"),0,VLOOKUP(DI$17,Tasas!$CN$10:$CW$12,Calculadora!DH25,0))","v":0},null,null,null,null,null,null,null,null,null,"Incapacidad Temporal:",null,{"$f":"Cotizador!$E$81","v":0},null,null,null,6,{"$f":"+IF(OR(DU25=0,DU25=\"\"),0,VLOOKUP(DZ$17,Tasas!$DA$10:$DJ$12,Calculadora!DY25,0))","v":0},null,null,null,null,null,null,null,null,null,"Incapacidad Temporal:",null,{"$f":"Cotizador!$E$81","v":0},null,6,{"$f":"IF(OR(EL25=0,EL25=\"\"),0,VLOOKUP(EK$15,Tasas!$DN$10:$DW$12,Calculadora!EN25,0))","v":0},null,null,null,null,null,null,null,null,null,null,null,"Incapacidad Temporal:",null,{"$f":"Cotizador!$E$81","v":0},null,6,{"$f":"IF(OR(FC25=0,FC25=\"\"),0,VLOOKUP(FB$15,Tasas!$EA$10:$EJ$12,Calculadora!FE25,0))","v":0},null,null,null,null,null,null,null,null,null,null,null,"Incapacidad Temporal:",null,{"$f":"Cotizador!$E$81","v":0},null,5,{"$f":"IF(OR(FT25=0,FT25=\"\"),0,VLOOKUP(FV25,Tasas!$EO$15:$ES$22,Calculadora!$FS$8,0))","v":0},null,null,null,null,null,null,null,null,null,null,null,"Incapacidad Temporal:",null,{"$f":"Cotizador!$E$81","v":0},null,null,null,null,16,{"$f":"+IF(OR(GK25=0,GK25=\"\"),0,VLOOKUP(GQ$16,Tasas!$FY$11:$HJ$73,GQ$15+$H25+2,0))","v":0}]
["Desamparo Súbito Familiar:",null,{"$f":"Cotizador!$E$84","v":0},{"$f":"Cotizador!$G$84","v":0},{"$f":"Cotizador!$I$84","v":0},{"$f":"Cotizador!$K$84","v":0},null,20,{"$f":"+IF(OR(C26=0,C26=\"\"),0,VLOOKUP(I$16,Tasas!$C$11:$AN$73,I$15+$H26+2,0))","v":0},{"$f":"+IF(OR(D26=0,D26=\"\"),0,VLOOKUP(J$16,Tasas!$C$11:$AN$73,J$15+$H26+2,0))","v":0},{"$f":"+IF(OR(E26=0,E26=\"\"),0,VLOOKUP(K$16,Tasas!$C$11:$AN$73,K$15+$H26+2,0))","v":0},{"$f":"+IF(OR(F26=0,F26=\"\"),0,VLOOKUP(L$16,Tasas!$C$11:$AN$73,L$15+$H26+2,0))","v":0},null,null,null,null,null,null,null,null,null,null,null,null,null,null,null,null,null,null,null,null,null,null,null,null,null,null,null,null,null,null,null,null,"Desamparo Súbito Familiar:",null,{"$f":"Cotizador!$E$84","v":0},{"$f":"Cotizador!$G$84","v":0},{"$f":"Cotizador!$I$84","v":0},{"$f":"Cotizador!$K$84","v":0},null,20,{"$f":"+IF(OR(AU26=0,AU26=\"\"),0,VLOOKUP(BA$16,Tasas!$C$11:$BY$73,BA$15+$AZ26+39,0))","v":0},{"$f":"+IF(OR(AV26=0,AV26=\"\"),0,VLOOKUP(BB$16,Tasas!$C$11:$BY$73,BB$15+$AZ26+39,0))","v":0},{"$f":"+IF(OR(AW26=0,AW26=\"\"),0,VLOOKUP(BC$16,Tasas!$C$11:$BY$73,BC$15+$AZ26+39,0))","v":0},{"$f":"+IF(OR(AX26=0,AX26=\"\"),0,VLOOKUP(BD$16,Tasas!$C$11:$BY$73,BD$15+$AZ26+39,0))","v":0},null,null,null,null,null,null,null,null,null,null,null,null,null,null,null,null,null,null,null,null,null,null,null,null,null,null,null,null,null,null,null,null,"Desamparo Súbito Familiar:",null,{"$f":"Cotizador!$E$84","v":0},null,null,null,7,{"$f":"+IF(OR(CM26=0,CM26=\"\"),0,VLOOKUP(CR$17,Tasas!$CA$10:$CJ$12,Calculadora!CQ26,0))","v":0},null,null,null,null,null,null,null,null,null,"Desamparo Súbito Familiar:",null,{"$f":"Cotizador!$E$84","v":0},null,null,null,7,{"$f":"+IF(OR(DD26=0,DD26=\"\"),0,VLOOKUP(DI$17,Tasas!$CN$10:$CW$12,Calculadora!DH26,0))","v":0},null,null,null,null,null,null,null,null,null,"Desamparo Súbito Familiar:",null,{"$f":"Cotizador!$E$84","v":0},null,null,null,7,{"$f":"+IF(OR(DU26=0,DU26=\"\"),0,VLOOKUP(DZ$17,Tasas!$DA$10:$DJ$12,Calculadora!DY26,0))","v":0},null,null,null,null,null,null,null,null,null,"Desamparo Súbito Familiar:",null,{"$f":"Cotizador!$E$84","v":0},null,7,{"$f":"IF(OR(EL26=0,EL26=\"\"),0,VLOOKUP(EK$15,Tasas!$DN$10:$DW$12,Calculadora!EN26,0))","v":0},null,null,null,null,null,null,null,null,null,null,null,"Desamparo Súbito Familiar:",null,{"$f":"Cotizador!$E$84","v":0},null,7,{"$f":"IF(OR(FC26=0,FC26=\"\"),0,VLOOKUP(FB$15,Tasas!$EA$10:$EJ$12,Calculadora!FE26,0))","v":0},null,null,null,null,null,null,null,null,null,null,null,"Desamparo Súbito Familiar:",null,{"$f":"Cotizador!$E$84","v":0},null,6,{"$f":"IF(OR(FT26=0,FT26=\"\"),0,VLOOKUP(FV26,Tasas!$EO$15:$ES$22,Calculadora!$FS$8,0))","v":0},null,null,null,null,null,null,null,null,null,null,null,"Desamparo Súbito Familiar:",null,{"$f":"Cotizador!$E$84","v":0},null,null,null,null,20,{"$f":"+IF(OR(GK26=0,GK26=\"\"),0,VLOOKUP(GQ$16,Tasas!$FY$11:$HJ$73,GQ$15+$H26+2,0))","v":0}]
["Renta Hospitalaria Diaria por Accidente:",null,{"$f":"Cotizador!$E$85","v":0},{"$f":"Cotizador!$G$85","v":0},{"$f":"Cotizador!$I$85","v":0},{"$f":"Cotizador!$K$85","v":0},null,24,{"$f":"+IF(OR(C27=0,C27=\"\"),0,VLOOKUP(I$16,Tasas!$C$11:$AN$73,I$15+$H27+2,0))","v":0},{"$f":"+IF(OR(D27=0,D27=\"\"),0,VLOOKUP(J$16,Tasas!$C$11:$AN$73,J$15+$H27+2,0))","v":0},{"$f":"+IF(OR(E27=0,E27=\"\"),0,VLOOKUP(K$16,Tasas!$C$11:$AN$73,K$15+$H27+2,0))","v":0},{"$f":"+IF(OR(F27=0,F27=\"\"),0,VLOOKUP(L$16,Tasas!$C$11:$AN$73,L$15+$H27+2,0))","v":0},null,null,null,null,null,null,null,null,null,null,null,null,null,null,null,null,null,null,null,null,null,null,null,null,null,null,null,null,null,null,null,null,"Renta Hospitalaria Diaria por Accidente:",null,{"$f":"Cotizador!$E$85","v":0},{"$f":"Cotizador!$G$85","v":0},{"$f":"Cotizador!$I$85","v":0},{"$f":"Cotizador!$K$85","v":0},null,24,{"$f":"+IF(OR(AU27=0,AU27=\"\"),0,VLOOKUP(BA$16,Tasas!$C$11:$BY$73,BA$15+$AZ27+39,0))","v":0},{"$f":"+IF(OR(AV27=0,AV27=\"\"),0,VLOOKUP(BB$16,Tasas!$C$11:$BY$73,BB$15+$AZ27+39,0))","v":0},{"$f":"+IF(OR(AW27=0,AW27=\"\"),0,VLOOKUP(BC$16,Tasas!$C$11:$BY$73,BC$15+$AZ27+39,0))","v":0},{"$f":"+IF(OR(AX27=0,AX27=\"\"),0,VLOOKUP(BD$16,Tasas!$C$11:$BY$73,BD$15+$AZ27+39,0))","v":0},null,null,null,null,null,null,null,null,null,null,null,null,null,null,null,null,null,null,null,null,null,null,null,null,null,null,null,null,null,null,null,null,"Renta Hospitalaria Diaria por Accidente:",null,{"$f":"Cotizador!$E$85","v":0},null,null,null,8,{"$f":"+IF(OR(CM27=0,CM27=\"\"),0,VLOOKUP(CR$17,Tasas!$CA$10:$CJ$12,Calculadora!CQ27,0))","v":0},null,null,null,null,null,null,null,null,null,"Renta Hospitalaria Diaria por Accidente:",null,{"$f":"Cotizador!$E$85","v":0},null,null,null,8,{"$f":"+IF(OR(DD27=0,DD27=\"\"),0,VLOOKUP(DI$17,Tasas!$CN$10:$CW$12,Calculadora!DH27,0))","v":0},null,null,null,null,null,null,null,null,null,"Renta Hospitalaria Diaria por Accidente:",null,{"$f":"Cotizador!$E$85","v":0},null,null,null,8,{"$f":"+IF(OR(DU27=0,DU27=\"\"),0,VLOOKUP(DZ$17,Tasas!$DA$10:$DJ$12,Calculadora!DY27,0))","v":0},null,null,null,null,null,null,null,null,null,"Renta Hospitalaria Diaria por Accidente:",null,{"$f":"Cotizador!$E$85","v":0},null,8,{"$f":"IF(OR(EL27=0,EL27=\"\"),0,VLOOKUP(EK$15,Tasas!$DN$10:$DW$12,Calculadora!EN27,0))","v":0},null,null,null,null,null,null,null,null,null,null,null,"Renta Hospitalaria Diaria por Accidente:",null,{"$f":"Cotizador!$E$85","v":0},null,8,{"$f":"IF(OR(FC27=0,FC27=\"\"),0,VLOOKUP(FB$15,Tasas!$EA$10:$EJ$12,Calculadora!FE27,0))","v":0},null,null,null,null,null,null,null,null,null,null,null,"Renta Hospitalaria Diaria por Accidente:",null,{"$f":"Cotizador!$E$85","v":0},null,7,{"$f":"IF(OR(FT27=0,FT27=\"\"),0,VLOOKUP(FV27,Tasas!$EO$15:$ES$22,Calculadora!$FS$8,0))","v":0},null,null,null,null,null,null,null,null,null,null,null,"Renta Hospitalaria Diaria por Accidente:",null,{"$f":"Cotizador!$E$85","v":0},null,null,null,null,24,{"$f":"+IF(OR(GK27=0,GK27=\"\"),0,VLOOKUP(GQ$16,Tasas!$FY$11:$HJ$73,GQ$15+$H27+2,0))","v":0}]
["Repatriación de Restos Mortales:",null,{"$f":"Cotizador!$E$86","v":0},{"$f":"Cotizador!$G$86","v":0},{"$f":"Cotizador!$I$86","v":0},{"$f":"Cotizador!$K$86","v":0},null,28,{"$f":"+IF(OR(C28=0,C28=\"\"),0,VLOOKUP(I$16,Tasas!$C$11:$AN$73,I$15+$H28+2,0))","v":0},{"$f":"+IF(OR(D28=0,D28=\"\"),0,VLOOKUP(J$16,Tasas!$C$11:$AN$73,J$15+$H28+2,0))","v":0},{"$f":"+IF(OR(E28=0,E28=\"\"),0,VLOOKUP(K$16,Tasas!$C$11:$AN$73,K$15+$H28+2,0))","v":0},{"$f":"+IF(OR(F28=0,F28=\"\"),0,VLOOKUP(L$16,Tasas!$C$11:$AN$73,L$15+$H28+2,0))","v":0},null,null,null,null,null,null,null,null,null,null,null,null,null,null,null,null,null,null,null,null,null,null,null,null,null,null,null,null,null,null,null,null,"Repatriación de Restos Mortales:",null,{"$f":"Cotizador!$E$86","v":0},{"$f":"Cotizador!$G$86","v":0},{"$f":"Cotizador!$I$86","v":0},{"$f":"Cotizador!$K$86","v":0},null,28,{"$f":"+IF(OR(AU28=0,AU28=\"\"),0,VLOOKUP(BA$16,Tasas!$C$11:$BY$73,BA$15+$AZ28+39,0))","v":0},{"$f":"+IF(OR(AV28=0,AV28=\"\"),0,VLOOKUP(BB$16,Tasas!$C$11:$BY$73,BB$15+$AZ28+39,0))","v":0},{"$f":"+IF(OR(AW28=0,AW28=\"\"),0,VLOOKUP(BC$16,Tasas!$C$11:$BY$73,BC$15+$AZ28+39,0))","v":0},{"$f":"+IF(OR(AX28=0,AX28=\"\"),0,VLOOKUP(BD$16,Tasas!$C$11:$BY$73,BD$15+$AZ28+39,0))","v":0},null,null,null,null,null,null,null,null,null,null,null,null,null,null,null,null,null,null,null,null,null,null,null,null,null,null,null,null,null,null,null,null,"Repatriación de Restos Mortales:",null,{"$f":"Cotizador!$E$86","v":0},null,null,null,9,{"$f":"+IF(OR(CM28=0,CM28=\"\"),0,VLOOKUP(CR$17,Tasas!$CA$10:$CJ$12,Calculadora!CQ28,0))","v":0},null,null,null,null,null,null,null,null,null,"Repatriación de Restos Mortales:",null,{"$f":"Cotizador!$E$86","v":0},null,null,null,9,{"$f":"+IF(OR(DD28=0,DD28=\"\"),0,VLOOKUP(DI$17,Tasas!$CN$10:$CW$12,Calculadora!DH28,0))","v":0},null,null,null,null,null,null,null,null,null,"Repatriación de Restos Mortales:",null,{"$f":"Cotizador!$E$86","v":0},null,null,null,9,{"$f":"+IF(OR(DU28=0,DU28=\"\"),0,VLOOKUP(DZ$17,Tasas!$DA$10:$DJ$12,Calculadora!DY28,0))","v":0},null,null,null,null,null,null,null,null,null,"Repatriación de Restos Mortales:",null,{"$f":"Cotizador!$E$86","v":0},null,9,{"$f":"IF(OR(EL28=0,EL28=\"\"),0,VLOOKUP(EK$15,Tasas!$DN$10:$DW$12,Calculadora!EN28,0))","v":0},null,null,null,null,null,null,null,null,null,null,null,"Repatriación de Restos Mortales:",null,{"$f":"Cotizador!$E$86","v":0},null,9,{"$f":"IF(OR(FC28=0,FC28=\"\"),0,VLOOKUP(FB$15,Tasas!$EA$10:$EJ$12,Calculadora!FE28,0))","v":0},null,null,null,null,null,null,null,null,null,null,null,"Repatriación de Restos Mortales:",null,{"$f":"Cotizador!$E$86","v":0},null,8,{"$f":"IF(OR(FT28=0,FT28=\"\"),0,VLOOKUP(FV28,Tasas!$EO$15:$ES$22,Calculadora!$FS$8,0))","v":0},null,null,null,null,null,null,null,null,null,null,null,"Repatriación de Restos Mortales:",null,{"$f":"Cotizador!$E$86","v":0},null,null,null,null,28,{"$f":"+IF(OR(GK28=0,GK28=\"\"),0,VLOOKUP(GQ$16,Tasas!$FY$11:$HJ$73,GQ$15+$H28+2,0))","v":0}]
["Límite agregado anual por GC x Acc",null,{"$f":"Cotizador!$E$87","v":0},{"$f":"Cotizador!$G$87","v":0},{"$f":"Cotizador!$I$87","v":0},{"$f":"Cotizador!$K$87","v":0},null,null,{"$f":"+IF(OR(C29=0,C29=\"\"),0,VLOOKUP(I$16,Tasas!$C$11:$AN$73,36,0))","v":0},{"$f":"+IF(OR(D29=0,D29=\"\"),0,VLOOKUP(J$16,Tasas!$C$11:$AN$73,36,0))","v":0},{"$f":"+IF(OR(E29=0,E29=\"\"),0,VLOOKUP(K$16,Tasas!$C$11:$AN$73,36,0))","v":0},{"$f":"+IF(OR(F29=0,F29=\"\"),0,VLOOKUP(L$16,Tasas!$C$11:$AN$73,36,0))","v":0},null,null,null,null,null,null,null,null,null,null,null,null,null,null,null,null,null,null,null,null,null,null,null,null,null,null,null,null,null,null,null,null,"Límite agregado anual por GC x Acc",null,{"$f":"Cotizador!$E$87","v":0},{"$f":"Cotizador!$G$87","v":0},{"$f":"Cotizador!$I$87","v":0},{"$f":"Cotizador!$K$87","v":0},null,null,{"$f":"+IF(OR(AU29=0,AU29=\"\"),0,VLOOKUP(BA$16,Tasas!$C$11:$BY$73,BA$15+$AZ29+39,0))","v":0},{"$f":"+IF(OR(AV29=0,AV29=\"\"),0,VLOOKUP(BB$16,Tasas!$C$11:$BY$73,BB$15+$AZ29+39,0))","v":0},{"$f":"+IF(OR(AW29=0,AW29=\"\"),0,VLOOKUP(BC$16,Tasas!$C$11:$BY$73,BC$15+$AZ29+39,0))","v":0},{"$f":"+IF(OR(AX29=0,AX29=\"\"),0,VLOOKUP(BD$16,Tasas!$C$11:$BY$73,BD$15+$AZ29+39,0))","v":0},null,null,null,null,null,null,null,null,null,null,null,null,null,null,null,null,null,null,null,null,null,null,null,null,null,null,null,null,null,null,null,null,"Límite agregado anual por GC x Acc",null,{"$f":"Cotizador!$E$87","v":0},null,null,null,10,{"$f":"+IF(OR(CM29=0,CM29=\"\"),0,VLOOKUP(CR$17,Tasas!$CA$10:$CJ$12,Calculadora!CQ29,0))","v":0},null,null,null,null,null,null,null,null,null,"Límite agregado anual por GC x Acc",null,{"$f":"Cotizador!$E$87","v":0},null,null,null,10,{"$f":"+IF(OR(DD29=0,DD29=\"\"),0,VLOOKUP(DI$17,Tasas!$CN$10:$CW$12,Calculadora!DH29,0))","v":0},null,null,null,null,null,null,null,null,null,"Límite agregado anual por GC x Acc",null,{"$f":"Cotizador!$E$87","v":0},null,null,null,10,{"$f":"+IF(OR(DU29=0,DU29=\"\"),0,VLOOKUP(DZ$17,Tasas!$DA$10:$DJ$12,Calculadora!DY29,0))","v":0},null,null,null,null,null,null,null,null,null,"Límite agregado anual por GC x Acc",null,{"$f":"Cotizador!$E$87","v":0},null,10,{"$f":"IF(OR(EL29=0,EL29=\"\"),0,VLOOKUP(EK$15,Tasas!$DN$10:$DW$12,Calculadora!EN29,0))","v":0},null,null,null,null,null,null,null,null,null,null,null,"Límite agregado anual por GC x Acc",null,{"$f":"Cotizador!$E$87","v":0},null,10,{"$f":"IF(OR(FC29=0,FC29=\"\"),0,VLOOKUP(FB$15,Tasas!$EA$10:$EJ$12,Calculadora!FE29,0))","v":0},null,null,null,null,null,null,null,null,null,null,null,null,null,null,null,null,null,null,null,null,null,null,null,null,null,null,null,null,"Límite agregado anual por GC x Acc",null,{"$f":"Cotizador!$E$87","v":0},null,null,null,null,null,{"$f":"+IF(OR(GK29=0,GK29=\"\"),0,VLOOKUP(GQ$16,Tasas!$FY$11:$HJ$73,GQ$15+$H29+2,0))","v":0}]
[null,null,null,null,null,null,null,null,null,null,null,null,null,null,null,null,null,null,null,null,null,null,null,null,null,null,null,null,null,null,null,null,null,null,null,null,null,null,null,null,null,null,null,null,null,null,null,null,null,null,null,null,null,null,null,null,null,null,null,null,null,null,null,null,null,null,null,null,null,null,null,null,null,null,null,null,null,null,null,null,null,null,null,null,null,null,null,null,null,null,null,null,null,null,null,null,null,null,null,null,null,null,null,null,null,null,null,null,null,null,null,null,null,null,null,null,null,null,null,null,null,null,null,null,null,null,null,null,null,null,null,null,null,null,null,null,null,null,null,null,null,null,null,null,null,null,null,null,null,null,null,null,null,null,null,null,null,null,null,null,null,null,null,null,null,null,null,null,null,null,null,null,null,null,null,null,null,null,1]
[null,null,null,null,null,null,null,null,1,null,null,null,null,null,null,null,2,null,null,null,null,null,null,null,3,null,null,null,null,null,null,null,4,null,null,null,null,null,null,null,null,null,null,null,null,null,null,null,null,null,null,null,1,null,null,null,null,null,null,null,2,null,null,null,null,null,null,null,3,null,null,null,null,null,null,null,4,null,null,null,null,null,null,null,null,null,null,null,null,null,null,null,null,1,null,null,null,null,null,null,null,null,null,null,null,null,null,null,null,null,1,null,null,null,null,null,null,null,null,null,null,null,null,null,null,null,null,1,null,null,null,null,null,null,null,null,null,null,null,null,null,null,null,null,1,null,null,null,null,null,null,null,null,null,null,null,null,null,null,null,null,1,null,null,null,null,null,null,null,null,null,null,null,null,null,null,null,null,"GRUPO 1",null,null,null,null,null,null,null,null,null,null,null,null,null,null,null,null,null,null,null,1]
[null,null,null,null,null,null,null,null,"GRUPO 1",null,null,null,null,null,null,null,"GRUPO 2",null,null,null,null,null,null,null,"GRUPO 3",null,null,null,null,null,null,null,"GRUPO 4",null,null,null,null,null,null,null,null,null,null,null,null,null,null,null,null,null,null,null,"GRUPO 1",null,null,null,null,null,null,null,"GRUPO 2",null,null,null,null,null,null,null,"GRUPO 3",null,null,null,null,null,null,null,"GRUPO 4",null,null,null,null,null,null,null,null,null,null,null,null,null,null,null,null,"GRUPO 1",null,null,null,null,null,null,null,null,null,null,null,null,null,null,null,null,"GRUPO 1",null,null,null,null,null,null,null,null,null,null,null,null,null,null,null,null,"GRUPO 1",null,null,null,null,null,null,null,null,null,null,null,null,null,null,null,null,"GRUPO 1",null,null,null,null,null,null,null,null,null,null,null,null,null,null,null,null,"GRUPO 1",null,null,null,null,null,null,null,null,null,null,null,null,null,1,null,"Tasas de Riesgo",{"$f":"VLOOKUP($FS$7,$FY$21:$FZ$24,2,0)","v":{"$error":"#N/A"}},{"$f":"FW32+1","v":{"$error":"#N/A"}},{"$f":"FX32+1","v":{"$error":"#N/A"}},{"$error":"#N/A"},{"$error":"#N/A"},{"$error":"#N/A"},{"$error":"#N/A"},{"$error":"#N/A"},null,null,null,null,null,null,null,null,null,null,null,null,"GRUPO 1"]
[null,null,1,2,3,4,null,"Tasas de Riesgo",0,4,8,12,16,20,24,28,0,4,8,12,16,20,24,28,0,4,8,12,16,20,24,28,0,4,8,12,16,20,24,28,null,null,null,null,null,null,1,2,3,4,null,"Tasas de Riesgo",0,4,8,12,16,20,24,28,0,4,8,12,16,20,24,28,0,4,8,12,16,20,24,28,0,4,8,12,16,20,24,28,null,null,null,null,null,null,1,null,"Tasas de Riesgo",3,4,5,6,7,8,9,10,null,null,null,null,null,null,1,null,"Tasas de Riesgo",3,4,5,6,7,8,9,10,null,null,null,null,null,null,1,null,"Tasas de Riesgo",3,4,5,6,7,8,9,10,null,null,null,null,null,null,1,null,"Tasas de Riesgo",3,4,5,6,7,8,9,10,null,null,null,null,null,null,1,null,"Tasas de Riesgo",3,4,5,6,7,8,9,10,null,null,null,null,"Clausulas Adicionales",null,"GRUPO 1",null,"Adicionales","GC","MA","GS","IP","IT","DSF","RHA","RRM",null,null,null,null,null,null,1,null,null,null,null,"Tasas de Riesgo",0,4,8,12,16,20,24,28]
["Clausulas Adicionales",null,"GRUPO 1","GRUPO 2","GRUPO 3","GRUPO 4",null,"Adicionales","GC","MA","GS","IP","IT","DSF","RHA","RRM","GC","MA","GS","IP","IT","DSF","RHA","RRM","GC","MA","GS","IP","IT","DSF","RHA","RRM","GC","MA","GS","IP","IT","DSF","RHA","RRM",null,null,null,null,"Clausulas Adicionales",null,"GRUPO 1","GRUPO 2","GRUPO 3","GRUPO 4",null,"Adicionales","GC","MA","GS","IP","IT","DSF","RHA","RRM","GC","MA","GS","IP","IT","DSF","RHA","RRM","GC","MA","GS","IP","IT","DSF","RHA","RRM","GC","MA","GS","IP","IT","DSF","RHA","RRM",null,null,null,null,"Clausulas Adicionales",null,"GRUPO 1",null,"Adicionales","GC","MA","GS","IP","IT","DSF","RHA","RRM",null,null,null,null,"Clausulas Adicionales",null,"GRUPO 1",null,"Adicionales","GC","MA","GS","IP","IT","DSF","RHA","RRM",null,null,null,null,"Clausulas Adicionales",null,"GRUPO 1",null,"Adicionales","GC","MA","GS","IP","IT","DSF","RHA","RRM",null,null,null,null,"Clausulas Adicionales",null,"GRUPO 1",null,"Adicionales","GC","MA","GS","IP","IT","DSF","RHA","RRM",null,null,null,null,"Clausulas Adicionales",null,"GRUPO 1",null,"Adicionales","GC","MA","GS","IP","IT","DSF","RHA","RRM",null,null,null,null,"Cláusula de invalidez permanente parcial previa al seguro.",null,{"$f":"Cotizador!$E$109","v":0},null,1,{"$f":"IF(OR($FT34=0,$FT34=\"NO\"),0,VLOOKUP($FV34,Tasas!$EO$29:$FU$45,Calculadora!FW$32,0))","v":0},{"$f":"IF(OR($FT34=0,$FT34=\"NO\"),0,VLOOKUP($FV34,Tasas!$EO$29:$FU$45,Calculadora!FX$32,0))","v":0},{"$f":"IF(OR($FT34=0,$FT34=\"NO\"),0,VLOOKUP($FV34,Tasas!$EO$29:$FU$45,Calculadora!FY$32,0))","v":0},{"$f":"IF(OR($FT34=0,$FT34=\"NO\"),0,VLOOKUP($FV34,Tasas!$EO$29:$FU$45,Calculadora!FZ$32,0))","v":0},{"$f":"IF(OR($FT34=0,$FT34=\"NO\"),0,VLOOKUP($FV34,Tasas!$EO$29:$FU$45,Calculadora!GA$32,0))","v":0},{"$f":"IF(OR($FT34=0,$FT34=\"NO\"),0,VLOOKUP($FV34,Tasas!$EO$29:$FU$45,Calculadora!GB$32,0))","v":0},{"$f":"IF(OR($FT34=0,$FT34=\"NO\"),0,VLOOKUP($FV34,Tasas!$EO$29:$FU$45,Calculadora!GC$32,0))","v":0},{"$f":"IF(OR($FT34=0,$FT34=\"NO\"),0,VLOOKUP($FV34,Tasas!$EO$29:$FU$45,Calculadora!GD$32,0))","v":0},null,null,null,null,"Clausulas Adicionales",null,"GRUPO 1",null,null,null,null,"Adicionales","GC","MA","GS","IP","IT","DSF","RHA","RRM"]
["Cláusula por la cobertura de Terrorismo y otros riesgos. ",null,{"$f":"Cotizador!$E$90","v":0},{"$f":"Cotizador!$G$90","v":0},{"$f":"Cotizador!$I$90","v":0},{"$f":"Cotizador!$K$90","v":0},null,0,{"$f":"+IF(OR($C35=0,$C35=\"NO\"),0,VLOOKUP($I$16+$H35,Tasas!$C$78:$AN$1228,$I$15+I$33+2,0))","v":0},{"$f":"+IF(OR($C35=0,$C35=\"NO\"),0,VLOOKUP($I$16+$H35,Tasas!$C$78:$AN$1228,$I$15+J$33+2,0))","v":0},{"$f":"+IF(OR($C35=0,$C35=\"NO\"),0,VLOOKUP($I$16+$H35,Tasas!$C$78:$AN$1228,$I$15+K$33+2,0))","v":0},{"$f":"+IF(OR($C35=0,$C35=\"NO\"),0,VLOOKUP($I$16+$H35,Tasas!$C$78:$AN$1228,$I$15+L$33+2,0))","v":0},{"$f":"+IF(OR($C35=0,$C35=\"NO\"),0,VLOOKUP($I$16+$H35,Tasas!$C$78:$AN$1228,$I$15+M$33+2,0))","v":0},{"$f":"+IF(OR($C35=0,$C35=\"NO\"),0,VLOOKUP($I$16+$H35,Tasas!$C$78:$AN$1228,$I$15+N$33+2,0))","v":0},{"$f":"+IF(OR($C35=0,$C35=\"NO\"),0,VLOOKUP($I$16+$H35,Tasas!$C$78:$AN$1228,$I$15+O$33+2,0))","v":0},{"$f":"+IF(OR($C35=0,$C35=\"NO\"),0,VLOOKUP($I$16+$H35,Tasas!$C$78:$AN$1228,$I$15+P$33+2,0))","v":0},{"$f":"+IF(OR($D35=0,$D35=\"NO\"),0,VLOOKUP($J$16+$H35,Tasas!$C$78:$AN$1228,$J$15+Q$33+2,0))","v":0},{"$f":"+IF(OR($D35=0,$D35=\"NO\"),0,VLOOKUP($J$16+$H35,Tasas!$C$78:$AN$1228,$J$15+R$33+2,0))","v":0},{"$f":"+IF(OR($D35=0,$D35=\"NO\"),0,VLOOKUP($J$16+$H35,Tasas!$C$78:$AN$1228,$J$15+S$33+2,0))","v":0},{"$f":"+IF(OR($D35=0,$D35=\"NO\"),0,VLOOKUP($J$16+$H35,Tasas!$C$78:$AN$1228,$J$15+T$33+2,0))","v":0},{"$f":"+IF(OR($D35=0,$D35=\"NO\"),0,VLOOKUP($J$16+$H35,Tasas!$C$78:$AN$1228,$J$15+U$33+2,0))","v":0},{"$f":"+IF(OR($D35=0,$D35=\"NO\"),0,VLOOKUP($J$16+$H35,Tasas!$C$78:$AN$1228,$J$15+V$33+2,0))","v":0},{"$f":"+IF(OR($D35=0,$D35=\"NO\"),0,VLOOKUP($J$16+$H35,Tasas!$C$78:$AN$1228,$J$15+W$33+2,0))","v":0},{"$f":"+IF(OR($D35=0,$D35=\"NO\"),0,VLOOKUP($J$16+$H35,Tasas!$C$78:$AN$1228,$J$15+X$33+2,0))","v":0},{"$f":"+IF(OR($E35=0,$E35=\"NO\"),0,VLOOKUP($K$16+$H35,Tasas!$C$78:$AN$1228,$K$15+Y$33+2,0))","v":0},{"$f":"+IF(OR($E35=0,$E35=\"NO\"),0,VLOOKUP($K$16+$H35,Tasas!$C$78:$AN$1228,$K$15+Z$33+2,0))","v":0},{"$f":"+IF(OR($E35=0,$E35=\"NO\"),0,VLOOKUP($K$16+$H35,Tasas!$C$78:$AN$1228,$K$15+AA$33+2,0))","v":0},{"$f":"+IF(OR($E35=0,$E35=\"NO\"),0,VLOOKUP($K$16+$H35,Tasas!$C$78:$AN$1228,$K$15+AB$33+2,0))","v":0},{"$f":"+IF(OR($E35=0,$E35=\"NO\"),0,VLOOKUP($K$16+$H35,Tasas!$C$78:$AN$1228,$K$15+AC$33+2,0))","v":0},{"$f":"+IF(OR($E35=0,$E35=\"NO\"),0,VLOOKUP($K$16+$H35,Tasas!$C$78:$AN$1228,$K$15+AD$33+2,0))","v":0},{"$f":"+IF(OR($E35=0,$E35=\"NO\"),0,VLOOKUP($K$16+$H35,Tasas!$C$78:$AN$1228,$K$15+AE$33+2,0))","v":0},{"$f":"+IF(OR($E35=0,$E35=\"NO\"),0,VLOOKUP($K$16+$H35,Tasas!$C$78:$AN$1228,$K$15+AF$33+2,0))","v":0},{"$f":"+IF(OR($F35=0,$F35=\"NO\"),0,VLOOKUP($L$16+$H35,Tasas!$C$78:$AN$1228,$L$15+AG$33+2,0))","v":0},{"$f":"+IF(OR($F35=0,$F35=\"NO\"),0,VLOOKUP($L$16+$H35,Tasas!$C$78:$AN$1228,$L$15+AH$33+2,0))","v":0},{"$f":"+IF(OR($F35=0,$F35=\"NO\"),0,VLOOKUP($L$16+$H35,Tasas!$C$78:$AN$1228,$L$15+AI$33+2,0))","v":0},{"$f":"+IF(OR($F35=0,$F35=\"NO\"),0,VLOOKUP($L$16+$H35,Tasas!$C$78:$AN$1228,$L$15+AJ$33+2,0))","v":0},{"$f":"+IF(OR($F35=0,$F35=\"NO\"),0,VLOOKUP($L$16+$H35,Tasas!$C$78:$AN$1228,$L$15+AK$33+2,0))","v":0},{"$f":"+IF(OR($F35=0,$F35=\"NO\"),0,VLOOKUP($L$16+$H35,Tasas!$C$78:$AN$1228,$L$15+AL$33+2,0))","v":0},{"$f":"+IF(OR($F35=0,$F35=\"NO\"),0,VLOOKUP($L$16+$H35,Tasas!$C$78:$AN$1228,$L$15+AM$33+2,0))","v":0},{"$f":"+IF(OR($F35=0,$F35=\"NO\"),0,VLOOKUP($L$16+$H35,Tasas!$C$78:$AN$1228,$L$15+AN$33+2,0))","v":0},null,null,null,null,"Cláusula por la cobertura de Terrorismo y otros riesgos. ",null,{"$f":"Cotizador!$E$90","v":0},{"$f":"Cotizador!$G$90","v":0},{"$f":"Cotizador!$I$90","v":0},{"$f":"Cotizador!$K$90","v":0},null,0,{"$f":"+IF(OR($AU35=0,$AU35=\"NO\"),0,VLOOKUP($BA$16+$AZ35,Tasas!$C$78:$BY$1292,$BA$15+BA$33+39,0))","v":0},{"$f":"+IF(OR($AU35=0,$AU35=\"NO\"),0,VLOOKUP($BA$16+$AZ35,Tasas!$C$78:$BY$1292,$BA$15+BB$33+39,0))","v":0},{"$f":"+IF(OR($AU35=0,$AU35=\"NO\"),0,VLOOKUP($BA$16+$AZ35,Tasas!$C$78:$BY$1292,$BA$15+BC$33+39,0))","v":0},{"$f":"+IF(OR($AU35=0,$AU35=\"NO\"),0,VLOOKUP($BA$16+$AZ35,Tasas!$C$78:$BY$1292,$BA$15+BD$33+39,0))","v":0},{"$f":"+IF(OR($AU35=0,$AU35=\"NO\"),0,VLOOKUP($BA$16+$AZ35,Tasas!$C$78:$BY$1292,$BA$15+BE$33+39,0))","v":0},{"$f":"+IF(OR($AU35=0,$AU35=\"NO\"),0,VLOOKUP($BA$16+$AZ35,Tasas!$C$78:$BY$1292,$BA$15+BF$33+39,0))","v":0},{"$f":"+IF(OR($AU35=0,$AU35=\"NO\"),0,VLOOKUP($BA$16+$AZ35,Tasas!$C$78:$BY$1292,$BA$15+BG$33+39,0))","v":0},{"$f":"+IF(OR($AU35=0,$AU35=\"NO\"),0,VLOOKUP($BA$16+$AZ35,Tasas!$C$78:$BY$1292,$BA$15+BH$33+39,0))","v":0},{"$f":"+IF(OR($AU35=0,$AU35=\"NO\"),0,VLOOKUP($BA$16+$AZ35,Tasas!$C$78:$BY$1292,$BA$15+BI$33+39,0))","v":0},{"$f":"+IF(OR($AU35=0,$AU35=\"NO\"),0,VLOOKUP($BA$16+$AZ35,Tasas!$C$78:$BY$1292,$BA$15+BJ$33+39,0))","v":0},{"$f":"+IF(OR($AU35=0,$AU35=\"NO\"),0,VLOOKUP($BA$16+$AZ35,Tasas!$C$78:$BY$1292,$BA$15+BK$33+39,0))","v":0},{"$f":"+IF(OR($AU35=0,$AU35=\"NO\"),0,VLOOKUP($BA$16+$AZ35,Tasas!$C$78:$BY$1292,$BA$15+BL$33+39,0))","v":0},{"$f":"+IF(OR($AU35=0,$AU35=\"NO\"),0,VLOOKUP($BA$16+$AZ35,Tasas!$C$78:$BY$1292,$BA$15+BM$33+39,0))","v":0},{"$f":"+IF(OR($AU35=0,$AU35=\"NO\"),0,VLOOKUP($BA$16+$AZ35,Tasas!$C$78:$BY$1292,$BA$15+BN$33+39,0))","v":0},{"$f":"+IF(OR($AU35=0,$AU35=\"NO\"),0,VLOOKUP($BA$16+$AZ35,Tasas!$C$78:$BY$1292,$BA$15+BO$33+39,0))","v":0},{"$f":"+IF(OR($AU35=0,$AU35=\"NO\"),0,VLOOKUP($BA$16+$AZ35,Tasas!$C$78:$BY$1292,$BA$15+BP$33+39,0))","v":0},{"$f":"+IF(OR($AU35=0,$AU35=\"NO\"),0,VLOOKUP($BA$16+$AZ35,Tasas!$C$78:$BY$1292,$BA$15+BQ$33+39,0))","v":0},{"$f":"+IF(OR($AU35=0,$AU35=\"NO\"),0,VLOOKUP($BA$16+$AZ35,Tasas!$C$78:$BY$1292,$BA$15+BR$33+39,0))","v":0},{"$f":"+IF(OR($AU35=0,$AU35=\"NO\"),0,VLOOKUP($BA$16+$AZ35,Tasas!$C$78:$BY$1292,$BA$15+BS$33+39,0))","v":0},{"$f":"+IF(OR($AU35=0,$AU35=\"NO\"),0,VLOOKUP($BA$16+$AZ35,Tasas!$C$78:$BY$1292,$BA$15+BT$33+39,0))","v":0},{"$f":"+IF(OR($AU35=0,$AU35=\"NO\"),0,VLOOKUP($BA$16+$AZ35,Tasas!$C$78:$BY$1292,$BA$15+BU$33+39,0))","v":0},{"$f":"+IF(OR($AU35=0,$AU35=\"NO\"),0,VLOOKUP($BA$16+$AZ35,Tasas!$C$78:$BY$1292,$BA$15+BV$33+39,0))","v":0},{"$f":"+IF(OR($AU35=0,$AU35=\"NO\"),0,VLOOKUP($BA$16+$AZ35,Tasas!$C$78:$BY$1292,$BA$15+BW$33+39,0))","v":0},{"$f":"+IF(OR($AU35=0,$AU35=\"NO\"),0,VLOOKUP($BA$16+$AZ35,Tasas!$C$78:$BY$1292,$BA$15+BX$33+39,0))","v":0},{"$f":"+IF(OR($AU35=0,$AU35=\"NO\"),0,VLOOKUP($BA$16+$AZ35,Tasas!$C$78:$BY$1292,$BA$15+BY$33+39,0))","v":0},{"$f":"+IF(OR($AU35=0,$AU35=\"NO\"),0,VLOOKUP($BA$16+$AZ35,Tasas!$C$78:$BY$1292,$BA$15+BZ$33+39,0))","v":0},{"$f":"+IF(OR($AU35=0,$AU35=\"NO\"),0,VLOOKUP($BA$16+$AZ35,Tasas!$C$78:$BY$1292,$BA$15+CA$33+39,0))","v":0},{"$f":"+IF(OR($AU35=0,$AU35=\"NO\"),0,VLOOKUP($BA$16+$AZ35,Tasas!$C$78:$BY$1292,$BA$15+CB$33+39,0))","v":0},{"$f":"+IF(OR($AU35=0,$AU35=\"NO\"),0,VLOOKUP($BA$16+$AZ35,Tasas!$C$78:$BY$1292,$BA$15+CC$33+39,0))","v":0},{"$f":"+IF(OR($AU35=0,$AU35=\"NO\"),0,VLOOKUP($BA$16+$AZ35,Tasas!$C$78:$BY$1292,$BA$15+CD$33+39,0))","v":0},{"$f":"+IF(OR($AU35=0,$AU35=\"NO\"),0,VLOOKUP($BA$16+$AZ35,Tasas!$C$78:$BY$1292,$BA$15+CE$33+39,0))","v":0},{"$f":"+IF(OR($AU35=0,$AU35=\"NO\"),0,VLOOKUP($BA$16+$AZ35,Tasas!$C$78:$BY$1292,$BA$15+CF$33+39,0))","v":0},null,null,null,null,"Cláusula por la cobertura de Terrorismo y otros riesgos. ",null,{"$f":"Cotizador!$E$90","v":0},1,{"$f":"(CN35+VLOOKUP($CR$17,$CT$22:$CU$24,2,0))","v":{"$error":"#N/A"}},{"$f":"IF(OR($CM35=\"\",$CM35=0),0,VLOOKUP($CO35,Tasas!$CB$17:$CL$70,Calculadora!CP$33,0))","v":0},{"$f":"IF(OR($CM35=\"\",$CM35=0),0,VLOOKUP($CO35,Tasas!$CB$17:$CL$70,Calculadora!CQ$33,0))","v":0},{"$f":"IF(OR($CM35=\"\",$CM35=0),0,VLOOKUP($CO35,Tasas!$CB$17:$CL$70,Calculadora!CR$33,0))","v":0},{"$f":"IF(OR($CM35=\"\",$CM35=0),0,VLOOKUP($CO35,Tasas!$CB$17:$CL$70,Calculadora!CS$33,0))","v":0},{"$f":"IF(OR($CM35=\"\",$CM35=0),0,VLOOKUP($CO35,Tasas!$CB$17:$CL$70,Calculadora!CT$33,0))","v":0},{"$f":"IF(OR($CM35=\"\",$CM35=0),0,VLOOKUP($CO35,Tasas!$CB$17:$CL$70,Calculadora!CU$33,0))","v":0},{"$f":"IF(OR($CM35=\"\",$CM35=0),0,VLOOKUP($CO35,Tasas!$CB$17:$CL$70,Calculadora!CV$33,0))","v":0},{"$f":"IF(OR($CM35=\"\",$CM35=0),0,VLOOKUP($CO35,Tasas!$CB$17:$CL$70,Calculadora!CW$33,0))","v":0},null,null,null,null,"Cláusula por la cobertura de Terrorismo y otros riesgos. ",null,{"$f":"Cotizador!$E$90","v":0},1,{"$f":"(DE35+VLOOKUP($DI$17,$DK$22:$DL$24,2,0))","v":{"$error":"#N/A"}},{"$f":"IF(OR($DD35=\"\",$DD35=0),0,VLOOKUP($DF35,Tasas!$CO$17:$CY$70,Calculadora!DG$33,0))","v":0},{"$f":"IF(OR($DD35=\"\",$DD35=0),0,VLOOKUP($DF35,Tasas!$CO$17:$CY$70,Calculadora!DH$33,0))","v":0},{"$f":"IF(OR($DD35=\"\",$DD35=0),0,VLOOKUP($DF35,Tasas!$CO$17:$CY$70,Calculadora!DI$33,0))","v":0},{"$f":"IF(OR($DD35=\"\",$DD35=0),0,VLOOKUP($DF35,Tasas!$CO$17:$CY$70,Calculadora!DJ$33,0))","v":0},{"$f":"IF(OR($DD35=\"\",$DD35=0),0,VLOOKUP($DF35,Tasas!$CO$17:$CY$70,Calculadora!DK$33,0))","v":0},{"$f":"IF(OR($DD35=\"\",$DD35=0),0,VLOOKUP($DF35,Tasas!$CO$17:$CY$70,Calculadora!DL$33,0))","v":0},{"$f":"IF(OR($DD35=\"\",$DD35=0),0,VLOOKUP($DF35,Tasas!$CO$17:$CY$70,Calculadora!DM$33,0))","v":0},{"$f":"IF(OR($DD35=\"\",$DD35=0),0,VLOOKUP($DF35,Tasas!$CO$17:$CY$70,Calculadora!DN$33,0))","v":0},null,null,null,null,"Cláusula por la cobertura de Terrorismo y otros riesgos. ",null,{"$f":"Cotizador!$E$90","v":0},1,{"$f":"(DV35+VLOOKUP($DZ$17,$EC$22:$ED$24,2,0))","v":{"$error":"#N/A"}},{"$f":"IF(OR($DU35=\"\",$DU35=0),0,VLOOKUP($DW35,Tasas!$DB$17:$DL$70,Calculadora!DX$33,0))","v":0},{"$f":"IF(OR($DU35=\"\",$DU35=0),0,VLOOKUP($DW35,Tasas!$DB$17:$DL$70,Calculadora!DY$33,0))","v":0},{"$f":"IF(OR($DU35=\"\",$DU35=0),0,VLOOKUP($DW35,Tasas!$DB$17:$DL$70,Calculadora!DZ$33,0))","v":0},{"$f":"IF(OR($DU35=\"\",$DU35=0),0,VLOOKUP($DW35,Tasas!$DB$17:$DL$70,Calculadora!EA$33,0))","v":0},{"$f":"IF(OR($DU35=\"\",$DU35=0),0,VLOOKUP($DW35,Tasas!$DB$17:$DL$70,Calculadora!EB$33,0))","v":0},{"$f":"IF(OR($DU35=\"\",$DU35=0),0,VLOOKUP($DW35,Tasas!$DB$17:$DL$70,Calculadora!EC$33,0))","v":0},{"$f":"IF(OR($DU35=\"\",$DU35=0),0,VLOOKUP($DW35,Tasas!$DB$17:$DL$70,Calculadora!ED$33,0))","v":0},{"$f":"IF(OR($DU35=\"\",$DU35=0),0,VLOOKUP($DW35,Tasas!$DB$17:$DL$70,Calculadora!EE$33,0))","v":0},null,null,null,null,"Cláusula por la cobertura de Terrorismo y otros riesgos. ",null,{"$f":"Cotizador!$E$90","v":0},1,{"$f":"(EM35+VLOOKUP($EK$15,$EQ$22:$ER$24,2,0))","v":{"$error":"#N/A"}},{"$f":"IF(OR($EL35=\"\",$EL35=0),0,VLOOKUP($EN35,Tasas!$DO$17:$DY$70,Calculadora!EO$33,0))","v":0},{"$f":"IF(OR($EL35=\"\",$EL35=0),0,VLOOKUP($EN35,Tasas!$DO$17:$DY$70,Calculadora!EP$33,0))","v":0},{"$f":"IF(OR($EL35=\"\",$EL35=0),0,VLOOKUP($EN35,Tasas!$DO$17:$DY$70,Calculadora!EQ$33,0))","v":0},{"$f":"IF(OR($EL35=\"\",$EL35=0),0,VLOOKUP($EN35,Tasas!$DO$17:$DY$70,Calculadora!ER$33,0))","v":0},{"$f":"IF(OR($EL35=\"\",$EL35=0),0,VLOOKUP($EN35,Tasas!$DO$17:$DY$70,Calculadora!ES$33,0))","v":0},{"$f":"IF(OR($EL35=\"\",$EL35=0),0,VLOOKUP($EN35,Tasas!$DO$17:$DY$70,Calculadora!ET$33,0))","v":0},{"$f":"IF(OR($EL35=\"\",$EL35=0),0,VLOOKUP($EN35,Tasas!$DO$17:$DY$70,Calculadora!EU$33,0))","v":0},{"$f":"IF(OR($EL35=\"\",$EL35=0),0,VLOOKUP($EN35,Tasas!$DO$17:$DY$70,Calculadora!EV$33,0))","v":0},null,null,null,null,"Cláusula por la cobertura de Terrorismo y otros riesgos. ",null,{"$f":"Cotizador!$E$90","v":0},1,{"$f":"(FD35+VLOOKUP($FB$15,$FH$22:$FI$24,2,0))","v":{"$error":"#N/A"}},{"$f":"IF(OR($FC35=\"\",$FC35=0),0,VLOOKUP($FE35,Tasas!$EB$17:$EL$70,Calculadora!FF$33,0))","v":0},{"$f":"IF(OR($FC35=\"\",$FC35=0),0,VLOOKUP($FE35,Tasas!$EB$17:$EL$70,Calculadora!FG$33,0))","v":0},{"$f":"IF(OR($FC35=\"\",$FC35=0),0,VLOOKUP($FE35,Tasas!$EB$17:$EL$70,Calculadora!FH$33,0))","v":0},{"$f":"IF(OR($FC35=\"\",$FC35=0),0,VLOOKUP($FE35,Tasas!$EB$17:$EL$70,Calculadora!FI$33,0))","v":0},{"$f":"IF(OR($FC35=\"\",$FC35=0),0,VLOOKUP($FE35,Tasas!$EB$17:$EL$70,Calculadora!FJ$33,0))","v":0},{"$f":"IF(OR($FC35=\"\",$FC35=0),0,VLOOKUP($FE35,Tasas!$EB$17:$EL$70,Calculadora!FK$33,0))","v":0},{"$f":"IF(OR($FC35=\"\",$FC35=0),0,VLOOKUP($FE35,Tasas!$EB$17:$EL$70,Calculadora!FL$33,0))","v":0},{"$f":"IF(OR($FC35=\"\",$FC35=0),0,VLOOKUP($FE35,Tasas!$EB$17:$EL$70,Calculadora!FM$33,0))","v":0},null,null,null,null,"Cláusula por la cobertura de Terrorismo y otros riesgos. ",null,{"$f":"Cotizador!$E$110","v":0},null,2,{"$f":"IF(OR($FT35=0,$FT35=\"NO\"),0,VLOOKUP($FV35,Tasas!$EO$29:$FU$45,Calculadora!FW$32,0))","v":0},{"$f":"IF(OR($FT35=0,$FT35=\"NO\"),0,VLOOKUP($FV35,Tasas!$EO$29:$FU$45,Calculadora!FX$32,0))","v":0},{"$f":"IF(OR($FT35=0,$FT35=\"NO\"),0,VLOOKUP($FV35,Tasas!$EO$29:$FU$45,Calculadora!FY$32,0))","v":0},{"$f":"IF(OR($FT35=0,$FT35=\"NO\"),0,VLOOKUP($FV35,Tasas!$EO$29:$FU$45,Calculadora!FZ$32,0))","v":0},{"$f":"IF(OR($FT35=0,$FT35=\"NO\"),0,VLOOKUP($FV35,Tasas!$EO$29:$FU$45,Calculadora!GA$32,0))","v":0},{"$f":"IF(OR($FT35=0,$FT35=\"NO\"),0,VLOOKUP($FV35,Tasas!$EO$29:$FU$45,Calculadora!GB$32,0))","v":0},{"$f":"IF(OR($FT35=0,$FT35=\"NO\"),0,VLOOKUP($FV35,Tasas!$EO$29:$FU$45,Calculadora!GC$32,0))","v":0},{"$f":"IF(OR($FT35=0,$FT35=\"NO\"),0,VLOOKUP($FV35,Tasas!$EO$29:$FU$45,Calculadora!GD$32,0))","v":0},null,null,null,null,"Cláusula por la cobertura de Terrorismo y otros riesgos. ",null,{"$f":"Cotizador!$E$90","v":0},null,null,null,null,0,{"$f":"+IF(OR($C35=0,$C35=\"NO\"),0,VLOOKUP($I$16+$H35,Tasas!$FY$78:$HJ$1228,$I$15+GQ$33+2,0))","v":0},{"$f":"+IF(OR($C35=0,$C35=\"NO\"),0,VLOOKUP($I$16+$H35,Tasas!$FY$78:$HJ$1228,$I$15+GR$33+2,0))","v":0},{"$f":"+IF(OR($C35=0,$C35=\"NO\"),0,VLOOKUP($I$16+$H35,Tasas!$FY$78:$HJ$1228,$I$15+GS$33+2,0))","v":0},{"$f":"+IF(OR($C35=0,$C35=\"NO\"),0,VLOOKUP($I$16+$H35,Tasas!$FY$78:$HJ$1228,$I$15+GT$33+2,0))","v":0},{"$f":"+IF(OR($C35=0,$C35=\"NO\"),0,VLOOKUP($I$16+$H35,Tasas!$FY$78:$HJ$1228,$I$15+GU$33+2,0))","v":0},{"$f":"+IF(OR($C35=0,$C35=\"NO\"),0,VLOOKUP($I$16+$H35,Tasas!$FY$78:$HJ$1228,$I$15+GV$33+2,0))","v":0},{"$f":"+IF(OR($C35=0,$C35=\"NO\"),0,VLOOKUP($I$16+$H35,Tasas!$FY$78:$HJ$1228,$I$15+GW$33+2,0))","v":0},{"$f":"+IF(OR($C35=0,$C35=\"NO\"),0,VLOOKUP($I$16+$H35,Tasas!$FY$78:$HJ$1228,$I$15+GX$33+2,0))","v":0}]
["Cláusula de ampliación del límite máximo de edad, personas mayores de 70 y hasta los 80 años inclusive.",null,{"$f":"Cotizador!$E$91","v":0},{"$f":"Cotizador!$G$91","v":0},{"$f":"Cotizador!$I$91","v":0},{"$f":"Cotizador!$K$91","v":0},null,64,{"$f":"+IF(OR($C36=0,$C36=\"NO\"),0,VLOOKUP($I$16+$H36,Tasas!$C$78:$AN$1228,$I$15+I$33+2,0))","v":0},{"$f":"+IF(OR($C36=0,$C36=\"NO\"),0,VLOOKUP($I$16+$H36,Tasas!$C$78:$AN$1228,$I$15+J$33+2,0))","v":0},{"$f":"+IF(OR($C36=0,$C36=\"NO\"),0,VLOOKUP($I$16+$H36,Tasas!$C$78:$AN$1228,$I$15+K$33+2,0))","v":0},{"$f":"+IF(OR($C36=0,$C36=\"NO\"),0,VLOOKUP($I$16+$H36,Tasas!$C$78:$AN$1228,$I$15+L$33+2,0))","v":0},{"$f":"+IF(OR($C36=0,$C36=\"NO\"),0,VLOOKUP($I$16+$H36,Tasas!$C$78:$AN$1228,$I$15+M$33+2,0))","v":0},{"$f":"+IF(OR($C36=0,$C36=\"NO\"),0,VLOOKUP($I$16+$H36,Tasas!$C$78:$AN$1228,$I$15+N$33+2,0))","v":0},{"$f":"+IF(OR($C36=0,$C36=\"NO\"),0,VLOOKUP($I$16+$H36,Tasas!$C$78:$AN$1228,$I$15+O$33+2,0))","v":0},{"$f":"+IF(OR($C36=0,$C36=\"NO\"),0,VLOOKUP($I$16+$H36,Tasas!$C$78:$AN$1228,$I$15+P$33+2,0))","v":0},{"$f":"+IF(OR($D36=0,$D36=\"NO\"),0,VLOOKUP($J$16+$H36,Tasas!$C$78:$AN$1228,$J$15+Q$33+2,0))","v":0},{"$f":"+IF(OR($D36=0,$D36=\"NO\"),0,VLOOKUP($J$16+$H36,Tasas!$C$78:$AN$1228,$J$15+R$33+2,0))","v":0},{"$f":"+IF(OR($D36=0,$D36=\"NO\"),0,VLOOKUP($J$16+$H36,Tasas!$C$78:$AN$1228,$J$15+S$33+2,0))","v":0},{"$f":"+IF(OR($D36=0,$D36=\"NO\"),0,VLOOKUP($J$16+$H36,Tasas!$C$78:$AN$1228,$J$15+T$33+2,0))","v":0},{"$f":"+IF(OR($D36=0,$D36=\"NO\"),0,VLOOKUP($J$16+$H36,Tasas!$C$78:$AN$1228,$J$15+U$33+2,0))","v":0},{"$f":"+IF(OR($D36=0,$D36=\"NO\"),0,VLOOKUP($J$16+$H36,Tasas!$C$78:$AN$1228,$J$15+V$33+2,0))","v":0},{"$f":"+IF(OR($D36=0,$D36=\"NO\"),0,VLOOKUP($J$16+$H36,Tasas!$C$78:$AN$1228,$J$15+W$33+2,0))","v":0},{"$f":"+IF(OR($D36=0,$D36=\"NO\"),0,VLOOKUP($J$16+$H36,Tasas!$C$78:$AN$1228,$J$15+X$33+2,0))","v":0},{"$f":"+IF(OR($E36=0,$E36=\"NO\"),0,VLOOKUP($K$16+$H36,Tasas!$C$78:$AN$1228,$K$15+Y$33+2,0))","v":0},{"$f":"+IF(OR($E36=0,$E36=\"NO\"),0,VLOOKUP($K$16+$H36,Tasas!$C$78:$AN$1228,$K$15+Z$33+2,0))","v":0},{"$f":"+IF(OR($E36=0,$E36=\"NO\"),0,VLOOKUP($K$16+$H36,Tasas!$C$78:$AN$1228,$K$15+AA$33+2,0))","v":0},{"$f":"+IF(OR($E36=0,$E36=\"NO\"),0,VLOOKUP($K$16+$H36,Tasas!$C$78:$AN$1228,$K$15+AB$33+2,0))","v":0},{"$f":"+IF(OR($E36=0,$E36=\"NO\"),0,VLOOKUP($K$16+$H36,Tasas!$C$78:$AN$1228,$K$15+AC$33+2,0))","v":0},{"$f":"+IF(OR($E36=0,$E36=\"NO\"),0,VLOOKUP($K$16+$H36,Tasas!$C$78:$AN$1228,$K$15+AD$33+2,0))","v":0},{"$f":"+IF(OR($E36=0,$E36=\"NO\"),0,VLOOKUP($K$16+$H36,Tasas!$C$78:$AN$1228,$K$15+AE$33+2,0))","v":0},{"$f":"+IF(OR($E36=0,$E36=\"NO\"),0,VLOOKUP($K$16+$H36,Tasas!$C$78:$AN$1228,$K$15+AF$33+2,0))","v":0},{"$f":"+IF(OR($F36=0,$F36=\"NO\"),0,VLOOKUP($L$16+$H36,Tasas!$C$78:$AN$1228,$L$15+AG$33+2,0))","v":0},{"$f":"+IF(OR($F36=0,$F36=\"NO\"),0,VLOOKUP($L$16+$H36,Tasas!$C$78:$AN$1228,$L$15+AH$33+2,0))","v":0},{"$f":"+IF(OR($F36=0,$F36=\"NO\"),0,VLOOKUP($L$16+$H36,Tasas!$C$78:$AN$1228,$L$15+AI$33+2,0))","v":0},{"$f":"+IF(OR($F36=0,$F36=\"NO\"),0,VLOOKUP($L$16+$H36,Tasas!$C$78:$AN$1228,$L$15+AJ$33+2,0))","v":0},{"$f":"+IF(OR($F36=0,$F36=\"NO\"),0,VLOOKUP($L$16+$H36,Tasas!$C$78:$AN$1228,$L$15+AK$33+2,0))","v":0},{"$f":"+IF(OR($F36=0,$F36=\"NO\"),0,VLOOKUP($L$16+$H36,Tasas!$C$78:$AN$1228,$L$15+AL$33+2,0))","v":0},{"$f":"+IF(OR($F36=0,$F36=\"NO\"),0,VLOOKUP($L$16+$H36,Tasas!$C$78:$AN$1228,$L$15+AM$33+2,0))","v":0},{"$f":"+IF(OR($F36=0,$F36=\"NO\"),0,VLOOKUP($L$16+$H36,Tasas!$C$78:$AN$1228,$L$15+AN$33+2,0))","v":0},null,null,null,null,"Cláusula de ampliación del límite máximo de edad, personas mayores de 70 y hasta los 80 años inclusive.",null,{"$f":"Cotizador!$E$91","v":0},{"$f":"Cotizador!$G$91","v":0},{"$f":"Cotizador!$I$91","v":0},{"$f":"Cotizador!$K$91","v":0},null,64,{"$f":"+IF(OR($AU36=0,$AU36=\"NO\"),0,VLOOKUP($BA$16+$AZ36,Tasas!$C$78:$BY$1292,$BA$15+BA$33+39,0))","v":0},{"$f":"+IF(OR($AU36=0,$AU36=\"NO\"),0,VLOOKUP($BA$16+$AZ36,Tasas!$C$78:$BY$1292,$BA$15+BB$33+39,0))","v":0},{"$f":"+IF(OR($AU36=0,$AU36=\"NO\"),0,VLOOKUP($BA$16+$AZ36,Tasas!$C$78:$BY$1292,$BA$15+BC$33+39,0))","v":0},{"$f":"+IF(OR($AU36=0,$AU36=\"NO\"),0,VLOOKUP($BA$16+$AZ36,Tasas!$C$78:$BY$1292,$BA$15+BD$33+39,0))","v":0},{"$f":"+IF(OR($AU36=0,$AU36=\"NO\"),0,VLOOKUP($BA$16+$AZ36,Tasas!$C$78:$BY$1292,$BA$15+BE$33+39,0))","v":0},{"$f":"+IF(OR($AU36=0,$AU36=\"NO\"),0,VLOOKUP($BA$16+$AZ36,Tasas!$C$78:$BY$1292,$BA$15+BF$33+39,0))","v":0},{"$f":"+IF(OR($AU36=0,$AU36=\"NO\"),0,VLOOKUP($BA$16+$AZ36,Tasas!$C$78:$BY$1292,$BA$15+BG$33+39,0))","v":0},{"$f":"+IF(OR($AU36=0,$AU36=\"NO\"),0,VLOOKUP($BA$16+$AZ36,Tasas!$C$78:$BY$1292,$BA$15+BH$33+39,0))","v":0},{"$f":"+IF(OR($AU36=0,$AU36=\"NO\"),0,VLOOKUP($BA$16+$AZ36,Tasas!$C$78:$BY$1292,$BA$15+BI$33+39,0))","v":0},{"$f":"+IF(OR($AU36=0,$AU36=\"NO\"),0,VLOOKUP($BA$16+$AZ36,Tasas!$C$78:$BY$1292,$BA$15+BJ$33+39,0))","v":0},{"$f":"+IF(OR($AU36=0,$AU36=\"NO\"),0,VLOOKUP($BA$16+$AZ36,Tasas!$C$78:$BY$1292,$BA$15+BK$33+39,0))","v":0},{"$f":"+IF(OR($AU36=0,$AU36=\"NO\"),0,VLOOKUP($BA$16+$AZ36,Tasas!$C$78:$BY$1292,$BA$15+BL$33+39,0))","v":0},{"$f":"+IF(OR($AU36=0,$AU36=\"NO\"),0,VLOOKUP($BA$16+$AZ36,Tasas!$C$78:$BY$1292,$BA$15+BM$33+39,0))","v":0},{"$f":"+IF(OR($AU36=0,$AU36=\"NO\"),0,VLOOKUP($BA$16+$AZ36,Tasas!$C$78:$BY$1292,$BA$15+BN$33+39,0))","v":0},{"$f":"+IF(OR($AU36=0,$AU36=\"NO\"),0,VLOOKUP($BA$16+$AZ36,Tasas!$C$78:$BY$1292,$BA$15+BO$33+39,0))","v":0},{"$f":"+IF(OR($AU36=0,$AU36=\"NO\"),0,VLOOKUP($BA$16+$AZ36,Tasas!$C$78:$BY$1292,$BA$15+BP$33+39,0))","v":0},{"$f":"+IF(OR($AU36=0,$AU36=\"NO\"),0,VLOOKUP($BA$16+$AZ36,Tasas!$C$78:$BY$1292,$BA$15+BQ$33+39,0))","v":0},{"$f":"+IF(OR($AU36=0,$AU36=\"NO\"),0,VLOOKUP($BA$16+$AZ36,Tasas!$C$78:$BY$1292,$BA$15+BR$33+39,0))","v":0},{"$f":"+IF(OR($AU36=0,$AU36=\"NO\"),0,VLOOKUP($BA$16+$AZ36,Tasas!$C$78:$BY$1292,$BA$15+BS$33+39,0))","v":0},{"$f":"+IF(OR($AU36=0,$AU36=\"NO\"),0,VLOOKUP($BA$16+$AZ36,Tasas!$C$78:$BY$1292,$BA$15+BT$33+39,0))","v":0},{"$f":"+IF(OR($AU36=0,$AU36=\"NO\"),0,VLOOKUP($BA$16+$AZ36,Tasas!$C$78:$BY$1292,$BA$15+BU$33+39,0))","v":0},{"$f":"+IF(OR($AU36=0,$AU36=\"NO\"),0,VLOOKUP($BA$16+$AZ36,Tasas!$C$78:$BY$1292,$BA$15+BV$33+39,0))","v":0},{"$f":"+IF(OR($AU36=0,$AU36=\"NO\"),0,VLOOKUP($BA$16+$AZ36,Tasas!$C$78:$BY$1292,$BA$15+BW$33+39,0))","v":0},{"$f":"+IF(OR($AU36=0,$AU36=\"NO\"),0,VLOOKUP($BA$16+$AZ36,Tasas!$C$78:$BY$1292,$BA$15+BX$33+39,0))","v":0},{"$f":"+IF(OR($AU36=0,$AU36=\"NO\"),0,VLOOKUP($BA$16+$AZ36,Tasas!$C$78:$BY$1292,$BA$15+BY$33+39,0))","v":0},{"$f":"+IF(OR($AU36=0,$AU36=\"NO\"),0,VLOOKUP($BA$16+$AZ36,Tasas!$C$78:$BY$1292,$BA$15+BZ$33+39,0))","v":0},{"$f":"+IF(OR($AU36=0,$AU36=\"NO\"),0,VLOOKUP($BA$16+$AZ36,Tasas!$C$78:$BY$1292,$BA$15+CA$33+39,0))","v":0},{"$f":"+IF(OR($AU36=0,$AU36=\"NO\"),0,VLOOKUP($BA$16+$AZ36,Tasas!$C$78:$BY$1292,$BA$15+CB$33+39,0))","v":0},{"$f":"+IF(OR($AU36=0,$AU36=\"NO\"),0,VLOOKUP($BA$16+$AZ36,Tasas!$C$78:$BY$1292,$BA$15+CC$33+39,0))","v":0},{"$f":"+IF(OR($AU36=0,$AU36=\"NO\"),0,VLOOKUP($BA$16+$AZ36,Tasas!$C$78:$BY$1292,$BA$15+CD$33+39,0))","v":0},{"$f":"+IF(OR($AU36=0,$AU36=\"NO\"),0,VLOOKUP($BA$16+$AZ36,Tasas!$C$78:$BY$1292,$BA$15+CE$33+39,0))","v":0},{"$f":"+IF(OR($AU36=0,$AU36=\"NO\"),0,VLOOKUP($BA$16+$AZ36,Tasas!$C$78:$BY$1292,$BA$15+CF$33+39,0))","v":0},null,null,null,null,"Cláusula de ampliación del límite máximo de edad, personas mayores de 70 y hasta los 80 años inclusive.",null,{"$f":"Cotizador!$E$91","v":0},{"$f":"CN35+3","v":4},{"$f":"(CN36+VLOOKUP($CR$17,$CT$22:$CU$24,2,0))","v":{"$error":"#N/A"}},{"$f":"IF(OR($CM36=\"\",$CM36=0),0,VLOOKUP($CO36,Tasas!$CB$17:$CL$70,Calculadora!CP$33,0))","v":0},{"$f":"IF(OR($CM36=\"\",$CM36=0),0,VLOOKUP($CO36,Tasas!$CB$17:$CL$70,Calculadora!CQ$33,0))","v":0},{"$f":"IF(OR($CM36=\"\",$CM36=0),0,VLOOKUP($CO36,Tasas!$CB$17:$CL$70,Calculadora!CR$33,0))","v":0},{"$f":"IF(OR($CM36=\"\",$CM36=0),0,VLOOKUP($CO36,Tasas!$CB$17:$CL$70,Calculadora!CS$33,0))","v":0},{"$f":"IF(OR($CM36=\"\",$CM36=0),0,VLOOKUP($CO36,Tasas!$CB$17:$CL$70,Calculadora!CT$33,0))","v":0},{"$f":"IF(OR($CM36=\"\",$CM36=0),0,VLOOKUP($CO36,Tasas!$CB$17:$CL$70,Calculadora!CU$33,0))","v":0},{"$f":"IF(OR($CM36=\"\",$CM36=0),0,VLOOKUP($CO36,Tasas!$CB$17:$CL$70,Calculadora!CV$33,0))","v":0},{"$f":"IF(OR($CM36=\"\",$CM36=0),0,VLOOKUP($CO36,Tasas!$CB$17:$CL$70,Calculadora!CW$33,0))","v":0},null,null,null,null,"Cláusula de ampliación del límite máximo de edad, personas mayores de 70 y hasta los 80 años inclusive.",null,{"$f":"Cotizador!$E$91","v":0},{"$f":"DE35+3","v":4},{"$f":"(DE36+VLOOKUP($DI$17,$DK$22:$DL$24,2,0))","v":{"$error":"#N/A"}},{"$f":"IF(OR($DD36=\"\",$DD36=0),0,VLOOKUP($DF36,Tasas!$CO$17:$CY$70,Calculadora!DG$33,0))","v":0},{"$f":"IF(OR($DD36=\"\",$DD36=0),0,VLOOKUP($DF36,Tasas!$CO$17:$CY$70,Calculadora!DH$33,0))","v":0},{"$f":"IF(OR($DD36=\"\",$DD36=0),0,VLOOKUP($DF36,Tasas!$CO$17:$CY$70,Calculadora!DI$33,0))","v":0},{"$f":"IF(OR($DD36=\"\",$DD36=0),0,VLOOKUP($DF36,Tasas!$CO$17:$CY$70,Calculadora!DJ$33,0))","v":0},{"$f":"IF(OR($DD36=\"\",$DD36=0),0,VLOOKUP($DF36,Tasas!$CO$17:$CY$70,Calculadora!DK$33,0))","v":0},{"$f":"IF(OR($DD36=\"\",$DD36=0),0,VLOOKUP($DF36,Tasas!$CO$17:$CY$70,Calculadora!DL$33,0))","v":0},{"$f":"IF(OR($DD36=\"\",$DD36=0),0,VLOOKUP($DF36,Tasas!$CO$17:$CY$70,Calculadora!DM$33,0))","v":0},{"$f":"IF(OR($DD36=\"\",$DD36=0),0,VLOOKUP($DF36,Tasas!$CO$17:$CY$70,Calculadora!DN$33,0))","v":0},null,null,null,null,"Cláusula de ampliación del límite máximo de edad, personas mayores de 70 y hasta los 80 años inclusive.",null,{"$f":"Cotizador!$E$91","v":0},{"$f":"DV35+3","v":4},{"$f":"(DV36+VLOOKUP($DZ$17,$EC$22:$ED$24,2,0))","v":{"$error":"#N/A"}},{"$f":"IF(OR($DU36=\"\",$DU36=0),0,VLOOKUP($DW36,Tasas!$DB$17:$DL$70,Calculadora!DX$33,0))","v":0},{"$f":"IF(OR($DU36=\"\",$DU36=0),0,VLOOKUP($DW36,Tasas!$DB$17:$DL$70,Calculadora!DY$33,0))","v":0},{"$f":"IF(OR($DU36=\"\",$DU36=0),0,VLOOKUP($DW36,Tasas!$DB$17:$DL$70,Calculadora!DZ$33,0))","v":0},{"$f":"IF(OR($DU36=\"\",$DU36=0),0,VLOOKUP($DW36,Tasas!$DB$17:$DL$70,Calculadora!EA$33,0))","v":0},{"$f":"IF(OR($DU36=\"\",$DU36=0),0,VLOOKUP($DW36,Tasas!$DB$17:$DL$70,Calculadora!EB$33,0))","v":0},{"$f":"IF(OR($DU36=\"\",$DU36=0),0,VLOOKUP($DW36,Tasas!$DB$17:$DL$70,Calculadora!EC$33,0))","v":0},{"$f":"IF(OR($DU36=\"\",$DU36=0),0,VLOOKUP($DW36,Tasas!$DB$17:$DL$70,Calculadora!ED$33,0))","v":0},{"$f":"IF(OR($DU36=\"\",$DU36=0),0,VLOOKUP($DW36,Tasas!$DB$17:$DL$70,Calculadora!EE$33,0))","v":0},null,null,null,null,"Cláusula de ampliación del límite máximo de edad, personas mayores de 70 y hasta los 80 años inclusive.",null,{"$f":"Cotizador!$E$91","v":0},{"$f":"EM35+3","v":4},{"$f":"(EM36+VLOOKUP($EK$15,$EQ$22:$ER$24,2,0))","v":{"$error":"#N/A"}},{"$f":"IF(OR($EL36=\"\",$EL36=0),0,VLOOKUP($EN36,Tasas!$DO$17:$DY$70,Calculadora!EO$33,0))","v":0},{"$f":"IF(OR($EL36=\"\",$EL36=0),0,VLOOKUP($EN36,Tasas!$DO$17:$DY$70,Calculadora!EP$33,0))","v":0},{"$f":"IF(OR($EL36=\"\",$EL36=0),0,VLOOKUP($EN36,Tasas!$DO$17:$DY$70,Calculadora!EQ$33,0))","v":0},{"$f":"IF(OR($EL36=\"\",$EL36=0),0,VLOOKUP($EN36,Tasas!$DO$17:$DY$70,Calculadora!ER$33,0))","v":0},{"$f":"IF(OR($EL36=\"\",$EL36=0),0,VLOOKUP($EN36,Tasas!$DO$17:$DY$70,Calculadora!ES$33,0))","v":0},{"$f":"IF(OR($EL36=\"\",$EL36=0),0,VLOOKUP($EN36,Tasas!$DO$17:$DY$70,Calculadora!ET$33,0))","v":0},{"$f":"IF(OR($EL36=\"\",$EL36=0),0,VLOOKUP($EN36,Tasas!$DO$17:$DY$70,Calculadora!EU$33,0))","v":0},{"$f":"IF(OR($EL36=\"\",$EL36=0),0,VLOOKUP($EN36,Tasas!$DO$17:$DY$70,Calculadora!EV$33,0))","v":0},null,null,null,null,"Cláusula de ampliación del límite máximo de edad, personas mayores de 70 y hasta los 80 años inclusive.",null,{"$f":"Cotizador!$E$91","v":0},{"$f":"FD35+3","v":4},{"$f":"(FD36+VLOOKUP($FB$15,$FH$22:$FI$24,2,0))","v":{"$error":"#N/A"}},{"$f":"IF(OR($FC36=\"\",$FC36=0),0,VLOOKUP($FE36,Tasas!$EB$17:$EL$70,Calculadora!FF$33,0))","v":0},{"$f":"IF(OR($FC36=\"\",$FC36=0),0,VLOOKUP($FE36,Tasas!$EB$17:$EL$70,Calculadora!FG$33,0))","v":0},{"$f":"IF(OR($FC36=\"\",$FC36=0),0,VLOOKUP($FE36,Tasas!$EB$17:$EL$70,Calculadora!FH$33,0))","v":0},{"$f":"IF(OR($FC36=\"\",$FC36=0),0,VLOOKUP($FE36,Tasas!$EB$17:$EL$70,Calculadora!FI$33,0))","v":0},{"$f":"IF(OR($FC36=\"\",$FC36=0),0,VLOOKUP($FE36,Tasas!$EB$17:$EL$70,Calculadora!FJ$33,0))","v":0},{"$f":"IF(OR($FC36=\"\",$FC36=0),0,VLOOKUP($FE36,Tasas!$EB$17:$EL$70,Calculadora!FK$33,0))","v":0},{"$f":"IF(OR($FC36=\"\",$FC36=0),0,VLOOKUP($FE36,Tasas!$EB$17:$EL$70,Calculadora!FL$33,0))","v":0},{"$f":"IF(OR($FC36=\"\",$FC36=0),0,VLOOKUP($FE36,Tasas!$EB$17:$EL$70,Calculadora!FM$33,0))","v":0},null,null,null,null,"Por limitación a horas de trabajo.",null,{"$f":"Cotizador!$E$111","v":0},null,3,{"$f":"IF(OR($FT36=0,$FT36=\"NO\"),0,VLOOKUP($FV36,Tasas!$EO$29:$FU$45,Calculadora!FW$32,0))","v":0},{"$f":"IF(OR($FT36=0,$FT36=\"NO\"),0,VLOOKUP($FV36,Tasas!$EO$29:$FU$45,Calculadora!FX$32,0))","v":0},{"$f":"IF(OR($FT36=0,$FT36=\"NO\"),0,VLOOKUP($FV36,Tasas!$EO$29:$FU$45,Calculadora!FY$32,0))","v":0},{"$f":"IF(OR($FT36=0,$FT36=\"NO\"),0,VLOOKUP($FV36,Tasas!$EO$29:$FU$45,Calculadora!FZ$32,0))","v":0},{"$f":"IF(OR($FT36=0,$FT36=\"NO\"),0,VLOOKUP($FV36,Tasas!$EO$29:$FU$45,Calculadora!GA$32,0))","v":0},{"$f":"IF(OR($FT36=0,$FT36=\"NO\"),0,VLOOKUP($FV36,Tasas!$EO$29:$FU$45,Calculadora!GB$32,0))","v":0},{"$f":"IF(OR($FT36=0,$FT36=\"NO\"),0,VLOOKUP($FV36,Tasas!$EO$29:$FU$45,Calculadora!GC$32,0))","v":0},{"$f":"IF(OR($FT36=0,$FT36=\"NO\"),0,VLOOKUP($FV36,Tasas!$EO$29:$FU$45,Calculadora!GD$32,0))","v":0},null,null,null,null,"Cláusula de ampliación del límite máximo de edad, personas mayores de 70 y hasta los 80 años inclusive.",null,{"$f":"Cotizador!$E$91","v":0},null,null,null,null,64,{"$f":"+IF(OR($C36=0,$C36=\"NO\"),0,VLOOKUP($I$16+$H36,Tasas!$FY$78:$HJ$1228,$I$15+GQ$33+2,0))","v":0},{"$f":"+IF(OR($C36=0,$C36=\"NO\"),0,VLOOKUP($I$16+$H36,Tasas!$FY$78:$HJ$1228,$I$15+GR$33+2,0))","v":0},{"$f":"+IF(OR($C36=0,$C36=\"NO\"),0,VLOOKUP($I$16+$H36,Tasas!$FY$78:$HJ$1228,$I$15+GS$33+2,0))","v":0},{"$f":"+IF(OR($C36=0,$C36=\"NO\"),0,VLOOKUP($I$16+$H36,Tasas!$FY$78:$HJ$1228,$I$15+GT$33+2,0))","v":0},{"$f":"+IF(OR($C36=0,$C36=\"NO\"),0,VLOOKUP($I$16+$H36,Tasas!$FY$78:$HJ$1228,$I$15+GU$33+2,0))","v":0},{"$f":"+IF(OR($C36=0,$C36=\"NO\"),0,VLOOKUP($I$16+$H36,Tasas!$FY$78:$HJ$1228,$I$15+GV$33+2,0))","v":0},{"$f":"+IF(OR($C36=0,$C36=\"NO\"),0,VLOOKUP($I$16+$H36,Tasas!$FY$78:$HJ$1228,$I$15+GW$33+2,0))","v":0},{"$f":"+IF(OR($C36=0,$C36=\"NO\"),0,VLOOKUP($I$16+$H36,Tasas!$FY$78:$HJ$1228,$I$15+GX$33+2,0))","v":0}]
["Edad de ingreso del asegurado",null,{"$f":"Cotizador!$E$92","v":0},{"$f":"Cotizador!$G$92","v":0},{"$f":"Cotizador!$I$92","v":0},{"$f":"Cotizador!$K$92","v":0},null,128,{"$f":"+IF(OR($C37=0,$C37=\"NO\"),0,VLOOKUP($I$16+$H37,Tasas!$C$78:$AN$1228,$I$15+I$33+2,0))","v":0},{"$f":"+IF(OR($C37=0,$C37=\"NO\"),0,VLOOKUP($I$16+$H37,Tasas!$C$78:$AN$1228,$I$15+J$33+2,0))","v":0},{"$f":"+IF(OR($C37=0,$C37=\"NO\"),0,VLOOKUP($I$16+$H37,Tasas!$C$78:$AN$1228,$I$15+K$33+2,0))","v":0},{"$f":"+IF(OR($C37=0,$C37=\"NO\"),0,VLOOKUP($I$16+$H37,Tasas!$C$78:$AN$1228,$I$15+L$33+2,0))","v":0},{"$f":"+IF(OR($C37=0,$C37=\"NO\"),0,VLOOKUP($I$16+$H37,Tasas!$C$78:$AN$1228,$I$15+M$33+2,0))","v":0},{"$f":"+IF(OR($C37=0,$C37=\"NO\"),0,VLOOKUP($I$16+$H37,Tasas!$C$78:$AN$1228,$I$15+N$33+2,0))","v":0},{"$f":"+IF(OR($C37=0,$C37=\"NO\"),0,VLOOKUP($I$16+$H37,Tasas!$C$78:$AN$1228,$I$15+O$33+2,0))","v":0},{"$f":"+IF(OR($C37=0,$C37=\"NO\"),0,VLOOKUP($I$16+$H37,Tasas!$C$78:$AN$1228,$I$15+P$33+2,0))","v":0},{"$f":"+IF(OR($D37=0,$D37=\"NO\"),0,VLOOKUP($J$16+$H37,Tasas!$C$78:$AN$1228,$J$15+Q$33+2,0))","v":0},{"$f":"+IF(OR($D37=0,$D37=\"NO\"),0,VLOOKUP($J$16+$H37,Tasas!$C$78:$AN$1228,$J$15+R$33+2,0))","v":0},{"$f":"+IF(OR($D37=0,$D37=\"NO\"),0,VLOOKUP($J$16+$H37,Tasas!$C$78:$AN$1228,$J$15+S$33+2,0))","v":0},{"$f":"+IF(OR($D37=0,$D37=\"NO\"),0,VLOOKUP($J$16+$H37,Tasas!$C$78:$AN$1228,$J$15+T$33+2,0))","v":0},{"$f":"+IF(OR($D37=0,$D37=\"NO\"),0,VLOOKUP($J$16+$H37,Tasas!$C$78:$AN$1228,$J$15+U$33+2,0))","v":0},{"$f":"+IF(OR($D37=0,$D37=\"NO\"),0,VLOOKUP($J$16+$H37,Tasas!$C$78:$AN$1228,$J$15+V$33+2,0))","v":0},{"$f":"+IF(OR($D37=0,$D37=\"NO\"),0,VLOOKUP($J$16+$H37,Tasas!$C$78:$AN$1228,$J$15+W$33+2,0))","v":0},{"$f":"+IF(OR($D37=0,$D37=\"NO\"),0,VLOOKUP($J$16+$H37,Tasas!$C$78:$AN$1228,$J$15+X$33+2,0))","v":0},{"$f":"+IF(OR($E37=0,$E37=\"NO\"),0,VLOOKUP($K$16+$H37,Tasas!$C$78:$AN$1228,$K$15+Y$33+2,0))","v":0},{"$f":"+IF(OR($E37=0,$E37=\"NO\"),0,VLOOKUP($K$16+$H37,Tasas!$C$78:$AN$1228,$K$15+Z$33+2,0))","v":0},{"$f":"+IF(OR($E37=0,$E37=\"NO\"),0,VLOOKUP($K$16+$H37,Tasas!$C$78:$AN$1228,$K$15+AA$33+2,0))","v":0},{"$f":"+IF(OR($E37=0,$E37=\"NO\"),0,VLOOKUP($K$16+$H37,Tasas!$C$78:$AN$1228,$K$15+AB$33+2,0))","v":0},{"$f":"+IF(OR($E37=0,$E37=\"NO\"),0,VLOOKUP($K$16+$H37,Tasas!$C$78:$AN$1228,$K$15+AC$33+2,0))","v":0},{"$f":"+IF(OR($E37=0,$E37=\"NO\"),0,VLOOKUP($K$16+$H37,Tasas!$C$78:$AN$1228,$K$15+AD$33+2,0))","v":0},{"$f":"+IF(OR($E37=0,$E37=\"NO\"),0,VLOOKUP($K$16+$H37,Tasas!$C$78:$AN$1228,$K$15+AE$33+2,0))","v":0},{"$f":"+IF(OR($E37=0,$E37=\"NO\"),0,VLOOKUP($K$16+$H37,Tasas!$C$78:$AN$1228,$K$15+AF$33+2,0))","v":0},{"$f":"+IF(OR($F37=0,$F37=\"NO\"),0,VLOOKUP($L$16+$H37,Tasas!$C$78:$AN$1228,$L$15+AG$33+2,0))","v":0},{"$f":"+IF(OR($F37=0,$F37=\"NO\"),0,VLOOKUP($L$16+$H37,Tasas!$C$78:$AN$1228,$L$15+AH$33+2,0))","v":0},{"$f":"+IF(OR($F37=0,$F37=\"NO\"),0,VLOOKUP($L$16+$H37,Tasas!$C$78:$AN$1228,$L$15+AI$33+2,0))","v":0},{"$f":"+IF(OR($F37=0,$F37=\"NO\"),0,VLOOKUP($L$16+$H37,Tasas!$C$78:$AN$1228,$L$15+AJ$33+2,0))","v":0},{"$f":"+IF(OR($F37=0,$F37=\"NO\"),0,VLOOKUP($L$16+$H37,Tasas!$C$78:$AN$1228,$L$15+AK$33+2,0))","v":0},{"$f":"+IF(OR($F37=0,$F37=\"NO\"),0,VLOOKUP($L$16+$H37,Tasas!$C$78:$AN$1228,$L$15+AL$33+2,0))","v":0},{"$f":"+IF(OR($F37=0,$F37=\"NO\"),0,VLOOKUP($L$16+$H37,Tasas!$C$78:$AN$1228,$L$15+AM$33+2,0))","v":0},{"$f":"+IF(OR($F37=0,$F37=\"NO\"),0,VLOOKUP($L$16+$H37,Tasas!$C$78:$AN$1228,$L$15+AN$33+2,0))","v":0},null,null,null,null,"Edad de ingreso del asegurado",null,{"$f":"Cotizador!$E$92","v":0},{"$f":"Cotizador!$G$92","v":0},{"$f":"Cotizador!$I$92","v":0},{"$f":"Cotizador!$K$92","v":0},null,128,{"$f":"+IF(OR($AU37=0,$AU37=\"NO\"),0,VLOOKUP($BA$16+$AZ37,Tasas!$C$78:$BY$1292,$BA$15+BA$33+39,0))","v":0},{"$f":"+IF(OR($AU37=0,$AU37=\"NO\"),0,VLOOKUP($BA$16+$AZ37,Tasas!$C$78:$BY$1292,$BA$15+BB$33+39,0))","v":0},{"$f":"+IF(OR($AU37=0,$AU37=\"NO\"),0,VLOOKUP($BA$16+$AZ37,Tasas!$C$78:$BY$1292,$BA$15+BC$33+39,0))","v":0},{"$f":"+IF(OR($AU37=0,$AU37=\"NO\"),0,VLOOKUP($BA$16+$AZ37,Tasas!$C$78:$BY$1292,$BA$15+BD$33+39,0))","v":0},{"$f":"+IF(OR($AU37=0,$AU37=\"NO\"),0,VLOOKUP($BA$16+$AZ37,Tasas!$C$78:$BY$1292,$BA$15+BE$33+39,0))","v":0},{"$f":"+IF(OR($AU37=0,$AU37=\"NO\"),0,VLOOKUP($BA$16+$AZ37,Tasas!$C$78:$BY$1292,$BA$15+BF$33+39,0))","v":0},{"$f":"+IF(OR($AU37=0,$AU37=\"NO\"),0,VLOOKUP($BA$16+$AZ37,Tasas!$C$78:$BY$1292,$BA$15+BG$33+39,0))","v":0},{"$f":"+IF(OR($AU37=0,$AU37=\"NO\"),0,VLOOKUP($BA$16+$AZ37,Tasas!$C$78:$BY$1292,$BA$15+BH$33+39,0))","v":0},{"$f":"+IF(OR($AU37=0,$AU37=\"NO\"),0,VLOOKUP($BA$16+$AZ37,Tasas!$C$78:$BY$1292,$BA$15+BI$33+39,0))","v":0},{"$f":"+IF(OR($AU37=0,$AU37=\"NO\"),0,VLOOKUP($BA$16+$AZ37,Tasas!$C$78:$BY$1292,$BA$15+BJ$33+39,0))","v":0},{"$f":"+IF(OR($AU37=0,$AU37=\"NO\"),0,VLOOKUP($BA$16+$AZ37,Tasas!$C$78:$BY$1292,$BA$15+BK$33+39,0))","v":0},{"$f":"+IF(OR($AU37=0,$AU37=\"NO\"),0,VLOOKUP($BA$16+$AZ37,Tasas!$C$78:$BY$1292,$BA$15+BL$33+39,0))","v":0},{"$f":"+IF(OR($AU37=0,$AU37=\"NO\"),0,VLOOKUP($BA$16+$AZ37,Tasas!$C$78:$BY$1292,$BA$15+BM$33+39,0))","v":0},{"$f":"+IF(OR($AU37=0,$AU37=\"NO\"),0,VLOOKUP($BA$16+$AZ37,Tasas!$C$78:$BY$1292,$BA$15+BN$33+39,0))","v":0},{"$f":"+IF(OR($AU37=0,$AU37=\"NO\"),0,VLOOKUP($BA$16+$AZ37,Tasas!$C$78:$BY$1292,$BA$15+BO$33+39,0))","v":0},{"$f":"+IF(OR($AU37=0,$AU37=\"NO\"),0,VLOOKUP($BA$16+$AZ37,Tasas!$C$78:$BY$1292,$BA$15+BP$33+39,0))","v":0},{"$f":"+IF(OR($AU37=0,$AU37=\"NO\"),0,VLOOKUP($BA$16+$AZ37,Tasas!$C$78:$BY$1292,$BA$15+BQ$33+39,0))","v":0},{"$f":"+IF(OR($AU37=0,$AU37=\"NO\"),0,VLOOKUP($BA$16+$AZ37,Tasas!$C$78:$BY$1292,$BA$15+BR$33+39,0))","v":0},{"$f":"+IF(OR($AU37=0,$AU37=\"NO\"),0,VLOOKUP($BA$16+$AZ37,Tasas!$C$78:$BY$1292,$BA$15+BS$33+39,0))","v":0},{"$f":"+IF(OR($AU37=0,$AU37=\"NO\"),0,VLOOKUP($BA$16+$AZ37,Tasas!$C$78:$BY$1292,$BA$15+BT$33+39,0))","v":0},{"$f":"+IF(OR($AU37=0,$AU37=\"NO\"),0,VLOOKUP($BA$16+$AZ37,Tasas!$C$78:$BY$1292,$BA$15+BU$33+39,0))","v":0},{"$f":"+IF(OR($AU37=0,$AU37=\"NO\"),0,VLOOKUP($BA$16+$AZ37,Tasas!$C$78:$BY$1292,$BA$15+BV$33+39,0))","v":0},{"$f":"+IF(OR($AU37=0,$AU37=\"NO\"),0,VLOOKUP($BA$16+$AZ37,Tasas!$C$78:$BY$1292,$BA$15+BW$33+39,0))","v":0},{"$f":"+IF(OR($AU37=0,$AU37=\"NO\"),0,VLOOKUP($BA$16+$AZ37,Tasas!$C$78:$BY$1292,$BA$15+BX$33+39,0))","v":0},{"$f":"+IF(OR($AU37=0,$AU37=\"NO\"),0,VLOOKUP($BA$16+$AZ37,Tasas!$C$78:$BY$1292,$BA$15+BY$33+39,0))","v":0},{"$f":"+IF(OR($AU37=0,$AU37=\"NO\"),0,VLOOKUP($BA$16+$AZ37,Tasas!$C$78:$BY$1292,$BA$15+BZ$33+39,0))","v":0},{"$f":"+IF(OR($AU37=0,$AU37=\"NO\"),0,VLOOKUP($BA$16+$AZ37,Tasas!$C$78:$BY$1292,$BA$15+CA$33+39,0))","v":0},{"$f":"+IF(OR($AU37=0,$AU37=\"NO\"),0,VLOOKUP($BA$16+$AZ37,Tasas!$C$78:$BY$1292,$BA$15+CB$33+39,0))","v":0},{"$f":"+IF(OR($AU37=0,$AU37=\"NO\"),0,VLOOKUP($BA$16+$AZ37,Tasas!$C$78:$BY$1292,$BA$15+CC$33+39,0))","v":0},{"$f":"+IF(OR($AU37=0,$AU37=\"NO\"),0,VLOOKUP($BA$16+$AZ37,Tasas!$C$78:$BY$1292,$BA$15+CD$33+39,0))","v":0},{"$f":"+IF(OR($AU37=0,$AU37=\"NO\"),0,VLOOKUP($BA$16+$AZ37,Tasas!$C$78:$BY$1292,$BA$15+CE$33+39,0))","v":0},{"$f":"+IF(OR($AU37=0,$AU37=\"NO\"),0,VLOOKUP($BA$16+$AZ37,Tasas!$C$78:$BY$1292,$BA$15+CF$33+39,0))","v":0},null,null,null,null,"Edad de ingreso del asegurado",null,{"$f":"Cotizador!$E$92","v":0},{"$f":"CN36+3","v":7},{"$error":"#N/A"},{"$f":"IF(OR($CM37=\"\",$CM37=0),0,VLOOKUP($CO37,Tasas!$CB$17:$CL$70,Calculadora!CP$33,0))","v":0},{"$f":"IF(OR($CM37=\"\",$CM37=0),0,VLOOKUP($CO37,Tasas!$CB$17:$CL$70,Calculadora!CQ$33,0))","v":0},{"$f":"IF(OR($CM37=\"\",$CM37=0),0,VLOOKUP($CO37,Tasas!$CB$17:$CL$70,Calculadora!CR$33,0))","v":0},{"$f":"IF(OR($CM37=\"\",$CM37=0),0,VLOOKUP($CO37,Tasas!$CB$17:$CL$70,Calculadora!CS$33,0))","v":0},{"$f":"IF(OR($CM37=\"\",$CM37=0),0,VLOOKUP($CO37,Tasas!$CB$17:$CL$70,Calculadora!CT$33,0))","v":0},{"$f":"IF(OR($CM37=\"\",$CM37=0),0,VLOOKUP($CO37,Tasas!$CB$17:$CL$70,Calculadora!CU$33,0))","v":0},{"$f":"IF(OR($CM37=\"\",$CM37=0),0,VLOOKUP($CO37,Tasas!$CB$17:$CL$70,Calculadora!CV$33,0))","v":0},{"$f":"IF(OR($CM37=\"\",$CM37=0),0,VLOOKUP($CO37,Tasas!$CB$17:$CL$70,Calculadora!CW$33,0))","v":0},null,null,null,null,"Edad de ingreso del asegurado",null,{"$f":"Cotizador!$E$92","v":0},{"$f":"DE36+3","v":7},{"$error":"#N/A"},{"$f":"IF(OR($DD37=\"\",$DD37=0),0,VLOOKUP($DF37,Tasas!$CO$17:$CY$70,Calculadora!DG$33,0))","v":0},{"$f":"IF(OR($DD37=\"\",$DD37=0),0,VLOOKUP($DF37,Tasas!$CO$17:$CY$70,Calculadora!DH$33,0))","v":0},{"$f":"IF(OR($DD37=\"\",$DD37=0),0,VLOOKUP($DF37,Tasas!$CO$17:$CY$70,Calculadora!DI$33,0))","v":0},{"$f":"IF(OR($DD37=\"\",$DD37=0),0,VLOOKUP($DF37,Tasas!$CO$17:$CY$70,Calculadora!DJ$33,0))","v":0},{"$f":"IF(OR($DD37=\"\",$DD37=0),0,VLOOKUP($DF37,Tasas!$CO$17:$CY$70,Calculadora!DK$33,0))","v":0},{"$f":"IF(OR($DD37=\"\",$DD37=0),0,VLOOKUP($DF37,Tasas!$CO$17:$CY$70,Calculadora!DL$33,0))","v":0},{"$f":"IF(OR($DD37=\"\",$DD37=0),0,VLOOKUP($DF37,Tasas!$CO$17:$CY$70,Calculadora!DM$33,0))","v":0},{"$f":"IF(OR($DD37=\"\",$DD37=0),0,VLOOKUP($DF37,Tasas!$CO$17:$CY$70,Calculadora!DN$33,0))","v":0},null,null,null,null,"Edad de ingreso del asegurado",null,{"$f":"Cotizador!$E$92","v":0},{"$f":"DV36+3","v":7},{"$error":"#N/A"},{"$f":"IF(OR($DU37=\"\",$DU37=0),0,VLOOKUP($DW37,Tasas!$DB$17:$DL$70,Calculadora!DX$33,0))","v":0},{"$f":"IF(OR($DU37=\"\",$DU37=0),0,VLOOKUP($DW37,Tasas!$DB$17:$DL$70,Calculadora!DY$33,0))","v":0},{"$f":"IF(OR($DU37=\"\",$DU37=0),0,VLOOKUP($DW37,Tasas!$DB$17:$DL$70,Calculadora!DZ$33,0))","v":0},{"$f":"IF(OR($DU37=\"\",$DU37=0),0,VLOOKUP($DW37,Tasas!$DB$17:$DL$70,Calculadora!EA$33,0))","v":0},{"$f":"IF(OR($DU37=\"\",$DU37=0),0,VLOOKUP($DW37,Tasas!$DB$17:$DL$70,Calculadora!EB$33,0))","v":0},{"$f":"IF(OR($DU37=\"\",$DU37=0),0,VLOOKUP($DW37,Tasas!$DB$17:$DL$70,Calculadora!EC$33,0))","v":0},{"$f":"IF(OR($DU37=\"\",$DU37=0),0,VLOOKUP($DW37,Tasas!$DB$17:$DL$70,Calculadora!ED$33,0))","v":0},{"$f":"IF(OR($DU37=\"\",$DU37=0),0,VLOOKUP($DW37,Tasas!$DB$17:$DL$70,Calculadora!EE$33,0))","v":0},null,null,null,null,"Edad de ingreso del asegurado",null,{"$f":"Cotizador!$E$92","v":0},{"$f":"EM36+3","v":7},{"$error":"#N/A"},{"$f":"IF(OR($EL37=\"\",$EL37=0),0,VLOOKUP($EN37,Tasas!$DO$17:$DY$70,Calculadora!EO$33,0))","v":0},{"$f":"IF(OR($EL37=\"\",$EL37=0),0,VLOOKUP($EN37,Tasas!$DO$17:$DY$70,Calculadora!EP$33,0))","v":0},{"$f":"IF(OR($EL37=\"\",$EL37=0),0,VLOOKUP($EN37,Tasas!$DO$17:$DY$70,Calculadora!EQ$33,0))","v":0},{"$f":"IF(OR($EL37=\"\",$EL37=0),0,VLOOKUP($EN37,Tasas!$DO$17:$DY$70,Calculadora!ER$33,0))","v":0},{"$f":"IF(OR($EL37=\"\",$EL37=0),0,VLOOKUP($EN37,Tasas!$DO$17:$DY$70,Calculadora!ES$33,0))","v":0},{"$f":"IF(OR($EL37=\"\",$EL37=0),0,VLOOKUP($EN37,Tasas!$DO$17:$DY$70,Calculadora!ET$33,0))","v":0},{"$f":"IF(OR($EL37=\"\",$EL37=0),0,VLOOKUP($EN37,Tasas!$DO$17:$DY$70,Calculadora!EU$33,0))","v":0},{"$f":"IF(OR($EL37=\"\",$EL37=0),0,VLOOKUP($EN37,Tasas!$DO$17:$DY$70,Calculadora!EV$33,0))","v":0},null,null,null,null,"Edad de ingreso del asegurado",null,{"$f":"Cotizador!$E$92","v":0},{"$f":"FD36+3","v":7},{"$error":"#N/A"},{"$f":"IF(OR($FC37=\"\",$FC37=0),0,VLOOKUP($FE37,Tasas!$EB$17:$EL$70,Calculadora!FF$33,0))","v":0},{"$f":"IF(OR($FC37=\"\",$FC37=0),0,VLOOKUP($FE37,Tasas!$EB$17:$EL$70,Calculadora!FG$33,0))","v":0},{"$f":"IF(OR($FC37=\"\",$FC37=0),0,VLOOKUP($FE37,Tasas!$EB$17:$EL$70,Calculadora!FH$33,0))","v":0},{"$f":"IF(OR($FC37=\"\",$FC37=0),0,VLOOKUP($FE37,Tasas!$EB$17:$EL$70,Calculadora!FI$33,0))","v":0},{"$f":"IF(OR($FC37=\"\",$FC37=0),0,VLOOKUP($FE37,Tasas!$EB$17:$EL$70,Calculadora!FJ$33,0))","v":0},{"$f":"IF(OR($FC37=\"\",$FC37=0),0,VLOOKUP($FE37,Tasas!$EB$17:$EL$70,Calculadora!FK$33,0))","v":0},{"$f":"IF(OR($FC37=\"\",$FC37=0),0,VLOOKUP($FE37,Tasas!$EB$17:$EL$70,Calculadora!FL$33,0))","v":0},{"$f":"IF(OR($FC37=\"\",$FC37=0),0,VLOOKUP($FE37,Tasas!$EB$17:$EL$70,Calculadora!FM$33,0))","v":0},null,null,null,null,"Cláusula por la práctica no profesional de deportes y/o actividades de riesgo. N1",null,{"$f":"Cotizador!$E$112","v":0},null,4,{"$f":"IF(OR($FT37=0,$FT37=\"NO\"),0,VLOOKUP($FV37,Tasas!$EO$29:$FU$45,Calculadora!FW$32,0))","v":0},{"$f":"IF(OR($FT37=0,$FT37=\"NO\"),0,VLOOKUP($FV37,Tasas!$EO$29:$FU$45,Calculadora!FX$32,0))","v":0},{"$f":"IF(OR($FT37=0,$FT37=\"NO\"),0,VLOOKUP($FV37,Tasas!$EO$29:$FU$45,Calculadora!FY$32,0))","v":0},{"$f":"IF(OR($FT37=0,$FT37=\"NO\"),0,VLOOKUP($FV37,Tasas!$EO$29:$FU$45,Calculadora!FZ$32,0))","v":0},{"$f":"IF(OR($FT37=0,$FT37=\"NO\"),0,VLOOKUP($FV37,Tasas!$EO$29:$FU$45,Calculadora!GA$32,0))","v":0},{"$f":"IF(OR($FT37=0,$FT37=\"NO\"),0,VLOOKUP($FV37,Tasas!$EO$29:$FU$45,Calculadora!GB$32,0))","v":0},{"$f":"IF(OR($FT37=0,$FT37=\"NO\"),0,VLOOKUP($FV37,Tasas!$EO$29:$FU$45,Calculadora!GC$32,0))","v":0},{"$f":"IF(OR($FT37=0,$FT37=\"NO\"),0,VLOOKUP($FV37,Tasas!$EO$29:$FU$45,Calculadora!GD$32,0))","v":0},null,null,null,null,"Edad de ingreso del asegurado",null,{"$f":"Cotizador!$E$92","v":0},null,null,null,null,128,{"$f":"+IF(OR($C37=0,$C37=\"NO\"),0,VLOOKUP($I$16+$H37,Tasas!$FY$78:$HJ$1228,$I$15+GQ$33+2,0))","v":0},{"$f":"+IF(OR($C37=0,$C37=\"NO\"),0,VLOOKUP($I$16+$H37,Tasas!$FY$78:$HJ$1228,$I$15+GR$33+2,0))","v":0},{"$f":"+IF(OR($C37=0,$C37=\"NO\"),0,VLOOKUP($I$16+$H37,Tasas!$FY$78:$HJ$1228,$I$15+GS$33+2,0))","v":0},{"$f":"+IF(OR($C37=0,$C37=\"NO\"),0,VLOOKUP($I$16+$H37,Tasas!$FY$78:$HJ$1228,$I$15+GT$33+2,0))","v":0},{"$f":"+IF(OR($C37=0,$C37=\"NO\"),0,VLOOKUP($I$16+$H37,Tasas!$FY$78:$HJ$1228,$I$15+GU$33+2,0))","v":0},{"$f":"+IF(OR($C37=0,$C37=\"NO\"),0,VLOOKUP($I$16+$H37,Tasas!$FY$78:$HJ$1228,$I$15+GV$33+2,0))","v":0},{"$f":"+IF(OR($C37=0,$C37=\"NO\"),0,VLOOKUP($I$16+$H37,Tasas!$FY$78:$HJ$1228,$I$15+GW$33+2,0))","v":0},{"$f":"+IF(OR($C37=0,$C37=\"NO\"),0,VLOOKUP($I$16+$H37,Tasas!$FY$78:$HJ$1228,$I$15+GX$33+2,0))","v":0}]
["Por limitación a horas de trabajo.",null,{"$f":"Cotizador!$E$93","v":0},{"$f":"Cotizador!$G$93","v":0},{"$f":"Cotizador!$I$93","v":0},{"$f":"Cotizador!$K$93","v":0},null,192,{"$f":"+IF(OR($C38=0,$C38=\"NO\"),0,VLOOKUP($I$16+$H38,Tasas!$C$78:$AN$1228,$I$15+I$33+2,0))","v":0},{"$f":"+IF(OR($C38=0,$C38=\"NO\"),0,VLOOKUP($I$16+$H38,Tasas!$C$78:$AN$1228,$I$15+J$33+2,0))","v":0},{"$f":"+IF(OR($C38=0,$C38=\"NO\"),0,VLOOKUP($I$16+$H38,Tasas!$C$78:$AN$1228,$I$15+K$33+2,0))","v":0},{"$f":"+IF(OR($C38=0,$C38=\"NO\"),0,VLOOKUP($I$16+$H38,Tasas!$C$78:$AN$1228,$I$15+L$33+2,0))","v":0},{"$f":"+IF(OR($C38=0,$C38=\"NO\"),0,VLOOKUP($I$16+$H38,Tasas!$C$78:$AN$1228,$I$15+M$33+2,0))","v":0},{"$f":"+IF(OR($C38=0,$C38=\"NO\"),0,VLOOKUP($I$16+$H38,Tasas!$C$78:$AN$1228,$I$15+N$33+2,0))","v":0},{"$f":"+IF(OR($C38=0,$C38=\"NO\"),0,VLOOKUP($I$16+$H38,Tasas!$C$78:$AN$1228,$I$15+O$33+2,0))","v":0},{"$f":"+IF(OR($C38=0,$C38=\"NO\"),0,VLOOKUP($I$16+$H38,Tasas!$C$78:$AN$1228,$I$15+P$33+2,0))","v":0},{"$f":"+IF(OR($D38=0,$D38=\"NO\"),0,VLOOKUP($J$16+$H38,Tasas!$C$78:$AN$1228,$J$15+Q$33+2,0))","v":0},{"$f":"+IF(OR($D38=0,$D38=\"NO\"),0,VLOOKUP($J$16+$H38,Tasas!$C$78:$AN$1228,$J$15+R$33+2,0))","v":0},{"$f":"+IF(OR($D38=0,$D38=\"NO\"),0,VLOOKUP($J$16+$H38,Tasas!$C$78:$AN$1228,$J$15+S$33+2,0))","v":0},{"$f":"+IF(OR($D38=0,$D38=\"NO\"),0,VLOOKUP($J$16+$H38,Tasas!$C$78:$AN$1228,$J$15+T$33+2,0))","v":0},{"$f":"+IF(OR($D38=0,$D38=\"NO\"),0,VLOOKUP($J$16+$H38,Tasas!$C$78:$AN$1228,$J$15+U$33+2,0))","v":0},{"$f":"+IF(OR($D38=0,$D38=\"NO\"),0,VLOOKUP($J$16+$H38,Tasas!$C$78:$AN$1228,$J$15+V$33+2,0))","v":0},{"$f":"+IF(OR($D38=0,$D38=\"NO\"),0,VLOOKUP($J$16+$H38,Tasas!$C$78:$AN$1228,$J$15+W$33+2,0))","v":0},{"$f":"+IF(OR($D38=0,$D38=\"NO\"),0,VLOOKUP($J$16+$H38,Tasas!$C$78:$AN$1228,$J$15+X$33+2,0))","v":0},{"$f":"+IF(OR($E38=0,$E38=\"NO\"),0,VLOOKUP($K$16+$H38,Tasas!$C$78:$AN$1228,$K$15+Y$33+2,0))","v":0},{"$f":"+IF(OR($E38=0,$E38=\"NO\"),0,VLOOKUP($K$16+$H38,Tasas!$C$78:$AN$1228,$K$15+Z$33+2,0))","v":0},{"$f":"+IF(OR($E38=0,$E38=\"NO\"),0,VLOOKUP($K$16+$H38,Tasas!$C$78:$AN$1228,$K$15+AA$33+2,0))","v":0},{"$f":"+IF(OR($E38=0,$E38=\"NO\"),0,VLOOKUP($K$16+$H38,Tasas!$C$78:$AN$1228,$K$15+AB$33+2,0))","v":0},{"$f":"+IF(OR($E38=0,$E38=\"NO\"),0,VLOOKUP($K$16+$H38,Tasas!$C$78:$AN$1228,$K$15+AC$33+2,0))","v":0},{"$f":"+IF(OR($E38=0,$E38=\"NO\"),0,VLOOKUP($K$16+$H38,Tasas!$C$78:$AN$1228,$K$15+AD$33+2,0))","v":0},{"$f":"+IF(OR($E38=0,$E38=\"NO\"),0,VLOOKUP($K$16+$H38,Tasas!$C$78:$AN$1228,$K$15+AE$33+2,0))","v":0},{"$f":"+IF(OR($E38=0,$E38=\"NO\"),0,VLOOKUP($K$16+$H38,Tasas!$C$78:$AN$1228,$K$15+AF$33+2,0))","v":0},{"$f":"+IF(OR($F38=0,$F38=\"NO\"),0,VLOOKUP($L$16+$H38,Tasas!$C$78:$AN$1228,$L$15+AG$33+2,0))","v":0},{"$f":"+IF(OR($F38=0,$F38=\"NO\"),0,VLOOKUP($L$16+$H38,Tasas!$C$78:$AN$1228,$L$15+AH$33+2,0))","v":0},{"$f":"+IF(OR($F38=0,$F38=\"NO\"),0,VLOOKUP($L$16+$H38,Tasas!$C$78:$AN$1228,$L$15+AI$33+2,0))","v":0},{"$f":"+IF(OR($F38=0,$F38=\"NO\"),0,VLOOKUP($L$16+$H38,Tasas!$C$78:$AN$1228,$L$15+AJ$33+2,0))","v":0},{"$f":"+IF(OR($F38=0,$F38=\"NO\"),0,VLOOKUP($L$16+$H38,Tasas!$C$78:$AN$1228,$L$15+AK$33+2,0))","v":0},{"$f":"+IF(OR($F38=0,$F38=\"NO\"),0,VLOOKUP($L$16+$H38,Tasas!$C$78:$AN$1228,$L$15+AL$33+2,0))","v":0},{"$f":"+IF(OR($F38=0,$F38=\"NO\"),0,VLOOKUP($L$16+$H38,Tasas!$C$78:$AN$1228,$L$15+AM$33+2,0))","v":0},{"$f":"+IF(OR($F38=0,$F38=\"NO\"),0,VLOOKUP($L$16+$H38,Tasas!$C$78:$AN$1228,$L$15+AN$33+2,0))","v":0},null,null,null,null,"Por limitación a horas de trabajo.",null,{"$f":"Cotizador!$E$93","v":0},{"$f":"Cotizador!$G$93","v":0},{"$f":"Cotizador!$I$93","v":0},{"$f":"Cotizador!$K$93","v":0},null,192,{"$f":"+IF(OR($AU38=0,$AU38=\"NO\"),0,VLOOKUP($BA$16+$AZ38,Tasas!$C$78:$BY$1292,$BA$15+BA$33+39,0))","v":0},{"$f":"+IF(OR($AU38=0,$AU38=\"NO\"),0,VLOOKUP($BA$16+$AZ38,Tasas!$C$78:$BY$1292,$BA$15+BB$33+39,0))","v":0},{"$f":"+IF(OR($AU38=0,$AU38=\"NO\"),0,VLOOKUP($BA$16+$AZ38,Tasas!$C$78:$BY$1292,$BA$15+BC$33+39,0))","v":0},{"$f":"+IF(OR($AU38=0,$AU38=\"NO\"),0,VLOOKUP($BA$16+$AZ38,Tasas!$C$78:$BY$1292,$BA$15+BD$33+39,0))","v":0},{"$f":"+IF(OR($AU38=0,$AU38=\"NO\"),0,VLOOKUP($BA$16+$AZ38,Tasas!$C$78:$BY$1292,$BA$15+BE$33+39,0))","v":0},{"$f":"+IF(OR($AU38=0,$AU38=\"NO\"),0,VLOOKUP($BA$16+$AZ38,Tasas!$C$78:$BY$1292,$BA$15+BF$33+39,0))","v":0},{"$f":"+IF(OR($AU38=0,$AU38=\"NO\"),0,VLOOKUP($BA$16+$AZ38,Tasas!$C$78:$BY$1292,$BA$15+BG$33+39,0))","v":0},{"$f":"+IF(OR($AU38=0,$AU38=\"NO\"),0,VLOOKUP($BA$16+$AZ38,Tasas!$C$78:$BY$1292,$BA$15+BH$33+39,0))","v":0},{"$f":"+IF(OR($AU38=0,$AU38=\"NO\"),0,VLOOKUP($BA$16+$AZ38,Tasas!$C$78:$BY$1292,$BA$15+BI$33+39,0))","v":0},{"$f":"+IF(OR($AU38=0,$AU38=\"NO\"),0,VLOOKUP($BA$16+$AZ38,Tasas!$C$78:$BY$1292,$BA$15+BJ$33+39,0))","v":0},{"$f":"+IF(OR($AU38=0,$AU38=\"NO\"),0,VLOOKUP($BA$16+$AZ38,Tasas!$C$78:$BY$1292,$BA$15+BK$33+39,0))","v":0},{"$f":"+IF(OR($AU38=0,$AU38=\"NO\"),0,VLOOKUP($BA$16+$AZ38,Tasas!$C$78:$BY$1292,$BA$15+BL$33+39,0))","v":0},{"$f":"+IF(OR($AU38=0,$AU38=\"NO\"),0,VLOOKUP($BA$16+$AZ38,Tasas!$C$78:$BY$1292,$BA$15+BM$33+39,0))","v":0},{"$f":"+IF(OR($AU38=0,$AU38=\"NO\"),0,VLOOKUP($BA$16+$AZ38,Tasas!$C$78:$BY$1292,$BA$15+BN$33+39,0))","v":0},{"$f":"+IF(OR($AU38=0,$AU38=\"NO\"),0,VLOOKUP($BA$16+$AZ38,Tasas!$C$78:$BY$1292,$BA$15+BO$33+39,0))","v":0},{"$f":"+IF(OR($AU38=0,$AU38=\"NO\"),0,VLOOKUP($BA$16+$AZ38,Tasas!$C$78:$BY$1292,$BA$15+BP$33+39,0))","v":0},{"$f":"+IF(OR($AU38=0,$AU38=\"NO\"),0,VLOOKUP($BA$16+$AZ38,Tasas!$C$78:$BY$1292,$BA$15+BQ$33+39,0))","v":0},{"$f":"+IF(OR($AU38=0,$AU38=\"NO\"),0,VLOOKUP($BA$16+$AZ38,Tasas!$C$78:$BY$1292,$BA$15+BR$33+39,0))","v":0},{"$f":"+IF(OR($AU38=0,$AU38=\"NO\"),0,VLOOKUP($BA$16+$AZ38,Tasas!$C$78:$BY$1292,$BA$15+BS$33+39,0))","v":0},{"$f":"+IF(OR($AU38=0,$AU38=\"NO\"),0,VLOOKUP($BA$16+$AZ38,Tasas!$C$78:$BY$1292,$BA$15+BT$33+39,0))","v":0},{"$f":"+IF(OR($AU38=0,$AU38=\"NO\"),0,VLOOKUP($BA$16+$AZ38,Tasas!$C$78:$BY$1292,$BA$15+BU$33+39,0))","v":0},{"$f":"+IF(OR($AU38=0,$AU38=\"NO\"),0,VLOOKUP($BA$16+$AZ38,Tasas!$C$78:$BY$1292,$BA$15+BV$33+39,0))","v":0},{"$f":"+IF(OR($AU38=0,$AU38=\"NO\"),0,VLOOKUP($BA$16+$AZ38,Tasas!$C$78:$BY$1292,$BA$15+BW$33+39,0))","v":0},{"$f":"+IF(OR($AU38=0,$AU38=\"NO\"),0,VLOOKUP($BA$16+$AZ38,Tasas!$C$78:$BY$1292,$BA$15+BX$33+39,0))","v":0},{"$f":"+IF(OR($AU38=0,$AU38=\"NO\"),0,VLOOKUP($BA$16+$AZ38,Tasas!$C$78:$BY$1292,$BA$15+BY$33+39,0))","v":0},{"$f":"+IF(OR($AU38=0,$AU38=\"NO\"),0,VLOOKUP($BA$16+$AZ38,Tasas!$C$78:$BY$1292,$BA$15+BZ$33+39,0))","v":0},{"$f":"+IF(OR($AU38=0,$AU38=\"NO\"),0,VLOOKUP($BA$16+$AZ38,Tasas!$C$78:$BY$1292,$BA$15+CA$33+39,0))","v":0},{"$f":"+IF(OR($AU38=0,$AU38=\"NO\"),0,VLOOKUP($BA$16+$AZ38,Tasas!$C$78:$BY$1292,$BA$15+CB$33+39,0))","v":0},{"$f":"+IF(OR($AU38=0,$AU38=\"NO\"),0,VLOOKUP($BA$16+$AZ38,Tasas!$C$78:$BY$1292,$BA$15+CC$33+39,0))","v":0},{"$f":"+IF(OR($AU38=0,$AU38=\"NO\"),0,VLOOKUP($BA$16+$AZ38,Tasas!$C$78:$BY$1292,$BA$15+CD$33+39,0))","v":0},{"$f":"+IF(OR($AU38=0,$AU38=\"NO\"),0,VLOOKUP($BA$16+$AZ38,Tasas!$C$78:$BY$1292,$BA$15+CE$33+39,0))","v":0},{"$f":"+IF(OR($AU38=0,$AU38=\"NO\"),0,VLOOKUP($BA$16+$AZ38,Tasas!$C$78:$BY$1292,$BA$15+CF$33+39,0))","v":0},null,null,null,null,"Por limitación a horas de trabajo.",null,{"$f":"Cotizador!$E$93","v":0},10,{"$error":"#N/A"},{"$f":"IF(OR($CM38=\"\",$CM38=0),0,VLOOKUP($CO38,Tasas!$CB$17:$CL$70,Calculadora!CP$33,0))","v":0},{"$f":"IF(OR($CM38=\"\",$CM38=0),0,VLOOKUP($CO38,Tasas!$CB$17:$CL$70,Calculadora!CQ$33,0))","v":0},{"$f":"IF(OR($CM38=\"\",$CM38=0),0,VLOOKUP($CO38,Tasas!$CB$17:$CL$70,Calculadora!CR$33,0))","v":0},{"$f":"IF(OR($CM38=\"\",$CM38=0),0,VLOOKUP($CO38,Tasas!$CB$17:$CL$70,Calculadora!CS$33,0))","v":0},{"$f":"IF(OR($CM38=\"\",$CM38=0),0,VLOOKUP($CO38,Tasas!$CB$17:$CL$70,Calculadora!CT$33,0))","v":0},{"$f":"IF(OR($CM38=\"\",$CM38=0),0,VLOOKUP($CO38,Tasas!$CB$17:$CL$70,Calculadora!CU$33,0))","v":0},{"$f":"IF(OR($CM38=\"\",$CM38=0),0,VLOOKUP($CO38,Tasas!$CB$17:$CL$70,Calculadora!CV$33,0))","v":0},{"$f":"IF(OR($CM38=\"\",$CM38=0),0,VLOOKUP($CO38,Tasas!$CB$17:$CL$70,Calculadora!CW$33,0))","v":0},null,null,null,null,"Por limitación a horas de trabajo.",null,{"$f":"Cotizador!$E$93","v":0},10,{"$error":"#N/A"},{"$f":"IF(OR($DD38=\"\",$DD38=0),0,VLOOKUP($DF38,Tasas!$CO$17:$CY$70,Calculadora!DG$33,0))","v":0},{"$f":"IF(OR($DD38=\"\",$DD38=0),0,VLOOKUP($DF38,Tasas!$CO$17:$CY$70,Calculadora!DH$33,0))","v":0},{"$f":"IF(OR($DD38=\"\",$DD38=0),0,VLOOKUP($DF38,Tasas!$CO$17:$CY$70,Calculadora!DI$33,0))","v":0},{"$f":"IF(OR($DD38=\"\",$DD38=0),0,VLOOKUP($DF38,Tasas!$CO$17:$CY$70,Calculadora!DJ$33,0))","v":0},{"$f":"IF(OR($DD38=\"\",$DD38=0),0,VLOOKUP($DF38,Tasas!$CO$17:$CY$70,Calculadora!DK$33,0))","v":0},{"$f":"IF(OR($DD38=\"\",$DD38=0),0,VLOOKUP($DF38,Tasas!$CO$17:$CY$70,Calculadora!DL$33,0))","v":0},{"$f":"IF(OR($DD38=\"\",$DD38=0),0,VLOOKUP($DF38,Tasas!$CO$17:$CY$70,Calculadora!DM$33,0))","v":0},{"$f":"IF(OR($DD38=\"\",$DD38=0),0,VLOOKUP($DF38,Tasas!$CO$17:$CY$70,Calculadora!DN$33,0))","v":0},null,null,null,null,"Por limitación a horas de trabajo.",null,{"$f":"Cotizador!$E$93","v":0},10,{"$error":"#N/A"},{"$f":"IF(OR($DU38=\"\",$DU38=0),0,VLOOKUP($DW38,Tasas!$DB$17:$DL$70,Calculadora!DX$33,0))","v":0},{"$f":"IF(OR($DU38=\"\",$DU38=0),0,VLOOKUP($DW38,Tasas!$DB$17:$DL$70,Calculadora!DY$33,0))","v":0},{"$f":"IF(OR($DU38=\"\",$DU38=0),0,VLOOKUP($DW38,Tasas!$DB$17:$DL$70,Calculadora!DZ$33,0))","v":0},{"$f":"IF(OR($DU38=\"\",$DU38=0),0,VLOOKUP($DW38,Tasas!$DB$17:$DL$70,Calculadora!EA$33,0))","v":0},{"$f":"IF(OR($DU38=\"\",$DU38=0),0,VLOOKUP($DW38,Tasas!$DB$17:$DL$70,Calculadora!EB$33,0))","v":0},{"$f":"IF(OR($DU38=\"\",$DU38=0),0,VLOOKUP($DW38,Tasas!$DB$17:$DL$70,Calculadora!EC$33,0))","v":0},{"$f":"IF(OR($DU38=\"\",$DU38=0),0,VLOOKUP($DW38,Tasas!$DB$17:$DL$70,Calculadora!ED$33,0))","v":0},{"$f":"IF(OR($DU38=\"\",$DU38=0),0,VLOOKUP($DW38,Tasas!$DB$17:$DL$70,Calculadora!EE$33,0))","v":0},null,null,null,null,"Por limitación a horas de trabajo.",null,{"$f":"Cotizador!$E$93","v":0},10,{"$error":"#N/A"},{"$f":"IF(OR($EL38=\"\",$EL38=0),0,VLOOKUP($EN38,Tasas!$DO$17:$DY$70,Calculadora!EO$33,0))","v":0},{"$f":"IF(OR($EL38=\"\",$EL38=0),0,VLOOKUP($EN38,Tasas!$DO$17:$DY$70,Calculadora!EP$33,0))","v":0},{"$f":"IF(OR($EL38=\"\",$EL38=0),0,VLOOKUP($EN38,Tasas!$DO$17:$DY$70,Calculadora!EQ$33,0))","v":0},{"$f":"IF(OR($EL38=\"\",$EL38=0),0,VLOOKUP($EN38,Tasas!$DO$17:$DY$70,Calculadora!ER$33,0))","v":0},{"$f":"IF(OR($EL38=\"\",$EL38=0),0,VLOOKUP($EN38,Tasas!$DO$17:$DY$70,Calculadora!ES$33,0))","v":0},{"$f":"IF(OR($EL38=\"\",$EL38=0),0,VLOOKUP($EN38,Tasas!$DO$17:$DY$70,Calculadora!ET$33,0))","v":0},{"$f":"IF(OR($EL38=\"\",$EL38=0),0,VLOOKUP($EN38,Tasas!$DO$17:$DY$70,Calculadora!EU$33,0))","v":0},{"$f":"IF(OR($EL38=\"\",$EL38=0),0,VLOOKUP($EN38,Tasas!$DO$17:$DY$70,Calculadora!EV$33,0))","v":0},null,null,null,null,"Por limitación a horas de trabajo.",null,{"$f":"Cotizador!$E$93","v":0},10,{"$error":"#N/A"},{"$f":"IF(OR($FC38=\"\",$FC38=0),0,VLOOKUP($FE38,Tasas!$EB$17:$EL$70,Calculadora!FF$33,0))","v":0},{"$f":"IF(OR($FC38=\"\",$FC38=0),0,VLOOKUP($FE38,Tasas!$EB$17:$EL$70,Calculadora!FG$33,0))","v":0},{"$f":"IF(OR($FC38=\"\",$FC38=0),0,VLOOKUP($FE38,Tasas!$EB$17:$EL$70,Calculadora!FH$33,0))","v":0},{"$f":"IF(OR($FC38=\"\",$FC38=0),0,VLOOKUP($FE38,Tasas!$EB$17:$EL$70,Calculadora!FI$33,0))","v":0},{"$f":"IF(OR($FC38=\"\",$FC38=0),0,VLOOKUP($FE38,Tasas!$EB$17:$EL$70,Calculadora!FJ$33,0))","v":0},{"$f":"IF(OR($FC38=\"\",$FC38=0),0,VLOOKUP($FE38,Tasas!$EB$17:$EL$70,Calculadora!FK$33,0))","v":0},{"$f":"IF(OR($FC38=\"\",$FC38=0),0,VLOOKUP($FE38,Tasas!$EB$17:$EL$70,Calculadora!FL$33,0))","v":0},{"$f":"IF(OR($FC38=\"\",$FC38=0),0,VLOOKUP($FE38,Tasas!$EB$17:$EL$70,Calculadora!FM$33,0))","v":0},null,null,null,null,"Cláusula por la práctica no profesional de deportes y/o actividades de riesgo. N2",null,{"$f":"Cotizador!$E$113","v":0},null,5,{"$f":"IF(OR($FT38=0,$FT38=\"NO\"),0,VLOOKUP($FV38,Tasas!$EO$29:$FU$45,Calculadora!FW$32,0))","v":0},{"$f":"IF(OR($FT38=0,$FT38=\"NO\"),0,VLOOKUP($FV38,Tasas!$EO$29:$FU$45,Calculadora!FX$32,0))","v":0},{"$f":"IF(OR($FT38=0,$FT38=\"NO\"),0,VLOOKUP($FV38,Tasas!$EO$29:$FU$45,Calculadora!FY$32,0))","v":0},{"$f":"IF(OR($FT38=0,$FT38=\"NO\"),0,VLOOKUP($FV38,Tasas!$EO$29:$FU$45,Calculadora!FZ$32,0))","v":0},{"$f":"IF(OR($FT38=0,$FT38=\"NO\"),0,VLOOKUP($FV38,Tasas!$EO$29:$FU$45,Calculadora!GA$32,0))","v":0},{"$f":"IF(OR($FT38=0,$FT38=\"NO\"),0,VLOOKUP($FV38,Tasas!$EO$29:$FU$45,Calculadora!GB$32,0))","v":0},{"$f":"IF(OR($FT38=0,$FT38=\"NO\"),0,VLOOKUP($FV38,Tasas!$EO$29:$FU$45,Calculadora!GC$32,0))","v":0},{"$f":"IF(OR($FT38=0,$FT38=\"NO\"),0,VLOOKUP($FV38,Tasas!$EO$29:$FU$45,Calculadora!GD$32,0))","v":0},null,null,null,null,"Por limitación a horas de trabajo.",null,{"$f":"Cotizador!$E$93","v":0},null,null,null,null,192,{"$f":"+IF(OR($C38=0,$C38=\"NO\"),0,VLOOKUP($I$16+$H38,Tasas!$FY$78:$HJ$1228,$I$15+GQ$33+2,0))","v":0},{"$f":"+IF(OR($C38=0,$C38=\"NO\"),0,VLOOKUP($I$16+$H38,Tasas!$FY$78:$HJ$1228,$I$15+GR$33+2,0))","v":0},{"$f":"+IF(OR($C38=0,$C38=\"NO\"),0,VLOOKUP($I$16+$H38,Tasas!$FY$78:$HJ$1228,$I$15+GS$33+2,0))","v":0},{"$f":"+IF(OR($C38=0,$C38=\"NO\"),0,VLOOKUP($I$16+$H38,Tasas!$FY$78:$HJ$1228,$I$15+GT$33+2,0))","v":0},{"$f":"+IF(OR($C38=0,$C38=\"NO\"),0,VLOOKUP($I$16+$H38,Tasas!$FY$78:$HJ$1228,$I$15+GU$33+2,0))","v":0},{"$f":"+IF(OR($C38=0,$C38=\"NO\"),0,VLOOKUP($I$16+$H38,Tasas!$FY$78:$HJ$1228,$I$15+GV$33+2,0))","v":0},{"$f":"+IF(OR($C38=0,$C38=\"NO\"),0,VLOOKUP($I$16+$H38,Tasas!$FY$78:$HJ$1228,$I$15+GW$33+2,0))","v":0},{"$f":"+IF(OR($C38=0,$C38=\"NO\"),0,VLOOKUP($I$16+$H38,Tasas!$FY$78:$HJ$1228,$I$15+GX$33+2,0))","v":0}]
["Cláusula por la práctica no profesional de deportes y/o actividades de riesgo. Nivel 1 (Fútbol, béisbol, basquetbol).",null,{"$f":"Cotizador!$E$94","v":0},{"$f":"Cotizador!$G$94","v":0},{"$f":"Cotizador!$I$94","v":0},{"$f":"Cotizador!$K$94","v":0},null,256,{"$f":"+IF(OR($C39=0,$C39=\"NO\"),0,VLOOKUP($I$16+$H39,Tasas!$C$78:$AN$1228,$I$15+I$33+2,0))","v":0},{"$f":"+IF(OR($C39=0,$C39=\"NO\"),0,VLOOKUP($I$16+$H39,Tasas!$C$78:$AN$1228,$I$15+J$33+2,0))","v":0},{"$f":"+IF(OR($C39=0,$C39=\"NO\"),0,VLOOKUP($I$16+$H39,Tasas!$C$78:$AN$1228,$I$15+K$33+2,0))","v":0},{"$f":"+IF(OR($C39=0,$C39=\"NO\"),0,VLOOKUP($I$16+$H39,Tasas!$C$78:$AN$1228,$I$15+L$33+2,0))","v":0},{"$f":"+IF(OR($C39=0,$C39=\"NO\"),0,VLOOKUP($I$16+$H39,Tasas!$C$78:$AN$1228,$I$15+M$33+2,0))","v":0},{"$f":"+IF(OR($C39=0,$C39=\"NO\"),0,VLOOKUP($I$16+$H39,Tasas!$C$78:$AN$1228,$I$15+N$33+2,0))","v":0},{"$f":"+IF(OR($C39=0,$C39=\"NO\"),0,VLOOKUP($I$16+$H39,Tasas!$C$78:$AN$1228,$I$15+O$33+2,0))","v":0},{"$f":"+IF(OR($C39=0,$C39=\"NO\"),0,VLOOKUP($I$16+$H39,Tasas!$C$78:$AN$1228,$I$15+P$33+2,0))","v":0},{"$f":"+IF(OR($D39=0,$D39=\"NO\"),0,VLOOKUP($J$16+$H39,Tasas!$C$78:$AN$1228,$J$15+Q$33+2,0))","v":0},{"$f":"+IF(OR($D39=0,$D39=\"NO\"),0,VLOOKUP($J$16+$H39,Tasas!$C$78:$AN$1228,$J$15+R$33+2,0))","v":0},{"$f":"+IF(OR($D39=0,$D39=\"NO\"),0,VLOOKUP($J$16+$H39,Tasas!$C$78:$AN$1228,$J$15+S$33+2,0))","v":0},{"$f":"+IF(OR($D39=0,$D39=\"NO\"),0,VLOOKUP($J$16+$H39,Tasas!$C$78:$AN$1228,$J$15+T$33+2,0))","v":0},{"$f":"+IF(OR($D39=0,$D39=\"NO\"),0,VLOOKUP($J$16+$H39,Tasas!$C$78:$AN$1228,$J$15+U$33+2,0))","v":0},{"$f":"+IF(OR($D39=0,$D39=\"NO\"),0,VLOOKUP($J$16+$H39,Tasas!$C$78:$AN$1228,$J$15+V$33+2,0))","v":0},{"$f":"+IF(OR($D39=0,$D39=\"NO\"),0,VLOOKUP($J$16+$H39,Tasas!$C$78:$AN$1228,$J$15+W$33+2,0))","v":0},{"$f":"+IF(OR($D39=0,$D39=\"NO\"),0,VLOOKUP($J$16+$H39,Tasas!$C$78:$AN$1228,$J$15+X$33+2,0))","v":0},{"$f":"+IF(OR($E39=0,$E39=\"NO\"),0,VLOOKUP($K$16+$H39,Tasas!$C$78:$AN$1228,$K$15+Y$33+2,0))","v":0},{"$f":"+IF(OR($E39=0,$E39=\"NO\"),0,VLOOKUP($K$16+$H39,Tasas!$C$78:$AN$1228,$K$15+Z$33+2,0))","v":0},{"$f":"+IF(OR($E39=0,$E39=\"NO\"),0,VLOOKUP($K$16+$H39,Tasas!$C$78:$AN$1228,$K$15+AA$33+2,0))","v":0},{"$f":"+IF(OR($E39=0,$E39=\"NO\"),0,VLOOKUP($K$16+$H39,Tasas!$C$78:$AN$1228,$K$15+AB$33+2,0))","v":0},{"$f":"+IF(OR($E39=0,$E39=\"NO\"),0,VLOOKUP($K$16+$H39,Tasas!$C$78:$AN$1228,$K$15+AC$33+2,0))","v":0},{"$f":"+IF(OR($E39=0,$E39=\"NO\"),0,VLOOKUP($K$16+$H39,Tasas!$C$78:$AN$1228,$K$15+AD$33+2,0))","v":0},{"$f":"+IF(OR($E39=0,$E39=\"NO\"),0,VLOOKUP($K$16+$H39,Tasas!$C$78:$AN$1228,$K$15+AE$33+2,0))","v":0},{"$f":"+IF(OR($E39=0,$E39=\"NO\"),0,VLOOKUP($K$16+$H39,Tasas!$C$78:$AN$1228,$K$15+AF$33+2,0))","v":0},{"$f":"+IF(OR($F39=0,$F39=\"NO\"),0,VLOOKUP($L$16+$H39,Tasas!$C$78:$AN$1228,$L$15+AG$33+2,0))","v":0},{"$f":"+IF(OR($F39=0,$F39=\"NO\"),0,VLOOKUP($L$16+$H39,Tasas!$C$78:$AN$1228,$L$15+AH$33+2,0))","v":0},{"$f":"+IF(OR($F39=0,$F39=\"NO\"),0,VLOOKUP($L$16+$H39,Tasas!$C$78:$AN$1228,$L$15+AI$33+2,0))","v":0},{"$f":"+IF(OR($F39=0,$F39=\"NO\"),0,VLOOKUP($L$16+$H39,Tasas!$C$78:$AN$1228,$L$15+AJ$33+2,0))","v":0},{"$f":"+IF(OR($F39=0,$F39=\"NO\"),0,VLOOKUP($L$16+$H39,Tasas!$C$78:$AN$1228,$L$15+AK$33+2,0))","v":0},{"$f":"+IF(OR($F39=0,$F39=\"NO\"),0,VLOOKUP($L$16+$H39,Tasas!$C$78:$AN$1228,$L$15+AL$33+2,0))","v":0},{"$f":"+IF(OR($F39=0,$F39=\"NO\"),0,VLOOKUP($L$16+$H39,Tasas!$C$78:$AN$1228,$L$15+AM$33+2,0))","v":0},{"$f":"+IF(OR($F39=0,$F39=\"NO\"),0,VLOOKUP($L$16+$H39,Tasas!$C$78:$AN$1228,$L$15+AN$33+2,0))","v":0},null,null,null,null,"Cláusula por la práctica no profesional de deportes y/o actividades de riesgo. Nivel 1 (Fútbol, béisbol, basquetbol).",null,{"$f":"Cotizador!$E$94","v":0},{"$f":"Cotizador!$G$94","v":0},{"$f":"Cotizador!$I$94","v":0},{"$f":"Cotizador!$K$94","v":0},null,256,{"$f":"+IF(OR($AU39=0,$AU39=\"NO\"),0,VLOOKUP($BA$16+$AZ39,Tasas!$C$78:$BY$1292,$BA$15+BA$33+39,0))","v":0},{"$f":"+IF(OR($AU39=0,$AU39=\"NO\"),0,VLOOKUP($BA$16+$AZ39,Tasas!$C$78:$BY$1292,$BA$15+BB$33+39,0))","v":0},{"$f":"+IF(OR($AU39=0,$AU39=\"NO\"),0,VLOOKUP($BA$16+$AZ39,Tasas!$C$78:$BY$1292,$BA$15+BC$33+39,0))","v":0},{"$f":"+IF(OR($AU39=0,$AU39=\"NO\"),0,VLOOKUP($BA$16+$AZ39,Tasas!$C$78:$BY$1292,$BA$15+BD$33+39,0))","v":0},{"$f":"+IF(OR($AU39=0,$AU39=\"NO\"),0,VLOOKUP($BA$16+$AZ39,Tasas!$C$78:$BY$1292,$BA$15+BE$33+39,0))","v":0},{"$f":"+IF(OR($AU39=0,$AU39=\"NO\"),0,VLOOKUP($BA$16+$AZ39,Tasas!$C$78:$BY$1292,$BA$15+BF$33+39,0))","v":0},{"$f":"+IF(OR($AU39=0,$AU39=\"NO\"),0,VLOOKUP($BA$16+$AZ39,Tasas!$C$78:$BY$1292,$BA$15+BG$33+39,0))","v":0},{"$f":"+IF(OR($AU39=0,$AU39=\"NO\"),0,VLOOKUP($BA$16+$AZ39,Tasas!$C$78:$BY$1292,$BA$15+BH$33+39,0))","v":0},{"$f":"+IF(OR($AU39=0,$AU39=\"NO\"),0,VLOOKUP($BA$16+$AZ39,Tasas!$C$78:$BY$1292,$BA$15+BI$33+39,0))","v":0},{"$f":"+IF(OR($AU39=0,$AU39=\"NO\"),0,VLOOKUP($BA$16+$AZ39,Tasas!$C$78:$BY$1292,$BA$15+BJ$33+39,0))","v":0},{"$f":"+IF(OR($AU39=0,$AU39=\"NO\"),0,VLOOKUP($BA$16+$AZ39,Tasas!$C$78:$BY$1292,$BA$15+BK$33+39,0))","v":0},{"$f":"+IF(OR($AU39=0,$AU39=\"NO\"),0,VLOOKUP($BA$16+$AZ39,Tasas!$C$78:$BY$1292,$BA$15+BL$33+39,0))","v":0},{"$f":"+IF(OR($AU39=0,$AU39=\"NO\"),0,VLOOKUP($BA$16+$AZ39,Tasas!$C$78:$BY$1292,$BA$15+BM$33+39,0))","v":0},{"$f":"+IF(OR($AU39=0,$AU39=\"NO\"),0,VLOOKUP($BA$16+$AZ39,Tasas!$C$78:$BY$1292,$BA$15+BN$33+39,0))","v":0},{"$f":"+IF(OR($AU39=0,$AU39=\"NO\"),0,VLOOKUP($BA$16+$AZ39,Tasas!$C$78:$BY$1292,$BA$15+BO$33+39,0))","v":0},{"$f":"+IF(OR($AU39=0,$AU39=\"NO\"),0,VLOOKUP($BA$16+$AZ39,Tasas!$C$78:$BY$1292,$BA$15+BP$33+39,0))","v":0},{"$f":"+IF(OR($AU39=0,$AU39=\"NO\"),0,VLOOKUP($BA$16+$AZ39,Tasas!$C$78:$BY$1292,$BA$15+BQ$33+39,0))","v":0},{"$f":"+IF(OR($AU39=0,$AU39=\"NO\"),0,VLOOKUP($BA$16+$AZ39,Tasas!$C$78:$BY$1292,$BA$15+BR$33+39,0))","v":0},{"$f":"+IF(OR($AU39=0,$AU39=\"NO\"),0,VLOOKUP($BA$16+$AZ39,Tasas!$C$78:$BY$1292,$BA$15+BS$33+39,0))","v":0},{"$f":"+IF(OR($AU39=0,$AU39=\"NO\"),0,VLOOKUP($BA$16+$AZ39,Tasas!$C$78:$BY$1292,$BA$15+BT$33+39,0))","v":0},{"$f":"+IF(OR($AU39=0,$AU39=\"NO\"),0,VLOOKUP($BA$16+$AZ39,Tasas!$C$78:$BY$1292,$BA$15+BU$33+39,0))","v":0},{"$f":"+IF(OR($AU39=0,$AU39=\"NO\"),0,VLOOKUP($BA$16+$AZ39,Tasas!$C$78:$BY$1292,$BA$15+BV$33+39,0))","v":0},{"$f":"+IF(OR($AU39=0,$AU39=\"NO\"),0,VLOOKUP($BA$16+$AZ39,Tasas!$C$78:$BY$1292,$BA$15+BW$33+39,0))","v":0},{"$f":"+IF(OR($AU39=0,$AU39=\"NO\"),0,VLOOKUP($BA$16+$AZ39,Tasas!$C$78:$BY$1292,$BA$15+BX$33+39,0))","v":0},{"$f":"+IF(OR($AU39=0,$AU39=\"NO\"),0,VLOOKUP($BA$16+$AZ39,Tasas!$C$78:$BY$1292,$BA$15+BY$33+39,0))","v":0},{"$f":"+IF(OR($AU39=0,$AU39=\"NO\"),0,VLOOKUP($BA$16+$AZ39,Tasas!$C$78:$BY$1292,$BA$15+BZ$33+39,0))","v":0},{"$f":"+IF(OR($AU39=0,$AU39=\"NO\"),0,VLOOKUP($BA$16+$AZ39,Tasas!$C$78:$BY$1292,$BA$15+CA$33+39,0))","v":0},{"$f":"+IF(OR($AU39=0,$AU39=\"NO\"),0,VLOOKUP($BA$16+$AZ39,Tasas!$C$78:$BY$1292,$BA$15+CB$33+39,0))","v":0},{"$f":"+IF(OR($AU39=0,$AU39=\"NO\"),0,VLOOKUP($BA$16+$AZ39,Tasas!$C$78:$BY$1292,$BA$15+CC$33+39,0))","v":0},{"$f":"+IF(OR($AU39=0,$AU39=\"NO\"),0,VLOOKUP($BA$16+$AZ39,Tasas!$C$78:$BY$1292,$BA$15+CD$33+39,0))","v":0},{"$f":"+IF(OR($AU39=0,$AU39=\"NO\"),0,VLOOKUP($BA$16+$AZ39,Tasas!$C$78:$BY$1292,$BA$15+CE$33+39,0))","v":0},{"$f":"+IF(OR($AU39=0,$AU39=\"NO\"),0,VLOOKUP($BA$16+$AZ39,Tasas!$C$78:$BY$1292,$BA$15+CF$33+39,0))","v":0},null,null,null,null,"Cláusula por la práctica no profesional de deportes y/o actividades de riesgo. Nivel 1 (Fútbol, béisbol, basquetbol).",null,{"$f":"Cotizador!$E$94","v":0},13,{"$error":"#N/A"},{"$f":"IF(OR($CM39=\"\",$CM39=0),0,VLOOKUP($CO39,Tasas!$CB$17:$CL$70,Calculadora!CP$33,0))","v":0},{"$f":"IF(OR($CM39=\"\",$CM39=0),0,VLOOKUP($CO39,Tasas!$CB$17:$CL$70,Calculadora!CQ$33,0))","v":0},{"$f":"IF(OR($CM39=\"\",$CM39=0),0,VLOOKUP($CO39,Tasas!$CB$17:$CL$70,Calculadora!CR$33,0))","v":0},{"$f":"IF(OR($CM39=\"\",$CM39=0),0,VLOOKUP($CO39,Tasas!$CB$17:$CL$70,Calculadora!CS$33,0))","v":0},{"$f":"IF(OR($CM39=\"\",$CM39=0),0,VLOOKUP($CO39,Tasas!$CB$17:$CL$70,Calculadora!CT$33,0))","v":0},{"$f":"IF(OR($CM39=\"\",$CM39=0),0,VLOOKUP($CO39,Tasas!$CB$17:$CL$70,Calculadora!CU$33,0))","v":0},{"$f":"IF(OR($CM39=\"\",$CM39=0),0,VLOOKUP($CO39,Tasas!$CB$17:$CL$70,Calculadora!CV$33,0))","v":0},{"$f":"IF(OR($CM39=\"\",$CM39=0),0,VLOOKUP($CO39,Tasas!$CB$17:$CL$70,Calculadora!CW$33,0))","v":0},null,null,null,null,"Cláusula por la práctica no profesional de deportes y/o actividades de riesgo. Nivel 1 (Fútbol, béisbol, basquetbol).",null,{"$f":"Cotizador!$E$94","v":0},13,{"$error":"#N/A"},{"$f":"IF(OR($DD39=\"\",$DD39=0),0,VLOOKUP($DF39,Tasas!$CO$17:$CY$70,Calculadora!DG$33,0))","v":0},{"$f":"IF(OR($DD39=\"\",$DD39=0),0,VLOOKUP($DF39,Tasas!$CO$17:$CY$70,Calculadora!DH$33,0))","v":0},{"$f":"IF(OR($DD39=\"\",$DD39=0),0,VLOOKUP($DF39,Tasas!$CO$17:$CY$70,Calculadora!DI$33,0))","v":0},{"$f":"IF(OR($DD39=\"\",$DD39=0),0,VLOOKUP($DF39,Tasas!$CO$17:$CY$70,Calculadora!DJ$33,0))","v":0},{"$f":"IF(OR($DD39=\"\",$DD39=0),0,VLOOKUP($DF39,Tasas!$CO$17:$CY$70,Calculadora!DK$33,0))","v":0},{"$f":"IF(OR($DD39=\"\",$DD39=0),0,VLOOKUP($DF39,Tasas!$CO$17:$CY$70,Calculadora!DL$33,0))","v":0},{"$f":"IF(OR($DD39=\"\",$DD39=0),0,VLOOKUP($DF39,Tasas!$CO$17:$CY$70,Calculadora!DM$33,0))","v":0},{"$f":"IF(OR($DD39=\"\",$DD39=0),0,VLOOKUP($DF39,Tasas!$CO$17:$CY$70,Calculadora!DN$33,0))","v":0},null,null,null,null,"Cláusula por la práctica no profesional de deportes y/o actividades de riesgo. Nivel 1 (Fútbol, béisbol, basquetbol).",null,{"$f":"Cotizador!$E$94","v":0},13,{"$error":"#N/A"},{"$f":"IF(OR($DU39=\"\",$DU39=0),0,VLOOKUP($DW39,Tasas!$DB$17:$DL$70,Calculadora!DX$33,0))","v":0},{"$f":"IF(OR($DU39=\"\",$DU39=0),0,VLOOKUP($DW39,Tasas!$DB$17:$DL$70,Calculadora!DY$33,0))","v":0},{"$f":"IF(OR($DU39=\"\",$DU39=0),0,VLOOKUP($DW39,Tasas!$DB$17:$DL$70,Calculadora!DZ$33,0))","v":0},{"$f":"IF(OR($DU39=\"\",$DU39=0),0,VLOOKUP($DW39,Tasas!$DB$17:$DL$70,Calculadora!EA$33,0))","v":0},{"$f":"IF(OR($DU39=\"\",$DU39=0),0,VLOOKUP($DW39,Tasas!$DB$17:$DL$70,Calculadora!EB$33,0))","v":0},{"$f":"IF(OR($DU39=\"\",$DU39=0),0,VLOOKUP($DW39,Tasas!$DB$17:$DL$70,Calculadora!EC$33,0))","v":0},{"$f":"IF(OR($DU39=\"\",$DU39=0),0,VLOOKUP($DW39,Tasas!$DB$17:$DL$70,Calculadora!ED$33,0))","v":0},{"$f":"IF(OR($DU39=\"\",$DU39=0),0,VLOOKUP($DW39,Tasas!$DB$17:$DL$70,Calculadora!EE$33,0))","v":0},null,null,null,null,"Cláusula por la práctica no profesional de deportes y/o actividades de riesgo. Nivel 1 (Fútbol, béisbol, basquetbol).",null,{"$f":"Cotizador!$E$94","v":0},13,{"$error":"#N/A"},{"$f":"IF(OR($EL39=\"\",$EL39=0),0,VLOOKUP($EN39,Tasas!$DO$17:$DY$70,Calculadora!EO$33,0))","v":0},{"$f":"IF(OR($EL39=\"\",$EL39=0),0,VLOOKUP($EN39,Tasas!$DO$17:$DY$70,Calculadora!EP$33,0))","v":0},{"$f":"IF(OR($EL39=\"\",$EL39=0),0,VLOOKUP($EN39,Tasas!$DO$17:$DY$70,Calculadora!EQ$33,0))","v":0},{"$f":"IF(OR($EL39=\"\",$EL39=0),0,VLOOKUP($EN39,Tasas!$DO$17:$DY$70,Calculadora!ER$33,0))","v":0},{"$f":"IF(OR($EL39=\"\",$EL39=0),0,VLOOKUP($EN39,Tasas!$DO$17:$DY$70,Calculadora!ES$33,0))","v":0},{"$f":"IF(OR($EL39=\"\",$EL39=0),0,VLOOKUP($EN39,Tasas!$DO$17:$DY$70,Calculadora!ET$33,0))","v":0},{"$f":"IF(OR($EL39=\"\",$EL39=0),0,VLOOKUP($EN39,Tasas!$DO$17:$DY$70,Calculadora!EU$33,0))","v":0},{"$f":"IF(OR($EL39=\"\",$EL39=0),0,VLOOKUP($EN39,Tasas!$DO$17:$DY$70,Calculadora!EV$33,0))","v":0},null,null,null,null,"Cláusula por la práctica no profesional de deportes y/o actividades de riesgo. Nivel 1 (Fútbol, béisbol, basquetbol).",null,{"$f":"Cotizador!$E$94","v":0},13,{"$error":"#N/A"},{"$f":"IF(OR($FC39=\"\",$FC39=0),0,VLOOKUP($FE39,Tasas!$EB$17:$EL$70,Calculadora!FF$33,0))","v":0},{"$f":"IF(OR($FC39=\"\",$FC39=0),0,VLOOKUP($FE39,Tasas!$EB$17:$EL$70,Calculadora!FG$33,0))","v":0},{"$f":"IF(OR($FC39=\"\",$FC39=0),0,VLOOKUP($FE39,Tasas!$EB$17:$EL$70,Calculadora!FH$33,0))","v":0},{"$f":"IF(OR($FC39=\"\",$FC39=0),0,VLOOKUP($FE39,Tasas!$EB$17:$EL$70,Calculadora!FI$33,0))","v":0},{"$f":"IF(OR($FC39=\"\",$FC39=0),0,VLOOKUP($FE39,Tasas!$EB$17:$EL$70,Calculadora!FJ$33,0))","v":0},{"$f":"IF(OR($FC39=\"\",$FC39=0),0,VLOOKUP($FE39,Tasas!$EB$17:$EL$70,Calculadora!FK$33,0))","v":0},{"$f":"IF(OR($FC39=\"\",$FC39=0),0,VLOOKUP($FE39,Tasas!$EB$17:$EL$70,Calculadora!FL$33,0))","v":0},{"$f":"IF(OR($FC39=\"\",$FC39=0),0,VLOOKUP($FE39,Tasas!$EB$17:$EL$70,Calculadora!FM$33,0))","v":0},null,null,null,null,"Cláusula por la práctica no profesional de deportes y/o actividades de riesgo. N3",null,{"$f":"Cotizador!$E$114","v":0},null,6,{"$f":"IF(OR($FT39=0,$FT39=\"NO\"),0,VLOOKUP($FV39,Tasas!$EO$29:$FU$45,Calculadora!FW$32,0))","v":0},{"$f":"IF(OR($FT39=0,$FT39=\"NO\"),0,VLOOKUP($FV39,Tasas!$EO$29:$FU$45,Calculadora!FX$32,0))","v":0},{"$f":"IF(OR($FT39=0,$FT39=\"NO\"),0,VLOOKUP($FV39,Tasas!$EO$29:$FU$45,Calculadora!FY$32,0))","v":0},{"$f":"IF(OR($FT39=0,$FT39=\"NO\"),0,VLOOKUP($FV39,Tasas!$EO$29:$FU$45,Calculadora!FZ$32,0))","v":0},{"$f":"IF(OR($FT39=0,$FT39=\"NO\"),0,VLOOKUP($FV39,Tasas!$EO$29:$FU$45,Calculadora!GA$32,0))","v":0},{"$f":"IF(OR($FT39=0,$FT39=\"NO\"),0,VLOOKUP($FV39,Tasas!$EO$29:$FU$45,Calculadora!GB$32,0))","v":0},{"$f":"IF(OR($FT39=0,$FT39=\"NO\"),0,VLOOKUP($FV39,Tasas!$EO$29:$FU$45,Calculadora!GC$32,0))","v":0},{"$f":"IF(OR($FT39=0,$FT39=\"NO\"),0,VLOOKUP($FV39,Tasas!$EO$29:$FU$45,Calculadora!GD$32,0))","v":0},null,null,null,null,"Cláusula por la práctica no profesional de deportes y/o actividades de riesgo. Nivel 1 (Fútbol, béisbol, basquetbol).",null,{"$f":"Cotizador!$E$94","v":0},null,null,null,null,256,{"$f":"+IF(OR($C39=0,$C39=\"NO\"),0,VLOOKUP($I$16+$H39,Tasas!$FY$78:$HJ$1228,$I$15+GQ$33+2,0))","v":0},{"$f":"+IF(OR($C39=0,$C39=\"NO\"),0,VLOOKUP($I$16+$H39,Tasas!$FY$78:$HJ$1228,$I$15+GR$33+2,0))","v":0},{"$f":"+IF(OR($C39=0,$C39=\"NO\"),0,VLOOKUP($I$16+$H39,Tasas!$FY$78:$HJ$1228,$I$15+GS$33+2,0))","v":0},{"$f":"+IF(OR($C39=0,$C39=\"NO\"),0,VLOOKUP($I$16+$H39,Tasas!$FY$78:$HJ$1228,$I$15+GT$33+2,0))","v":0},{"$f":"+IF(OR($C39=0,$C39=\"NO\"),0,VLOOKUP($I$16+$H39,Tasas!$FY$78:$HJ$1228,$I$15+GU$33+2,0))","v":0},{"$f":"+IF(OR($C39=0,$C39=\"NO\"),0,VLOOKUP($I$16+$H39,Tasas!$FY$78:$HJ$1228,$I$15+GV$33+2,0))","v":0},{"$f":"+IF(OR($C39=0,$C39=\"NO\"),0,VLOOKUP($I$16+$H39,Tasas!$FY$78:$HJ$1228,$I$15+GW$33+2,0))","v":0},{"$f":"+IF(OR($C39=0,$C39=\"NO\"),0,VLOOKUP($I$16+$H39,Tasas!$FY$78:$HJ$1228,$I$15+GX$33+2,0))","v":0}]
["Cláusula por la práctica no profesional de deportes y/o actividades de riesgo. Nivel 2 (Polo, jockey, pesca en alta mar, rodeo, rugby, esquí acuático, equitación, tabla hawaiana).",null,{"$f":"Cotizador!$E$95","v":0},{"$f":"Cotizador!$G$95","v":0},{"$f":"Cotizador!$I$95","v":0},{"$f":"Cotizador!$K$95","v":0},null,320,{"$f":"+IF(OR($C40=0,$C40=\"NO\"),0,VLOOKUP($I$16+$H40,Tasas!$C$78:$AN$1228,$I$15+I$33+2,0))","v":0},{"$f":"+IF(OR($C40=0,$C40=\"NO\"),0,VLOOKUP($I$16+$H40,Tasas!$C$78:$AN$1228,$I$15+J$33+2,0))","v":0},{"$f":"+IF(OR($C40=0,$C40=\"NO\"),0,VLOOKUP($I$16+$H40,Tasas!$C$78:$AN$1228,$I$15+K$33+2,0))","v":0},{"$f":"+IF(OR($C40=0,$C40=\"NO\"),0,VLOOKUP($I$16+$H40,Tasas!$C$78:$AN$1228,$I$15+L$33+2,0))","v":0},{"$f":"+IF(OR($C40=0,$C40=\"NO\"),0,VLOOKUP($I$16+$H40,Tasas!$C$78:$AN$1228,$I$15+M$33+2,0))","v":0},{"$f":"+IF(OR($C40=0,$C40=\"NO\"),0,VLOOKUP($I$16+$H40,Tasas!$C$78:$AN$1228,$I$15+N$33+2,0))","v":0},{"$f":"+IF(OR($C40=0,$C40=\"NO\"),0,VLOOKUP($I$16+$H40,Tasas!$C$78:$AN$1228,$I$15+O$33+2,0))","v":0},{"$f":"+IF(OR($C40=0,$C40=\"NO\"),0,VLOOKUP($I$16+$H40,Tasas!$C$78:$AN$1228,$I$15+P$33+2,0))","v":0},{"$f":"+IF(OR($D40=0,$D40=\"NO\"),0,VLOOKUP($J$16+$H40,Tasas!$C$78:$AN$1228,$J$15+Q$33+2,0))","v":0},{"$f":"+IF(OR($D40=0,$D40=\"NO\"),0,VLOOKUP($J$16+$H40,Tasas!$C$78:$AN$1228,$J$15+R$33+2,0))","v":0},{"$f":"+IF(OR($D40=0,$D40=\"NO\"),0,VLOOKUP($J$16+$H40,Tasas!$C$78:$AN$1228,$J$15+S$33+2,0))","v":0},{"$f":"+IF(OR($D40=0,$D40=\"NO\"),0,VLOOKUP($J$16+$H40,Tasas!$C$78:$AN$1228,$J$15+T$33+2,0))","v":0},{"$f":"+IF(OR($D40=0,$D40=\"NO\"),0,VLOOKUP($J$16+$H40,Tasas!$C$78:$AN$1228,$J$15+U$33+2,0))","v":0},{"$f":"+IF(OR($D40=0,$D40=\"NO\"),0,VLOOKUP($J$16+$H40,Tasas!$C$78:$AN$1228,$J$15+V$33+2,0))","v":0},{"$f":"+IF(OR($D40=0,$D40=\"NO\"),0,VLOOKUP($J$16+$H40,Tasas!$C$78:$AN$1228,$J$15+W$33+2,0))","v":0},{"$f":"+IF(OR($D40=0,$D40=\"NO\"),0,VLOOKUP($J$16+$H40,Tasas!$C$78:$AN$1228,$J$15+X$33+2,0))","v":0},{"$f":"+IF(OR($E40=0,$E40=\"NO\"),0,VLOOKUP($K$16+$H40,Tasas!$C$78:$AN$1228,$K$15+Y$33+2,0))","v":0},{"$f":"+IF(OR($E40=0,$E40=\"NO\"),0,VLOOKUP($K$16+$H40,Tasas!$C$78:$AN$1228,$K$15+Z$33+2,0))","v":0},{"$f":"+IF(OR($E40=0,$E40=\"NO\"),0,VLOOKUP($K$16+$H40,Tasas!$C$78:$AN$1228,$K$15+AA$33+2,0))","v":0},{"$f":"+IF(OR($E40=0,$E40=\"NO\"),0,VLOOKUP($K$16+$H40,Tasas!$C$78:$AN$1228,$K$15+AB$33+2,0))","v":0},{"$f":"+IF(OR($E40=0,$E40=\"NO\"),0,VLOOKUP($K$16+$H40,Tasas!$C$78:$AN$1228,$K$15+AC$33+2,0))","v":0},{"$f":"+IF(OR($E40=0,$E40=\"NO\"),0,VLOOKUP($K$16+$H40,Tasas!$C$78:$AN$1228,$K$15+AD$33+2,0))","v":0},{"$f":"+IF(OR($E40=0,$E40=\"NO\"),0,VLOOKUP($K$16+$H40,Tasas!$C$78:$AN$1228,$K$15+AE$33+2,0))","v":0},{"$f":"+IF(OR($E40=0,$E40=\"NO\"),0,VLOOKUP($K$16+$H40,Tasas!$C$78:$AN$1228,$K$15+AF$33+2,0))","v":0},{"$f":"+IF(OR($F40=0,$F40=\"NO\"),0,VLOOKUP($L$16+$H40,Tasas!$C$78:$AN$1228,$L$15+AG$33+2,0))","v":0},{"$f":"+IF(OR($F40=0,$F40=\"NO\"),0,VLOOKUP($L$16+$H40,Tasas!$C$78:$AN$1228,$L$15+AH$33+2,0))","v":0},{"$f":"+IF(OR($F40=0,$F40=\"NO\"),0,VLOOKUP($L$16+$H40,Tasas!$C$78:$AN$1228,$L$15+AI$33+2,0))","v":0},{"$f":"+IF(OR($F40=0,$F40=\"NO\"),0,VLOOKUP($L$16+$H40,Tasas!$C$78:$AN$1228,$L$15+AJ$33+2,0))","v":0},{"$f":"+IF(OR($F40=0,$F40=\"NO\"),0,VLOOKUP($L$16+$H40,Tasas!$C$78:$AN$1228,$L$15+AK$33+2,0))","v":0},{"$f":"+IF(OR($F40=0,$F40=\"NO\"),0,VLOOKUP($L$16+$H40,Tasas!$C$78:$AN$1228,$L$15+AL$33+2,0))","v":0},{"$f":"+IF(OR($F40=0,$F40=\"NO\"),0,VLOOKUP($L$16+$H40,Tasas!$C$78:$AN$1228,$L$15+AM$33+2,0))","v":0},{"$f":"+IF(OR($F40=0,$F40=\"NO\"),0,VLOOKUP($L$16+$H40,Tasas!$C$78:$AN$1228,$L$15+AN$33+2,0))","v":0},null,null,null,null,"Cláusula por la práctica no profesional de deportes y/o actividades de riesgo. Nivel 2 (Polo, jockey, pesca en alta mar, rodeo, rugby, esquí acuático, equitación, tabla hawaiana).",null,{"$f":"Cotizador!$E$95","v":0},{"$f":"Cotizador!$G$95","v":0},{"$f":"Cotizador!$I$95","v":0},{"$f":"Cotizador!$K$95","v":0},null,320,{"$f":"+IF(OR($AU40=0,$AU40=\"NO\"),0,VLOOKUP($BA$16+$AZ40,Tasas!$C$78:$BY$1292,$BA$15+BA$33+39,0))","v":0},{"$f":"+IF(OR($AU40=0,$AU40=\"NO\"),0,VLOOKUP($BA$16+$AZ40,Tasas!$C$78:$BY$1292,$BA$15+BB$33+39,0))","v":0},{"$f":"+IF(OR($AU40=0,$AU40=\"NO\"),0,VLOOKUP($BA$16+$AZ40,Tasas!$C$78:$BY$1292,$BA$15+BC$33+39,0))","v":0},{"$f":"+IF(OR($AU40=0,$AU40=\"NO\"),0,VLOOKUP($BA$16+$AZ40,Tasas!$C$78:$BY$1292,$BA$15+BD$33+39,0))","v":0},{"$f":"+IF(OR($AU40=0,$AU40=\"NO\"),0,VLOOKUP($BA$16+$AZ40,Tasas!$C$78:$BY$1292,$BA$15+BE$33+39,0))","v":0},{"$f":"+IF(OR($AU40=0,$AU40=\"NO\"),0,VLOOKUP($BA$16+$AZ40,Tasas!$C$78:$BY$1292,$BA$15+BF$33+39,0))","v":0},{"$f":"+IF(OR($AU40=0,$AU40=\"NO\"),0,VLOOKUP($BA$16+$AZ40,Tasas!$C$78:$BY$1292,$BA$15+BG$33+39,0))","v":0},{"$f":"+IF(OR($AU40=0,$AU40=\"NO\"),0,VLOOKUP($BA$16+$AZ40,Tasas!$C$78:$BY$1292,$BA$15+BH$33+39,0))","v":0},{"$f":"+IF(OR($AU40=0,$AU40=\"NO\"),0,VLOOKUP($BA$16+$AZ40,Tasas!$C$78:$BY$1292,$BA$15+BI$33+39,0))","v":0},{"$f":"+IF(OR($AU40=0,$AU40=\"NO\"),0,VLOOKUP($BA$16+$AZ40,Tasas!$C$78:$BY$1292,$BA$15+BJ$33+39,0))","v":0},{"$f":"+IF(OR($AU40=0,$AU40=\"NO\"),0,VLOOKUP($BA$16+$AZ40,Tasas!$C$78:$BY$1292,$BA$15+BK$33+39,0))","v":0},{"$f":"+IF(OR($AU40=0,$AU40=\"NO\"),0,VLOOKUP($BA$16+$AZ40,Tasas!$C$78:$BY$1292,$BA$15+BL$33+39,0))","v":0},{"$f":"+IF(OR($AU40=0,$AU40=\"NO\"),0,VLOOKUP($BA$16+$AZ40,Tasas!$C$78:$BY$1292,$BA$15+BM$33+39,0))","v":0},{"$f":"+IF(OR($AU40=0,$AU40=\"NO\"),0,VLOOKUP($BA$16+$AZ40,Tasas!$C$78:$BY$1292,$BA$15+BN$33+39,0))","v":0},{"$f":"+IF(OR($AU40=0,$AU40=\"NO\"),0,VLOOKUP($BA$16+$AZ40,Tasas!$C$78:$BY$1292,$BA$15+BO$33+39,0))","v":0},{"$f":"+IF(OR($AU40=0,$AU40=\"NO\"),0,VLOOKUP($BA$16+$AZ40,Tasas!$C$78:$BY$1292,$BA$15+BP$33+39,0))","v":0},{"$f":"+IF(OR($AU40=0,$AU40=\"NO\"),0,VLOOKUP($BA$16+$AZ40,Tasas!$C$78:$BY$1292,$BA$15+BQ$33+39,0))","v":0},{"$f":"+IF(OR($AU40=0,$AU40=\"NO\"),0,VLOOKUP($BA$16+$AZ40,Tasas!$C$78:$BY$1292,$BA$15+BR$33+39,0))","v":0},{"$f":"+IF(OR($AU40=0,$AU40=\"NO\"),0,VLOOKUP($BA$16+$AZ40,Tasas!$C$78:$BY$1292,$BA$15+BS$33+39,0))","v":0},{"$f":"+IF(OR($AU40=0,$AU40=\"NO\"),0,VLOOKUP($BA$16+$AZ40,Tasas!$C$78:$BY$1292,$BA$15+BT$33+39,0))","v":0},{"$f":"+IF(OR($AU40=0,$AU40=\"NO\"),0,VLOOKUP($BA$16+$AZ40,Tasas!$C$78:$BY$1292,$BA$15+BU$33+39,0))","v":0},{"$f":"+IF(OR($AU40=0,$AU40=\"NO\"),0,VLOOKUP($BA$16+$AZ40,Tasas!$C$78:$BY$1292,$BA$15+BV$33+39,0))","v":0},{"$f":"+IF(OR($AU40=0,$AU40=\"NO\"),0,VLOOKUP($BA$16+$AZ40,Tasas!$C$78:$BY$1292,$BA$15+BW$33+39,0))","v":0},{"$f":"+IF(OR($AU40=0,$AU40=\"NO\"),0,VLOOKUP($BA$16+$AZ40,Tasas!$C$78:$BY$1292,$BA$15+BX$33+39,0))","v":0},{"$f":"+IF(OR($AU40=0,$AU40=\"NO\"),0,VLOOKUP($BA$16+$AZ40,Tasas!$C$78:$BY$1292,$BA$15+BY$33+39,0))","v":0},{"$f":"+IF(OR($AU40=0,$AU40=\"NO\"),0,VLOOKUP($BA$16+$AZ40,Tasas!$C$78:$BY$1292,$BA$15+BZ$33+39,0))","v":0},{"$f":"+IF(OR($AU40=0,$AU40=\"NO\"),0,VLOOKUP($BA$16+$AZ40,Tasas!$C$78:$BY$1292,$BA$15+CA$33+39,0))","v":0},{"$f":"+IF(OR($AU40=0,$AU40=\"NO\"),0,VLOOKUP($BA$16+$AZ40,Tasas!$C$78:$BY$1292,$BA$15+CB$33+39,0))","v":0},{"$f":"+IF(OR($AU40=0,$AU40=\"NO\"),0,VLOOKUP($BA$16+$AZ40,Tasas!$C$78:$BY$1292,$BA$15+CC$33+39,0))","v":0},{"$f":"+IF(OR($AU40=0,$AU40=\"NO\"),0,VLOOKUP($BA$16+$AZ40,Tasas!$C$78:$BY$1292,$BA$15+CD$33+39,0))","v":0},{"$f":"+IF(OR($AU40=0,$AU40=\"NO\"),0,VLOOKUP($BA$16+$AZ40,Tasas!$C$78:$BY$1292,$BA$15+CE$33+39,0))","v":0},{"$f":"+IF(OR($AU40=0,$AU40=\"NO\"),0,VLOOKUP($BA$16+$AZ40,Tasas!$C$78:$BY$1292,$BA$15+CF$33+39,0))","v":0},null,null,null,null,"Cláusula por la práctica no profesional de deportes y/o actividades de riesgo. Nivel 2 (Polo, jockey, pesca en alta mar, rodeo, rugby, esquí acuático, equitación, tabla hawaiana).",null,{"$f":"Cotizador!$E$95","v":0},16,{"$error":"#N/A"},{"$f":"IF(OR($CM40=\"\",$CM40=0),0,VLOOKUP($CO40,Tasas!$CB$17:$CL$70,Calculadora!CP$33,0))","v":0},{"$f":"IF(OR($CM40=\"\",$CM40=0),0,VLOOKUP($CO40,Tasas!$CB$17:$CL$70,Calculadora!CQ$33,0))","v":0},{"$f":"IF(OR($CM40=\"\",$CM40=0),0,VLOOKUP($CO40,Tasas!$CB$17:$CL$70,Calculadora!CR$33,0))","v":0},{"$f":"IF(OR($CM40=\"\",$CM40=0),0,VLOOKUP($CO40,Tasas!$CB$17:$CL$70,Calculadora!CS$33,0))","v":0},{"$f":"IF(OR($CM40=\"\",$CM40=0),0,VLOOKUP($CO40,Tasas!$CB$17:$CL$70,Calculadora!CT$33,0))","v":0},{"$f":"IF(OR($CM40=\"\",$CM40=0),0,VLOOKUP($CO40,Tasas!$CB$17:$CL$70,Calculadora!CU$33,0))","v":0},{"$f":"IF(OR($CM40=\"\",$CM40=0),0,VLOOKUP($CO40,Tasas!$CB$17:$CL$70,Calculadora!CV$33,0))","v":0},{"$f":"IF(OR($CM40=\"\",$CM40=0),0,VLOOKUP($CO40,Tasas!$CB$17:$CL$70,Calculadora!CW$33,0))","v":0},null,null,null,null,"Cláusula por la práctica no profesional de deportes y/o actividades de riesgo. Nivel 2 (Polo, jockey, pesca en alta mar, rodeo, rugby, esquí acuático, equitación, tabla hawaiana).",null,{"$f":"Cotizador!$E$95","v":0},16,{"$error":"#N/A"},{"$f":"IF(OR($DD40=\"\",$DD40=0),0,VLOOKUP($DF40,Tasas!$CO$17:$CY$70,Calculadora!DG$33,0))","v":0},{"$f":"IF(OR($DD40=\"\",$DD40=0),0,VLOOKUP($DF40,Tasas!$CO$17:$CY$70,Calculadora!DH$33,0))","v":0},{"$f":"IF(OR($DD40=\"\",$DD40=0),0,VLOOKUP($DF40,Tasas!$CO$17:$CY$70,Calculadora!DI$33,0))","v":0},{"$f":"IF(OR($DD40=\"\",$DD40=0),0,VLOOKUP($DF40,Tasas!$CO$17:$CY$70,Calculadora!DJ$33,0))","v":0},{"$f":"IF(OR($DD40=\"\",$DD40=0),0,VLOOKUP($DF40,Tasas!$CO$17:$CY$70,Calculadora!DK$33,0))","v":0},{"$f":"IF(OR($DD40=\"\",$DD40=0),0,VLOOKUP($DF40,Tasas!$CO$17:$CY$70,Calculadora!DL$33,0))","v":0},{"$f":"IF(OR($DD40=\"\",$DD40=0),0,VLOOKUP($DF40,Tasas!$CO$17:$CY$70,Calculadora!DM$33,0))","v":0},{"$f":"IF(OR($DD40=\"\",$DD40=0),0,VLOOKUP($DF40,Tasas!$CO$17:$CY$70,Calculadora!DN$33,0))","v":0},null,null,null,null,"Cláusula por la práctica no profesional de deportes y/o actividades de riesgo. Nivel 2 (Polo, jockey, pesca en alta mar, rodeo, rugby, esquí acuático, equitación, tabla hawaiana).",null,{"$f":"Cotizador!$E$95","v":0},16,{"$error":"#N/A"},{"$f":"IF(OR($DU40=\"\",$DU40=0),0,VLOOKUP($DW40,Tasas!$DB$17:$DL$70,Calculadora!DX$33,0))","v":0},{"$f":"IF(OR($DU40=\"\",$DU40=0),0,VLOOKUP($DW40,Tasas!$DB$17:$DL$70,Calculadora!DY$33,0))","v":0},{"$f":"IF(OR($DU40=\"\",$DU40=0),0,VLOOKUP($DW40,Tasas!$DB$17:$DL$70,Calculadora!DZ$33,0))","v":0},{"$f":"IF(OR($DU40=\"\",$DU40=0),0,VLOOKUP($DW40,Tasas!$DB$17:$DL$70,Calculadora!EA$33,0))","v":0},{"$f":"IF(OR($DU40=\"\",$DU40=0),0,VLOOKUP($DW40,Tasas!$DB$17:$DL$70,Calculadora!EB$33,0))","v":0},{"$f":"IF(OR($DU40=\"\",$DU40=0),0,VLOOKUP($DW40,Tasas!$DB$17:$DL$70,Calculadora!EC$33,0))","v":0},{"$f":"IF(OR($DU40=\"\",$DU40=0),0,VLOOKUP($DW40,Tasas!$DB$17:$DL$70,Calculadora!ED$33,0))","v":0},{"$f":"IF(OR($DU40=\"\",$DU40=0),0,VLOOKUP($DW40,Tasas!$DB$17:$DL$70,Calculadora!EE$33,0))","v":0},null,null,null,null,"Cláusula por la práctica no profesional de deportes y/o actividades de riesgo. Nivel 2 (Polo, jockey, pesca en alta mar, rodeo, rugby, esquí acuático, equitación, tabla hawaiana).",null,{"$f":"Cotizador!$E$95","v":0},16,{"$error":"#N/A"},{"$f":"IF(OR($EL40=\"\",$EL40=0),0,VLOOKUP($EN40,Tasas!$DO$17:$DY$70,Calculadora!EO$33,0))","v":0},{"$f":"IF(OR($EL40=\"\",$EL40=0),0,VLOOKUP($EN40,Tasas!$DO$17:$DY$70,Calculadora!EP$33,0))","v":0},{"$f":"IF(OR($EL40=\"\",$EL40=0),0,VLOOKUP($EN40,Tasas!$DO$17:$DY$70,Calculadora!EQ$33,0))","v":0},{"$f":"IF(OR($EL40=\"\",$EL40=0),0,VLOOKUP($EN40,Tasas!$DO$17:$DY$70,Calculadora!ER$33,0))","v":0},{"$f":"IF(OR($EL40=\"\",$EL40=0),0,VLOOKUP($EN40,Tasas!$DO$17:$DY$70,Calculadora!ES$33,0))","v":0},{"$f":"IF(OR($EL40=\"\",$EL40=0),0,VLOOKUP($EN40,Tasas!$DO$17:$DY$70,Calculadora!ET$33,0))","v":0},{"$f":"IF(OR($EL40=\"\",$EL40=0),0,VLOOKUP($EN40,Tasas!$DO$17:$DY$70,Calculadora!EU$33,0))","v":0},{"$f":"IF(OR($EL40=\"\",$EL40=0),0,VLOOKUP($EN40,Tasas!$DO$17:$DY$70,Calculadora!EV$33,0))","v":0},null,null,null,null,"Cláusula por la práctica no profesional de deportes y/o actividades de riesgo. Nivel 2 (Polo, jockey, pesca en alta mar, rodeo, rugby, esquí acuático, equitación, tabla hawaiana).",null,{"$f":"Cotizador!$E$95","v":0},16,{"$error":"#N/A"},{"$f":"IF(OR($FC40=\"\",$FC40=0),0,VLOOKUP($FE40,Tasas!$EB$17:$EL$70,Calculadora!FF$33,0))","v":0},{"$f":"IF(OR($FC40=\"\",$FC40=0),0,VLOOKUP($FE40,Tasas!$EB$17:$EL$70,Calculadora!FG$33,0))","v":0},{"$f":"IF(OR($FC40=\"\",$FC40=0),0,VLOOKUP($FE40,Tasas!$EB$17:$EL$70,Calculadora!FH$33,0))","v":0},{"$f":"IF(OR($FC40=\"\",$FC40=0),0,VLOOKUP($FE40,Tasas!$EB$17:$EL$70,Calculadora!FI$33,0))","v":0},{"$f":"IF(OR($FC40=\"\",$FC40=0),0,VLOOKUP($FE40,Tasas!$EB$17:$EL$70,Calculadora!FJ$33,0))","v":0},{"$f":"IF(OR($FC40=\"\",$FC40=0),0,VLOOKUP($FE40,Tasas!$EB$17:$EL$70,Calculadora!FK$33,0))","v":0},{"$f":"IF(OR($FC40=\"\",$FC40=0),0,VLOOKUP($FE40,Tasas!$EB$17:$EL$70,Calculadora!FL$33,0))","v":0},{"$f":"IF(OR($FC40=\"\",$FC40=0),0,VLOOKUP($FE40,Tasas!$EB$17:$EL$70,Calculadora!FM$33,0))","v":0},null,null,null,null,"Cláusula por la conducción urbana o rural de motocicletas, motonetas y otros vehículos similares.",null,{"$f":"Cotizador!$E$115","v":0},null,7,{"$f":"IF(OR($FT40=0,$FT40=\"NO\"),0,VLOOKUP($FV40,Tasas!$EO$29:$FU$45,Calculadora!FW$32,0))","v":0},{"$f":"IF(OR($FT40=0,$FT40=\"NO\"),0,VLOOKUP($FV40,Tasas!$EO$29:$FU$45,Calculadora!FX$32,0))","v":0},{"$f":"IF(OR($FT40=0,$FT40=\"NO\"),0,VLOOKUP($FV40,Tasas!$EO$29:$FU$45,Calculadora!FY$32,0))","v":0},{"$f":"IF(OR($FT40=0,$FT40=\"NO\"),0,VLOOKUP($FV40,Tasas!$EO$29:$FU$45,Calculadora!FZ$32,0))","v":0},{"$f":"IF(OR($FT40=0,$FT40=\"NO\"),0,VLOOKUP($FV40,Tasas!$EO$29:$FU$45,Calculadora!GA$32,0))","v":0},{"$f":"IF(OR($FT40=0,$FT40=\"NO\"),0,VLOOKUP($FV40,Tasas!$EO$29:$FU$45,Calculadora!GB$32,0))","v":0},{"$f":"IF(OR($FT40=0,$FT40=\"NO\"),0,VLOOKUP($FV40,Tasas!$EO$29:$FU$45,Calculadora!GC$32,0))","v":0},{"$f":"IF(OR($FT40=0,$FT40=\"NO\"),0,VLOOKUP($FV40,Tasas!$EO$29:$FU$45,Calculadora!GD$32,0))","v":0},null,null,null,null,"Cláusula por la práctica no profesional de deportes y/o actividades de riesgo. Nivel 2 (Polo, jockey, pesca en alta mar, rodeo, rugby, esquí acuático, equitación, tabla hawaiana).",null,{"$f":"Cotizador!$E$95","v":0},null,null,null,null,320,{"$f":"+IF(OR($C40=0,$C40=\"NO\"),0,VLOOKUP($I$16+$H40,Tasas!$FY$78:$HJ$1228,$I$15+GQ$33+2,0))","v":0},{"$f":"+IF(OR($C40=0,$C40=\"NO\"),0,VLOOKUP($I$16+$H40,Tasas!$FY$78:$HJ$1228,$I$15+GR$33+2,0))","v":0},{"$f":"+IF(OR($C40=0,$C40=\"NO\"),0,VLOOKUP($I$16+$H40,Tasas!$FY$78:$HJ$1228,$I$15+GS$33+2,0))","v":0},{"$f":"+IF(OR($C40=0,$C40=\"NO\"),0,VLOOKUP($I$16+$H40,Tasas!$FY$78:$HJ$1228,$I$15+GT$33+2,0))","v":0},{"$f":"+IF(OR($C40=0,$C40=\"NO\"),0,VLOOKUP($I$16+$H40,Tasas!$FY$78:$HJ$1228,$I$15+GU$33+2,0))","v":0},{"$f":"+IF(OR($C40=0,$C40=\"NO\"),0,VLOOKUP($I$16+$H40,Tasas!$FY$78:$HJ$1228,$I$15+GV$33+2,0))","v":0},{"$f":"+IF(OR($C40=0,$C40=\"NO\"),0,VLOOKUP($I$16+$H40,Tasas!$FY$78:$HJ$1228,$I$15+GW$33+2,0))","v":0},{"$f":"+IF(OR($C40=0,$C40=\"NO\"),0,VLOOKUP($I$16+$H40,Tasas!$FY$78:$HJ$1228,$I$15+GX$33+2,0))","v":0}]
["Cláusula por la práctica no profesional de deportes y/o actividades de riesgo. Nivel 3 (Pesca submarina, karate, judo, boxeo, pesas, andinismo y caminatas en alta montaña).",null,{"$f":"Cotizador!$E$96","v":0},{"$f":"Cotizador!$G$96","v":0},{"$f":"Cotizador!$I$96","v":0},{"$f":"Cotizador!$K$96","v":0},null,384,{"$f":"+IF(OR($C41=0,$C41=\"NO\"),0,VLOOKUP($I$16+$H41,Tasas!$C$78:$AN$1228,$I$15+I$33+2,0))","v":0},{"$f":"+IF(OR($C41=0,$C41=\"NO\"),0,VLOOKUP($I$16+$H41,Tasas!$C$78:$AN$1228,$I$15+J$33+2,0))","v":0},{"$f":"+IF(OR($C41=0,$C41=\"NO\"),0,VLOOKUP($I$16+$H41,Tasas!$C$78:$AN$1228,$I$15+K$33+2,0))","v":0},{"$f":"+IF(OR($C41=0,$C41=\"NO\"),0,VLOOKUP($I$16+$H41,Tasas!$C$78:$AN$1228,$I$15+L$33+2,0))","v":0},{"$f":"+IF(OR($C41=0,$C41=\"NO\"),0,VLOOKUP($I$16+$H41,Tasas!$C$78:$AN$1228,$I$15+M$33+2,0))","v":0},{"$f":"+IF(OR($C41=0,$C41=\"NO\"),0,VLOOKUP($I$16+$H41,Tasas!$C$78:$AN$1228,$I$15+N$33+2,0))","v":0},{"$f":"+IF(OR($C41=0,$C41=\"NO\"),0,VLOOKUP($I$16+$H41,Tasas!$C$78:$AN$1228,$I$15+O$33+2,0))","v":0},{"$f":"+IF(OR($C41=0,$C41=\"NO\"),0,VLOOKUP($I$16+$H41,Tasas!$C$78:$AN$1228,$I$15+P$33+2,0))","v":0},{"$f":"+IF(OR($D41=0,$D41=\"NO\"),0,VLOOKUP($J$16+$H41,Tasas!$C$78:$AN$1228,$J$15+Q$33+2,0))","v":0},{"$f":"+IF(OR($D41=0,$D41=\"NO\"),0,VLOOKUP($J$16+$H41,Tasas!$C$78:$AN$1228,$J$15+R$33+2,0))","v":0},{"$f":"+IF(OR($D41=0,$D41=\"NO\"),0,VLOOKUP($J$16+$H41,Tasas!$C$78:$AN$1228,$J$15+S$33+2,0))","v":0},{"$f":"+IF(OR($D41=0,$D41=\"NO\"),0,VLOOKUP($J$16+$H41,Tasas!$C$78:$AN$1228,$J$15+T$33+2,0))","v":0},{"$f":"+IF(OR($D41=0,$D41=\"NO\"),0,VLOOKUP($J$16+$H41,Tasas!$C$78:$AN$1228,$J$15+U$33+2,0))","v":0},{"$f":"+IF(OR($D41=0,$D41=\"NO\"),0,VLOOKUP($J$16+$H41,Tasas!$C$78:$AN$1228,$J$15+V$33+2,0))","v":0},{"$f":"+IF(OR($D41=0,$D41=\"NO\"),0,VLOOKUP($J$16+$H41,Tasas!$C$78:$AN$1228,$J$15+W$33+2,0))","v":0},{"$f":"+IF(OR($D41=0,$D41=\"NO\"),0,VLOOKUP($J$16+$H41,Tasas!$C$78:$AN$1228,$J$15+X$33+2,0))","v":0},{"$f":"+IF(OR($E41=0,$E41=\"NO\"),0,VLOOKUP($K$16+$H41,Tasas!$C$78:$AN$1228,$K$15+Y$33+2,0))","v":0},{"$f":"+IF(OR($E41=0,$E41=\"NO\"),0,VLOOKUP($K$16+$H41,Tasas!$C$78:$AN$1228,$K$15+Z$33+2,0))","v":0},{"$f":"+IF(OR($E41=0,$E41=\"NO\"),0,VLOOKUP($K$16+$H41,Tasas!$C$78:$AN$1228,$K$15+AA$33+2,0))","v":0},{"$f":"+IF(OR($E41=0,$E41=\"NO\"),0,VLOOKUP($K$16+$H41,Tasas!$C$78:$AN$1228,$K$15+AB$33+2,0))","v":0},{"$f":"+IF(OR($E41=0,$E41=\"NO\"),0,VLOOKUP($K$16+$H41,Tasas!$C$78:$AN$1228,$K$15+AC$33+2,0))","v":0},{"$f":"+IF(OR($E41=0,$E41=\"NO\"),0,VLOOKUP($K$16+$H41,Tasas!$C$78:$AN$1228,$K$15+AD$33+2,0))","v":0},{"$f":"+IF(OR($E41=0,$E41=\"NO\"),0,VLOOKUP($K$16+$H41,Tasas!$C$78:$AN$1228,$K$15+AE$33+2,0))","v":0},{"$f":"+IF(OR($E41=0,$E41=\"NO\"),0,VLOOKUP($K$16+$H41,Tasas!$C$78:$AN$1228,$K$15+AF$33+2,0))","v":0},{"$f":"+IF(OR($F41=0,$F41=\"NO\"),0,VLOOKUP($L$16+$H41,Tasas!$C$78:$AN$1228,$L$15+AG$33+2,0))","v":0},{"$f":"+IF(OR($F41=0,$F41=\"NO\"),0,VLOOKUP($L$16+$H41,Tasas!$C$78:$AN$1228,$L$15+AH$33+2,0))","v":0},{"$f":"+IF(OR($F41=0,$F41=\"NO\"),0,VLOOKUP($L$16+$H41,Tasas!$C$78:$AN$1228,$L$15+AI$33+2,0))","v":0},{"$f":"+IF(OR($F41=0,$F41=\"NO\"),0,VLOOKUP($L$16+$H41,Tasas!$C$78:$AN$1228,$L$15+AJ$33+2,0))","v":0},{"$f":"+IF(OR($F41=0,$F41=\"NO\"),0,VLOOKUP($L$16+$H41,Tasas!$C$78:$AN$1228,$L$15+AK$33+2,0))","v":0},{"$f":"+IF(OR($F41=0,$F41=\"NO\"),0,VLOOKUP($L$16+$H41,Tasas!$C$78:$AN$1228,$L$15+AL$33+2,0))","v":0},{"$f":"+IF(OR($F41=0,$F41=\"NO\"),0,VLOOKUP($L$16+$H41,Tasas!$C$78:$AN$1228,$L$15+AM$33+2,0))","v":0},{"$f":"+IF(OR($F41=0,$F41=\"NO\"),0,VLOOKUP($L$16+$H41,Tasas!$C$78:$AN$1228,$L$15+AN$33+2,0))","v":0},null,null,null,null,"Cláusula por la práctica no profesional de deportes y/o actividades de riesgo. Nivel 3 (Pesca submarina, karate, judo, boxeo, pesas, andinismo y caminatas en alta montaña).",null,{"$f":"Cotizador!$E$96","v":0},{"$f":"Cotizador!$G$96","v":0},{"$f":"Cotizador!$I$96","v":0},{"$f":"Cotizador!$K$96","v":0},null,384,{"$f":"+IF(OR($AU41=0,$AU41=\"NO\"),0,VLOOKUP($BA$16+$AZ41,Tasas!$C$78:$BY$1292,$BA$15+BA$33+39,0))","v":0},{"$f":"+IF(OR($AU41=0,$AU41=\"NO\"),0,VLOOKUP($BA$16+$AZ41,Tasas!$C$78:$BY$1292,$BA$15+BB$33+39,0))","v":0},{"$f":"+IF(OR($AU41=0,$AU41=\"NO\"),0,VLOOKUP($BA$16+$AZ41,Tasas!$C$78:$BY$1292,$BA$15+BC$33+39,0))","v":0},{"$f":"+IF(OR($AU41=0,$AU41=\"NO\"),0,VLOOKUP($BA$16+$AZ41,Tasas!$C$78:$BY$1292,$BA$15+BD$33+39,0))","v":0},{"$f":"+IF(OR($AU41=0,$AU41=\"NO\"),0,VLOOKUP($BA$16+$AZ41,Tasas!$C$78:$BY$1292,$BA$15+BE$33+39,0))","v":0},{"$f":"+IF(OR($AU41=0,$AU41=\"NO\"),0,VLOOKUP($BA$16+$AZ41,Tasas!$C$78:$BY$1292,$BA$15+BF$33+39,0))","v":0},{"$f":"+IF(OR($AU41=0,$AU41=\"NO\"),0,VLOOKUP($BA$16+$AZ41,Tasas!$C$78:$BY$1292,$BA$15+BG$33+39,0))","v":0},{"$f":"+IF(OR($AU41=0,$AU41=\"NO\"),0,VLOOKUP($BA$16+$AZ41,Tasas!$C$78:$BY$1292,$BA$15+BH$33+39,0))","v":0},{"$f":"+IF(OR($AU41=0,$AU41=\"NO\"),0,VLOOKUP($BA$16+$AZ41,Tasas!$C$78:$BY$1292,$BA$15+BI$33+39,0))","v":0},{"$f":"+IF(OR($AU41=0,$AU41=\"NO\"),0,VLOOKUP($BA$16+$AZ41,Tasas!$C$78:$BY$1292,$BA$15+BJ$33+39,0))","v":0},{"$f":"+IF(OR($AU41=0,$AU41=\"NO\"),0,VLOOKUP($BA$16+$AZ41,Tasas!$C$78:$BY$1292,$BA$15+BK$33+39,0))","v":0},{"$f":"+IF(OR($AU41=0,$AU41=\"NO\"),0,VLOOKUP($BA$16+$AZ41,Tasas!$C$78:$BY$1292,$BA$15+BL$33+39,0))","v":0},{"$f":"+IF(OR($AU41=0,$AU41=\"NO\"),0,VLOOKUP($BA$16+$AZ41,Tasas!$C$78:$BY$1292,$BA$15+BM$33+39,0))","v":0},{"$f":"+IF(OR($AU41=0,$AU41=\"NO\"),0,VLOOKUP($BA$16+$AZ41,Tasas!$C$78:$BY$1292,$BA$15+BN$33+39,0))","v":0},{"$f":"+IF(OR($AU41=0,$AU41=\"NO\"),0,VLOOKUP($BA$16+$AZ41,Tasas!$C$78:$BY$1292,$BA$15+BO$33+39,0))","v":0},{"$f":"+IF(OR($AU41=0,$AU41=\"NO\"),0,VLOOKUP($BA$16+$AZ41,Tasas!$C$78:$BY$1292,$BA$15+BP$33+39,0))","v":0},{"$f":"+IF(OR($AU41=0,$AU41=\"NO\"),0,VLOOKUP($BA$16+$AZ41,Tasas!$C$78:$BY$1292,$BA$15+BQ$33+39,0))","v":0},{"$f":"+IF(OR($AU41=0,$AU41=\"NO\"),0,VLOOKUP($BA$16+$AZ41,Tasas!$C$78:$BY$1292,$BA$15+BR$33+39,0))","v":0},{"$f":"+IF(OR($AU41=0,$AU41=\"NO\"),0,VLOOKUP($BA$16+$AZ41,Tasas!$C$78:$BY$1292,$BA$15+BS$33+39,0))","v":0},{"$f":"+IF(OR($AU41=0,$AU41=\"NO\"),0,VLOOKUP($BA$16+$AZ41,Tasas!$C$78:$BY$1292,$BA$15+BT$33+39,0))","v":0},{"$f":"+IF(OR($AU41=0,$AU41=\"NO\"),0,VLOOKUP($BA$16+$AZ41,Tasas!$C$78:$BY$1292,$BA$15+BU$33+39,0))","v":0},{"$f":"+IF(OR($AU41=0,$AU41=\"NO\"),0,VLOOKUP($BA$16+$AZ41,Tasas!$C$78:$BY$1292,$BA$15+BV$33+39,0))","v":0},{"$f":"+IF(OR($AU41=0,$AU41=\"NO\"),0,VLOOKUP($BA$16+$AZ41,Tasas!$C$78:$BY$1292,$BA$15+BW$33+39,0))","v":0},{"$f":"+IF(OR($AU41=0,$AU41=\"NO\"),0,VLOOKUP($BA$16+$AZ41,Tasas!$C$78:$BY$1292,$BA$15+BX$33+39,0))","v":0},{"$f":"+IF(OR($AU41=0,$AU41=\"NO\"),0,VLOOKUP($BA$16+$AZ41,Tasas!$C$78:$BY$1292,$BA$15+BY$33+39,0))","v":0},{"$f":"+IF(OR($AU41=0,$AU41=\"NO\"),0,VLOOKUP($BA$16+$AZ41,Tasas!$C$78:$BY$1292,$BA$15+BZ$33+39,0))","v":0},{"$f":"+IF(OR($AU41=0,$AU41=\"NO\"),0,VLOOKUP($BA$16+$AZ41,Tasas!$C$78:$BY$1292,$BA$15+CA$33+39,0))","v":0},{"$f":"+IF(OR($AU41=0,$AU41=\"NO\"),0,VLOOKUP($BA$16+$AZ41,Tasas!$C$78:$BY$1292,$BA$15+CB$33+39,0))","v":0},{"$f":"+IF(OR($AU41=0,$AU41=\"NO\"),0,VLOOKUP($BA$16+$AZ41,Tasas!$C$78:$BY$1292,$BA$15+CC$33+39,0))","v":0},{"$f":"+IF(OR($AU41=0,$AU41=\"NO\"),0,VLOOKUP($BA$16+$AZ41,Tasas!$C$78:$BY$1292,$BA$15+CD$33+39,0))","v":0},{"$f":"+IF(OR($AU41=0,$AU41=\"NO\"),0,VLOOKUP($BA$16+$AZ41,Tasas!$C$78:$BY$1292,$BA$15+CE$33+39,0))","v":0},{"$f":"+IF(OR($AU41=0,$AU41=\"NO\"),0,VLOOKUP($BA$16+$AZ41,Tasas!$C$78:$BY$1292,$BA$15+CF$33+39,0))","v":0},null,null,null,null,"Cláusula por la práctica no profesional de deportes y/o actividades de riesgo. Nivel 3 (Pesca submarina, karate, judo, boxeo, pesas, andinismo y caminatas en alta montaña).",null,{"$f":"Cotizador!$E$96","v":0},19,{"$error":"#N/A"},{"$f":"IF(OR($CM41=\"\",$CM41=0),0,VLOOKUP($CO41,Tasas!$CB$17:$CL$70,Calculadora!CP$33,0))","v":0},{"$f":"IF(OR($CM41=\"\",$CM41=0),0,VLOOKUP($CO41,Tasas!$CB$17:$CL$70,Calculadora!CQ$33,0))","v":0},{"$f":"IF(OR($CM41=\"\",$CM41=0),0,VLOOKUP($CO41,Tasas!$CB$17:$CL$70,Calculadora!CR$33,0))","v":0},{"$f":"IF(OR($CM41=\"\",$CM41=0),0,VLOOKUP($CO41,Tasas!$CB$17:$CL$70,Calculadora!CS$33,0))","v":0},{"$f":"IF(OR($CM41=\"\",$CM41=0),0,VLOOKUP($CO41,Tasas!$CB$17:$CL$70,Calculadora!CT$33,0))","v":0},{"$f":"IF(OR($CM41=\"\",$CM41=0),0,VLOOKUP($CO41,Tasas!$CB$17:$CL$70,Calculadora!CU$33,0))","v":0},{"$f":"IF(OR($CM41=\"\",$CM41=0),0,VLOOKUP($CO41,Tasas!$CB$17:$CL$70,Calculadora!CV$33,0))","v":0},{"$f":"IF(OR($CM41=\"\",$CM41=0),0,VLOOKUP($CO41,Tasas!$CB$17:$CL$70,Calculadora!CW$33,0))","v":0},null,null,null,null,"Cláusula por la práctica no profesional de deportes y/o actividades de riesgo. Nivel 3 (Pesca submarina, karate, judo, boxeo, pesas, andinismo y caminatas en alta montaña).",null,{"$f":"Cotizador!$E$96","v":0},19,{"$error":"#N/A"},{"$f":"IF(OR($DD41=\"\",$DD41=0),0,VLOOKUP($DF41,Tasas!$CO$17:$CY$70,Calculadora!DG$33,0))","v":0},{"$f":"IF(OR($DD41=\"\",$DD41=0),0,VLOOKUP($DF41,Tasas!$CO$17:$CY$70,Calculadora!DH$33,0))","v":0},{"$f":"IF(OR($DD41=\"\",$DD41=0),0,VLOOKUP($DF41,Tasas!$CO$17:$CY$70,Calculadora!DI$33,0))","v":0},{"$f":"IF(OR($DD41=\"\",$DD41=0),0,VLOOKUP($DF41,Tasas!$CO$17:$CY$70,Calculadora!DJ$33,0))","v":0},{"$f":"IF(OR($DD41=\"\",$DD41=0),0,VLOOKUP($DF41,Tasas!$CO$17:$CY$70,Calculadora!DK$33,0))","v":0},{"$f":"IF(OR($DD41=\"\",$DD41=0),0,VLOOKUP($DF41,Tasas!$CO$17:$CY$70,Calculadora!DL$33,0))","v":0},{"$f":"IF(OR($DD41=\"\",$DD41=0),0,VLOOKUP($DF41,Tasas!$CO$17:$CY$70,Calculadora!DM$33,0))","v":0},{"$f":"IF(OR($DD41=\"\",$DD41=0),0,VLOOKUP($DF41,Tasas!$CO$17:$CY$70,Calculadora!DN$33,0))","v":0},null,null,null,null,"Cláusula por la práctica no profesional de deportes y/o actividades de riesgo. Nivel 3 (Pesca submarina, karate, judo, boxeo, pesas, andinismo y caminatas en alta montaña).",null,{"$f":"Cotizador!$E$96","v":0},19,{"$error":"#N/A"},{"$f":"IF(OR($DU41=\"\",$DU41=0),0,VLOOKUP($DW41,Tasas!$DB$17:$DL$70,Calculadora!DX$33,0))","v":0},{"$f":"IF(OR($DU41=\"\",$DU41=0),0,VLOOKUP($DW41,Tasas!$DB$17:$DL$70,Calculadora!DY$33,0))","v":0},{"$f":"IF(OR($DU41=\"\",$DU41=0),0,VLOOKUP($DW41,Tasas!$DB$17:$DL$70,Calculadora!DZ$33,0))","v":0},{"$f":"IF(OR($DU41=\"\",$DU41=0),0,VLOOKUP($DW41,Tasas!$DB$17:$DL$70,Calculadora!EA$33,0))","v":0},{"$f":"IF(OR($DU41=\"\",$DU41=0),0,VLOOKUP($DW41,Tasas!$DB$17:$DL$70,Calculadora!EB$33,0))","v":0},{"$f":"IF(OR($DU41=\"\",$DU41=0),0,VLOOKUP($DW41,Tasas!$DB$17:$DL$70,Calculadora!EC$33,0))","v":0},{"$f":"IF(OR($DU41=\"\",$DU41=0),0,VLOOKUP($DW41,Tasas!$DB$17:$DL$70,Calculadora!ED$33,0))","v":0},{"$f":"IF(OR($DU41=\"\",$DU41=0),0,VLOOKUP($DW41,Tasas!$DB$17:$DL$70,Calculadora!EE$33,0))","v":0},null,null,null,null,"Cláusula por la práctica no profesional de deportes y/o actividades de riesgo. Nivel 3 (Pesca submarina, karate, judo, boxeo, pesas, andinismo y caminatas en alta montaña).",null,{"$f":"Cotizador!$E$96","v":0},19,{"$error":"#N/A"},{"$f":"IF(OR($EL41=\"\",$EL41=0),0,VLOOKUP($EN41,Tasas!$DO$17:$DY$70,Calculadora!EO$33,0))","v":0},{"$f":"IF(OR($EL41=\"\",$EL41=0),0,VLOOKUP($EN41,Tasas!$DO$17:$DY$70,Calculadora!EP$33,0))","v":0},{"$f":"IF(OR($EL41=\"\",$EL41=0),0,VLOOKUP($EN41,Tasas!$DO$17:$DY$70,Calculadora!EQ$33,0))","v":0},{"$f":"IF(OR($EL41=\"\",$EL41=0),0,VLOOKUP($EN41,Tasas!$DO$17:$DY$70,Calculadora!ER$33,0))","v":0},{"$f":"IF(OR($EL41=\"\",$EL41=0),0,VLOOKUP($EN41,Tasas!$DO$17:$DY$70,Calculadora!ES$33,0))","v":0},{"$f":"IF(OR($EL41=\"\",$EL41=0),0,VLOOKUP($EN41,Tasas!$DO$17:$DY$70,Calculadora!ET$33,0))","v":0},{"$f":"IF(OR($EL41=\"\",$EL41=0),0,VLOOKUP($EN41,Tasas!$DO$17:$DY$70,Calculadora!EU$33,0))","v":0},{"$f":"IF(OR($EL41=\"\",$EL41=0),0,VLOOKUP($EN41,Tasas!$DO$17:$DY$70,Calculadora!EV$33,0))","v":0},null,null,null,null,"Cláusula por la práctica no profesional de deportes y/o actividades de riesgo. Nivel 3 (Pesca submarina, karate, judo, boxeo, pesas, andinismo y caminatas en alta montaña).",null,{"$f":"Cotizador!$E$96","v":0},19,{"$error":"#N/A"},{"$f":"IF(OR($FC41=\"\",$FC41=0),0,VLOOKUP($FE41,Tasas!$EB$17:$EL$70,Calculadora!FF$33,0))","v":0},{"$f":"IF(OR($FC41=\"\",$FC41=0),0,VLOOKUP($FE41,Tasas!$EB$17:$EL$70,Calculadora!FG$33,0))","v":0},{"$f":"IF(OR($FC41=\"\",$FC41=0),0,VLOOKUP($FE41,Tasas!$EB$17:$EL$70,Calculadora!FH$33,0))","v":0},{"$f":"IF(OR($FC41=\"\",$FC41=0),0,VLOOKUP($FE41,Tasas!$EB$17:$EL$70,Calculadora!FI$33,0))","v":0},{"$f":"IF(OR($FC41=\"\",$FC41=0),0,VLOOKUP($FE41,Tasas!$EB$17:$EL$70,Calculadora!FJ$33,0))","v":0},{"$f":"IF(OR($FC41=\"\",$FC41=0),0,VLOOKUP($FE41,Tasas!$EB$17:$EL$70,Calculadora!FK$33,0))","v":0},{"$f":"IF(OR($FC41=\"\",$FC41=0),0,VLOOKUP($FE41,Tasas!$EB$17:$EL$70,Calculadora!FL$33,0))","v":0},{"$f":"IF(OR($FC41=\"\",$FC41=0),0,VLOOKUP($FE41,Tasas!$EB$17:$EL$70,Calculadora!FM$33,0))","v":0},null,null,null,null,"Cláusula para pasajeros que usan cualquier medio habitual de transporte público de personas, en vehículos que no recorren itinerarios regulares y fijos. ",null,{"$f":"Cotizador!$E$116","v":0},null,8,{"$f":"IF(OR($FT41=0,$FT41=\"NO\"),0,VLOOKUP($FV41,Tasas!$EO$29:$FU$45,Calculadora!FW$32,0))","v":0},{"$f":"IF(OR($FT41=0,$FT41=\"NO\"),0,VLOOKUP($FV41,Tasas!$EO$29:$FU$45,Calculadora!FX$32,0))","v":0},{"$f":"IF(OR($FT41=0,$FT41=\"NO\"),0,VLOOKUP($FV41,Tasas!$EO$29:$FU$45,Calculadora!FY$32,0))","v":0},{"$f":"IF(OR($FT41=0,$FT41=\"NO\"),0,VLOOKUP($FV41,Tasas!$EO$29:$FU$45,Calculadora!FZ$32,0))","v":0},{"$f":"IF(OR($FT41=0,$FT41=\"NO\"),0,VLOOKUP($FV41,Tasas!$EO$29:$FU$45,Calculadora!GA$32,0))","v":0},{"$f":"IF(OR($FT41=0,$FT41=\"NO\"),0,VLOOKUP($FV41,Tasas!$EO$29:$FU$45,Calculadora!GB$32,0))","v":0},{"$f":"IF(OR($FT41=0,$FT41=\"NO\"),0,VLOOKUP($FV41,Tasas!$EO$29:$FU$45,Calculadora!GC$32,0))","v":0},{"$f":"IF(OR($FT41=0,$FT41=\"NO\"),0,VLOOKUP($FV41,Tasas!$EO$29:$FU$45,Calculadora!GD$32,0))","v":0},null,null,null,null,"Cláusula por la práctica no profesional de deportes y/o actividades de riesgo. Nivel 3 (Pesca submarina, karate, judo, boxeo, pesas, andinismo y caminatas en alta montaña).",null,{"$f":"Cotizador!$E$96","v":0},null,null,null,null,384,{"$f":"+IF(OR($C41=0,$C41=\"NO\"),0,VLOOKUP($I$16+$H41,Tasas!$FY$78:$HJ$1228,$I$15+GQ$33+2,0))","v":0},{"$f":"+IF(OR($C41=0,$C41=\"NO\"),0,VLOOKUP($I$16+$H41,Tasas!$FY$78:$HJ$1228,$I$15+GR$33+2,0))","v":0},{"$f":"+IF(OR($C41=0,$C41=\"NO\"),0,VLOOKUP($I$16+$H41,Tasas!$FY$78:$HJ$1228,$I$15+GS$33+2,0))","v":0},{"$f":"+IF(OR($C41=0,$C41=\"NO\"),0,VLOOKUP($I$16+$H41,Tasas!$FY$78:$HJ$1228,$I$15+GT$33+2,0))","v":0},{"$f":"+IF(OR($C41=0,$C41=\"NO\"),0,VLOOKUP($I$16+$H41,Tasas!$FY$78:$HJ$1228,$I$15+GU$33+2,0))","v":0},{"$f":"+IF(OR($C41=0,$C41=\"NO\"),0,VLOOKUP($I$16+$H41,Tasas!$FY$78:$HJ$1228,$I$15+GV$33+2,0))","v":0},{"$f":"+IF(OR($C41=0,$C41=\"NO\"),0,VLOOKUP($I$16+$H41,Tasas!$FY$78:$HJ$1228,$I$15+GW$33+2,0))","v":0},{"$f":"+IF(OR($C41=0,$C41=\"NO\"),0,VLOOKUP($I$16+$H41,Tasas!$FY$78:$HJ$1228,$I$15+GX$33+2,0))","v":0}]
["Cláusula por la conducción urbana o rural de motocicletas, motonetas y otros vehículos similares.",null,{"$f":"Cotizador!$E$97","v":0},{"$f":"Cotizador!$G$97","v":0},{"$f":"Cotizador!$I$97","v":0},{"$f":"Cotizador!$K$97","v":0},null,448,{"$f":"+IF(OR($C42=0,$C42=\"NO\"),0,VLOOKUP($I$16+$H42,Tasas!$C$78:$AN$1228,$I$15+I$33+2,0))","v":0},{"$f":"+IF(OR($C42=0,$C42=\"NO\"),0,VLOOKUP($I$16+$H42,Tasas!$C$78:$AN$1228,$I$15+J$33+2,0))","v":0},{"$f":"+IF(OR($C42=0,$C42=\"NO\"),0,VLOOKUP($I$16+$H42,Tasas!$C$78:$AN$1228,$I$15+K$33+2,0))","v":0},{"$f":"+IF(OR($C42=0,$C42=\"NO\"),0,VLOOKUP($I$16+$H42,Tasas!$C$78:$AN$1228,$I$15+L$33+2,0))","v":0},{"$f":"+IF(OR($C42=0,$C42=\"NO\"),0,VLOOKUP($I$16+$H42,Tasas!$C$78:$AN$1228,$I$15+M$33+2,0))","v":0},{"$f":"+IF(OR($C42=0,$C42=\"NO\"),0,VLOOKUP($I$16+$H42,Tasas!$C$78:$AN$1228,$I$15+N$33+2,0))","v":0},{"$f":"+IF(OR($C42=0,$C42=\"NO\"),0,VLOOKUP($I$16+$H42,Tasas!$C$78:$AN$1228,$I$15+O$33+2,0))","v":0},{"$f":"+IF(OR($C42=0,$C42=\"NO\"),0,VLOOKUP($I$16+$H42,Tasas!$C$78:$AN$1228,$I$15+P$33+2,0))","v":0},{"$f":"+IF(OR($D42=0,$D42=\"NO\"),0,VLOOKUP($J$16+$H42,Tasas!$C$78:$AN$1228,$J$15+Q$33+2,0))","v":0},{"$f":"+IF(OR($D42=0,$D42=\"NO\"),0,VLOOKUP($J$16+$H42,Tasas!$C$78:$AN$1228,$J$15+R$33+2,0))","v":0},{"$f":"+IF(OR($D42=0,$D42=\"NO\"),0,VLOOKUP($J$16+$H42,Tasas!$C$78:$AN$1228,$J$15+S$33+2,0))","v":0},{"$f":"+IF(OR($D42=0,$D42=\"NO\"),0,VLOOKUP($J$16+$H42,Tasas!$C$78:$AN$1228,$J$15+T$33+2,0))","v":0},{"$f":"+IF(OR($D42=0,$D42=\"NO\"),0,VLOOKUP($J$16+$H42,Tasas!$C$78:$AN$1228,$J$15+U$33+2,0))","v":0},{"$f":"+IF(OR($D42=0,$D42=\"NO\"),0,VLOOKUP($J$16+$H42,Tasas!$C$78:$AN$1228,$J$15+V$33+2,0))","v":0},{"$f":"+IF(OR($D42=0,$D42=\"NO\"),0,VLOOKUP($J$16+$H42,Tasas!$C$78:$AN$1228,$J$15+W$33+2,0))","v":0},{"$f":"+IF(OR($D42=0,$D42=\"NO\"),0,VLOOKUP($J$16+$H42,Tasas!$C$78:$AN$1228,$J$15+X$33+2,0))","v":0},{"$f":"+IF(OR($E42=0,$E42=\"NO\"),0,VLOOKUP($K$16+$H42,Tasas!$C$78:$AN$1228,$K$15+Y$33+2,0))","v":0},{"$f":"+IF(OR($E42=0,$E42=\"NO\"),0,VLOOKUP($K$16+$H42,Tasas!$C$78:$AN$1228,$K$15+Z$33+2,0))","v":0},{"$f":"+IF(OR($E42=0,$E42=\"NO\"),0,VLOOKUP($K$16+$H42,Tasas!$C$78:$AN$1228,$K$15+AA$33+2,0))","v":0},{"$f":"+IF(OR($E42=0,$E42=\"NO\"),0,VLOOKUP($K$16+$H42,Tasas!$C$78:$AN$1228,$K$15+AB$33+2,0))","v":0},{"$f":"+IF(OR($E42=0,$E42=\"NO\"),0,VLOOKUP($K$16+$H42,Tasas!$C$78:$AN$1228,$K$15+AC$33+2,0))","v":0},{"$f":"+IF(OR($E42=0,$E42=\"NO\"),0,VLOOKUP($K$16+$H42,Tasas!$C$78:$AN$1228,$K$15+AD$33+2,0))","v":0},{"$f":"+IF(OR($E42=0,$E42=\"NO\"),0,VLOOKUP($K$16+$H42,Tasas!$C$78:$AN$1228,$K$15+AE$33+2,0))","v":0},{"$f":"+IF(OR($E42=0,$E42=\"NO\"),0,VLOOKUP($K$16+$H42,Tasas!$C$78:$AN$1228,$K$15+AF$33+2,0))","v":0},{"$f":"+IF(OR($F42=0,$F42=\"NO\"),0,VLOOKUP($L$16+$H42,Tasas!$C$78:$AN$1228,$L$15+AG$33+2,0))","v":0},{"$f":"+IF(OR($F42=0,$F42=\"NO\"),0,VLOOKUP($L$16+$H42,Tasas!$C$78:$AN$1228,$L$15+AH$33+2,0))","v":0},{"$f":"+IF(OR($F42=0,$F42=\"NO\"),0,VLOOKUP($L$16+$H42,Tasas!$C$78:$AN$1228,$L$15+AI$33+2,0))","v":0},{"$f":"+IF(OR($F42=0,$F42=\"NO\"),0,VLOOKUP($L$16+$H42,Tasas!$C$78:$AN$1228,$L$15+AJ$33+2,0))","v":0},{"$f":"+IF(OR($F42=0,$F42=\"NO\"),0,VLOOKUP($L$16+$H42,Tasas!$C$78:$AN$1228,$L$15+AK$33+2,0))","v":0},{"$f":"+IF(OR($F42=0,$F42=\"NO\"),0,VLOOKUP($L$16+$H42,Tasas!$C$78:$AN$1228,$L$15+AL$33+2,0))","v":0},{"$f":"+IF(OR($F42=0,$F42=\"NO\"),0,VLOOKUP($L$16+$H42,Tasas!$C$78:$AN$1228,$L$15+AM$33+2,0))","v":0},{"$f":"+IF(OR($F42=0,$F42=\"NO\"),0,VLOOKUP($L$16+$H42,Tasas!$C$78:$AN$1228,$L$15+AN$33+2,0))","v":0},null,null,null,null,"Cláusula por la conducción urbana o rural de motocicletas, motonetas y otros vehículos similares.",null,{"$f":"Cotizador!$E$97","v":0},{"$f":"Cotizador!$G$97","v":0},{"$f":"Cotizador!$I$97","v":0},{"$f":"Cotizador!$K$97","v":0},null,448,{"$f":"+IF(OR($AU42=0,$AU42=\"NO\"),0,VLOOKUP($BA$16+$AZ42,Tasas!$C$78:$BY$1292,$BA$15+BA$33+39,0))","v":0},{"$f":"+IF(OR($AU42=0,$AU42=\"NO\"),0,VLOOKUP($BA$16+$AZ42,Tasas!$C$78:$BY$1292,$BA$15+BB$33+39,0))","v":0},{"$f":"+IF(OR($AU42=0,$AU42=\"NO\"),0,VLOOKUP($BA$16+$AZ42,Tasas!$C$78:$BY$1292,$BA$15+BC$33+39,0))","v":0},{"$f":"+IF(OR($AU42=0,$AU42=\"NO\"),0,VLOOKUP($BA$16+$AZ42,Tasas!$C$78:$BY$1292,$BA$15+BD$33+39,0))","v":0},{"$f":"+IF(OR($AU42=0,$AU42=\"NO\"),0,VLOOKUP($BA$16+$AZ42,Tasas!$C$78:$BY$1292,$BA$15+BE$33+39,0))","v":0},{"$f":"+IF(OR($AU42=0,$AU42=\"NO\"),0,VLOOKUP($BA$16+$AZ42,Tasas!$C$78:$BY$1292,$BA$15+BF$33+39,0))","v":0},{"$f":"+IF(OR($AU42=0,$AU42=\"NO\"),0,VLOOKUP($BA$16+$AZ42,Tasas!$C$78:$BY$1292,$BA$15+BG$33+39,0))","v":0},{"$f":"+IF(OR($AU42=0,$AU42=\"NO\"),0,VLOOKUP($BA$16+$AZ42,Tasas!$C$78:$BY$1292,$BA$15+BH$33+39,0))","v":0},{"$f":"+IF(OR($AU42=0,$AU42=\"NO\"),0,VLOOKUP($BA$16+$AZ42,Tasas!$C$78:$BY$1292,$BA$15+BI$33+39,0))","v":0},{"$f":"+IF(OR($AU42=0,$AU42=\"NO\"),0,VLOOKUP($BA$16+$AZ42,Tasas!$C$78:$BY$1292,$BA$15+BJ$33+39,0))","v":0},{"$f":"+IF(OR($AU42=0,$AU42=\"NO\"),0,VLOOKUP($BA$16+$AZ42,Tasas!$C$78:$BY$1292,$BA$15+BK$33+39,0))","v":0},{"$f":"+IF(OR($AU42=0,$AU42=\"NO\"),0,VLOOKUP($BA$16+$AZ42,Tasas!$C$78:$BY$1292,$BA$15+BL$33+39,0))","v":0},{"$f":"+IF(OR($AU42=0,$AU42=\"NO\"),0,VLOOKUP($BA$16+$AZ42,Tasas!$C$78:$BY$1292,$BA$15+BM$33+39,0))","v":0},{"$f":"+IF(OR($AU42=0,$AU42=\"NO\"),0,VLOOKUP($BA$16+$AZ42,Tasas!$C$78:$BY$1292,$BA$15+BN$33+39,0))","v":0},{"$f":"+IF(OR($AU42=0,$AU42=\"NO\"),0,VLOOKUP($BA$16+$AZ42,Tasas!$C$78:$BY$1292,$BA$15+BO$33+39,0))","v":0},{"$f":"+IF(OR($AU42=0,$AU42=\"NO\"),0,VLOOKUP($BA$16+$AZ42,Tasas!$C$78:$BY$1292,$BA$15+BP$33+39,0))","v":0},{"$f":"+IF(OR($AU42=0,$AU42=\"NO\"),0,VLOOKUP($BA$16+$AZ42,Tasas!$C$78:$BY$1292,$BA$15+BQ$33+39,0))","v":0},{"$f":"+IF(OR($AU42=0,$AU42=\"NO\"),0,VLOOKUP($BA$16+$AZ42,Tasas!$C$78:$BY$1292,$BA$15+BR$33+39,0))","v":0},{"$f":"+IF(OR($AU42=0,$AU42=\"NO\"),0,VLOOKUP($BA$16+$AZ42,Tasas!$C$78:$BY$1292,$BA$15+BS$33+39,0))","v":0},{"$f":"+IF(OR($AU42=0,$AU42=\"NO\"),0,VLOOKUP($BA$16+$AZ42,Tasas!$C$78:$BY$1292,$BA$15+BT$33+39,0))","v":0},{"$f":"+IF(OR($AU42=0,$AU42=\"NO\"),0,VLOOKUP($BA$16+$AZ42,Tasas!$C$78:$BY$1292,$BA$15+BU$33+39,0))","v":0},{"$f":"+IF(OR($AU42=0,$AU42=\"NO\"),0,VLOOKUP($BA$16+$AZ42,Tasas!$C$78:$BY$1292,$BA$15+BV$33+39,0))","v":0},{"$f":"+IF(OR($AU42=0,$AU42=\"NO\"),0,VLOOKUP($BA$16+$AZ42,Tasas!$C$78:$BY$1292,$BA$15+BW$33+39,0))","v":0},{"$f":"+IF(OR($AU42=0,$AU42=\"NO\"),0,VLOOKUP($BA$16+$AZ42,Tasas!$C$78:$BY$1292,$BA$15+BX$33+39,0))","v":0},{"$f":"+IF(OR($AU42=0,$AU42=\"NO\"),0,VLOOKUP($BA$16+$AZ42,Tasas!$C$78:$BY$1292,$BA$15+BY$33+39,0))","v":0},{"$f":"+IF(OR($AU42=0,$AU42=\"NO\"),0,VLOOKUP($BA$16+$AZ42,Tasas!$C$78:$BY$1292,$BA$15+BZ$33+39,0))","v":0},{"$f":"+IF(OR($AU42=0,$AU42=\"NO\"),0,VLOOKUP($BA$16+$AZ42,Tasas!$C$78:$BY$1292,$BA$15+CA$33+39,0))","v":0},{"$f":"+IF(OR($AU42=0,$AU42=\"NO\"),0,VLOOKUP($BA$16+$AZ42,Tasas!$C$78:$BY$1292,$BA$15+CB$33+39,0))","v":0},{"$f":"+IF(OR($AU42=0,$AU42=\"NO\"),0,VLOOKUP($BA$16+$AZ42,Tasas!$C$78:$BY$1292,$BA$15+CC$33+39,0))","v":0},{"$f":"+IF(OR($AU42=0,$AU42=\"NO\"),0,VLOOKUP($BA$16+$AZ42,Tasas!$C$78:$BY$1292,$BA$15+CD$33+39,0))","v":0},{"$f":"+IF(OR($AU42=0,$AU42=\"NO\"),0,VLOOKUP($BA$16+$AZ42,Tasas!$C$78:$BY$1292,$BA$15+CE$33+39,0))","v":0},{"$f":"+IF(OR($AU42=0,$AU42=\"NO\"),0,VLOOKUP($BA$16+$AZ42,Tasas!$C$78:$BY$1292,$BA$15+CF$33+39,0))","v":0},null,null,null,null,"Cláusula por la conducción urbana o rural de motocicletas, motonetas y otros vehículos similares.",null,{"$f":"Cotizador!$E$97","v":0},22,{"$error":"#N/A"},{"$f":"IF(OR($CM42=\"\",$CM42=0),0,VLOOKUP($CO42,Tasas!$CB$17:$CL$70,Calculadora!CP$33,0))","v":0},{"$f":"IF(OR($CM42=\"\",$CM42=0),0,VLOOKUP($CO42,Tasas!$CB$17:$CL$70,Calculadora!CQ$33,0))","v":0},{"$f":"IF(OR($CM42=\"\",$CM42=0),0,VLOOKUP($CO42,Tasas!$CB$17:$CL$70,Calculadora!CR$33,0))","v":0},{"$f":"IF(OR($CM42=\"\",$CM42=0),0,VLOOKUP($CO42,Tasas!$CB$17:$CL$70,Calculadora!CS$33,0))","v":0},{"$f":"IF(OR($CM42=\"\",$CM42=0),0,VLOOKUP($CO42,Tasas!$CB$17:$CL$70,Calculadora!CT$33,0))","v":0},{"$f":"IF(OR($CM42=\"\",$CM42=0),0,VLOOKUP($CO42,Tasas!$CB$17:$CL$70,Calculadora!CU$33,0))","v":0},{"$f":"IF(OR($CM42=\"\",$CM42=0),0,VLOOKUP($CO42,Tasas!$CB$17:$CL$70,Calculadora!CV$33,0))","v":0},{"$f":"IF(OR($CM42=\"\",$CM42=0),0,VLOOKUP($CO42,Tasas!$CB$17:$CL$70,Calculadora!CW$33,0))","v":0},null,null,null,null,"Cláusula por la conducción urbana o rural de motocicletas, motonetas y otros vehículos similares.",null,{"$f":"Cotizador!$E$97","v":0},22,{"$error":"#N/A"},{"$f":"IF(OR($DD42=\"\",$DD42=0),0,VLOOKUP($DF42,Tasas!$CO$17:$CY$70,Calculadora!DG$33,0))","v":0},{"$f":"IF(OR($DD42=\"\",$DD42=0),0,VLOOKUP($DF42,Tasas!$CO$17:$CY$70,Calculadora!DH$33,0))","v":0},{"$f":"IF(OR($DD42=\"\",$DD42=0),0,VLOOKUP($DF42,Tasas!$CO$17:$CY$70,Calculadora!DI$33,0))","v":0},{"$f":"IF(OR($DD42=\"\",$DD42=0),0,VLOOKUP($DF42,Tasas!$CO$17:$CY$70,Calculadora!DJ$33,0))","v":0},{"$f":"IF(OR($DD42=\"\",$DD42=0),0,VLOOKUP($DF42,Tasas!$CO$17:$CY$70,Calculadora!DK$33,0))","v":0},{"$f":"IF(OR($DD42=\"\",$DD42=0),0,VLOOKUP($DF42,Tasas!$CO$17:$CY$70,Calculadora!DL$33,0))","v":0},{"$f":"IF(OR($DD42=\"\",$DD42=0),0,VLOOKUP($DF42,Tasas!$CO$17:$CY$70,Calculadora!DM$33,0))","v":0},{"$f":"IF(OR($DD42=\"\",$DD42=0),0,VLOOKUP($DF42,Tasas!$CO$17:$CY$70,Calculadora!DN$33,0))","v":0},null,null,null,null,"Cláusula por la conducción urbana o rural de motocicletas, motonetas y otros vehículos similares.",null,{"$f":"Cotizador!$E$97","v":0},22,{"$error":"#N/A"},{"$f":"IF(OR($DU42=\"\",$DU42=0),0,VLOOKUP($DW42,Tasas!$DB$17:$DL$70,Calculadora!DX$33,0))","v":0},{"$f":"IF(OR($DU42=\"\",$DU42=0),0,VLOOKUP($DW42,Tasas!$DB$17:$DL$70,Calculadora!DY$33,0))","v":0},{"$f":"IF(OR($DU42=\"\",$DU42=0),0,VLOOKUP($DW42,Tasas!$DB$17:$DL$70,Calculadora!DZ$33,0))","v":0},{"$f":"IF(OR($DU42=\"\",$DU42=0),0,VLOOKUP($DW42,Tasas!$DB$17:$DL$70,Calculadora!EA$33,0))","v":0},{"$f":"IF(OR($DU42=\"\",$DU42=0),0,VLOOKUP($DW42,Tasas!$DB$17:$DL$70,Calculadora!EB$33,0))","v":0},{"$f":"IF(OR($DU42=\"\",$DU42=0),0,VLOOKUP($DW42,Tasas!$DB$17:$DL$70,Calculadora!EC$33,0))","v":0},{"$f":"IF(OR($DU42=\"\",$DU42=0),0,VLOOKUP($DW42,Tasas!$DB$17:$DL$70,Calculadora!ED$33,0))","v":0},{"$f":"IF(OR($DU42=\"\",$DU42=0),0,VLOOKUP($DW42,Tasas!$DB$17:$DL$70,Calculadora!EE$33,0))","v":0},null,null,null,null,"Cláusula por la conducción urbana o rural de motocicletas, motonetas y otros vehículos similares.",null,{"$f":"Cotizador!$E$97","v":0},22,{"$error":"#N/A"},{"$f":"IF(OR($EL42=\"\",$EL42=0),0,VLOOKUP($EN42,Tasas!$DO$17:$DY$70,Calculadora!EO$33,0))","v":0},{"$f":"IF(OR($EL42=\"\",$EL42=0),0,VLOOKUP($EN42,Tasas!$DO$17:$DY$70,Calculadora!EP$33,0))","v":0},{"$f":"IF(OR($EL42=\"\",$EL42=0),0,VLOOKUP($EN42,Tasas!$DO$17:$DY$70,Calculadora!EQ$33,0))","v":0},{"$f":"IF(OR($EL42=\"\",$EL42=0),0,VLOOKUP($EN42,Tasas!$DO$17:$DY$70,Calculadora!ER$33,0))","v":0},{"$f":"IF(OR($EL42=\"\",$EL42=0),0,VLOOKUP($EN42,Tasas!$DO$17:$DY$70,Calculadora!ES$33,0))","v":0},{"$f":"IF(OR($EL42=\"\",$EL42=0),0,VLOOKUP($EN42,Tasas!$DO$17:$DY$70,Calculadora!ET$33,0))","v":0},{"$f":"IF(OR($EL42=\"\",$EL42=0),0,VLOOKUP($EN42,Tasas!$DO$17:$DY$70,Calculadora!EU$33,0))","v":0},{"$f":"IF(OR($EL42=\"\",$EL42=0),0,VLOOKUP($EN42,Tasas!$DO$17:$DY$70,Calculadora!EV$33,0))","v":0},null,null,null,null,"Cláusula por la conducción urbana o rural de motocicletas, motonetas y otros vehículos similares.",null,{"$f":"Cotizador!$E$97","v":0},22,{"$error":"#N/A"},{"$f":"IF(OR($FC42=\"\",$FC42=0),0,VLOOKUP($FE42,Tasas!$EB$17:$EL$70,Calculadora!FF$33,0))","v":0},{"$f":"IF(OR($FC42=\"\",$FC42=0),0,VLOOKUP($FE42,Tasas!$EB$17:$EL$70,Calculadora!FG$33,0))","v":0},{"$f":"IF(OR($FC42=\"\",$FC42=0),0,VLOOKUP($FE42,Tasas!$EB$17:$EL$70,Calculadora!FH$33,0))","v":0},{"$f":"IF(OR($FC42=\"\",$FC42=0),0,VLOOKUP($FE42,Tasas!$EB$17:$EL$70,Calculadora!FI$33,0))","v":0},{"$f":"IF(OR($FC42=\"\",$FC42=0),0,VLOOKUP($FE42,Tasas!$EB$17:$EL$70,Calculadora!FJ$33,0))","v":0},{"$f":"IF(OR($FC42=\"\",$FC42=0),0,VLOOKUP($FE42,Tasas!$EB$17:$EL$70,Calculadora!FK$33,0))","v":0},{"$f":"IF(OR($FC42=\"\",$FC42=0),0,VLOOKUP($FE42,Tasas!$EB$17:$EL$70,Calculadora!FL$33,0))","v":0},{"$f":"IF(OR($FC42=\"\",$FC42=0),0,VLOOKUP($FE42,Tasas!$EB$17:$EL$70,Calculadora!FM$33,0))","v":0},null,null,null,null,"Cláusula para pasajeros de aviones y/o helicópteros particulares y/o de la FAP por viajes eventuales. N1",null,{"$f":"Cotizador!$E$117","v":0},null,9,{"$f":"IF(OR($FT42=0,$FT42=\"NO\"),0,VLOOKUP($FV42,Tasas!$EO$29:$FU$45,Calculadora!FW$32,0))","v":0},{"$f":"IF(OR($FT42=0,$FT42=\"NO\"),0,VLOOKUP($FV42,Tasas!$EO$29:$FU$45,Calculadora!FX$32,0))","v":0},{"$f":"IF(OR($FT42=0,$FT42=\"NO\"),0,VLOOKUP($FV42,Tasas!$EO$29:$FU$45,Calculadora!FY$32,0))","v":0},{"$f":"IF(OR($FT42=0,$FT42=\"NO\"),0,VLOOKUP($FV42,Tasas!$EO$29:$FU$45,Calculadora!FZ$32,0))","v":0},{"$f":"IF(OR($FT42=0,$FT42=\"NO\"),0,VLOOKUP($FV42,Tasas!$EO$29:$FU$45,Calculadora!GA$32,0))","v":0},{"$f":"IF(OR($FT42=0,$FT42=\"NO\"),0,VLOOKUP($FV42,Tasas!$EO$29:$FU$45,Calculadora!GB$32,0))","v":0},{"$f":"IF(OR($FT42=0,$FT42=\"NO\"),0,VLOOKUP($FV42,Tasas!$EO$29:$FU$45,Calculadora!GC$32,0))","v":0},{"$f":"IF(OR($FT42=0,$FT42=\"NO\"),0,VLOOKUP($FV42,Tasas!$EO$29:$FU$45,Calculadora!GD$32,0))","v":0},null,null,null,null,"Cláusula por la conducción urbana o rural de motocicletas, motonetas y otros vehículos similares.",null,{"$f":"Cotizador!$E$97","v":0},null,null,null,null,448,{"$f":"+IF(OR($C42=0,$C42=\"NO\"),0,VLOOKUP($I$16+$H42,Tasas!$FY$78:$HJ$1228,$I$15+GQ$33+2,0))","v":0},{"$f":"+IF(OR($C42=0,$C42=\"NO\"),0,VLOOKUP($I$16+$H42,Tasas!$FY$78:$HJ$1228,$I$15+GR$33+2,0))","v":0},{"$f":"+IF(OR($C42=0,$C42=\"NO\"),0,VLOOKUP($I$16+$H42,Tasas!$FY$78:$HJ$1228,$I$15+GS$33+2,0))","v":0},{"$f":"+IF(OR($C42=0,$C42=\"NO\"),0,VLOOKUP($I$16+$H42,Tasas!$FY$78:$HJ$1228,$I$15+GT$33+2,0))","v":0},{"$f":"+IF(OR($C42=0,$C42=\"NO\"),0,VLOOKUP($I$16+$H42,Tasas!$FY$78:$HJ$1228,$I$15+GU$33+2,0))","v":0},{"$f":"+IF(OR($C42=0,$C42=\"NO\"),0,VLOOKUP($I$16+$H42,Tasas!$FY$78:$HJ$1228,$I$15+GV$33+2,0))","v":0},{"$f":"+IF(OR($C42=0,$C42=\"NO\"),0,VLOOKUP($I$16+$H42,Tasas!$FY$78:$HJ$1228,$I$15+GW$33+2,0))","v":0},{"$f":"+IF(OR($C42=0,$C42=\"NO\"),0,VLOOKUP($I$16+$H42,Tasas!$FY$78:$HJ$1228,$I$15+GX$33+2,0))","v":0}]
["Cláusula para pasajeros que usan cualquier medio habitual de transporte público de personas, en vehículos que no recorren itinerarios regulares y fijos. ",null,{"$f":"Cotizador!$E$98","v":0},{"$f":"Cotizador!$G$98","v":0},{"$f":"Cotizador!$I$98","v":0},{"$f":"Cotizador!$K$98","v":0},null,512,{"$f":"+IF(OR($C43=0,$C43=\"NO\"),0,VLOOKUP($I$16+$H43,Tasas!$C$78:$AN$1228,$I$15+I$33+2,0))","v":0},{"$f":"+IF(OR($C43=0,$C43=\"NO\"),0,VLOOKUP($I$16+$H43,Tasas!$C$78:$AN$1228,$I$15+J$33+2,0))","v":0},{"$f":"+IF(OR($C43=0,$C43=\"NO\"),0,VLOOKUP($I$16+$H43,Tasas!$C$78:$AN$1228,$I$15+K$33+2,0))","v":0},{"$f":"+IF(OR($C43=0,$C43=\"NO\"),0,VLOOKUP($I$16+$H43,Tasas!$C$78:$AN$1228,$I$15+L$33+2,0))","v":0},{"$f":"+IF(OR($C43=0,$C43=\"NO\"),0,VLOOKUP($I$16+$H43,Tasas!$C$78:$AN$1228,$I$15+M$33+2,0))","v":0},{"$f":"+IF(OR($C43=0,$C43=\"NO\"),0,VLOOKUP($I$16+$H43,Tasas!$C$78:$AN$1228,$I$15+N$33+2,0))","v":0},{"$f":"+IF(OR($C43=0,$C43=\"NO\"),0,VLOOKUP($I$16+$H43,Tasas!$C$78:$AN$1228,$I$15+O$33+2,0))","v":0},{"$f":"+IF(OR($C43=0,$C43=\"NO\"),0,VLOOKUP($I$16+$H43,Tasas!$C$78:$AN$1228,$I$15+P$33+2,0))","v":0},{"$f":"+IF(OR($D43=0,$D43=\"NO\"),0,VLOOKUP($J$16+$H43,Tasas!$C$78:$AN$1228,$J$15+Q$33+2,0))","v":0},{"$f":"+IF(OR($D43=0,$D43=\"NO\"),0,VLOOKUP($J$16+$H43,Tasas!$C$78:$AN$1228,$J$15+R$33+2,0))","v":0},{"$f":"+IF(OR($D43=0,$D43=\"NO\"),0,VLOOKUP($J$16+$H43,Tasas!$C$78:$AN$1228,$J$15+S$33+2,0))","v":0},{"$f":"+IF(OR($D43=0,$D43=\"NO\"),0,VLOOKUP($J$16+$H43,Tasas!$C$78:$AN$1228,$J$15+T$33+2,0))","v":0},{"$f":"+IF(OR($D43=0,$D43=\"NO\"),0,VLOOKUP($J$16+$H43,Tasas!$C$78:$AN$1228,$J$15+U$33+2,0))","v":0},{"$f":"+IF(OR($D43=0,$D43=\"NO\"),0,VLOOKUP($J$16+$H43,Tasas!$C$78:$AN$1228,$J$15+V$33+2,0))","v":0},{"$f":"+IF(OR($D43=0,$D43=\"NO\"),0,VLOOKUP($J$16+$H43,Tasas!$C$78:$AN$1228,$J$15+W$33+2,0))","v":0},{"$f":"+IF(OR($D43=0,$D43=\"NO\"),0,VLOOKUP($J$16+$H43,Tasas!$C$78:$AN$1228,$J$15+X$33+2,0))","v":0},{"$f":"+IF(OR($E43=0,$E43=\"NO\"),0,VLOOKUP($K$16+$H43,Tasas!$C$78:$AN$1228,$K$15+Y$33+2,0))","v":0},{"$f":"+IF(OR($E43=0,$E43=\"NO\"),0,VLOOKUP($K$16+$H43,Tasas!$C$78:$AN$1228,$K$15+Z$33+2,0))","v":0},{"$f":"+IF(OR($E43=0,$E43=\"NO\"),0,VLOOKUP($K$16+$H43,Tasas!$C$78:$AN$1228,$K$15+AA$33+2,0))","v":0},{"$f":"+IF(OR($E43=0,$E43=\"NO\"),0,VLOOKUP($K$16+$H43,Tasas!$C$78:$AN$1228,$K$15+AB$33+2,0))","v":0},{"$f":"+IF(OR($E43=0,$E43=\"NO\"),0,VLOOKUP($K$16+$H43,Tasas!$C$78:$AN$1228,$K$15+AC$33+2,0))","v":0},{"$f":"+IF(OR($E43=0,$E43=\"NO\"),0,VLOOKUP($K$16+$H43,Tasas!$C$78:$AN$1228,$K$15+AD$33+2,0))","v":0},{"$f":"+IF(OR($E43=0,$E43=\"NO\"),0,VLOOKUP($K$16+$H43,Tasas!$C$78:$AN$1228,$K$15+AE$33+2,0))","v":0},{"$f":"+IF(OR($E43=0,$E43=\"NO\"),0,VLOOKUP($K$16+$H43,Tasas!$C$78:$AN$1228,$K$15+AF$33+2,0))","v":0},{"$f":"+IF(OR($F43=0,$F43=\"NO\"),0,VLOOKUP($L$16+$H43,Tasas!$C$78:$AN$1228,$L$15+AG$33+2,0))","v":0},{"$f":"+IF(OR($F43=0,$F43=\"NO\"),0,VLOOKUP($L$16+$H43,Tasas!$C$78:$AN$1228,$L$15+AH$33+2,0))","v":0},{"$f":"+IF(OR($F43=0,$F43=\"NO\"),0,VLOOKUP($L$16+$H43,Tasas!$C$78:$AN$1228,$L$15+AI$33+2,0))","v":0},{"$f":"+IF(OR($F43=0,$F43=\"NO\"),0,VLOOKUP($L$16+$H43,Tasas!$C$78:$AN$1228,$L$15+AJ$33+2,0))","v":0},{"$f":"+IF(OR($F43=0,$F43=\"NO\"),0,VLOOKUP($L$16+$H43,Tasas!$C$78:$AN$1228,$L$15+AK$33+2,0))","v":0},{"$f":"+IF(OR($F43=0,$F43=\"NO\"),0,VLOOKUP($L$16+$H43,Tasas!$C$78:$AN$1228,$L$15+AL$33+2,0))","v":0},{"$f":"+IF(OR($F43=0,$F43=\"NO\"),0,VLOOKUP($L$16+$H43,Tasas!$C$78:$AN$1228,$L$15+AM$33+2,0))","v":0},{"$f":"+IF(OR($F43=0,$F43=\"NO\"),0,VLOOKUP($L$16+$H43,Tasas!$C$78:$AN$1228,$L$15+AN$33+2,0))","v":0},null,null,null,null,"Cláusula para pasajeros que usan cualquier medio habitual de transporte público de personas, en vehículos que no recorren itinerarios regulares y fijos. ",null,{"$f":"Cotizador!$E$98","v":0},{"$f":"Cotizador!$G$98","v":0},{"$f":"Cotizador!$I$98","v":0},{"$f":"Cotizador!$K$98","v":0},null,512,{"$f":"+IF(OR($AU43=0,$AU43=\"NO\"),0,VLOOKUP($BA$16+$AZ43,Tasas!$C$78:$BY$1292,$BA$15+BA$33+39,0))","v":0},{"$f":"+IF(OR($AU43=0,$AU43=\"NO\"),0,VLOOKUP($BA$16+$AZ43,Tasas!$C$78:$BY$1292,$BA$15+BB$33+39,0))","v":0},{"$f":"+IF(OR($AU43=0,$AU43=\"NO\"),0,VLOOKUP($BA$16+$AZ43,Tasas!$C$78:$BY$1292,$BA$15+BC$33+39,0))","v":0},{"$f":"+IF(OR($AU43=0,$AU43=\"NO\"),0,VLOOKUP($BA$16+$AZ43,Tasas!$C$78:$BY$1292,$BA$15+BD$33+39,0))","v":0},{"$f":"+IF(OR($AU43=0,$AU43=\"NO\"),0,VLOOKUP($BA$16+$AZ43,Tasas!$C$78:$BY$1292,$BA$15+BE$33+39,0))","v":0},{"$f":"+IF(OR($AU43=0,$AU43=\"NO\"),0,VLOOKUP($BA$16+$AZ43,Tasas!$C$78:$BY$1292,$BA$15+BF$33+39,0))","v":0},{"$f":"+IF(OR($AU43=0,$AU43=\"NO\"),0,VLOOKUP($BA$16+$AZ43,Tasas!$C$78:$BY$1292,$BA$15+BG$33+39,0))","v":0},{"$f":"+IF(OR($AU43=0,$AU43=\"NO\"),0,VLOOKUP($BA$16+$AZ43,Tasas!$C$78:$BY$1292,$BA$15+BH$33+39,0))","v":0},{"$f":"+IF(OR($AU43=0,$AU43=\"NO\"),0,VLOOKUP($BA$16+$AZ43,Tasas!$C$78:$BY$1292,$BA$15+BI$33+39,0))","v":0},{"$f":"+IF(OR($AU43=0,$AU43=\"NO\"),0,VLOOKUP($BA$16+$AZ43,Tasas!$C$78:$BY$1292,$BA$15+BJ$33+39,0))","v":0},{"$f":"+IF(OR($AU43=0,$AU43=\"NO\"),0,VLOOKUP($BA$16+$AZ43,Tasas!$C$78:$BY$1292,$BA$15+BK$33+39,0))","v":0},{"$f":"+IF(OR($AU43=0,$AU43=\"NO\"),0,VLOOKUP($BA$16+$AZ43,Tasas!$C$78:$BY$1292,$BA$15+BL$33+39,0))","v":0},{"$f":"+IF(OR($AU43=0,$AU43=\"NO\"),0,VLOOKUP($BA$16+$AZ43,Tasas!$C$78:$BY$1292,$BA$15+BM$33+39,0))","v":0},{"$f":"+IF(OR($AU43=0,$AU43=\"NO\"),0,VLOOKUP($BA$16+$AZ43,Tasas!$C$78:$BY$1292,$BA$15+BN$33+39,0))","v":0},{"$f":"+IF(OR($AU43=0,$AU43=\"NO\"),0,VLOOKUP($BA$16+$AZ43,Tasas!$C$78:$BY$1292,$BA$15+BO$33+39,0))","v":0},{"$f":"+IF(OR($AU43=0,$AU43=\"NO\"),0,VLOOKUP($BA$16+$AZ43,Tasas!$C$78:$BY$1292,$BA$15+BP$33+39,0))","v":0},{"$f":"+IF(OR($AU43=0,$AU43=\"NO\"),0,VLOOKUP($BA$16+$AZ43,Tasas!$C$78:$BY$1292,$BA$15+BQ$33+39,0))","v":0},{"$f":"+IF(OR($AU43=0,$AU43=\"NO\"),0,VLOOKUP($BA$16+$AZ43,Tasas!$C$78:$BY$1292,$BA$15+BR$33+39,0))","v":0},{"$f":"+IF(OR($AU43=0,$AU43=\"NO\"),0,VLOOKUP($BA$16+$AZ43,Tasas!$C$78:$BY$1292,$BA$15+BS$33+39,0))","v":0},{"$f":"+IF(OR($AU43=0,$AU43=\"NO\"),0,VLOOKUP($BA$16+$AZ43,Tasas!$C$78:$BY$1292,$BA$15+BT$33+39,0))","v":0},{"$f":"+IF(OR($AU43=0,$AU43=\"NO\"),0,VLOOKUP($BA$16+$AZ43,Tasas!$C$78:$BY$1292,$BA$15+BU$33+39,0))","v":0},{"$f":"+IF(OR($AU43=0,$AU43=\"NO\"),0,VLOOKUP($BA$16+$AZ43,Tasas!$C$78:$BY$1292,$BA$15+BV$33+39,0))","v":0},{"$f":"+IF(OR($AU43=0,$AU43=\"NO\"),0,VLOOKUP($BA$16+$AZ43,Tasas!$C$78:$BY$1292,$BA$15+BW$33+39,0))","v":0},{"$f":"+IF(OR($AU43=0,$AU43=\"NO\"),0,VLOOKUP($BA$16+$AZ43,Tasas!$C$78:$BY$1292,$BA$15+BX$33+39,0))","v":0},{"$f":"+IF(OR($AU43=0,$AU43=\"NO\"),0,VLOOKUP($BA$16+$AZ43,Tasas!$C$78:$BY$1292,$BA$15+BY$33+39,0))","v":0},{"$f":"+IF(OR($AU43=0,$AU43=\"NO\"),0,VLOOKUP($BA$16+$AZ43,Tasas!$C$78:$BY$1292,$BA$15+BZ$33+39,0))","v":0},{"$f":"+IF(OR($AU43=0,$AU43=\"NO\"),0,VLOOKUP($BA$16+$AZ43,Tasas!$C$78:$BY$1292,$BA$15+CA$33+39,0))","v":0},{"$f":"+IF(OR($AU43=0,$AU43=\"NO\"),0,VLOOKUP($BA$16+$AZ43,Tasas!$C$78:$BY$1292,$BA$15+CB$33+39,0))","v":0},{"$f":"+IF(OR($AU43=0,$AU43=\"NO\"),0,VLOOKUP($BA$16+$AZ43,Tasas!$C$78:$BY$1292,$BA$15+CC$33+39,0))","v":0},{"$f":"+IF(OR($AU43=0,$AU43=\"NO\"),0,VLOOKUP($BA$16+$AZ43,Tasas!$C$78:$BY$1292,$BA$15+CD$33+39,0))","v":0},{"$f":"+IF(OR($AU43=0,$AU43=\"NO\"),0,VLOOKUP($BA$16+$AZ43,Tasas!$C$78:$BY$1292,$BA$15+CE$33+39,0))","v":0},{"$f":"+IF(OR($AU43=0,$AU43=\"NO\"),0,VLOOKUP($BA$16+$AZ43,Tasas!$C$78:$BY$1292,$BA$15+CF$33+39,0))","v":0},null,null,null,null,"Cláusula para pasajeros que usan cualquier medio habitual de transporte público de personas, en vehículos que no recorren itinerarios regulares y fijos. ",null,{"$f":"Cotizador!$E$98","v":0},25,{"$error":"#N/A"},{"$f":"IF(OR($CM43=\"\",$CM43=0),0,VLOOKUP($CO43,Tasas!$CB$17:$CL$70,Calculadora!CP$33,0))","v":0},{"$f":"IF(OR($CM43=\"\",$CM43=0),0,VLOOKUP($CO43,Tasas!$CB$17:$CL$70,Calculadora!CQ$33,0))","v":0},{"$f":"IF(OR($CM43=\"\",$CM43=0),0,VLOOKUP($CO43,Tasas!$CB$17:$CL$70,Calculadora!CR$33,0))","v":0},{"$f":"IF(OR($CM43=\"\",$CM43=0),0,VLOOKUP($CO43,Tasas!$CB$17:$CL$70,Calculadora!CS$33,0))","v":0},{"$f":"IF(OR($CM43=\"\",$CM43=0),0,VLOOKUP($CO43,Tasas!$CB$17:$CL$70,Calculadora!CT$33,0))","v":0},{"$f":"IF(OR($CM43=\"\",$CM43=0),0,VLOOKUP($CO43,Tasas!$CB$17:$CL$70,Calculadora!CU$33,0))","v":0},{"$f":"IF(OR($CM43=\"\",$CM43=0),0,VLOOKUP($CO43,Tasas!$CB$17:$CL$70,Calculadora!CV$33,0))","v":0},{"$f":"IF(OR($CM43=\"\",$CM43=0),0,VLOOKUP($CO43,Tasas!$CB$17:$CL$70,Calculadora!CW$33,0))","v":0},null,null,null,null,"Cláusula para pasajeros que usan cualquier medio habitual de transporte público de personas, en vehículos que no recorren itinerarios regulares y fijos. ",null,{"$f":"Cotizador!$E$98","v":0},25,{"$error":"#N/A"},{"$f":"IF(OR($DD43=\"\",$DD43=0),0,VLOOKUP($DF43,Tasas!$CO$17:$CY$70,Calculadora!DG$33,0))","v":0},{"$f":"IF(OR($DD43=\"\",$DD43=0),0,VLOOKUP($DF43,Tasas!$CO$17:$CY$70,Calculadora!DH$33,0))","v":0},{"$f":"IF(OR($DD43=\"\",$DD43=0),0,VLOOKUP($DF43,Tasas!$CO$17:$CY$70,Calculadora!DI$33,0))","v":0},{"$f":"IF(OR($DD43=\"\",$DD43=0),0,VLOOKUP($DF43,Tasas!$CO$17:$CY$70,Calculadora!DJ$33,0))","v":0},{"$f":"IF(OR($DD43=\"\",$DD43=0),0,VLOOKUP($DF43,Tasas!$CO$17:$CY$70,Calculadora!DK$33,0))","v":0},{"$f":"IF(OR($DD43=\"\",$DD43=0),0,VLOOKUP($DF43,Tasas!$CO$17:$CY$70,Calculadora!DL$33,0))","v":0},{"$f":"IF(OR($DD43=\"\",$DD43=0),0,VLOOKUP($DF43,Tasas!$CO$17:$CY$70,Calculadora!DM$33,0))","v":0},{"$f":"IF(OR($DD43=\"\",$DD43=0),0,VLOOKUP($DF43,Tasas!$CO$17:$CY$70,Calculadora!DN$33,0))","v":0},null,null,null,null,"Cláusula para pasajeros que usan cualquier medio habitual de transporte público de personas, en vehículos que no recorren itinerarios regulares y fijos. ",null,{"$f":"Cotizador!$E$98","v":0},25,{"$error":"#N/A"},{"$f":"IF(OR($DU43=\"\",$DU43=0),0,VLOOKUP($DW43,Tasas!$DB$17:$DL$70,Calculadora!DX$33,0))","v":0},{"$f":"IF(OR($DU43=\"\",$DU43=0),0,VLOOKUP($DW43,Tasas!$DB$17:$DL$70,Calculadora!DY$33,0))","v":0},{"$f":"IF(OR($DU43=\"\",$DU43=0),0,VLOOKUP($DW43,Tasas!$DB$17:$DL$70,Calculadora!DZ$33,0))","v":0},{"$f":"IF(OR($DU43=\"\",$DU43=0),0,VLOOKUP($DW43,Tasas!$DB$17:$DL$70,Calculadora!EA$33,0))","v":0},{"$f":"IF(OR($DU43=\"\",$DU43=0),0,VLOOKUP($DW43,Tasas!$DB$17:$DL$70,Calculadora!EB$33,0))","v":0},{"$f":"IF(OR($DU43=\"\",$DU43=0),0,VLOOKUP($DW43,Tasas!$DB$17:$DL$70,Calculadora!EC$33,0))","v":0},{"$f":"IF(OR($DU43=\"\",$DU43=0),0,VLOOKUP($DW43,Tasas!$DB$17:$DL$70,Calculadora!ED$33,0))","v":0},{"$f":"IF(OR($DU43=\"\",$DU43=0),0,VLOOKUP($DW43,Tasas!$DB$17:$DL$70,Calculadora!EE$33,0))","v":0},null,null,null,null,"Cláusula para pasajeros que usan cualquier medio habitual de transporte público de personas, en vehículos que no recorren itinerarios regulares y fijos. ",null,{"$f":"Cotizador!$E$98","v":0},25,{"$error":"#N/A"},{"$f":"IF(OR($EL43=\"\",$EL43=0),0,VLOOKUP($EN43,Tasas!$DO$17:$DY$70,Calculadora!EO$33,0))","v":0},{"$f":"IF(OR($EL43=\"\",$EL43=0),0,VLOOKUP($EN43,Tasas!$DO$17:$DY$70,Calculadora!EP$33,0))","v":0},{"$f":"IF(OR($EL43=\"\",$EL43=0),0,VLOOKUP($EN43,Tasas!$DO$17:$DY$70,Calculadora!EQ$33,0))","v":0},{"$f":"IF(OR($EL43=\"\",$EL43=0),0,VLOOKUP($EN43,Tasas!$DO$17:$DY$70,Calculadora!ER$33,0))","v":0},{"$f":"IF(OR($EL43=\"\",$EL43=0),0,VLOOKUP($EN43,Tasas!$DO$17:$DY$70,Calculadora!ES$33,0))","v":0},{"$f":"IF(OR($EL43=\"\",$EL43=0),0,VLOOKUP($EN43,Tasas!$DO$17:$DY$70,Calculadora!ET$33,0))","v":0},{"$f":"IF(OR($EL43=\"\",$EL43=0),0,VLOOKUP($EN43,Tasas!$DO$17:$DY$70,Calculadora!EU$33,0))","v":0},{"$f":"IF(OR($EL43=\"\",$EL43=0),0,VLOOKUP($EN43,Tasas!$DO$17:$DY$70,Calculadora!EV$33,0))","v":0},null,null,null,null,"Cláusula para pasajeros que usan cualquier medio habitual de transporte público de personas, en vehículos que no recorren itinerarios regulares y fijos. ",null,{"$f":"Cotizador!$E$98","v":0},25,{"$error":"#N/A"},{"$f":"IF(OR($FC43=\"\",$FC43=0),0,VLOOKUP($FE43,Tasas!$EB$17:$EL$70,Calculadora!FF$33,0))","v":0},{"$f":"IF(OR($FC43=\"\",$FC43=0),0,VLOOKUP($FE43,Tasas!$EB$17:$EL$70,Calculadora!FG$33,0))","v":0},{"$f":"IF(OR($FC43=\"\",$FC43=0),0,VLOOKUP($FE43,Tasas!$EB$17:$EL$70,Calculadora!FH$33,0))","v":0},{"$f":"IF(OR($FC43=\"\",$FC43=0),0,VLOOKUP($FE43,Tasas!$EB$17:$EL$70,Calculadora!FI$33,0))","v":0},{"$f":"IF(OR($FC43=\"\",$FC43=0),0,VLOOKUP($FE43,Tasas!$EB$17:$EL$70,Calculadora!FJ$33,0))","v":0},{"$f":"IF(OR($FC43=\"\",$FC43=0),0,VLOOKUP($FE43,Tasas!$EB$17:$EL$70,Calculadora!FK$33,0))","v":0},{"$f":"IF(OR($FC43=\"\",$FC43=0),0,VLOOKUP($FE43,Tasas!$EB$17:$EL$70,Calculadora!FL$33,0))","v":0},{"$f":"IF(OR($FC43=\"\",$FC43=0),0,VLOOKUP($FE43,Tasas!$EB$17:$EL$70,Calculadora!FM$33,0))","v":0},null,null,null,null,"Cláusula para pasajeros de aviones y/o helicópteros particulares y/o de la FAP por viajes eventuales. N2",null,{"$f":"Cotizador!$E$118","v":0},null,10,{"$f":"IF(OR($FT43=0,$FT43=\"NO\"),0,VLOOKUP($FV43,Tasas!$EO$29:$FU$45,Calculadora!FW$32,0))","v":0},{"$f":"IF(OR($FT43=0,$FT43=\"NO\"),0,VLOOKUP($FV43,Tasas!$EO$29:$FU$45,Calculadora!FX$32,0))","v":0},{"$f":"IF(OR($FT43=0,$FT43=\"NO\"),0,VLOOKUP($FV43,Tasas!$EO$29:$FU$45,Calculadora!FY$32,0))","v":0},{"$f":"IF(OR($FT43=0,$FT43=\"NO\"),0,VLOOKUP($FV43,Tasas!$EO$29:$FU$45,Calculadora!FZ$32,0))","v":0},{"$f":"IF(OR($FT43=0,$FT43=\"NO\"),0,VLOOKUP($FV43,Tasas!$EO$29:$FU$45,Calculadora!GA$32,0))","v":0},{"$f":"IF(OR($FT43=0,$FT43=\"NO\"),0,VLOOKUP($FV43,Tasas!$EO$29:$FU$45,Calculadora!GB$32,0))","v":0},{"$f":"IF(OR($FT43=0,$FT43=\"NO\"),0,VLOOKUP($FV43,Tasas!$EO$29:$FU$45,Calculadora!GC$32,0))","v":0},{"$f":"IF(OR($FT43=0,$FT43=\"NO\"),0,VLOOKUP($FV43,Tasas!$EO$29:$FU$45,Calculadora!GD$32,0))","v":0},null,null,null,null,"Cláusula para pasajeros que usan cualquier medio habitual de transporte público de personas, en vehículos que no recorren itinerarios regulares y fijos. ",null,{"$f":"Cotizador!$E$98","v":0},null,null,null,null,512,{"$f":"+IF(OR($C43=0,$C43=\"NO\"),0,VLOOKUP($I$16+$H43,Tasas!$FY$78:$HJ$1228,$I$15+GQ$33+2,0))","v":0},{"$f":"+IF(OR($C43=0,$C43=\"NO\"),0,VLOOKUP($I$16+$H43,Tasas!$FY$78:$HJ$1228,$I$15+GR$33+2,0))","v":0},{"$f":"+IF(OR($C43=0,$C43=\"NO\"),0,VLOOKUP($I$16+$H43,Tasas!$FY$78:$HJ$1228,$I$15+GS$33+2,0))","v":0},{"$f":"+IF(OR($C43=0,$C43=\"NO\"),0,VLOOKUP($I$16+$H43,Tasas!$FY$78:$HJ$1228,$I$15+GT$33+2,0))","v":0},{"$f":"+IF(OR($C43=0,$C43=\"NO\"),0,VLOOKUP($I$16+$H43,Tasas!$FY$78:$HJ$1228,$I$15+GU$33+2,0))","v":0},{"$f":"+IF(OR($C43=0,$C43=\"NO\"),0,VLOOKUP($I$16+$H43,Tasas!$FY$78:$HJ$1228,$I$15+GV$33+2,0))","v":0},{"$f":"+IF(OR($C43=0,$C43=\"NO\"),0,VLOOKUP($I$16+$H43,Tasas!$FY$78:$HJ$1228,$I$15+GW$33+2,0))","v":0},{"$f":"+IF(OR($C43=0,$C43=\"NO\"),0,VLOOKUP($I$16+$H43,Tasas!$FY$78:$HJ$1228,$I$15+GX$33+2,0))","v":0}]
["Ocupantes de vehiculos automotores particulares (no comerciales) por accidentes de tránsito.",null,{"$f":"Cotizador!$E$99","v":0},{"$f":"Cotizador!$G$99","v":0},{"$f":"Cotizador!$I$99","v":0},{"$f":"Cotizador!$K$99","v":0},null,576,{"$f":"+IF(OR($C44=0,$C44=\"NO\"),0,VLOOKUP($I$16+$H44,Tasas!$C$78:$AN$1228,$I$15+I$33+2,0))","v":0},{"$f":"+IF(OR($C44=0,$C44=\"NO\"),0,VLOOKUP($I$16+$H44,Tasas!$C$78:$AN$1228,$I$15+J$33+2,0))","v":0},{"$f":"+IF(OR($C44=0,$C44=\"NO\"),0,VLOOKUP($I$16+$H44,Tasas!$C$78:$AN$1228,$I$15+K$33+2,0))","v":0},{"$f":"+IF(OR($C44=0,$C44=\"NO\"),0,VLOOKUP($I$16+$H44,Tasas!$C$78:$AN$1228,$I$15+L$33+2,0))","v":0},{"$f":"+IF(OR($C44=0,$C44=\"NO\"),0,VLOOKUP($I$16+$H44,Tasas!$C$78:$AN$1228,$I$15+M$33+2,0))","v":0},{"$f":"+IF(OR($C44=0,$C44=\"NO\"),0,VLOOKUP($I$16+$H44,Tasas!$C$78:$AN$1228,$I$15+N$33+2,0))","v":0},{"$f":"+IF(OR($C44=0,$C44=\"NO\"),0,VLOOKUP($I$16+$H44,Tasas!$C$78:$AN$1228,$I$15+O$33+2,0))","v":0},{"$f":"+IF(OR($C44=0,$C44=\"NO\"),0,VLOOKUP($I$16+$H44,Tasas!$C$78:$AN$1228,$I$15+P$33+2,0))","v":0},{"$f":"+IF(OR($D44=0,$D44=\"NO\"),0,VLOOKUP($J$16+$H44,Tasas!$C$78:$AN$1228,$J$15+Q$33+2,0))","v":0},{"$f":"+IF(OR($D44=0,$D44=\"NO\"),0,VLOOKUP($J$16+$H44,Tasas!$C$78:$AN$1228,$J$15+R$33+2,0))","v":0},{"$f":"+IF(OR($D44=0,$D44=\"NO\"),0,VLOOKUP($J$16+$H44,Tasas!$C$78:$AN$1228,$J$15+S$33+2,0))","v":0},{"$f":"+IF(OR($D44=0,$D44=\"NO\"),0,VLOOKUP($J$16+$H44,Tasas!$C$78:$AN$1228,$J$15+T$33+2,0))","v":0},{"$f":"+IF(OR($D44=0,$D44=\"NO\"),0,VLOOKUP($J$16+$H44,Tasas!$C$78:$AN$1228,$J$15+U$33+2,0))","v":0},{"$f":"+IF(OR($D44=0,$D44=\"NO\"),0,VLOOKUP($J$16+$H44,Tasas!$C$78:$AN$1228,$J$15+V$33+2,0))","v":0},{"$f":"+IF(OR($D44=0,$D44=\"NO\"),0,VLOOKUP($J$16+$H44,Tasas!$C$78:$AN$1228,$J$15+W$33+2,0))","v":0},{"$f":"+IF(OR($D44=0,$D44=\"NO\"),0,VLOOKUP($J$16+$H44,Tasas!$C$78:$AN$1228,$J$15+X$33+2,0))","v":0},{"$f":"+IF(OR($E44=0,$E44=\"NO\"),0,VLOOKUP($K$16+$H44,Tasas!$C$78:$AN$1228,$K$15+Y$33+2,0))","v":0},{"$f":"+IF(OR($E44=0,$E44=\"NO\"),0,VLOOKUP($K$16+$H44,Tasas!$C$78:$AN$1228,$K$15+Z$33+2,0))","v":0},{"$f":"+IF(OR($E44=0,$E44=\"NO\"),0,VLOOKUP($K$16+$H44,Tasas!$C$78:$AN$1228,$K$15+AA$33+2,0))","v":0},{"$f":"+IF(OR($E44=0,$E44=\"NO\"),0,VLOOKUP($K$16+$H44,Tasas!$C$78:$AN$1228,$K$15+AB$33+2,0))","v":0},{"$f":"+IF(OR($E44=0,$E44=\"NO\"),0,VLOOKUP($K$16+$H44,Tasas!$C$78:$AN$1228,$K$15+AC$33+2,0))","v":0},{"$f":"+IF(OR($E44=0,$E44=\"NO\"),0,VLOOKUP($K$16+$H44,Tasas!$C$78:$AN$1228,$K$15+AD$33+2,0))","v":0},{"$f":"+IF(OR($E44=0,$E44=\"NO\"),0,VLOOKUP($K$16+$H44,Tasas!$C$78:$AN$1228,$K$15+AE$33+2,0))","v":0},{"$f":"+IF(OR($E44=0,$E44=\"NO\"),0,VLOOKUP($K$16+$H44,Tasas!$C$78:$AN$1228,$K$15+AF$33+2,0))","v":0},{"$f":"+IF(OR($F44=0,$F44=\"NO\"),0,VLOOKUP($L$16+$H44,Tasas!$C$78:$AN$1228,$L$15+AG$33+2,0))","v":0},{"$f":"+IF(OR($F44=0,$F44=\"NO\"),0,VLOOKUP($L$16+$H44,Tasas!$C$78:$AN$1228,$L$15+AH$33+2,0))","v":0},{"$f":"+IF(OR($F44=0,$F44=\"NO\"),0,VLOOKUP($L$16+$H44,Tasas!$C$78:$AN$1228,$L$15+AI$33+2,0))","v":0},{"$f":"+IF(OR($F44=0,$F44=\"NO\"),0,VLOOKUP($L$16+$H44,Tasas!$C$78:$AN$1228,$L$15+AJ$33+2,0))","v":0},{"$f":"+IF(OR($F44=0,$F44=\"NO\"),0,VLOOKUP($L$16+$H44,Tasas!$C$78:$AN$1228,$L$15+AK$33+2,0))","v":0},{"$f":"+IF(OR($F44=0,$F44=\"NO\"),0,VLOOKUP($L$16+$H44,Tasas!$C$78:$AN$1228,$L$15+AL$33+2,0))","v":0},{"$f":"+IF(OR($F44=0,$F44=\"NO\"),0,VLOOKUP($L$16+$H44,Tasas!$C$78:$AN$1228,$L$15+AM$33+2,0))","v":0},{"$f":"+IF(OR($F44=0,$F44=\"NO\"),0,VLOOKUP($L$16+$H44,Tasas!$C$78:$AN$1228,$L$15+AN$33+2,0))","v":0},null,null,null,null,"Ocupantes de vehiculos automotores particulares (no comerciales) por accidentes de tránsito.",null,{"$f":"Cotizador!$E$99","v":0},{"$f":"Cotizador!$G$99","v":0},{"$f":"Cotizador!$I$99","v":0},{"$f":"Cotizador!$K$99","v":0},null,576,{"$f":"+IF(OR($AU44=0,$AU44=\"NO\"),0,VLOOKUP($BA$16+$AZ44,Tasas!$C$78:$BY$1292,$BA$15+BA$33+39,0))","v":0},{"$f":"+IF(OR($AU44=0,$AU44=\"NO\"),0,VLOOKUP($BA$16+$AZ44,Tasas!$C$78:$BY$1292,$BA$15+BB$33+39,0))","v":0},{"$f":"+IF(OR($AU44=0,$AU44=\"NO\"),0,VLOOKUP($BA$16+$AZ44,Tasas!$C$78:$BY$1292,$BA$15+BC$33+39,0))","v":0},{"$f":"+IF(OR($AU44=0,$AU44=\"NO\"),0,VLOOKUP($BA$16+$AZ44,Tasas!$C$78:$BY$1292,$BA$15+BD$33+39,0))","v":0},{"$f":"+IF(OR($AU44=0,$AU44=\"NO\"),0,VLOOKUP($BA$16+$AZ44,Tasas!$C$78:$BY$1292,$BA$15+BE$33+39,0))","v":0},{"$f":"+IF(OR($AU44=0,$AU44=\"NO\"),0,VLOOKUP($BA$16+$AZ44,Tasas!$C$78:$BY$1292,$BA$15+BF$33+39,0))","v":0},{"$f":"+IF(OR($AU44=0,$AU44=\"NO\"),0,VLOOKUP($BA$16+$AZ44,Tasas!$C$78:$BY$1292,$BA$15+BG$33+39,0))","v":0},{"$f":"+IF(OR($AU44=0,$AU44=\"NO\"),0,VLOOKUP($BA$16+$AZ44,Tasas!$C$78:$BY$1292,$BA$15+BH$33+39,0))","v":0},{"$f":"+IF(OR($AU44=0,$AU44=\"NO\"),0,VLOOKUP($BA$16+$AZ44,Tasas!$C$78:$BY$1292,$BA$15+BI$33+39,0))","v":0},{"$f":"+IF(OR($AU44=0,$AU44=\"NO\"),0,VLOOKUP($BA$16+$AZ44,Tasas!$C$78:$BY$1292,$BA$15+BJ$33+39,0))","v":0},{"$f":"+IF(OR($AU44=0,$AU44=\"NO\"),0,VLOOKUP($BA$16+$AZ44,Tasas!$C$78:$BY$1292,$BA$15+BK$33+39,0))","v":0},{"$f":"+IF(OR($AU44=0,$AU44=\"NO\"),0,VLOOKUP($BA$16+$AZ44,Tasas!$C$78:$BY$1292,$BA$15+BL$33+39,0))","v":0},{"$f":"+IF(OR($AU44=0,$AU44=\"NO\"),0,VLOOKUP($BA$16+$AZ44,Tasas!$C$78:$BY$1292,$BA$15+BM$33+39,0))","v":0},{"$f":"+IF(OR($AU44=0,$AU44=\"NO\"),0,VLOOKUP($BA$16+$AZ44,Tasas!$C$78:$BY$1292,$BA$15+BN$33+39,0))","v":0},{"$f":"+IF(OR($AU44=0,$AU44=\"NO\"),0,VLOOKUP($BA$16+$AZ44,Tasas!$C$78:$BY$1292,$BA$15+BO$33+39,0))","v":0},{"$f":"+IF(OR($AU44=0,$AU44=\"NO\"),0,VLOOKUP($BA$16+$AZ44,Tasas!$C$78:$BY$1292,$BA$15+BP$33+39,0))","v":0},{"$f":"+IF(OR($AU44=0,$AU44=\"NO\"),0,VLOOKUP($BA$16+$AZ44,Tasas!$C$78:$BY$1292,$BA$15+BQ$33+39,0))","v":0},{"$f":"+IF(OR($AU44=0,$AU44=\"NO\"),0,VLOOKUP($BA$16+$AZ44,Tasas!$C$78:$BY$1292,$BA$15+BR$33+39,0))","v":0},{"$f":"+IF(OR($AU44=0,$AU44=\"NO\"),0,VLOOKUP($BA$16+$AZ44,Tasas!$C$78:$BY$1292,$BA$15+BS$33+39,0))","v":0},{"$f":"+IF(OR($AU44=0,$AU44=\"NO\"),0,VLOOKUP($BA$16+$AZ44,Tasas!$C$78:$BY$1292,$BA$15+BT$33+39,0))","v":0},{"$f":"+IF(OR($AU44=0,$AU44=\"NO\"),0,VLOOKUP($BA$16+$AZ44,Tasas!$C$78:$BY$1292,$BA$15+BU$33+39,0))","v":0},{"$f":"+IF(OR($AU44=0,$AU44=\"NO\"),0,VLOOKUP($BA$16+$AZ44,Tasas!$C$78:$BY$1292,$BA$15+BV$33+39,0))","v":0},{"$f":"+IF(OR($AU44=0,$AU44=\"NO\"),0,VLOOKUP($BA$16+$AZ44,Tasas!$C$78:$BY$1292,$BA$15+BW$33+39,0))","v":0},{"$f":"+IF(OR($AU44=0,$AU44=\"NO\"),0,VLOOKUP($BA$16+$AZ44,Tasas!$C$78:$BY$1292,$BA$15+BX$33+39,0))","v":0},{"$f":"+IF(OR($AU44=0,$AU44=\"NO\"),0,VLOOKUP($BA$16+$AZ44,Tasas!$C$78:$BY$1292,$BA$15+BY$33+39,0))","v":0},{"$f":"+IF(OR($AU44=0,$AU44=\"NO\"),0,VLOOKUP($BA$16+$AZ44,Tasas!$C$78:$BY$1292,$BA$15+BZ$33+39,0))","v":0},{"$f":"+IF(OR($AU44=0,$AU44=\"NO\"),0,VLOOKUP($BA$16+$AZ44,Tasas!$C$78:$BY$1292,$BA$15+CA$33+39,0))","v":0},{"$f":"+IF(OR($AU44=0,$AU44=\"NO\"),0,VLOOKUP($BA$16+$AZ44,Tasas!$C$78:$BY$1292,$BA$15+CB$33+39,0))","v":0},{"$f":"+IF(OR($AU44=0,$AU44=\"NO\"),0,VLOOKUP($BA$16+$AZ44,Tasas!$C$78:$BY$1292,$BA$15+CC$33+39,0))","v":0},{"$f":"+IF(OR($AU44=0,$AU44=\"NO\"),0,VLOOKUP($BA$16+$AZ44,Tasas!$C$78:$BY$1292,$BA$15+CD$33+39,0))","v":0},{"$f":"+IF(OR($AU44=0,$AU44=\"NO\"),0,VLOOKUP($BA$16+$AZ44,Tasas!$C$78:$BY$1292,$BA$15+CE$33+39,0))","v":0},{"$f":"+IF(OR($AU44=0,$AU44=\"NO\"),0,VLOOKUP($BA$16+$AZ44,Tasas!$C$78:$BY$1292,$BA$15+CF$33+39,0))","v":0},null,null,null,null,"Ocupantes de vehiculos automotores particulares (no comerciales) por accidentes de tránsito.",null,{"$f":"Cotizador!$E$99","v":0},28,{"$error":"#N/A"},{"$f":"IF(OR($CM44=\"\",$CM44=0),0,VLOOKUP($CO44,Tasas!$CB$17:$CL$70,Calculadora!CP$33,0))","v":0},{"$f":"IF(OR($CM44=\"\",$CM44=0),0,VLOOKUP($CO44,Tasas!$CB$17:$CL$70,Calculadora!CQ$33,0))","v":0},{"$f":"IF(OR($CM44=\"\",$CM44=0),0,VLOOKUP($CO44,Tasas!$CB$17:$CL$70,Calculadora!CR$33,0))","v":0},{"$f":"IF(OR($CM44=\"\",$CM44=0),0,VLOOKUP($CO44,Tasas!$CB$17:$CL$70,Calculadora!CS$33,0))","v":0},{"$f":"IF(OR($CM44=\"\",$CM44=0),0,VLOOKUP($CO44,Tasas!$CB$17:$CL$70,Calculadora!CT$33,0))","v":0},{"$f":"IF(OR($CM44=\"\",$CM44=0),0,VLOOKUP($CO44,Tasas!$CB$17:$CL$70,Calculadora!CU$33,0))","v":0},{"$f":"IF(OR($CM44=\"\",$CM44=0),0,VLOOKUP($CO44,Tasas!$CB$17:$CL$70,Calculadora!CV$33,0))","v":0},{"$f":"IF(OR($CM44=\"\",$CM44=0),0,VLOOKUP($CO44,Tasas!$CB$17:$CL$70,Calculadora!CW$33,0))","v":0},null,null,null,null,"Ocupantes de vehiculos automotores particulares (no comerciales) por accidentes de tránsito.",null,{"$f":"Cotizador!$E$99","v":0},28,{"$error":"#N/A"},{"$f":"IF(OR($DD44=\"\",$DD44=0),0,VLOOKUP($DF44,Tasas!$CO$17:$CY$70,Calculadora!DG$33,0))","v":0},{"$f":"IF(OR($DD44=\"\",$DD44=0),0,VLOOKUP($DF44,Tasas!$CO$17:$CY$70,Calculadora!DH$33,0))","v":0},{"$f":"IF(OR($DD44=\"\",$DD44=0),0,VLOOKUP($DF44,Tasas!$CO$17:$CY$70,Calculadora!DI$33,0))","v":0},{"$f":"IF(OR($DD44=\"\",$DD44=0),0,VLOOKUP($DF44,Tasas!$CO$17:$CY$70,Calculadora!DJ$33,0))","v":0},{"$f":"IF(OR($DD44=\"\",$DD44=0),0,VLOOKUP($DF44,Tasas!$CO$17:$CY$70,Calculadora!DK$33,0))","v":0},{"$f":"IF(OR($DD44=\"\",$DD44=0),0,VLOOKUP($DF44,Tasas!$CO$17:$CY$70,Calculadora!DL$33,0))","v":0},{"$f":"IF(OR($DD44=\"\",$DD44=0),0,VLOOKUP($DF44,Tasas!$CO$17:$CY$70,Calculadora!DM$33,0))","v":0},{"$f":"IF(OR($DD44=\"\",$DD44=0),0,VLOOKUP($DF44,Tasas!$CO$17:$CY$70,Calculadora!DN$33,0))","v":0},null,null,null,null,"Ocupantes de vehiculos automotores particulares (no comerciales) por accidentes de tránsito.",null,{"$f":"Cotizador!$E$99","v":0},28,{"$error":"#N/A"},{"$f":"IF(OR($DU44=\"\",$DU44=0),0,VLOOKUP($DW44,Tasas!$DB$17:$DL$70,Calculadora!DX$33,0))","v":0},{"$f":"IF(OR($DU44=\"\",$DU44=0),0,VLOOKUP($DW44,Tasas!$DB$17:$DL$70,Calculadora!DY$33,0))","v":0},{"$f":"IF(OR($DU44=\"\",$DU44=0),0,VLOOKUP($DW44,Tasas!$DB$17:$DL$70,Calculadora!DZ$33,0))","v":0},{"$f":"IF(OR($DU44=\"\",$DU44=0),0,VLOOKUP($DW44,Tasas!$DB$17:$DL$70,Calculadora!EA$33,0))","v":0},{"$f":"IF(OR($DU44=\"\",$DU44=0),0,VLOOKUP($DW44,Tasas!$DB$17:$DL$70,Calculadora!EB$33,0))","v":0},{"$f":"IF(OR($DU44=\"\",$DU44=0),0,VLOOKUP($DW44,Tasas!$DB$17:$DL$70,Calculadora!EC$33,0))","v":0},{"$f":"IF(OR($DU44=\"\",$DU44=0),0,VLOOKUP($DW44,Tasas!$DB$17:$DL$70,Calculadora!ED$33,0))","v":0},{"$f":"IF(OR($DU44=\"\",$DU44=0),0,VLOOKUP($DW44,Tasas!$DB$17:$DL$70,Calculadora!EE$33,0))","v":0},null,null,null,null,"Ocupantes de vehiculos automotores particulares (no comerciales) por accidentes de tránsito.",null,{"$f":"Cotizador!$E$99","v":0},28,{"$error":"#N/A"},{"$f":"IF(OR($EL44=\"\",$EL44=0),0,VLOOKUP($EN44,Tasas!$DO$17:$DY$70,Calculadora!EO$33,0))","v":0},{"$f":"IF(OR($EL44=\"\",$EL44=0),0,VLOOKUP($EN44,Tasas!$DO$17:$DY$70,Calculadora!EP$33,0))","v":0},{"$f":"IF(OR($EL44=\"\",$EL44=0),0,VLOOKUP($EN44,Tasas!$DO$17:$DY$70,Calculadora!EQ$33,0))","v":0},{"$f":"IF(OR($EL44=\"\",$EL44=0),0,VLOOKUP($EN44,Tasas!$DO$17:$DY$70,Calculadora!ER$33,0))","v":0},{"$f":"IF(OR($EL44=\"\",$EL44=0),0,VLOOKUP($EN44,Tasas!$DO$17:$DY$70,Calculadora!ES$33,0))","v":0},{"$f":"IF(OR($EL44=\"\",$EL44=0),0,VLOOKUP($EN44,Tasas!$DO$17:$DY$70,Calculadora!ET$33,0))","v":0},{"$f":"IF(OR($EL44=\"\",$EL44=0),0,VLOOKUP($EN44,Tasas!$DO$17:$DY$70,Calculadora!EU$33,0))","v":0},{"$f":"IF(OR($EL44=\"\",$EL44=0),0,VLOOKUP($EN44,Tasas!$DO$17:$DY$70,Calculadora!EV$33,0))","v":0},null,null,null,null,"Ocupantes de vehiculos automotores particulares (no comerciales) por accidentes de tránsito.",null,{"$f":"Cotizador!$E$99","v":0},28,{"$error":"#N/A"},{"$f":"IF(OR($FC44=\"\",$FC44=0),0,VLOOKUP($FE44,Tasas!$EB$17:$EL$70,Calculadora!FF$33,0))","v":0},{"$f":"IF(OR($FC44=\"\",$FC44=0),0,VLOOKUP($FE44,Tasas!$EB$17:$EL$70,Calculadora!FG$33,0))","v":0},{"$f":"IF(OR($FC44=\"\",$FC44=0),0,VLOOKUP($FE44,Tasas!$EB$17:$EL$70,Calculadora!FH$33,0))","v":0},{"$f":"IF(OR($FC44=\"\",$FC44=0),0,VLOOKUP($FE44,Tasas!$EB$17:$EL$70,Calculadora!FI$33,0))","v":0},{"$f":"IF(OR($FC44=\"\",$FC44=0),0,VLOOKUP($FE44,Tasas!$EB$17:$EL$70,Calculadora!FJ$33,0))","v":0},{"$f":"IF(OR($FC44=\"\",$FC44=0),0,VLOOKUP($FE44,Tasas!$EB$17:$EL$70,Calculadora!FK$33,0))","v":0},{"$f":"IF(OR($FC44=\"\",$FC44=0),0,VLOOKUP($FE44,Tasas!$EB$17:$EL$70,Calculadora!FL$33,0))","v":0},{"$f":"IF(OR($FC44=\"\",$FC44=0),0,VLOOKUP($FE44,Tasas!$EB$17:$EL$70,Calculadora!FM$33,0))","v":0},null,null,null,null,"Cláusula para pasajeros de aviones y/o helicópteros particulares y/o de la FAP por viajes eventuales. N3",null,{"$f":"Cotizador!$E$119","v":0},null,11,{"$f":"IF(OR($FT44=0,$FT44=\"NO\"),0,VLOOKUP($FV44,Tasas!$EO$29:$FU$45,Calculadora!FW$32,0))","v":0},{"$f":"IF(OR($FT44=0,$FT44=\"NO\"),0,VLOOKUP($FV44,Tasas!$EO$29:$FU$45,Calculadora!FX$32,0))","v":0},{"$f":"IF(OR($FT44=0,$FT44=\"NO\"),0,VLOOKUP($FV44,Tasas!$EO$29:$FU$45,Calculadora!FY$32,0))","v":0},{"$f":"IF(OR($FT44=0,$FT44=\"NO\"),0,VLOOKUP($FV44,Tasas!$EO$29:$FU$45,Calculadora!FZ$32,0))","v":0},{"$f":"IF(OR($FT44=0,$FT44=\"NO\"),0,VLOOKUP($FV44,Tasas!$EO$29:$FU$45,Calculadora!GA$32,0))","v":0},{"$f":"IF(OR($FT44=0,$FT44=\"NO\"),0,VLOOKUP($FV44,Tasas!$EO$29:$FU$45,Calculadora!GB$32,0))","v":0},{"$f":"IF(OR($FT44=0,$FT44=\"NO\"),0,VLOOKUP($FV44,Tasas!$EO$29:$FU$45,Calculadora!GC$32,0))","v":0},{"$f":"IF(OR($FT44=0,$FT44=\"NO\"),0,VLOOKUP($FV44,Tasas!$EO$29:$FU$45,Calculadora!GD$32,0))","v":0},null,null,null,null,"Ocupantes de vehiculos automotores particulares (no comerciales) por accidentes de tránsito.",null,{"$f":"Cotizador!$E$99","v":0},null,null,null,null,576,{"$f":"+IF(OR($C44=0,$C44=\"NO\"),0,VLOOKUP($I$16+$H44,Tasas!$FY$78:$HJ$1228,$I$15+GQ$33+2,0))","v":0},{"$f":"+IF(OR($C44=0,$C44=\"NO\"),0,VLOOKUP($I$16+$H44,Tasas!$FY$78:$HJ$1228,$I$15+GR$33+2,0))","v":0},{"$f":"+IF(OR($C44=0,$C44=\"NO\"),0,VLOOKUP($I$16+$H44,Tasas!$FY$78:$HJ$1228,$I$15+GS$33+2,0))","v":0},{"$f":"+IF(OR($C44=0,$C44=\"NO\"),0,VLOOKUP($I$16+$H44,Tasas!$FY$78:$HJ$1228,$I$15+GT$33+2,0))","v":0},{"$f":"+IF(OR($C44=0,$C44=\"NO\"),0,VLOOKUP($I$16+$H44,Tasas!$FY$78:$HJ$1228,$I$15+GU$33+2,0))","v":0},{"$f":"+IF(OR($C44=0,$C44=\"NO\"),0,VLOOKUP($I$16+$H44,Tasas!$FY$78:$HJ$1228,$I$15+GV$33+2,0))","v":0},{"$f":"+IF(OR($C44=0,$C44=\"NO\"),0,VLOOKUP($I$16+$H44,Tasas!$FY$78:$HJ$1228,$I$15+GW$33+2,0))","v":0},{"$f":"+IF(OR($C44=0,$C44=\"NO\"),0,VLOOKUP($I$16+$H44,Tasas!$FY$78:$HJ$1228,$I$15+GX$33+2,0))","v":0}]
["Cláusula para pasajeros de aviones y/o helicópteros particulares y/o de la FAP por viajes eventuales. Nivel 1 (Para pasajeros de aviones de propiedad o alquilados por empresas comerciales, industriales y bancos).",null,{"$f":"Cotizador!$E$100","v":0},{"$f":"Cotizador!$G$100","v":0},{"$f":"Cotizador!$I$100","v":0},{"$f":"Cotizador!$K$100","v":0},null,640,{"$f":"+IF(OR($C45=0,$C45=\"NO\"),0,VLOOKUP($I$16+$H45,Tasas!$C$78:$AN$1228,$I$15+I$33+2,0))","v":0},{"$f":"+IF(OR($C45=0,$C45=\"NO\"),0,VLOOKUP($I$16+$H45,Tasas!$C$78:$AN$1228,$I$15+J$33+2,0))","v":0},{"$f":"+IF(OR($C45=0,$C45=\"NO\"),0,VLOOKUP($I$16+$H45,Tasas!$C$78:$AN$1228,$I$15+K$33+2,0))","v":0},{"$f":"+IF(OR($C45=0,$C45=\"NO\"),0,VLOOKUP($I$16+$H45,Tasas!$C$78:$AN$1228,$I$15+L$33+2,0))","v":0},{"$f":"+IF(OR($C45=0,$C45=\"NO\"),0,VLOOKUP($I$16+$H45,Tasas!$C$78:$AN$1228,$I$15+M$33+2,0))","v":0},{"$f":"+IF(OR($C45=0,$C45=\"NO\"),0,VLOOKUP($I$16+$H45,Tasas!$C$78:$AN$1228,$I$15+N$33+2,0))","v":0},{"$f":"+IF(OR($C45=0,$C45=\"NO\"),0,VLOOKUP($I$16+$H45,Tasas!$C$78:$AN$1228,$I$15+O$33+2,0))","v":0},{"$f":"+IF(OR($C45=0,$C45=\"NO\"),0,VLOOKUP($I$16+$H45,Tasas!$C$78:$AN$1228,$I$15+P$33+2,0))","v":0},{"$f":"+IF(OR($D45=0,$D45=\"NO\"),0,VLOOKUP($J$16+$H45,Tasas!$C$78:$AN$1228,$J$15+Q$33+2,0))","v":0},{"$f":"+IF(OR($D45=0,$D45=\"NO\"),0,VLOOKUP($J$16+$H45,Tasas!$C$78:$AN$1228,$J$15+R$33+2,0))","v":0},{"$f":"+IF(OR($D45=0,$D45=\"NO\"),0,VLOOKUP($J$16+$H45,Tasas!$C$78:$AN$1228,$J$15+S$33+2,0))","v":0},{"$f":"+IF(OR($D45=0,$D45=\"NO\"),0,VLOOKUP($J$16+$H45,Tasas!$C$78:$AN$1228,$J$15+T$33+2,0))","v":0},{"$f":"+IF(OR($D45=0,$D45=\"NO\"),0,VLOOKUP($J$16+$H45,Tasas!$C$78:$AN$1228,$J$15+U$33+2,0))","v":0},{"$f":"+IF(OR($D45=0,$D45=\"NO\"),0,VLOOKUP($J$16+$H45,Tasas!$C$78:$AN$1228,$J$15+V$33+2,0))","v":0},{"$f":"+IF(OR($D45=0,$D45=\"NO\"),0,VLOOKUP($J$16+$H45,Tasas!$C$78:$AN$1228,$J$15+W$33+2,0))","v":0},{"$f":"+IF(OR($D45=0,$D45=\"NO\"),0,VLOOKUP($J$16+$H45,Tasas!$C$78:$AN$1228,$J$15+X$33+2,0))","v":0},{"$f":"+IF(OR($E45=0,$E45=\"NO\"),0,VLOOKUP($K$16+$H45,Tasas!$C$78:$AN$1228,$K$15+Y$33+2,0))","v":0},{"$f":"+IF(OR($E45=0,$E45=\"NO\"),0,VLOOKUP($K$16+$H45,Tasas!$C$78:$AN$1228,$K$15+Z$33+2,0))","v":0},{"$f":"+IF(OR($E45=0,$E45=\"NO\"),0,VLOOKUP($K$16+$H45,Tasas!$C$78:$AN$1228,$K$15+AA$33+2,0))","v":0},{"$f":"+IF(OR($E45=0,$E45=\"NO\"),0,VLOOKUP($K$16+$H45,Tasas!$C$78:$AN$1228,$K$15+AB$33+2,0))","v":0},{"$f":"+IF(OR($E45=0,$E45=\"NO\"),0,VLOOKUP($K$16+$H45,Tasas!$C$78:$AN$1228,$K$15+AC$33+2,0))","v":0},{"$f":"+IF(OR($E45=0,$E45=\"NO\"),0,VLOOKUP($K$16+$H45,Tasas!$C$78:$AN$1228,$K$15+AD$33+2,0))","v":0},{"$f":"+IF(OR($E45=0,$E45=\"NO\"),0,VLOOKUP($K$16+$H45,Tasas!$C$78:$AN$1228,$K$15+AE$33+2,0))","v":0},{"$f":"+IF(OR($E45=0,$E45=\"NO\"),0,VLOOKUP($K$16+$H45,Tasas!$C$78:$AN$1228,$K$15+AF$33+2,0))","v":0},{"$f":"+IF(OR($F45=0,$F45=\"NO\"),0,VLOOKUP($L$16+$H45,Tasas!$C$78:$AN$1228,$L$15+AG$33+2,0))","v":0},{"$f":"+IF(OR($F45=0,$F45=\"NO\"),0,VLOOKUP($L$16+$H45,Tasas!$C$78:$AN$1228,$L$15+AH$33+2,0))","v":0},{"$f":"+IF(OR($F45=0,$F45=\"NO\"),0,VLOOKUP($L$16+$H45,Tasas!$C$78:$AN$1228,$L$15+AI$33+2,0))","v":0},{"$f":"+IF(OR($F45=0,$F45=\"NO\"),0,VLOOKUP($L$16+$H45,Tasas!$C$78:$AN$1228,$L$15+AJ$33+2,0))","v":0},{"$f":"+IF(OR($F45=0,$F45=\"NO\"),0,VLOOKUP($L$16+$H45,Tasas!$C$78:$AN$1228,$L$15+AK$33+2,0))","v":0},{"$f":"+IF(OR($F45=0,$F45=\"NO\"),0,VLOOKUP($L$16+$H45,Tasas!$C$78:$AN$1228,$L$15+AL$33+2,0))","v":0},{"$f":"+IF(OR($F45=0,$F45=\"NO\"),0,VLOOKUP($L$16+$H45,Tasas!$C$78:$AN$1228,$L$15+AM$33+2,0))","v":0},{"$f":"+IF(OR($F45=0,$F45=\"NO\"),0,VLOOKUP($L$16+$H45,Tasas!$C$78:$AN$1228,$L$15+AN$33+2,0))","v":0},null,null,null,null,"Cláusula para pasajeros de aviones y/o helicópteros particulares y/o de la FAP por viajes eventuales. Nivel 1 (Para pasajeros de aviones de propiedad o alquilados por empresas comerciales, industriales y bancos).",null,{"$f":"Cotizador!$E$100","v":0},{"$f":"Cotizador!$G$100","v":0},{"$f":"Cotizador!$I$100","v":0},{"$f":"Cotizador!$K$100","v":0},null,640,{"$f":"+IF(OR($AU45=0,$AU45=\"NO\"),0,VLOOKUP($BA$16+$AZ45,Tasas!$C$78:$BY$1292,$BA$15+BA$33+39,0))","v":0},{"$f":"+IF(OR($AU45=0,$AU45=\"NO\"),0,VLOOKUP($BA$16+$AZ45,Tasas!$C$78:$BY$1292,$BA$15+BB$33+39,0))","v":0},{"$f":"+IF(OR($AU45=0,$AU45=\"NO\"),0,VLOOKUP($BA$16+$AZ45,Tasas!$C$78:$BY$1292,$BA$15+BC$33+39,0))","v":0},{"$f":"+IF(OR($AU45=0,$AU45=\"NO\"),0,VLOOKUP($BA$16+$AZ45,Tasas!$C$78:$BY$1292,$BA$15+BD$33+39,0))","v":0},{"$f":"+IF(OR($AU45=0,$AU45=\"NO\"),0,VLOOKUP($BA$16+$AZ45,Tasas!$C$78:$BY$1292,$BA$15+BE$33+39,0))","v":0},{"$f":"+IF(OR($AU45=0,$AU45=\"NO\"),0,VLOOKUP($BA$16+$AZ45,Tasas!$C$78:$BY$1292,$BA$15+BF$33+39,0))","v":0},{"$f":"+IF(OR($AU45=0,$AU45=\"NO\"),0,VLOOKUP($BA$16+$AZ45,Tasas!$C$78:$BY$1292,$BA$15+BG$33+39,0))","v":0},{"$f":"+IF(OR($AU45=0,$AU45=\"NO\"),0,VLOOKUP($BA$16+$AZ45,Tasas!$C$78:$BY$1292,$BA$15+BH$33+39,0))","v":0},{"$f":"+IF(OR($AU45=0,$AU45=\"NO\"),0,VLOOKUP($BA$16+$AZ45,Tasas!$C$78:$BY$1292,$BA$15+BI$33+39,0))","v":0},{"$f":"+IF(OR($AU45=0,$AU45=\"NO\"),0,VLOOKUP($BA$16+$AZ45,Tasas!$C$78:$BY$1292,$BA$15+BJ$33+39,0))","v":0},{"$f":"+IF(OR($AU45=0,$AU45=\"NO\"),0,VLOOKUP($BA$16+$AZ45,Tasas!$C$78:$BY$1292,$BA$15+BK$33+39,0))","v":0},{"$f":"+IF(OR($AU45=0,$AU45=\"NO\"),0,VLOOKUP($BA$16+$AZ45,Tasas!$C$78:$BY$1292,$BA$15+BL$33+39,0))","v":0},{"$f":"+IF(OR($AU45=0,$AU45=\"NO\"),0,VLOOKUP($BA$16+$AZ45,Tasas!$C$78:$BY$1292,$BA$15+BM$33+39,0))","v":0},{"$f":"+IF(OR($AU45=0,$AU45=\"NO\"),0,VLOOKUP($BA$16+$AZ45,Tasas!$C$78:$BY$1292,$BA$15+BN$33+39,0))","v":0},{"$f":"+IF(OR($AU45=0,$AU45=\"NO\"),0,VLOOKUP($BA$16+$AZ45,Tasas!$C$78:$BY$1292,$BA$15+BO$33+39,0))","v":0},{"$f":"+IF(OR($AU45=0,$AU45=\"NO\"),0,VLOOKUP($BA$16+$AZ45,Tasas!$C$78:$BY$1292,$BA$15+BP$33+39,0))","v":0},{"$f":"+IF(OR($AU45=0,$AU45=\"NO\"),0,VLOOKUP($BA$16+$AZ45,Tasas!$C$78:$BY$1292,$BA$15+BQ$33+39,0))","v":0},{"$f":"+IF(OR($AU45=0,$AU45=\"NO\"),0,VLOOKUP($BA$16+$AZ45,Tasas!$C$78:$BY$1292,$BA$15+BR$33+39,0))","v":0},{"$f":"+IF(OR($AU45=0,$AU45=\"NO\"),0,VLOOKUP($BA$16+$AZ45,Tasas!$C$78:$BY$1292,$BA$15+BS$33+39,0))","v":0},{"$f":"+IF(OR($AU45=0,$AU45=\"NO\"),0,VLOOKUP($BA$16+$AZ45,Tasas!$C$78:$BY$1292,$BA$15+BT$33+39,0))","v":0},{"$f":"+IF(OR($AU45=0,$AU45=\"NO\"),0,VLOOKUP($BA$16+$AZ45,Tasas!$C$78:$BY$1292,$BA$15+BU$33+39,0))","v":0},{"$f":"+IF(OR($AU45=0,$AU45=\"NO\"),0,VLOOKUP($BA$16+$AZ45,Tasas!$C$78:$BY$1292,$BA$15+BV$33+39,0))","v":0},{"$f":"+IF(OR($AU45=0,$AU45=\"NO\"),0,VLOOKUP($BA$16+$AZ45,Tasas!$C$78:$BY$1292,$BA$15+BW$33+39,0))","v":0},{"$f":"+IF(OR($AU45=0,$AU45=\"NO\"),0,VLOOKUP($BA$16+$AZ45,Tasas!$C$78:$BY$1292,$BA$15+BX$33+39,0))","v":0},{"$f":"+IF(OR($AU45=0,$AU45=\"NO\"),0,VLOOKUP($BA$16+$AZ45,Tasas!$C$78:$BY$1292,$BA$15+BY$33+39,0))","v":0},{"$f":"+IF(OR($AU45=0,$AU45=\"NO\"),0,VLOOKUP($BA$16+$AZ45,Tasas!$C$78:$BY$1292,$BA$15+BZ$33+39,0))","v":0},{"$f":"+IF(OR($AU45=0,$AU45=\"NO\"),0,VLOOKUP($BA$16+$AZ45,Tasas!$C$78:$BY$1292,$BA$15+CA$33+39,0))","v":0},{"$f":"+IF(OR($AU45=0,$AU45=\"NO\"),0,VLOOKUP($BA$16+$AZ45,Tasas!$C$78:$BY$1292,$BA$15+CB$33+39,0))","v":0},{"$f":"+IF(OR($AU45=0,$AU45=\"NO\"),0,VLOOKUP($BA$16+$AZ45,Tasas!$C$78:$BY$1292,$BA$15+CC$33+39,0))","v":0},{"$f":"+IF(OR($AU45=0,$AU45=\"NO\"),0,VLOOKUP($BA$16+$AZ45,Tasas!$C$78:$BY$1292,$BA$15+CD$33+39,0))","v":0},{"$f":"+IF(OR($AU45=0,$AU45=\"NO\"),0,VLOOKUP($BA$16+$AZ45,Tasas!$C$78:$BY$1292,$BA$15+CE$33+39,0))","v":0},{"$f":"+IF(OR($AU45=0,$AU45=\"NO\"),0,VLOOKUP($BA$16+$AZ45,Tasas!$C$78:$BY$1292,$BA$15+CF$33+39,0))","v":0},null,null,null,null,"Cláusula para pasajeros de aviones y/o helicópteros particulares y/o de la FAP por viajes eventuales. Nivel 1 (Para pasajeros de aviones de propiedad o alquilados por empresas comerciales, industriales y bancos).",null,{"$f":"Cotizador!$E$100","v":0},31,{"$error":"#N/A"},{"$f":"IF(OR($CM45=\"\",$CM45=0),0,VLOOKUP($CO45,Tasas!$CB$17:$CL$70,Calculadora!CP$33,0))","v":0},{"$f":"IF(OR($CM45=\"\",$CM45=0),0,VLOOKUP($CO45,Tasas!$CB$17:$CL$70,Calculadora!CQ$33,0))","v":0},{"$f":"IF(OR($CM45=\"\",$CM45=0),0,VLOOKUP($CO45,Tasas!$CB$17:$CL$70,Calculadora!CR$33,0))","v":0},{"$f":"IF(OR($CM45=\"\",$CM45=0),0,VLOOKUP($CO45,Tasas!$CB$17:$CL$70,Calculadora!CS$33,0))","v":0},{"$f":"IF(OR($CM45=\"\",$CM45=0),0,VLOOKUP($CO45,Tasas!$CB$17:$CL$70,Calculadora!CT$33,0))","v":0},{"$f":"IF(OR($CM45=\"\",$CM45=0),0,VLOOKUP($CO45,Tasas!$CB$17:$CL$70,Calculadora!CU$33,0))","v":0},{"$f":"IF(OR($CM45=\"\",$CM45=0),0,VLOOKUP($CO45,Tasas!$CB$17:$CL$70,Calculadora!CV$33,0))","v":0},{"$f":"IF(OR($CM45=\"\",$CM45=0),0,VLOOKUP($CO45,Tasas!$CB$17:$CL$70,Calculadora!CW$33,0))","v":0},null,null,null,null,"Cláusula para pasajeros de aviones y/o helicópteros particulares y/o de la FAP por viajes eventuales. Nivel 1 (Para pasajeros de aviones de propiedad o alquilados por empresas comerciales, industriales y bancos).",null,{"$f":"Cotizador!$E$100","v":0},31,{"$error":"#N/A"},{"$f":"IF(OR($DD45=\"\",$DD45=0),0,VLOOKUP($DF45,Tasas!$CO$17:$CY$70,Calculadora!DG$33,0))","v":0},{"$f":"IF(OR($DD45=\"\",$DD45=0),0,VLOOKUP($DF45,Tasas!$CO$17:$CY$70,Calculadora!DH$33,0))","v":0},{"$f":"IF(OR($DD45=\"\",$DD45=0),0,VLOOKUP($DF45,Tasas!$CO$17:$CY$70,Calculadora!DI$33,0))","v":0},{"$f":"IF(OR($DD45=\"\",$DD45=0),0,VLOOKUP($DF45,Tasas!$CO$17:$CY$70,Calculadora!DJ$33,0))","v":0},{"$f":"IF(OR($DD45=\"\",$DD45=0),0,VLOOKUP($DF45,Tasas!$CO$17:$CY$70,Calculadora!DK$33,0))","v":0},{"$f":"IF(OR($DD45=\"\",$DD45=0),0,VLOOKUP($DF45,Tasas!$CO$17:$CY$70,Calculadora!DL$33,0))","v":0},{"$f":"IF(OR($DD45=\"\",$DD45=0),0,VLOOKUP($DF45,Tasas!$CO$17:$CY$70,Calculadora!DM$33,0))","v":0},{"$f":"IF(OR($DD45=\"\",$DD45=0),0,VLOOKUP($DF45,Tasas!$CO$17:$CY$70,Calculadora!DN$33,0))","v":0},null,null,null,null,"Cláusula para pasajeros de aviones y/o helicópteros particulares y/o de la FAP por viajes eventuales. Nivel 1 (Para pasajeros de aviones de propiedad o alquilados por empresas comerciales, industriales y bancos).",null,{"$f":"Cotizador!$E$100","v":0},31,{"$error":"#N/A"},{"$f":"IF(OR($DU45=\"\",$DU45=0),0,VLOOKUP($DW45,Tasas!$DB$17:$DL$70,Calculadora!DX$33,0))","v":0},{"$f":"IF(OR($DU45=\"\",$DU45=0),0,VLOOKUP($DW45,Tasas!$DB$17:$DL$70,Calculadora!DY$33,0))","v":0},{"$f":"IF(OR($DU45=\"\",$DU45=0),0,VLOOKUP($DW45,Tasas!$DB$17:$DL$70,Calculadora!DZ$33,0))","v":0},{"$f":"IF(OR($DU45=\"\",$DU45=0),0,VLOOKUP($DW45,Tasas!$DB$17:$DL$70,Calculadora!EA$33,0))","v":0},{"$f":"IF(OR($DU45=\"\",$DU45=0),0,VLOOKUP($DW45,Tasas!$DB$17:$DL$70,Calculadora!EB$33,0))","v":0},{"$f":"IF(OR($DU45=\"\",$DU45=0),0,VLOOKUP($DW45,Tasas!$DB$17:$DL$70,Calculadora!EC$33,0))","v":0},{"$f":"IF(OR($DU45=\"\",$DU45=0),0,VLOOKUP($DW45,Tasas!$DB$17:$DL$70,Calculadora!ED$33,0))","v":0},{"$f":"IF(OR($DU45=\"\",$DU45=0),0,VLOOKUP($DW45,Tasas!$DB$17:$DL$70,Calculadora!EE$33,0))","v":0},null,null,null,null,"Cláusula para pasajeros de aviones y/o helicópteros particulares y/o de la FAP por viajes eventuales. Nivel 1 (Para pasajeros de aviones de propiedad o alquilados por empresas comerciales, industriales y bancos).",null,{"$f":"Cotizador!$E$100","v":0},31,{"$error":"#N/A"},{"$f":"IF(OR($EL45=\"\",$EL45=0),0,VLOOKUP($EN45,Tasas!$DO$17:$DY$70,Calculadora!EO$33,0))","v":0},{"$f":"IF(OR($EL45=\"\",$EL45=0),0,VLOOKUP($EN45,Tasas!$DO$17:$DY$70,Calculadora!EP$33,0))","v":0},{"$f":"IF(OR($EL45=\"\",$EL45=0),0,VLOOKUP($EN45,Tasas!$DO$17:$DY$70,Calculadora!EQ$33,0))","v":0},{"$f":"IF(OR($EL45=\"\",$EL45=0),0,VLOOKUP($EN45,Tasas!$DO$17:$DY$70,Calculadora!ER$33,0))","v":0},{"$f":"IF(OR($EL45=\"\",$EL45=0),0,VLOOKUP($EN45,Tasas!$DO$17:$DY$70,Calculadora!ES$33,0))","v":0},{"$f":"IF(OR($EL45=\"\",$EL45=0),0,VLOOKUP($EN45,Tasas!$DO$17:$DY$70,Calculadora!ET$33,0))","v":0},{"$f":"IF(OR($EL45=\"\",$EL45=0),0,VLOOKUP($EN45,Tasas!$DO$17:$DY$70,Calculadora!EU$33,0))","v":0},{"$f":"IF(OR($EL45=\"\",$EL45=0),0,VLOOKUP($EN45,Tasas!$DO$17:$DY$70,Calculadora!EV$33,0))","v":0},null,null,null,null,"Cláusula para pasajeros de aviones y/o helicópteros particulares y/o de la FAP por viajes eventuales. Nivel 1 (Para pasajeros de aviones de propiedad o alquilados por empresas comerciales, industriales y bancos).",null,{"$f":"Cotizador!$E$100","v":0},31,{"$error":"#N/A"},{"$f":"IF(OR($FC45=\"\",$FC45=0),0,VLOOKUP($FE45,Tasas!$EB$17:$EL$70,Calculadora!FF$33,0))","v":0},{"$f":"IF(OR($FC45=\"\",$FC45=0),0,VLOOKUP($FE45,Tasas!$EB$17:$EL$70,Calculadora!FG$33,0))","v":0},{"$f":"IF(OR($FC45=\"\",$FC45=0),0,VLOOKUP($FE45,Tasas!$EB$17:$EL$70,Calculadora!FH$33,0))","v":0},{"$f":"IF(OR($FC45=\"\",$FC45=0),0,VLOOKUP($FE45,Tasas!$EB$17:$EL$70,Calculadora!FI$33,0))","v":0},{"$f":"IF(OR($FC45=\"\",$FC45=0),0,VLOOKUP($FE45,Tasas!$EB$17:$EL$70,Calculadora!FJ$33,0))","v":0},{"$f":"IF(OR($FC45=\"\",$FC45=0),0,VLOOKUP($FE45,Tasas!$EB$17:$EL$70,Calculadora!FK$33,0))","v":0},{"$f":"IF(OR($FC45=\"\",$FC45=0),0,VLOOKUP($FE45,Tasas!$EB$17:$EL$70,Calculadora!FL$33,0))","v":0},{"$f":"IF(OR($FC45=\"\",$FC45=0),0,VLOOKUP($FE45,Tasas!$EB$17:$EL$70,Calculadora!FM$33,0))","v":0},null,null,null,null,"Cláusula de accidentes personales para viajes y/o corto plazo.",null,{"$f":"Cotizador!$E$120","v":0},null,12,{"$f":"IF(OR($FT45=0,$FT45=\"NO\"),0,VLOOKUP($FV45,Tasas!$EO$29:$FU$45,Calculadora!FW$32,0))","v":0},{"$f":"IF(OR($FT45=0,$FT45=\"NO\"),0,VLOOKUP($FV45,Tasas!$EO$29:$FU$45,Calculadora!FX$32,0))","v":0},{"$f":"IF(OR($FT45=0,$FT45=\"NO\"),0,VLOOKUP($FV45,Tasas!$EO$29:$FU$45,Calculadora!FY$32,0))","v":0},{"$f":"IF(OR($FT45=0,$FT45=\"NO\"),0,VLOOKUP($FV45,Tasas!$EO$29:$FU$45,Calculadora!FZ$32,0))","v":0},{"$f":"IF(OR($FT45=0,$FT45=\"NO\"),0,VLOOKUP($FV45,Tasas!$EO$29:$FU$45,Calculadora!GA$32,0))","v":0},{"$f":"IF(OR($FT45=0,$FT45=\"NO\"),0,VLOOKUP($FV45,Tasas!$EO$29:$FU$45,Calculadora!GB$32,0))","v":0},{"$f":"IF(OR($FT45=0,$FT45=\"NO\"),0,VLOOKUP($FV45,Tasas!$EO$29:$FU$45,Calculadora!GC$32,0))","v":0},{"$f":"IF(OR($FT45=0,$FT45=\"NO\"),0,VLOOKUP($FV45,Tasas!$EO$29:$FU$45,Calculadora!GD$32,0))","v":0},null,null,null,null,"Cláusula para pasajeros de aviones y/o helicópteros particulares y/o de la FAP por viajes eventuales. Nivel 1 (Para pasajeros de aviones de propiedad o alquilados por empresas comerciales, industriales y bancos).",null,{"$f":"Cotizador!$E$100","v":0},null,null,null,null,640,{"$f":"+IF(OR($C45=0,$C45=\"NO\"),0,VLOOKUP($I$16+$H45,Tasas!$FY$78:$HJ$1228,$I$15+GQ$33+2,0))","v":0},{"$f":"+IF(OR($C45=0,$C45=\"NO\"),0,VLOOKUP($I$16+$H45,Tasas!$FY$78:$HJ$1228,$I$15+GR$33+2,0))","v":0},{"$f":"+IF(OR($C45=0,$C45=\"NO\"),0,VLOOKUP($I$16+$H45,Tasas!$FY$78:$HJ$1228,$I$15+GS$33+2,0))","v":0},{"$f":"+IF(OR($C45=0,$C45=\"NO\"),0,VLOOKUP($I$16+$H45,Tasas!$FY$78:$HJ$1228,$I$15+GT$33+2,0))","v":0},{"$f":"+IF(OR($C45=0,$C45=\"NO\"),0,VLOOKUP($I$16+$H45,Tasas!$FY$78:$HJ$1228,$I$15+GU$33+2,0))","v":0},{"$f":"+IF(OR($C45=0,$C45=\"NO\"),0,VLOOKUP($I$16+$H45,Tasas!$FY$78:$HJ$1228,$I$15+GV$33+2,0))","v":0},{"$f":"+IF(OR($C45=0,$C45=\"NO\"),0,VLOOKUP($I$16+$H45,Tasas!$FY$78:$HJ$1228,$I$15+GW$33+2,0))","v":0},{"$f":"+IF(OR($C45=0,$C45=\"NO\"),0,VLOOKUP($I$16+$H45,Tasas!$FY$78:$HJ$1228,$I$15+GX$33+2,0))","v":0}]
["Cláusula para pasajeros de aviones y/o helicópteros particulares y/o de la FAP por viajes eventuales. Nivel 2 (Otros excepto helicópteros).",null,{"$f":"Cotizador!$E$101","v":0},{"$f":"Cotizador!$G$101","v":0},{"$f":"Cotizador!$I$101","v":0},{"$f":"Cotizador!$K$101","v":0},null,704,{"$f":"+IF(OR($C46=0,$C46=\"NO\"),0,VLOOKUP($I$16+$H46,Tasas!$C$78:$AN$1228,$I$15+I$33+2,0))","v":0},{"$f":"+IF(OR($C46=0,$C46=\"NO\"),0,VLOOKUP($I$16+$H46,Tasas!$C$78:$AN$1228,$I$15+J$33+2,0))","v":0},{"$f":"+IF(OR($C46=0,$C46=\"NO\"),0,VLOOKUP($I$16+$H46,Tasas!$C$78:$AN$1228,$I$15+K$33+2,0))","v":0},{"$f":"+IF(OR($C46=0,$C46=\"NO\"),0,VLOOKUP($I$16+$H46,Tasas!$C$78:$AN$1228,$I$15+L$33+2,0))","v":0},{"$f":"+IF(OR($C46=0,$C46=\"NO\"),0,VLOOKUP($I$16+$H46,Tasas!$C$78:$AN$1228,$I$15+M$33+2,0))","v":0},{"$f":"+IF(OR($C46=0,$C46=\"NO\"),0,VLOOKUP($I$16+$H46,Tasas!$C$78:$AN$1228,$I$15+N$33+2,0))","v":0},{"$f":"+IF(OR($C46=0,$C46=\"NO\"),0,VLOOKUP($I$16+$H46,Tasas!$C$78:$AN$1228,$I$15+O$33+2,0))","v":0},{"$f":"+IF(OR($C46=0,$C46=\"NO\"),0,VLOOKUP($I$16+$H46,Tasas!$C$78:$AN$1228,$I$15+P$33+2,0))","v":0},{"$f":"+IF(OR($D46=0,$D46=\"NO\"),0,VLOOKUP($J$16+$H46,Tasas!$C$78:$AN$1228,$J$15+Q$33+2,0))","v":0},{"$f":"+IF(OR($D46=0,$D46=\"NO\"),0,VLOOKUP($J$16+$H46,Tasas!$C$78:$AN$1228,$J$15+R$33+2,0))","v":0},{"$f":"+IF(OR($D46=0,$D46=\"NO\"),0,VLOOKUP($J$16+$H46,Tasas!$C$78:$AN$1228,$J$15+S$33+2,0))","v":0},{"$f":"+IF(OR($D46=0,$D46=\"NO\"),0,VLOOKUP($J$16+$H46,Tasas!$C$78:$AN$1228,$J$15+T$33+2,0))","v":0},{"$f":"+IF(OR($D46=0,$D46=\"NO\"),0,VLOOKUP($J$16+$H46,Tasas!$C$78:$AN$1228,$J$15+U$33+2,0))","v":0},{"$f":"+IF(OR($D46=0,$D46=\"NO\"),0,VLOOKUP($J$16+$H46,Tasas!$C$78:$AN$1228,$J$15+V$33+2,0))","v":0},{"$f":"+IF(OR($D46=0,$D46=\"NO\"),0,VLOOKUP($J$16+$H46,Tasas!$C$78:$AN$1228,$J$15+W$33+2,0))","v":0},{"$f":"+IF(OR($D46=0,$D46=\"NO\"),0,VLOOKUP($J$16+$H46,Tasas!$C$78:$AN$1228,$J$15+X$33+2,0))","v":0},{"$f":"+IF(OR($E46=0,$E46=\"NO\"),0,VLOOKUP($K$16+$H46,Tasas!$C$78:$AN$1228,$K$15+Y$33+2,0))","v":0},{"$f":"+IF(OR($E46=0,$E46=\"NO\"),0,VLOOKUP($K$16+$H46,Tasas!$C$78:$AN$1228,$K$15+Z$33+2,0))","v":0},{"$f":"+IF(OR($E46=0,$E46=\"NO\"),0,VLOOKUP($K$16+$H46,Tasas!$C$78:$AN$1228,$K$15+AA$33+2,0))","v":0},{"$f":"+IF(OR($E46=0,$E46=\"NO\"),0,VLOOKUP($K$16+$H46,Tasas!$C$78:$AN$1228,$K$15+AB$33+2,0))","v":0},{"$f":"+IF(OR($E46=0,$E46=\"NO\"),0,VLOOKUP($K$16+$H46,Tasas!$C$78:$AN$1228,$K$15+AC$33+2,0))","v":0},{"$f":"+IF(OR($E46=0,$E46=\"NO\"),0,VLOOKUP($K$16+$H46,Tasas!$C$78:$AN$1228,$K$15+AD$33+2,0))","v":0},{"$f":"+IF(OR($E46=0,$E46=\"NO\"),0,VLOOKUP($K$16+$H46,Tasas!$C$78:$AN$1228,$K$15+AE$33+2,0))","v":0},{"$f":"+IF(OR($E46=0,$E46=\"NO\"),0,VLOOKUP($K$16+$H46,Tasas!$C$78:$AN$1228,$K$15+AF$33+2,0))","v":0},{"$f":"+IF(OR($F46=0,$F46=\"NO\"),0,VLOOKUP($L$16+$H46,Tasas!$C$78:$AN$1228,$L$15+AG$33+2,0))","v":0},{"$f":"+IF(OR($F46=0,$F46=\"NO\"),0,VLOOKUP($L$16+$H46,Tasas!$C$78:$AN$1228,$L$15+AH$33+2,0))","v":0},{"$f":"+IF(OR($F46=0,$F46=\"NO\"),0,VLOOKUP($L$16+$H46,Tasas!$C$78:$AN$1228,$L$15+AI$33+2,0))","v":0},{"$f":"+IF(OR($F46=0,$F46=\"NO\"),0,VLOOKUP($L$16+$H46,Tasas!$C$78:$AN$1228,$L$15+AJ$33+2,0))","v":0},{"$f":"+IF(OR($F46=0,$F46=\"NO\"),0,VLOOKUP($L$16+$H46,Tasas!$C$78:$AN$1228,$L$15+AK$33+2,0))","v":0},{"$f":"+IF(OR($F46=0,$F46=\"NO\"),0,VLOOKUP($L$16+$H46,Tasas!$C$78:$AN$1228,$L$15+AL$33+2,0))","v":0},{"$f":"+IF(OR($F46=0,$F46=\"NO\"),0,VLOOKUP($L$16+$H46,Tasas!$C$78:$AN$1228,$L$15+AM$33+2,0))","v":0},{"$f":"+IF(OR($F46=0,$F46=\"NO\"),0,VLOOKUP($L$16+$H46,Tasas!$C$78:$AN$1228,$L$15+AN$33+2,0))","v":0},null,null,null,null,"Cláusula para pasajeros de aviones y/o helicópteros particulares y/o de la FAP por viajes eventuales. Nivel 2 (Otros excepto helicópteros).",null,{"$f":"Cotizador!$E$101","v":0},{"$f":"Cotizador!$G$101","v":0},{"$f":"Cotizador!$I$101","v":0},{"$f":"Cotizador!$K$101","v":0},null,704,{"$f":"+IF(OR($AU46=0,$AU46=\"NO\"),0,VLOOKUP($BA$16+$AZ46,Tasas!$C$78:$BY$1292,$BA$15+BA$33+39,0))","v":0},{"$f":"+IF(OR($AU46=0,$AU46=\"NO\"),0,VLOOKUP($BA$16+$AZ46,Tasas!$C$78:$BY$1292,$BA$15+BB$33+39,0))","v":0},{"$f":"+IF(OR($AU46=0,$AU46=\"NO\"),0,VLOOKUP($BA$16+$AZ46,Tasas!$C$78:$BY$1292,$BA$15+BC$33+39,0))","v":0},{"$f":"+IF(OR($AU46=0,$AU46=\"NO\"),0,VLOOKUP($BA$16+$AZ46,Tasas!$C$78:$BY$1292,$BA$15+BD$33+39,0))","v":0},{"$f":"+IF(OR($AU46=0,$AU46=\"NO\"),0,VLOOKUP($BA$16+$AZ46,Tasas!$C$78:$BY$1292,$BA$15+BE$33+39,0))","v":0},{"$f":"+IF(OR($AU46=0,$AU46=\"NO\"),0,VLOOKUP($BA$16+$AZ46,Tasas!$C$78:$BY$1292,$BA$15+BF$33+39,0))","v":0},{"$f":"+IF(OR($AU46=0,$AU46=\"NO\"),0,VLOOKUP($BA$16+$AZ46,Tasas!$C$78:$BY$1292,$BA$15+BG$33+39,0))","v":0},{"$f":"+IF(OR($AU46=0,$AU46=\"NO\"),0,VLOOKUP($BA$16+$AZ46,Tasas!$C$78:$BY$1292,$BA$15+BH$33+39,0))","v":0},{"$f":"+IF(OR($AU46=0,$AU46=\"NO\"),0,VLOOKUP($BA$16+$AZ46,Tasas!$C$78:$BY$1292,$BA$15+BI$33+39,0))","v":0},{"$f":"+IF(OR($AU46=0,$AU46=\"NO\"),0,VLOOKUP($BA$16+$AZ46,Tasas!$C$78:$BY$1292,$BA$15+BJ$33+39,0))","v":0},{"$f":"+IF(OR($AU46=0,$AU46=\"NO\"),0,VLOOKUP($BA$16+$AZ46,Tasas!$C$78:$BY$1292,$BA$15+BK$33+39,0))","v":0},{"$f":"+IF(OR($AU46=0,$AU46=\"NO\"),0,VLOOKUP($BA$16+$AZ46,Tasas!$C$78:$BY$1292,$BA$15+BL$33+39,0))","v":0},{"$f":"+IF(OR($AU46=0,$AU46=\"NO\"),0,VLOOKUP($BA$16+$AZ46,Tasas!$C$78:$BY$1292,$BA$15+BM$33+39,0))","v":0},{"$f":"+IF(OR($AU46=0,$AU46=\"NO\"),0,VLOOKUP($BA$16+$AZ46,Tasas!$C$78:$BY$1292,$BA$15+BN$33+39,0))","v":0},{"$f":"+IF(OR($AU46=0,$AU46=\"NO\"),0,VLOOKUP($BA$16+$AZ46,Tasas!$C$78:$BY$1292,$BA$15+BO$33+39,0))","v":0},{"$f":"+IF(OR($AU46=0,$AU46=\"NO\"),0,VLOOKUP($BA$16+$AZ46,Tasas!$C$78:$BY$1292,$BA$15+BP$33+39,0))","v":0},{"$f":"+IF(OR($AU46=0,$AU46=\"NO\"),0,VLOOKUP($BA$16+$AZ46,Tasas!$C$78:$BY$1292,$BA$15+BQ$33+39,0))","v":0},{"$f":"+IF(OR($AU46=0,$AU46=\"NO\"),0,VLOOKUP($BA$16+$AZ46,Tasas!$C$78:$BY$1292,$BA$15+BR$33+39,0))","v":0},{"$f":"+IF(OR($AU46=0,$AU46=\"NO\"),0,VLOOKUP($BA$16+$AZ46,Tasas!$C$78:$BY$1292,$BA$15+BS$33+39,0))","v":0},{"$f":"+IF(OR($AU46=0,$AU46=\"NO\"),0,VLOOKUP($BA$16+$AZ46,Tasas!$C$78:$BY$1292,$BA$15+BT$33+39,0))","v":0},{"$f":"+IF(OR($AU46=0,$AU46=\"NO\"),0,VLOOKUP($BA$16+$AZ46,Tasas!$C$78:$BY$1292,$BA$15+BU$33+39,0))","v":0},{"$f":"+IF(OR($AU46=0,$AU46=\"NO\"),0,VLOOKUP($BA$16+$AZ46,Tasas!$C$78:$BY$1292,$BA$15+BV$33+39,0))","v":0},{"$f":"+IF(OR($AU46=0,$AU46=\"NO\"),0,VLOOKUP($BA$16+$AZ46,Tasas!$C$78:$BY$1292,$BA$15+BW$33+39,0))","v":0},{"$f":"+IF(OR($AU46=0,$AU46=\"NO\"),0,VLOOKUP($BA$16+$AZ46,Tasas!$C$78:$BY$1292,$BA$15+BX$33+39,0))","v":0},{"$f":"+IF(OR($AU46=0,$AU46=\"NO\"),0,VLOOKUP($BA$16+$AZ46,Tasas!$C$78:$BY$1292,$BA$15+BY$33+39,0))","v":0},{"$f":"+IF(OR($AU46=0,$AU46=\"NO\"),0,VLOOKUP($BA$16+$AZ46,Tasas!$C$78:$BY$1292,$BA$15+BZ$33+39,0))","v":0},{"$f":"+IF(OR($AU46=0,$AU46=\"NO\"),0,VLOOKUP($BA$16+$AZ46,Tasas!$C$78:$BY$1292,$BA$15+CA$33+39,0))","v":0},{"$f":"+IF(OR($AU46=0,$AU46=\"NO\"),0,VLOOKUP($BA$16+$AZ46,Tasas!$C$78:$BY$1292,$BA$15+CB$33+39,0))","v":0},{"$f":"+IF(OR($AU46=0,$AU46=\"NO\"),0,VLOOKUP($BA$16+$AZ46,Tasas!$C$78:$BY$1292,$BA$15+CC$33+39,0))","v":0},{"$f":"+IF(OR($AU46=0,$AU46=\"NO\"),0,VLOOKUP($BA$16+$AZ46,Tasas!$C$78:$BY$1292,$BA$15+CD$33+39,0))","v":0},{"$f":"+IF(OR($AU46=0,$AU46=\"NO\"),0,VLOOKUP($BA$16+$AZ46,Tasas!$C$78:$BY$1292,$BA$15+CE$33+39,0))","v":0},{"$f":"+IF(OR($AU46=0,$AU46=\"NO\"),0,VLOOKUP($BA$16+$AZ46,Tasas!$C$78:$BY$1292,$BA$15+CF$33+39,0))","v":0},null,null,null,null,"Cláusula para pasajeros de aviones y/o helicópteros particulares y/o de la FAP por viajes eventuales. Nivel 2 (Otros excepto helicópteros).",null,{"$f":"Cotizador!$E$101","v":0},34,{"$error":"#N/A"},{"$f":"IF(OR($CM46=\"\",$CM46=0),0,VLOOKUP($CO46,Tasas!$CB$17:$CL$70,Calculadora!CP$33,0))","v":0},{"$f":"IF(OR($CM46=\"\",$CM46=0),0,VLOOKUP($CO46,Tasas!$CB$17:$CL$70,Calculadora!CQ$33,0))","v":0},{"$f":"IF(OR($CM46=\"\",$CM46=0),0,VLOOKUP($CO46,Tasas!$CB$17:$CL$70,Calculadora!CR$33,0))","v":0},{"$f":"IF(OR($CM46=\"\",$CM46=0),0,VLOOKUP($CO46,Tasas!$CB$17:$CL$70,Calculadora!CS$33,0))","v":0},{"$f":"IF(OR($CM46=\"\",$CM46=0),0,VLOOKUP($CO46,Tasas!$CB$17:$CL$70,Calculadora!CT$33,0))","v":0},{"$f":"IF(OR($CM46=\"\",$CM46=0),0,VLOOKUP($CO46,Tasas!$CB$17:$CL$70,Calculadora!CU$33,0))","v":0},{"$f":"IF(OR($CM46=\"\",$CM46=0),0,VLOOKUP($CO46,Tasas!$CB$17:$CL$70,Calculadora!CV$33,0))","v":0},{"$f":"IF(OR($CM46=\"\",$CM46=0),0,VLOOKUP($CO46,Tasas!$CB$17:$CL$70,Calculadora!CW$33,0))","v":0},null,null,null,null,"Cláusula para pasajeros de aviones y/o helicópteros particulares y/o de la FAP por viajes eventuales. Nivel 2 (Otros excepto helicópteros).",null,{"$f":"Cotizador!$E$101","v":0},34,{"$error":"#N/A"},{"$f":"IF(OR($DD46=\"\",$DD46=0),0,VLOOKUP($DF46,Tasas!$CO$17:$CY$70,Calculadora!DG$33,0))","v":0},{"$f":"IF(OR($DD46=\"\",$DD46=0),0,VLOOKUP($DF46,Tasas!$CO$17:$CY$70,Calculadora!DH$33,0))","v":0},{"$f":"IF(OR($DD46=\"\",$DD46=0),0,VLOOKUP($DF46,Tasas!$CO$17:$CY$70,Calculadora!DI$33,0))","v":0},{"$f":"IF(OR($DD46=\"\",$DD46=0),0,VLOOKUP($DF46,Tasas!$CO$17:$CY$70,Calculadora!DJ$33,0))","v":0},{"$f":"IF(OR($DD46=\"\",$DD46=0),0,VLOOKUP($DF46,Tasas!$CO$17:$CY$70,Calculadora!DK$33,0))","v":0},{"$f":"IF(OR($DD46=\"\",$DD46=0),0,VLOOKUP($DF46,Tasas!$CO$17:$CY$70,Calculadora!DL$33,0))","v":0},{"$f":"IF(OR($DD46=\"\",$DD46=0),0,VLOOKUP($DF46,Tasas!$CO$17:$CY$70,Calculadora!DM$33,0))","v":0},{"$f":"IF(OR($DD46=\"\",$DD46=0),0,VLOOKUP($DF46,Tasas!$CO$17:$CY$70,Calculadora!DN$33,0))","v":0},null,null,null,null,"Cláusula para pasajeros de aviones y/o helicópteros particulares y/o de la FAP por viajes eventuales. Nivel 2 (Otros excepto helicópteros).",null,{"$f":"Cotizador!$E$101","v":0},34,{"$error":"#N/A"},{"$f":"IF(OR($DU46=\"\",$DU46=0),0,VLOOKUP($DW46,Tasas!$DB$17:$DL$70,Calculadora!DX$33,0))","v":0},{"$f":"IF(OR($DU46=\"\",$DU46=0),0,VLOOKUP($DW46,Tasas!$DB$17:$DL$70,Calculadora!DY$33,0))","v":0},{"$f":"IF(OR($DU46=\"\",$DU46=0),0,VLOOKUP($DW46,Tasas!$DB$17:$DL$70,Calculadora!DZ$33,0))","v":0},{"$f":"IF(OR($DU46=\"\",$DU46=0),0,VLOOKUP($DW46,Tasas!$DB$17:$DL$70,Calculadora!EA$33,0))","v":0},{"$f":"IF(OR($DU46=\"\",$DU46=0),0,VLOOKUP($DW46,Tasas!$DB$17:$DL$70,Calculadora!EB$33,0))","v":0},{"$f":"IF(OR($DU46=\"\",$DU46=0),0,VLOOKUP($DW46,Tasas!$DB$17:$DL$70,Calculadora!EC$33,0))","v":0},{"$f":"IF(OR($DU46=\"\",$DU46=0),0,VLOOKUP($DW46,Tasas!$DB$17:$DL$70,Calculadora!ED$33,0))","v":0},{"$f":"IF(OR($DU46=\"\",$DU46=0),0,VLOOKUP($DW46,Tasas!$DB$17:$DL$70,Calculadora!EE$33,0))","v":0},null,null,null,null,"Cláusula para pasajeros de aviones y/o helicópteros particulares y/o de la FAP por viajes eventuales. Nivel 2 (Otros excepto helicópteros).",null,{"$f":"Cotizador!$E$101","v":0},34,{"$error":"#N/A"},{"$f":"IF(OR($EL46=\"\",$EL46=0),0,VLOOKUP($EN46,Tasas!$DO$17:$DY$70,Calculadora!EO$33,0))","v":0},{"$f":"IF(OR($EL46=\"\",$EL46=0),0,VLOOKUP($EN46,Tasas!$DO$17:$DY$70,Calculadora!EP$33,0))","v":0},{"$f":"IF(OR($EL46=\"\",$EL46=0),0,VLOOKUP($EN46,Tasas!$DO$17:$DY$70,Calculadora!EQ$33,0))","v":0},{"$f":"IF(OR($EL46=\"\",$EL46=0),0,VLOOKUP($EN46,Tasas!$DO$17:$DY$70,Calculadora!ER$33,0))","v":0},{"$f":"IF(OR($EL46=\"\",$EL46=0),0,VLOOKUP($EN46,Tasas!$DO$17:$DY$70,Calculadora!ES$33,0))","v":0},{"$f":"IF(OR($EL46=\"\",$EL46=0),0,VLOOKUP($EN46,Tasas!$DO$17:$DY$70,Calculadora!ET$33,0))","v":0},{"$f":"IF(OR($EL46=\"\",$EL46=0),0,VLOOKUP($EN46,Tasas!$DO$17:$DY$70,Calculadora!EU$33,0))","v":0},{"$f":"IF(OR($EL46=\"\",$EL46=0),0,VLOOKUP($EN46,Tasas!$DO$17:$DY$70,Calculadora!EV$33,0))","v":0},null,null,null,null,"Cláusula para pasajeros de aviones y/o helicópteros particulares y/o de la FAP por viajes eventuales. Nivel 2 (Otros excepto helicópteros).",null,{"$f":"Cotizador!$E$101","v":0},34,{"$error":"#N/A"},{"$f":"IF(OR($FC46=\"\",$FC46=0),0,VLOOKUP($FE46,Tasas!$EB$17:$EL$70,Calculadora!FF$33,0))","v":0},{"$f":"IF(OR($FC46=\"\",$FC46=0),0,VLOOKUP($FE46,Tasas!$EB$17:$EL$70,Calculadora!FG$33,0))","v":0},{"$f":"IF(OR($FC46=\"\",$FC46=0),0,VLOOKUP($FE46,Tasas!$EB$17:$EL$70,Calculadora!FH$33,0))","v":0},{"$f":"IF(OR($FC46=\"\",$FC46=0),0,VLOOKUP($FE46,Tasas!$EB$17:$EL$70,Calculadora!FI$33,0))","v":0},{"$f":"IF(OR($FC46=\"\",$FC46=0),0,VLOOKUP($FE46,Tasas!$EB$17:$EL$70,Calculadora!FJ$33,0))","v":0},{"$f":"IF(OR($FC46=\"\",$FC46=0),0,VLOOKUP($FE46,Tasas!$EB$17:$EL$70,Calculadora!FK$33,0))","v":0},{"$f":"IF(OR($FC46=\"\",$FC46=0),0,VLOOKUP($FE46,Tasas!$EB$17:$EL$70,Calculadora!FL$33,0))","v":0},{"$f":"IF(OR($FC46=\"\",$FC46=0),0,VLOOKUP($FE46,Tasas!$EB$17:$EL$70,Calculadora!FM$33,0))","v":0},null,null,null,null,"Pescadores y/o Estibadores",null,{"$f":"Cotizador!$E$121","v":0},null,13,{"$f":"IF(OR($FT46=0,$FT46=\"NO\"),0,VLOOKUP($FV46,Tasas!$EO$29:$FU$45,Calculadora!FW$32,0))","v":0},{"$f":"IF(OR($FT46=0,$FT46=\"NO\"),0,VLOOKUP($FV46,Tasas!$EO$29:$FU$45,Calculadora!FX$32,0))","v":0},{"$f":"IF(OR($FT46=0,$FT46=\"NO\"),0,VLOOKUP($FV46,Tasas!$EO$29:$FU$45,Calculadora!FY$32,0))","v":0},{"$f":"IF(OR($FT46=0,$FT46=\"NO\"),0,VLOOKUP($FV46,Tasas!$EO$29:$FU$45,Calculadora!FZ$32,0))","v":0},{"$f":"IF(OR($FT46=0,$FT46=\"NO\"),0,VLOOKUP($FV46,Tasas!$EO$29:$FU$45,Calculadora!GA$32,0))","v":0},{"$f":"IF(OR($FT46=0,$FT46=\"NO\"),0,VLOOKUP($FV46,Tasas!$EO$29:$FU$45,Calculadora!GB$32,0))","v":0},{"$f":"IF(OR($FT46=0,$FT46=\"NO\"),0,VLOOKUP($FV46,Tasas!$EO$29:$FU$45,Calculadora!GC$32,0))","v":0},{"$f":"IF(OR($FT46=0,$FT46=\"NO\"),0,VLOOKUP($FV46,Tasas!$EO$29:$FU$45,Calculadora!GD$32,0))","v":0},null,null,null,null,"Cláusula para pasajeros de aviones y/o helicópteros particulares y/o de la FAP por viajes eventuales. Nivel 2 (Otros excepto helicópteros).",null,{"$f":"Cotizador!$E$101","v":0},null,null,null,null,704,{"$f":"+IF(OR($C46=0,$C46=\"NO\"),0,VLOOKUP($I$16+$H46,Tasas!$FY$78:$HJ$1228,$I$15+GQ$33+2,0))","v":0},{"$f":"+IF(OR($C46=0,$C46=\"NO\"),0,VLOOKUP($I$16+$H46,Tasas!$FY$78:$HJ$1228,$I$15+GR$33+2,0))","v":0},{"$f":"+IF(OR($C46=0,$C46=\"NO\"),0,VLOOKUP($I$16+$H46,Tasas!$FY$78:$HJ$1228,$I$15+GS$33+2,0))","v":0},{"$f":"+IF(OR($C46=0,$C46=\"NO\"),0,VLOOKUP($I$16+$H46,Tasas!$FY$78:$HJ$1228,$I$15+GT$33+2,0))","v":0},{"$f":"+IF(OR($C46=0,$C46=\"NO\"),0,VLOOKUP($I$16+$H46,Tasas!$FY$78:$HJ$1228,$I$15+GU$33+2,0))","v":0},{"$f":"+IF(OR($C46=0,$C46=\"NO\"),0,VLOOKUP($I$16+$H46,Tasas!$FY$78:$HJ$1228,$I$15+GV$33+2,0))","v":0},{"$f":"+IF(OR($C46=0,$C46=\"NO\"),0,VLOOKUP($I$16+$H46,Tasas!$FY$78:$HJ$1228,$I$15+GW$33+2,0))","v":0},{"$f":"+IF(OR($C46=0,$C46=\"NO\"),0,VLOOKUP($I$16+$H46,Tasas!$FY$78:$HJ$1228,$I$15+GX$33+2,0))","v":0}]
["Cláusula para pasajeros de aviones y/o helicópteros particulares y/o de la FAP por viajes eventuales. Nivel 3 (Aviones de la FAP y helicópteros particulares y/o de la FAP utilizados en el transporte de personas).",null,{"$f":"Cotizador!$E$102","v":0},{"$f":"Cotizador!$G$102","v":0},{"$f":"Cotizador!$I$102","v":0},{"$f":"Cotizador!$K$102","v":0},null,768,{"$f":"+IF(OR($C47=0,$C47=\"NO\"),0,VLOOKUP($I$16+$H47,Tasas!$C$78:$AN$1228,$I$15+I$33+2,0))","v":0},{"$f":"+IF(OR($C47=0,$C47=\"NO\"),0,VLOOKUP($I$16+$H47,Tasas!$C$78:$AN$1228,$I$15+J$33+2,0))","v":0},{"$f":"+IF(OR($C47=0,$C47=\"NO\"),0,VLOOKUP($I$16+$H47,Tasas!$C$78:$AN$1228,$I$15+K$33+2,0))","v":0},{"$f":"+IF(OR($C47=0,$C47=\"NO\"),0,VLOOKUP($I$16+$H47,Tasas!$C$78:$AN$1228,$I$15+L$33+2,0))","v":0},{"$f":"+IF(OR($C47=0,$C47=\"NO\"),0,VLOOKUP($I$16+$H47,Tasas!$C$78:$AN$1228,$I$15+M$33+2,0))","v":0},{"$f":"+IF(OR($C47=0,$C47=\"NO\"),0,VLOOKUP($I$16+$H47,Tasas!$C$78:$AN$1228,$I$15+N$33+2,0))","v":0},{"$f":"+IF(OR($C47=0,$C47=\"NO\"),0,VLOOKUP($I$16+$H47,Tasas!$C$78:$AN$1228,$I$15+O$33+2,0))","v":0},{"$f":"+IF(OR($C47=0,$C47=\"NO\"),0,VLOOKUP($I$16+$H47,Tasas!$C$78:$AN$1228,$I$15+P$33+2,0))","v":0},{"$f":"+IF(OR($D47=0,$D47=\"NO\"),0,VLOOKUP($J$16+$H47,Tasas!$C$78:$AN$1228,$J$15+Q$33+2,0))","v":0},{"$f":"+IF(OR($D47=0,$D47=\"NO\"),0,VLOOKUP($J$16+$H47,Tasas!$C$78:$AN$1228,$J$15+R$33+2,0))","v":0},{"$f":"+IF(OR($D47=0,$D47=\"NO\"),0,VLOOKUP($J$16+$H47,Tasas!$C$78:$AN$1228,$J$15+S$33+2,0))","v":0},{"$f":"+IF(OR($D47=0,$D47=\"NO\"),0,VLOOKUP($J$16+$H47,Tasas!$C$78:$AN$1228,$J$15+T$33+2,0))","v":0},{"$f":"+IF(OR($D47=0,$D47=\"NO\"),0,VLOOKUP($J$16+$H47,Tasas!$C$78:$AN$1228,$J$15+U$33+2,0))","v":0},{"$f":"+IF(OR($D47=0,$D47=\"NO\"),0,VLOOKUP($J$16+$H47,Tasas!$C$78:$AN$1228,$J$15+V$33+2,0))","v":0},{"$f":"+IF(OR($D47=0,$D47=\"NO\"),0,VLOOKUP($J$16+$H47,Tasas!$C$78:$AN$1228,$J$15+W$33+2,0))","v":0},{"$f":"+IF(OR($D47=0,$D47=\"NO\"),0,VLOOKUP($J$16+$H47,Tasas!$C$78:$AN$1228,$J$15+X$33+2,0))","v":0},{"$f":"+IF(OR($E47=0,$E47=\"NO\"),0,VLOOKUP($K$16+$H47,Tasas!$C$78:$AN$1228,$K$15+Y$33+2,0))","v":0},{"$f":"+IF(OR($E47=0,$E47=\"NO\"),0,VLOOKUP($K$16+$H47,Tasas!$C$78:$AN$1228,$K$15+Z$33+2,0))","v":0},{"$f":"+IF(OR($E47=0,$E47=\"NO\"),0,VLOOKUP($K$16+$H47,Tasas!$C$78:$AN$1228,$K$15+AA$33+2,0))","v":0},{"$f":"+IF(OR($E47=0,$E47=\"NO\"),0,VLOOKUP($K$16+$H47,Tasas!$C$78:$AN$1228,$K$15+AB$33+2,0))","v":0},{"$f":"+IF(OR($E47=0,$E47=\"NO\"),0,VLOOKUP($K$16+$H47,Tasas!$C$78:$AN$1228,$K$15+AC$33+2,0))","v":0},{"$f":"+IF(OR($E47=0,$E47=\"NO\"),0,VLOOKUP($K$16+$H47,Tasas!$C$78:$AN$1228,$K$15+AD$33+2,0))","v":0},{"$f":"+IF(OR($E47=0,$E47=\"NO\"),0,VLOOKUP($K$16+$H47,Tasas!$C$78:$AN$1228,$K$15+AE$33+2,0))","v":0},{"$f":"+IF(OR($E47=0,$E47=\"NO\"),0,VLOOKUP($K$16+$H47,Tasas!$C$78:$AN$1228,$K$15+AF$33+2,0))","v":0},{"$f":"+IF(OR($F47=0,$F47=\"NO\"),0,VLOOKUP($L$16+$H47,Tasas!$C$78:$AN$1228,$L$15+AG$33+2,0))","v":0},{"$f":"+IF(OR($F47=0,$F47=\"NO\"),0,VLOOKUP($L$16+$H47,Tasas!$C$78:$AN$1228,$L$15+AH$33+2,0))","v":0},{"$f":"+IF(OR($F47=0,$F47=\"NO\"),0,VLOOKUP($L$16+$H47,Tasas!$C$78:$AN$1228,$L$15+AI$33+2,0))","v":0},{"$f":"+IF(OR($F47=0,$F47=\"NO\"),0,VLOOKUP($L$16+$H47,Tasas!$C$78:$AN$1228,$L$15+AJ$33+2,0))","v":0},{"$f":"+IF(OR($F47=0,$F47=\"NO\"),0,VLOOKUP($L$16+$H47,Tasas!$C$78:$AN$1228,$L$15+AK$33+2,0))","v":0},{"$f":"+IF(OR($F47=0,$F47=\"NO\"),0,VLOOKUP($L$16+$H47,Tasas!$C$78:$AN$1228,$L$15+AL$33+2,0))","v":0},{"$f":"+IF(OR($F47=0,$F47=\"NO\"),0,VLOOKUP($L$16+$H47,Tasas!$C$78:$AN$1228,$L$15+AM$33+2,0))","v":0},{"$f":"+IF(OR($F47=0,$F47=\"NO\"),0,VLOOKUP($L$16+$H47,Tasas!$C$78:$AN$1228,$L$15+AN$33+2,0))","v":0},null,null,null,null,"Cláusula para pasajeros de aviones y/o helicópteros particulares y/o de la FAP por viajes eventuales. Nivel 3 (Aviones de la FAP y helicópteros particulares y/o de la FAP utilizados en el transporte de personas).",null,{"$f":"Cotizador!$E$102","v":0},{"$f":"Cotizador!$G$102","v":0},{"$f":"Cotizador!$I$102","v":0},{"$f":"Cotizador!$K$102","v":0},null,768,{"$f":"+IF(OR($AU47=0,$AU47=\"NO\"),0,VLOOKUP($BA$16+$AZ47,Tasas!$C$78:$BY$1292,$BA$15+BA$33+39,0))","v":0},{"$f":"+IF(OR($AU47=0,$AU47=\"NO\"),0,VLOOKUP($BA$16+$AZ47,Tasas!$C$78:$BY$1292,$BA$15+BB$33+39,0))","v":0},{"$f":"+IF(OR($AU47=0,$AU47=\"NO\"),0,VLOOKUP($BA$16+$AZ47,Tasas!$C$78:$BY$1292,$BA$15+BC$33+39,0))","v":0},{"$f":"+IF(OR($AU47=0,$AU47=\"NO\"),0,VLOOKUP($BA$16+$AZ47,Tasas!$C$78:$BY$1292,$BA$15+BD$33+39,0))","v":0},{"$f":"+IF(OR($AU47=0,$AU47=\"NO\"),0,VLOOKUP($BA$16+$AZ47,Tasas!$C$78:$BY$1292,$BA$15+BE$33+39,0))","v":0},{"$f":"+IF(OR($AU47=0,$AU47=\"NO\"),0,VLOOKUP($BA$16+$AZ47,Tasas!$C$78:$BY$1292,$BA$15+BF$33+39,0))","v":0},{"$f":"+IF(OR($AU47=0,$AU47=\"NO\"),0,VLOOKUP($BA$16+$AZ47,Tasas!$C$78:$BY$1292,$BA$15+BG$33+39,0))","v":0},{"$f":"+IF(OR($AU47=0,$AU47=\"NO\"),0,VLOOKUP($BA$16+$AZ47,Tasas!$C$78:$BY$1292,$BA$15+BH$33+39,0))","v":0},{"$f":"+IF(OR($AU47=0,$AU47=\"NO\"),0,VLOOKUP($BA$16+$AZ47,Tasas!$C$78:$BY$1292,$BA$15+BI$33+39,0))","v":0},{"$f":"+IF(OR($AU47=0,$AU47=\"NO\"),0,VLOOKUP($BA$16+$AZ47,Tasas!$C$78:$BY$1292,$BA$15+BJ$33+39,0))","v":0},{"$f":"+IF(OR($AU47=0,$AU47=\"NO\"),0,VLOOKUP($BA$16+$AZ47,Tasas!$C$78:$BY$1292,$BA$15+BK$33+39,0))","v":0},{"$f":"+IF(OR($AU47=0,$AU47=\"NO\"),0,VLOOKUP($BA$16+$AZ47,Tasas!$C$78:$BY$1292,$BA$15+BL$33+39,0))","v":0},{"$f":"+IF(OR($AU47=0,$AU47=\"NO\"),0,VLOOKUP($BA$16+$AZ47,Tasas!$C$78:$BY$1292,$BA$15+BM$33+39,0))","v":0},{"$f":"+IF(OR($AU47=0,$AU47=\"NO\"),0,VLOOKUP($BA$16+$AZ47,Tasas!$C$78:$BY$1292,$BA$15+BN$33+39,0))","v":0},{"$f":"+IF(OR($AU47=0,$AU47=\"NO\"),0,VLOOKUP($BA$16+$AZ47,Tasas!$C$78:$BY$1292,$BA$15+BO$33+39,0))","v":0},{"$f":"+IF(OR($AU47=0,$AU47=\"NO\"),0,VLOOKUP($BA$16+$AZ47,Tasas!$C$78:$BY$1292,$BA$15+BP$33+39,0))","v":0},{"$f":"+IF(OR($AU47=0,$AU47=\"NO\"),0,VLOOKUP($BA$16+$AZ47,Tasas!$C$78:$BY$1292,$BA$15+BQ$33+39,0))","v":0},{"$f":"+IF(OR($AU47=0,$AU47=\"NO\"),0,VLOOKUP($BA$16+$AZ47,Tasas!$C$78:$BY$1292,$BA$15+BR$33+39,0))","v":0},{"$f":"+IF(OR($AU47=0,$AU47=\"NO\"),0,VLOOKUP($BA$16+$AZ47,Tasas!$C$78:$BY$1292,$BA$15+BS$33+39,0))","v":0},{"$f":"+IF(OR($AU47=0,$AU47=\"NO\"),0,VLOOKUP($BA$16+$AZ47,Tasas!$C$78:$BY$1292,$BA$15+BT$33+39,0))","v":0},{"$f":"+IF(OR($AU47=0,$AU47=\"NO\"),0,VLOOKUP($BA$16+$AZ47,Tasas!$C$78:$BY$1292,$BA$15+BU$33+39,0))","v":0},{"$f":"+IF(OR($AU47=0,$AU47=\"NO\"),0,VLOOKUP($BA$16+$AZ47,Tasas!$C$78:$BY$1292,$BA$15+BV$33+39,0))","v":0},{"$f":"+IF(OR($AU47=0,$AU47=\"NO\"),0,VLOOKUP($BA$16+$AZ47,Tasas!$C$78:$BY$1292,$BA$15+BW$33+39,0))","v":0},{"$f":"+IF(OR($AU47=0,$AU47=\"NO\"),0,VLOOKUP($BA$16+$AZ47,Tasas!$C$78:$BY$1292,$BA$15+BX$33+39,0))","v":0},{"$f":"+IF(OR($AU47=0,$AU47=\"NO\"),0,VLOOKUP($BA$16+$AZ47,Tasas!$C$78:$BY$1292,$BA$15+BY$33+39,0))","v":0},{"$f":"+IF(OR($AU47=0,$AU47=\"NO\"),0,VLOOKUP($BA$16+$AZ47,Tasas!$C$78:$BY$1292,$BA$15+BZ$33+39,0))","v":0},{"$f":"+IF(OR($AU47=0,$AU47=\"NO\"),0,VLOOKUP($BA$16+$AZ47,Tasas!$C$78:$BY$1292,$BA$15+CA$33+39,0))","v":0},{"$f":"+IF(OR($AU47=0,$AU47=\"NO\"),0,VLOOKUP($BA$16+$AZ47,Tasas!$C$78:$BY$1292,$BA$15+CB$33+39,0))","v":0},{"$f":"+IF(OR($AU47=0,$AU47=\"NO\"),0,VLOOKUP($BA$16+$AZ47,Tasas!$C$78:$BY$1292,$BA$15+CC$33+39,0))","v":0},{"$f":"+IF(OR($AU47=0,$AU47=\"NO\"),0,VLOOKUP($BA$16+$AZ47,Tasas!$C$78:$BY$1292,$BA$15+CD$33+39,0))","v":0},{"$f":"+IF(OR($AU47=0,$AU47=\"NO\"),0,VLOOKUP($BA$16+$AZ47,Tasas!$C$78:$BY$1292,$BA$15+CE$33+39,0))","v":0},{"$f":"+IF(OR($AU47=0,$AU47=\"NO\"),0,VLOOKUP($BA$16+$AZ47,Tasas!$C$78:$BY$1292,$BA$15+CF$33+39,0))","v":0},null,null,null,null,"Cláusula para pasajeros de aviones y/o helicópteros particulares y/o de la FAP por viajes eventuales. Nivel 3 (Aviones de la FAP y helicópteros particulares y/o de la FAP utilizados en el transporte de personas).",null,{"$f":"Cotizador!$E$102","v":0},37,{"$error":"#N/A"},{"$f":"IF(OR($CM47=\"\",$CM47=0),0,VLOOKUP($CO47,Tasas!$CB$17:$CL$70,Calculadora!CP$33,0))","v":0},{"$f":"IF(OR($CM47=\"\",$CM47=0),0,VLOOKUP($CO47,Tasas!$CB$17:$CL$70,Calculadora!CQ$33,0))","v":0},{"$f":"IF(OR($CM47=\"\",$CM47=0),0,VLOOKUP($CO47,Tasas!$CB$17:$CL$70,Calculadora!CR$33,0))","v":0},{"$f":"IF(OR($CM47=\"\",$CM47=0),0,VLOOKUP($CO47,Tasas!$CB$17:$CL$70,Calculadora!CS$33,0))","v":0},{"$f":"IF(OR($CM47=\"\",$CM47=0),0,VLOOKUP($CO47,Tasas!$CB$17:$CL$70,Calculadora!CT$33,0))","v":0},{"$f":"IF(OR($CM47=\"\",$CM47=0),0,VLOOKUP($CO47,Tasas!$CB$17:$CL$70,Calculadora!CU$33,0))","v":0},{"$f":"IF(OR($CM47=\"\",$CM47=0),0,VLOOKUP($CO47,Tasas!$CB$17:$CL$70,Calculadora!CV$33,0))","v":0},{"$f":"IF(OR($CM47=\"\",$CM47=0),0,VLOOKUP($CO47,Tasas!$CB$17:$CL$70,Calculadora!CW$33,0))","v":0},null,null,null,null,"Cláusula para pasajeros de aviones y/o helicópteros particulares y/o de la FAP por viajes eventuales. Nivel 3 (Aviones de la FAP y helicópteros particulares y/o de la FAP utilizados en el transporte de personas).",null,{"$f":"Cotizador!$E$102","v":0},37,{"$error":"#N/A"},{"$f":"IF(OR($DD47=\"\",$DD47=0),0,VLOOKUP($DF47,Tasas!$CO$17:$CY$70,Calculadora!DG$33,0))","v":0},{"$f":"IF(OR($DD47=\"\",$DD47=0),0,VLOOKUP($DF47,Tasas!$CO$17:$CY$70,Calculadora!DH$33,0))","v":0},{"$f":"IF(OR($DD47=\"\",$DD47=0),0,VLOOKUP($DF47,Tasas!$CO$17:$CY$70,Calculadora!DI$33,0))","v":0},{"$f":"IF(OR($DD47=\"\",$DD47=0),0,VLOOKUP($DF47,Tasas!$CO$17:$CY$70,Calculadora!DJ$33,0))","v":0},{"$f":"IF(OR($DD47=\"\",$DD47=0),0,VLOOKUP($DF47,Tasas!$CO$17:$CY$70,Calculadora!DK$33,0))","v":0},{"$f":"IF(OR($DD47=\"\",$DD47=0),0,VLOOKUP($DF47,Tasas!$CO$17:$CY$70,Calculadora!DL$33,0))","v":0},{"$f":"IF(OR($DD47=\"\",$DD47=0),0,VLOOKUP($DF47,Tasas!$CO$17:$CY$70,Calculadora!DM$33,0))","v":0},{"$f":"IF(OR($DD47=\"\",$DD47=0),0,VLOOKUP($DF47,Tasas!$CO$17:$CY$70,Calculadora!DN$33,0))","v":0},null,null,null,null,"Cláusula para pasajeros de aviones y/o helicópteros particulares y/o de la FAP por viajes eventuales. Nivel 3 (Aviones de la FAP y helicópteros particulares y/o de la FAP utilizados en el transporte de personas).",null,{"$f":"Cotizador!$E$102","v":0},37,{"$error":"#N/A"},{"$f":"IF(OR($DU47=\"\",$DU47=0),0,VLOOKUP($DW47,Tasas!$DB$17:$DL$70,Calculadora!DX$33,0))","v":0},{"$f":"IF(OR($DU47=\"\",$DU47=0),0,VLOOKUP($DW47,Tasas!$DB$17:$DL$70,Calculadora!DY$33,0))","v":0},{"$f":"IF(OR($DU47=\"\",$DU47=0),0,VLOOKUP($DW47,Tasas!$DB$17:$DL$70,Calculadora!DZ$33,0))","v":0},{"$f":"IF(OR($DU47=\"\",$DU47=0),0,VLOOKUP($DW47,Tasas!$DB$17:$DL$70,Calculadora!EA$33,0))","v":0},{"$f":"IF(OR($DU47=\"\",$DU47=0),0,VLOOKUP($DW47,Tasas!$DB$17:$DL$70,Calculadora!EB$33,0))","v":0},{"$f":"IF(OR($DU47=\"\",$DU47=0),0,VLOOKUP($DW47,Tasas!$DB$17:$DL$70,Calculadora!EC$33,0))","v":0},{"$f":"IF(OR($DU47=\"\",$DU47=0),0,VLOOKUP($DW47,Tasas!$DB$17:$DL$70,Calculadora!ED$33,0))","v":0},{"$f":"IF(OR($DU47=\"\",$DU47=0),0,VLOOKUP($DW47,Tasas!$DB$17:$DL$70,Calculadora!EE$33,0))","v":0},null,null,null,null,"Cláusula para pasajeros de aviones y/o helicópteros particulares y/o de la FAP por viajes eventuales. Nivel 3 (Aviones de la FAP y helicópteros particulares y/o de la FAP utilizados en el transporte de personas).",null,{"$f":"Cotizador!$E$102","v":0},37,{"$error":"#N/A"},{"$f":"IF(OR($EL47=\"\",$EL47=0),0,VLOOKUP($EN47,Tasas!$DO$17:$DY$70,Calculadora!EO$33,0))","v":0},{"$f":"IF(OR($EL47=\"\",$EL47=0),0,VLOOKUP($EN47,Tasas!$DO$17:$DY$70,Calculadora!EP$33,0))","v":0},{"$f":"IF(OR($EL47=\"\",$EL47=0),0,VLOOKUP($EN47,Tasas!$DO$17:$DY$70,Calculadora!EQ$33,0))","v":0},{"$f":"IF(OR($EL47=\"\",$EL47=0),0,VLOOKUP($EN47,Tasas!$DO$17:$DY$70,Calculadora!ER$33,0))","v":0},{"$f":"IF(OR($EL47=\"\",$EL47=0),0,VLOOKUP($EN47,Tasas!$DO$17:$DY$70,Calculadora!ES$33,0))","v":0},{"$f":"IF(OR($EL47=\"\",$EL47=0),0,VLOOKUP($EN47,Tasas!$DO$17:$DY$70,Calculadora!ET$33,0))","v":0},{"$f":"IF(OR($EL47=\"\",$EL47=0),0,VLOOKUP($EN47,Tasas!$DO$17:$DY$70,Calculadora!EU$33,0))","v":0},{"$f":"IF(OR($EL47=\"\",$EL47=0),0,VLOOKUP($EN47,Tasas!$DO$17:$DY$70,Calculadora!EV$33,0))","v":0},null,null,null,null,"Cláusula para pasajeros de aviones y/o helicópteros particulares y/o de la FAP por viajes eventuales. Nivel 3 (Aviones de la FAP y helicópteros particulares y/o de la FAP utilizados en el transporte de personas).",null,{"$f":"Cotizador!$E$102","v":0},37,{"$error":"#N/A"},{"$f":"IF(OR($FC47=\"\",$FC47=0),0,VLOOKUP($FE47,Tasas!$EB$17:$EL$70,Calculadora!FF$33,0))","v":0},{"$f":"IF(OR($FC47=\"\",$FC47=0),0,VLOOKUP($FE47,Tasas!$EB$17:$EL$70,Calculadora!FG$33,0))","v":0},{"$f":"IF(OR($FC47=\"\",$FC47=0),0,VLOOKUP($FE47,Tasas!$EB$17:$EL$70,Calculadora!FH$33,0))","v":0},{"$f":"IF(OR($FC47=\"\",$FC47=0),0,VLOOKUP($FE47,Tasas!$EB$17:$EL$70,Calculadora!FI$33,0))","v":0},{"$f":"IF(OR($FC47=\"\",$FC47=0),0,VLOOKUP($FE47,Tasas!$EB$17:$EL$70,Calculadora!FJ$33,0))","v":0},{"$f":"IF(OR($FC47=\"\",$FC47=0),0,VLOOKUP($FE47,Tasas!$EB$17:$EL$70,Calculadora!FK$33,0))","v":0},{"$f":"IF(OR($FC47=\"\",$FC47=0),0,VLOOKUP($FE47,Tasas!$EB$17:$EL$70,Calculadora!FL$33,0))","v":0},{"$f":"IF(OR($FC47=\"\",$FC47=0),0,VLOOKUP($FE47,Tasas!$EB$17:$EL$70,Calculadora!FM$33,0))","v":0},null,null,null,null,"Cláusula de ampliación del límite máximo de edad, personas mayores de 70 y hasta los 80 años inclusive.",null,{"$f":"Cotizador!$E$122","v":0},null,14,{"$f":"IF(OR($FT47=0,$FT47=\"NO\"),0,VLOOKUP($FV47,Tasas!$EO$29:$FU$45,Calculadora!FW$32,0))","v":0},{"$f":"IF(OR($FT47=0,$FT47=\"NO\"),0,VLOOKUP($FV47,Tasas!$EO$29:$FU$45,Calculadora!FX$32,0))","v":0},{"$f":"IF(OR($FT47=0,$FT47=\"NO\"),0,VLOOKUP($FV47,Tasas!$EO$29:$FU$45,Calculadora!FY$32,0))","v":0},{"$f":"IF(OR($FT47=0,$FT47=\"NO\"),0,VLOOKUP($FV47,Tasas!$EO$29:$FU$45,Calculadora!FZ$32,0))","v":0},{"$f":"IF(OR($FT47=0,$FT47=\"NO\"),0,VLOOKUP($FV47,Tasas!$EO$29:$FU$45,Calculadora!GA$32,0))","v":0},{"$f":"IF(OR($FT47=0,$FT47=\"NO\"),0,VLOOKUP($FV47,Tasas!$EO$29:$FU$45,Calculadora!GB$32,0))","v":0},{"$f":"IF(OR($FT47=0,$FT47=\"NO\"),0,VLOOKUP($FV47,Tasas!$EO$29:$FU$45,Calculadora!GC$32,0))","v":0},{"$f":"IF(OR($FT47=0,$FT47=\"NO\"),0,VLOOKUP($FV47,Tasas!$EO$29:$FU$45,Calculadora!GD$32,0))","v":0},null,null,null,null,"Cláusula para pasajeros de aviones y/o helicópteros particulares y/o de la FAP por viajes eventuales. Nivel 3 (Aviones de la FAP y helicópteros particulares y/o de la FAP utilizados en el transporte de personas).",null,{"$f":"Cotizador!$E$102","v":0},null,null,null,null,768,{"$f":"+IF(OR($C47=0,$C47=\"NO\"),0,VLOOKUP($I$16+$H47,Tasas!$FY$78:$HJ$1228,$I$15+GQ$33+2,0))","v":0},{"$f":"+IF(OR($C47=0,$C47=\"NO\"),0,VLOOKUP($I$16+$H47,Tasas!$FY$78:$HJ$1228,$I$15+GR$33+2,0))","v":0},{"$f":"+IF(OR($C47=0,$C47=\"NO\"),0,VLOOKUP($I$16+$H47,Tasas!$FY$78:$HJ$1228,$I$15+GS$33+2,0))","v":0},{"$f":"+IF(OR($C47=0,$C47=\"NO\"),0,VLOOKUP($I$16+$H47,Tasas!$FY$78:$HJ$1228,$I$15+GT$33+2,0))","v":0},{"$f":"+IF(OR($C47=0,$C47=\"NO\"),0,VLOOKUP($I$16+$H47,Tasas!$FY$78:$HJ$1228,$I$15+GU$33+2,0))","v":0},{"$f":"+IF(OR($C47=0,$C47=\"NO\"),0,VLOOKUP($I$16+$H47,Tasas!$FY$78:$HJ$1228,$I$15+GV$33+2,0))","v":0},{"$f":"+IF(OR($C47=0,$C47=\"NO\"),0,VLOOKUP($I$16+$H47,Tasas!$FY$78:$HJ$1228,$I$15+GW$33+2,0))","v":0},{"$f":"+IF(OR($C47=0,$C47=\"NO\"),0,VLOOKUP($I$16+$H47,Tasas!$FY$78:$HJ$1228,$I$15+GX$33+2,0))","v":0}]
["Pescadores y/o Estibadores",null,{"$f":"Cotizador!$E$103","v":0},{"$f":"Cotizador!$G$103","v":0},{"$f":"Cotizador!$I$103","v":0},{"$f":"Cotizador!$K$103","v":0},null,832,{"$f":"+IF(OR($C48=0,$C48=\"NO\"),0,VLOOKUP($I$16+$H48,Tasas!$C$78:$AN$1228,$I$15+I$33+2,0))","v":0},{"$f":"+IF(OR($C48=0,$C48=\"NO\"),0,VLOOKUP($I$16+$H48,Tasas!$C$78:$AN$1228,$I$15+J$33+2,0))","v":0},{"$f":"+IF(OR($C48=0,$C48=\"NO\"),0,VLOOKUP($I$16+$H48,Tasas!$C$78:$AN$1228,$I$15+K$33+2,0))","v":0},{"$f":"+IF(OR($C48=0,$C48=\"NO\"),0,VLOOKUP($I$16+$H48,Tasas!$C$78:$AN$1228,$I$15+L$33+2,0))","v":0},{"$f":"+IF(OR($C48=0,$C48=\"NO\"),0,VLOOKUP($I$16+$H48,Tasas!$C$78:$AN$1228,$I$15+M$33+2,0))","v":0},{"$f":"+IF(OR($C48=0,$C48=\"NO\"),0,VLOOKUP($I$16+$H48,Tasas!$C$78:$AN$1228,$I$15+N$33+2,0))","v":0},{"$f":"+IF(OR($C48=0,$C48=\"NO\"),0,VLOOKUP($I$16+$H48,Tasas!$C$78:$AN$1228,$I$15+O$33+2,0))","v":0},{"$f":"+IF(OR($C48=0,$C48=\"NO\"),0,VLOOKUP($I$16+$H48,Tasas!$C$78:$AN$1228,$I$15+P$33+2,0))","v":0},{"$f":"+IF(OR($D48=0,$D48=\"NO\"),0,VLOOKUP($J$16+$H48,Tasas!$C$78:$AN$1228,$J$15+Q$33+2,0))","v":0},{"$f":"+IF(OR($D48=0,$D48=\"NO\"),0,VLOOKUP($J$16+$H48,Tasas!$C$78:$AN$1228,$J$15+R$33+2,0))","v":0},{"$f":"+IF(OR($D48=0,$D48=\"NO\"),0,VLOOKUP($J$16+$H48,Tasas!$C$78:$AN$1228,$J$15+S$33+2,0))","v":0},{"$f":"+IF(OR($D48=0,$D48=\"NO\"),0,VLOOKUP($J$16+$H48,Tasas!$C$78:$AN$1228,$J$15+T$33+2,0))","v":0},{"$f":"+IF(OR($D48=0,$D48=\"NO\"),0,VLOOKUP($J$16+$H48,Tasas!$C$78:$AN$1228,$J$15+U$33+2,0))","v":0},{"$f":"+IF(OR($D48=0,$D48=\"NO\"),0,VLOOKUP($J$16+$H48,Tasas!$C$78:$AN$1228,$J$15+V$33+2,0))","v":0},{"$f":"+IF(OR($D48=0,$D48=\"NO\"),0,VLOOKUP($J$16+$H48,Tasas!$C$78:$AN$1228,$J$15+W$33+2,0))","v":0},{"$f":"+IF(OR($D48=0,$D48=\"NO\"),0,VLOOKUP($J$16+$H48,Tasas!$C$78:$AN$1228,$J$15+X$33+2,0))","v":0},{"$f":"+IF(OR($E48=0,$E48=\"NO\"),0,VLOOKUP($K$16+$H48,Tasas!$C$78:$AN$1228,$K$15+Y$33+2,0))","v":0},{"$f":"+IF(OR($E48=0,$E48=\"NO\"),0,VLOOKUP($K$16+$H48,Tasas!$C$78:$AN$1228,$K$15+Z$33+2,0))","v":0},{"$f":"+IF(OR($E48=0,$E48=\"NO\"),0,VLOOKUP($K$16+$H48,Tasas!$C$78:$AN$1228,$K$15+AA$33+2,0))","v":0},{"$f":"+IF(OR($E48=0,$E48=\"NO\"),0,VLOOKUP($K$16+$H48,Tasas!$C$78:$AN$1228,$K$15+AB$33+2,0))","v":0},{"$f":"+IF(OR($E48=0,$E48=\"NO\"),0,VLOOKUP($K$16+$H48,Tasas!$C$78:$AN$1228,$K$15+AC$33+2,0))","v":0},{"$f":"+IF(OR($E48=0,$E48=\"NO\"),0,VLOOKUP($K$16+$H48,Tasas!$C$78:$AN$1228,$K$15+AD$33+2,0))","v":0},{"$f":"+IF(OR($E48=0,$E48=\"NO\"),0,VLOOKUP($K$16+$H48,Tasas!$C$78:$AN$1228,$K$15+AE$33+2,0))","v":0},{"$f":"+IF(OR($E48=0,$E48=\"NO\"),0,VLOOKUP($K$16+$H48,Tasas!$C$78:$AN$1228,$K$15+AF$33+2,0))","v":0},{"$f":"+IF(OR($F48=0,$F48=\"NO\"),0,VLOOKUP($L$16+$H48,Tasas!$C$78:$AN$1228,$L$15+AG$33+2,0))","v":0},{"$f":"+IF(OR($F48=0,$F48=\"NO\"),0,VLOOKUP($L$16+$H48,Tasas!$C$78:$AN$1228,$L$15+AH$33+2,0))","v":0},{"$f":"+IF(OR($F48=0,$F48=\"NO\"),0,VLOOKUP($L$16+$H48,Tasas!$C$78:$AN$1228,$L$15+AI$33+2,0))","v":0},{"$f":"+IF(OR($F48=0,$F48=\"NO\"),0,VLOOKUP($L$16+$H48,Tasas!$C$78:$AN$1228,$L$15+AJ$33+2,0))","v":0},{"$f":"+IF(OR($F48=0,$F48=\"NO\"),0,VLOOKUP($L$16+$H48,Tasas!$C$78:$AN$1228,$L$15+AK$33+2,0))","v":0},{"$f":"+IF(OR($F48=0,$F48=\"NO\"),0,VLOOKUP($L$16+$H48,Tasas!$C$78:$AN$1228,$L$15+AL$33+2,0))","v":0},{"$f":"+IF(OR($F48=0,$F48=\"NO\"),0,VLOOKUP($L$16+$H48,Tasas!$C$78:$AN$1228,$L$15+AM$33+2,0))","v":0},{"$f":"+IF(OR($F48=0,$F48=\"NO\"),0,VLOOKUP($L$16+$H48,Tasas!$C$78:$AN$1228,$L$15+AN$33+2,0))","v":0},null,null,null,null,"Pescadores y/o Estibadores",null,{"$f":"Cotizador!$E$103","v":0},{"$f":"Cotizador!$G$103","v":0},{"$f":"Cotizador!$I$103","v":0},{"$f":"Cotizador!$K$103","v":0},null,832,{"$f":"+IF(OR($AU48=0,$AU48=\"NO\"),0,VLOOKUP($BA$16+$AZ48,Tasas!$C$78:$BY$1292,$BA$15+BA$33+39,0))","v":0},{"$f":"+IF(OR($AU48=0,$AU48=\"NO\"),0,VLOOKUP($BA$16+$AZ48,Tasas!$C$78:$BY$1292,$BA$15+BB$33+39,0))","v":0},{"$f":"+IF(OR($AU48=0,$AU48=\"NO\"),0,VLOOKUP($BA$16+$AZ48,Tasas!$C$78:$BY$1292,$BA$15+BC$33+39,0))","v":0},{"$f":"+IF(OR($AU48=0,$AU48=\"NO\"),0,VLOOKUP($BA$16+$AZ48,Tasas!$C$78:$BY$1292,$BA$15+BD$33+39,0))","v":0},{"$f":"+IF(OR($AU48=0,$AU48=\"NO\"),0,VLOOKUP($BA$16+$AZ48,Tasas!$C$78:$BY$1292,$BA$15+BE$33+39,0))","v":0},{"$f":"+IF(OR($AU48=0,$AU48=\"NO\"),0,VLOOKUP($BA$16+$AZ48,Tasas!$C$78:$BY$1292,$BA$15+BF$33+39,0))","v":0},{"$f":"+IF(OR($AU48=0,$AU48=\"NO\"),0,VLOOKUP($BA$16+$AZ48,Tasas!$C$78:$BY$1292,$BA$15+BG$33+39,0))","v":0},{"$f":"+IF(OR($AU48=0,$AU48=\"NO\"),0,VLOOKUP($BA$16+$AZ48,Tasas!$C$78:$BY$1292,$BA$15+BH$33+39,0))","v":0},{"$f":"+IF(OR($AU48=0,$AU48=\"NO\"),0,VLOOKUP($BA$16+$AZ48,Tasas!$C$78:$BY$1292,$BA$15+BI$33+39,0))","v":0},{"$f":"+IF(OR($AU48=0,$AU48=\"NO\"),0,VLOOKUP($BA$16+$AZ48,Tasas!$C$78:$BY$1292,$BA$15+BJ$33+39,0))","v":0},{"$f":"+IF(OR($AU48=0,$AU48=\"NO\"),0,VLOOKUP($BA$16+$AZ48,Tasas!$C$78:$BY$1292,$BA$15+BK$33+39,0))","v":0},{"$f":"+IF(OR($AU48=0,$AU48=\"NO\"),0,VLOOKUP($BA$16+$AZ48,Tasas!$C$78:$BY$1292,$BA$15+BL$33+39,0))","v":0},{"$f":"+IF(OR($AU48=0,$AU48=\"NO\"),0,VLOOKUP($BA$16+$AZ48,Tasas!$C$78:$BY$1292,$BA$15+BM$33+39,0))","v":0},{"$f":"+IF(OR($AU48=0,$AU48=\"NO\"),0,VLOOKUP($BA$16+$AZ48,Tasas!$C$78:$BY$1292,$BA$15+BN$33+39,0))","v":0},{"$f":"+IF(OR($AU48=0,$AU48=\"NO\"),0,VLOOKUP($BA$16+$AZ48,Tasas!$C$78:$BY$1292,$BA$15+BO$33+39,0))","v":0},{"$f":"+IF(OR($AU48=0,$AU48=\"NO\"),0,VLOOKUP($BA$16+$AZ48,Tasas!$C$78:$BY$1292,$BA$15+BP$33+39,0))","v":0},{"$f":"+IF(OR($AU48=0,$AU48=\"NO\"),0,VLOOKUP($BA$16+$AZ48,Tasas!$C$78:$BY$1292,$BA$15+BQ$33+39,0))","v":0},{"$f":"+IF(OR($AU48=0,$AU48=\"NO\"),0,VLOOKUP($BA$16+$AZ48,Tasas!$C$78:$BY$1292,$BA$15+BR$33+39,0))","v":0},{"$f":"+IF(OR($AU48=0,$AU48=\"NO\"),0,VLOOKUP($BA$16+$AZ48,Tasas!$C$78:$BY$1292,$BA$15+BS$33+39,0))","v":0},{"$f":"+IF(OR($AU48=0,$AU48=\"NO\"),0,VLOOKUP($BA$16+$AZ48,Tasas!$C$78:$BY$1292,$BA$15+BT$33+39,0))","v":0},{"$f":"+IF(OR($AU48=0,$AU48=\"NO\"),0,VLOOKUP($BA$16+$AZ48,Tasas!$C$78:$BY$1292,$BA$15+BU$33+39,0))","v":0},{"$f":"+IF(OR($AU48=0,$AU48=\"NO\"),0,VLOOKUP($BA$16+$AZ48,Tasas!$C$78:$BY$1292,$BA$15+BV$33+39,0))","v":0},{"$f":"+IF(OR($AU48=0,$AU48=\"NO\"),0,VLOOKUP($BA$16+$AZ48,Tasas!$C$78:$BY$1292,$BA$15+BW$33+39,0))","v":0},{"$f":"+IF(OR($AU48=0,$AU48=\"NO\"),0,VLOOKUP($BA$16+$AZ48,Tasas!$C$78:$BY$1292,$BA$15+BX$33+39,0))","v":0},{"$f":"+IF(OR($AU48=0,$AU48=\"NO\"),0,VLOOKUP($BA$16+$AZ48,Tasas!$C$78:$BY$1292,$BA$15+BY$33+39,0))","v":0},{"$f":"+IF(OR($AU48=0,$AU48=\"NO\"),0,VLOOKUP($BA$16+$AZ48,Tasas!$C$78:$BY$1292,$BA$15+BZ$33+39,0))","v":0},{"$f":"+IF(OR($AU48=0,$AU48=\"NO\"),0,VLOOKUP($BA$16+$AZ48,Tasas!$C$78:$BY$1292,$BA$15+CA$33+39,0))","v":0},{"$f":"+IF(OR($AU48=0,$AU48=\"NO\"),0,VLOOKUP($BA$16+$AZ48,Tasas!$C$78:$BY$1292,$BA$15+CB$33+39,0))","v":0},{"$f":"+IF(OR($AU48=0,$AU48=\"NO\"),0,VLOOKUP($BA$16+$AZ48,Tasas!$C$78:$BY$1292,$BA$15+CC$33+39,0))","v":0},{"$f":"+IF(OR($AU48=0,$AU48=\"NO\"),0,VLOOKUP($BA$16+$AZ48,Tasas!$C$78:$BY$1292,$BA$15+CD$33+39,0))","v":0},{"$f":"+IF(OR($AU48=0,$AU48=\"NO\"),0,VLOOKUP($BA$16+$AZ48,Tasas!$C$78:$BY$1292,$BA$15+CE$33+39,0))","v":0},{"$f":"+IF(OR($AU48=0,$AU48=\"NO\"),0,VLOOKUP($BA$16+$AZ48,Tasas!$C$78:$BY$1292,$BA$15+CF$33+39,0))","v":0},null,null,null,null,"Pescadores y/o Estibadores",null,{"$f":"Cotizador!$E$103","v":0},40,{"$error":"#N/A"},{"$f":"IF(OR($CM48=\"\",$CM48=0),0,VLOOKUP($CO48,Tasas!$CB$17:$CL$70,Calculadora!CP$33,0))","v":0},{"$f":"IF(OR($CM48=\"\",$CM48=0),0,VLOOKUP($CO48,Tasas!$CB$17:$CL$70,Calculadora!CQ$33,0))","v":0},{"$f":"IF(OR($CM48=\"\",$CM48=0),0,VLOOKUP($CO48,Tasas!$CB$17:$CL$70,Calculadora!CR$33,0))","v":0},{"$f":"IF(OR($CM48=\"\",$CM48=0),0,VLOOKUP($CO48,Tasas!$CB$17:$CL$70,Calculadora!CS$33,0))","v":0},{"$f":"IF(OR($CM48=\"\",$CM48=0),0,VLOOKUP($CO48,Tasas!$CB$17:$CL$70,Calculadora!CT$33,0))","v":0},{"$f":"IF(OR($CM48=\"\",$CM48=0),0,VLOOKUP($CO48,Tasas!$CB$17:$CL$70,Calculadora!CU$33,0))","v":0},{"$f":"IF(OR($CM48=\"\",$CM48=0),0,VLOOKUP($CO48,Tasas!$CB$17:$CL$70,Calculadora!CV$33,0))","v":0},{"$f":"IF(OR($CM48=\"\",$CM48=0),0,VLOOKUP($CO48,Tasas!$CB$17:$CL$70,Calculadora!CW$33,0))","v":0},null,null,null,null,"Pescadores y/o Estibadores",null,{"$f":"Cotizador!$E$103","v":0},40,{"$error":"#N/A"},{"$f":"IF(OR($DD48=\"\",$DD48=0),0,VLOOKUP($DF48,Tasas!$CO$17:$CY$70,Calculadora!DG$33,0))","v":0},{"$f":"IF(OR($DD48=\"\",$DD48=0),0,VLOOKUP($DF48,Tasas!$CO$17:$CY$70,Calculadora!DH$33,0))","v":0},{"$f":"IF(OR($DD48=\"\",$DD48=0),0,VLOOKUP($DF48,Tasas!$CO$17:$CY$70,Calculadora!DI$33,0))","v":0},{"$f":"IF(OR($DD48=\"\",$DD48=0),0,VLOOKUP($DF48,Tasas!$CO$17:$CY$70,Calculadora!DJ$33,0))","v":0},{"$f":"IF(OR($DD48=\"\",$DD48=0),0,VLOOKUP($DF48,Tasas!$CO$17:$CY$70,Calculadora!DK$33,0))","v":0},{"$f":"IF(OR($DD48=\"\",$DD48=0),0,VLOOKUP($DF48,Tasas!$CO$17:$CY$70,Calculadora!DL$33,0))","v":0},{"$f":"IF(OR($DD48=\"\",$DD48=0),0,VLOOKUP($DF48,Tasas!$CO$17:$CY$70,Calculadora!DM$33,0))","v":0},{"$f":"IF(OR($DD48=\"\",$DD48=0),0,VLOOKUP($DF48,Tasas!$CO$17:$CY$70,Calculadora!DN$33,0))","v":0},null,null,null,null,"Pescadores y/o Estibadores",null,{"$f":"Cotizador!$E$103","v":0},40,{"$error":"#N/A"},{"$f":"IF(OR($DU48=\"\",$DU48=0),0,VLOOKUP($DW48,Tasas!$DB$17:$DL$70,Calculadora!DX$33,0))","v":0},{"$f":"IF(OR($DU48=\"\",$DU48=0),0,VLOOKUP($DW48,Tasas!$DB$17:$DL$70,Calculadora!DY$33,0))","v":0},{"$f":"IF(OR($DU48=\"\",$DU48=0),0,VLOOKUP($DW48,Tasas!$DB$17:$DL$70,Calculadora!DZ$33,0))","v":0},{"$f":"IF(OR($DU48=\"\",$DU48=0),0,VLOOKUP($DW48,Tasas!$DB$17:$DL$70,Calculadora!EA$33,0))","v":0},{"$f":"IF(OR($DU48=\"\",$DU48=0),0,VLOOKUP($DW48,Tasas!$DB$17:$DL$70,Calculadora!EB$33,0))","v":0},{"$f":"IF(OR($DU48=\"\",$DU48=0),0,VLOOKUP($DW48,Tasas!$DB$17:$DL$70,Calculadora!EC$33,0))","v":0},{"$f":"IF(OR($DU48=\"\",$DU48=0),0,VLOOKUP($DW48,Tasas!$DB$17:$DL$70,Calculadora!ED$33,0))","v":0},{"$f":"IF(OR($DU48=\"\",$DU48=0),0,VLOOKUP($DW48,Tasas!$DB$17:$DL$70,Calculadora!EE$33,0))","v":0},null,null,null,null,"Pescadores y/o Estibadores",null,{"$f":"Cotizador!$E$103","v":0},40,{"$error":"#N/A"},{"$f":"IF(OR($EL48=\"\",$EL48=0),0,VLOOKUP($EN48,Tasas!$DO$17:$DY$70,Calculadora!EO$33,0))","v":0},{"$f":"IF(OR($EL48=\"\",$EL48=0),0,VLOOKUP($EN48,Tasas!$DO$17:$DY$70,Calculadora!EP$33,0))","v":0},{"$f":"IF(OR($EL48=\"\",$EL48=0),0,VLOOKUP($EN48,Tasas!$DO$17:$DY$70,Calculadora!EQ$33,0))","v":0},{"$f":"IF(OR($EL48=\"\",$EL48=0),0,VLOOKUP($EN48,Tasas!$DO$17:$DY$70,Calculadora!ER$33,0))","v":0},{"$f":"IF(OR($EL48=\"\",$EL48=0),0,VLOOKUP($EN48,Tasas!$DO$17:$DY$70,Calculadora!ES$33,0))","v":0},{"$f":"IF(OR($EL48=\"\",$EL48=0),0,VLOOKUP($EN48,Tasas!$DO$17:$DY$70,Calculadora!ET$33,0))","v":0},{"$f":"IF(OR($EL48=\"\",$EL48=0),0,VLOOKUP($EN48,Tasas!$DO$17:$DY$70,Calculadora!EU$33,0))","v":0},{"$f":"IF(OR($EL48=\"\",$EL48=0),0,VLOOKUP($EN48,Tasas!$DO$17:$DY$70,Calculadora!EV$33,0))","v":0},null,null,null,null,"Pescadores y/o Estibadores",null,{"$f":"Cotizador!$E$103","v":0},40,{"$error":"#N/A"},{"$f":"IF(OR($FC48=\"\",$FC48=0),0,VLOOKUP($FE48,Tasas!$EB$17:$EL$70,Calculadora!FF$33,0))","v":0},{"$f":"IF(OR($FC48=\"\",$FC48=0),0,VLOOKUP($FE48,Tasas!$EB$17:$EL$70,Calculadora!FG$33,0))","v":0},{"$f":"IF(OR($FC48=\"\",$FC48=0),0,VLOOKUP($FE48,Tasas!$EB$17:$EL$70,Calculadora!FH$33,0))","v":0},{"$f":"IF(OR($FC48=\"\",$FC48=0),0,VLOOKUP($FE48,Tasas!$EB$17:$EL$70,Calculadora!FI$33,0))","v":0},{"$f":"IF(OR($FC48=\"\",$FC48=0),0,VLOOKUP($FE48,Tasas!$EB$17:$EL$70,Calculadora!FJ$33,0))","v":0},{"$f":"IF(OR($FC48=\"\",$FC48=0),0,VLOOKUP($FE48,Tasas!$EB$17:$EL$70,Calculadora!FK$33,0))","v":0},{"$f":"IF(OR($FC48=\"\",$FC48=0),0,VLOOKUP($FE48,Tasas!$EB$17:$EL$70,Calculadora!FL$33,0))","v":0},{"$f":"IF(OR($FC48=\"\",$FC48=0),0,VLOOKUP($FE48,Tasas!$EB$17:$EL$70,Calculadora!FM$33,0))","v":0},null,null,null,null,"Ocupantes de vehiculos automotores particulares (no comerciales) por accidentes de tránsito.",null,{"$f":"Cotizador!$E$123","v":0},null,15,{"$f":"IF(OR($FT48=0,$FT48=\"NO\"),0,VLOOKUP($FV48,Tasas!$EO$29:$FU$45,Calculadora!FW$32,0))","v":0},{"$f":"IF(OR($FT48=0,$FT48=\"NO\"),0,VLOOKUP($FV48,Tasas!$EO$29:$FU$45,Calculadora!FX$32,0))","v":0},{"$f":"IF(OR($FT48=0,$FT48=\"NO\"),0,VLOOKUP($FV48,Tasas!$EO$29:$FU$45,Calculadora!FY$32,0))","v":0},{"$f":"IF(OR($FT48=0,$FT48=\"NO\"),0,VLOOKUP($FV48,Tasas!$EO$29:$FU$45,Calculadora!FZ$32,0))","v":0},{"$f":"IF(OR($FT48=0,$FT48=\"NO\"),0,VLOOKUP($FV48,Tasas!$EO$29:$FU$45,Calculadora!GA$32,0))","v":0},{"$f":"IF(OR($FT48=0,$FT48=\"NO\"),0,VLOOKUP($FV48,Tasas!$EO$29:$FU$45,Calculadora!GB$32,0))","v":0},{"$f":"IF(OR($FT48=0,$FT48=\"NO\"),0,VLOOKUP($FV48,Tasas!$EO$29:$FU$45,Calculadora!GC$32,0))","v":0},{"$f":"IF(OR($FT48=0,$FT48=\"NO\"),0,VLOOKUP($FV48,Tasas!$EO$29:$FU$45,Calculadora!GD$32,0))","v":0},null,null,null,null,"Pescadores y/o Estibadores",null,{"$f":"Cotizador!$E$103","v":0},null,null,null,null,832,{"$f":"+IF(OR($C48=0,$C48=\"NO\"),0,VLOOKUP($I$16+$H48,Tasas!$FY$78:$HJ$1228,$I$15+GQ$33+2,0))","v":0},{"$f":"+IF(OR($C48=0,$C48=\"NO\"),0,VLOOKUP($I$16+$H48,Tasas!$FY$78:$HJ$1228,$I$15+GR$33+2,0))","v":0},{"$f":"+IF(OR($C48=0,$C48=\"NO\"),0,VLOOKUP($I$16+$H48,Tasas!$FY$78:$HJ$1228,$I$15+GS$33+2,0))","v":0},{"$f":"+IF(OR($C48=0,$C48=\"NO\"),0,VLOOKUP($I$16+$H48,Tasas!$FY$78:$HJ$1228,$I$15+GT$33+2,0))","v":0},{"$f":"+IF(OR($C48=0,$C48=\"NO\"),0,VLOOKUP($I$16+$H48,Tasas!$FY$78:$HJ$1228,$I$15+GU$33+2,0))","v":0},{"$f":"+IF(OR($C48=0,$C48=\"NO\"),0,VLOOKUP($I$16+$H48,Tasas!$FY$78:$HJ$1228,$I$15+GV$33+2,0))","v":0},{"$f":"+IF(OR($C48=0,$C48=\"NO\"),0,VLOOKUP($I$16+$H48,Tasas!$FY$78:$HJ$1228,$I$15+GW$33+2,0))","v":0},{"$f":"+IF(OR($C48=0,$C48=\"NO\"),0,VLOOKUP($I$16+$H48,Tasas!$FY$78:$HJ$1228,$I$15+GX$33+2,0))","v":0}]
["Cláusula de invalidez permanente parcial previa al seguro.",null,{"$f":"Cotizador!$E$104","v":0},{"$f":"Cotizador!$G$104","v":0},{"$f":"Cotizador!$I$104","v":0},{"$f":"Cotizador!$K$104","v":0},null,896,{"$f":"+IF(OR($C49=0,$C49=\"NO\"),0,VLOOKUP($I$16+$H49,Tasas!$C$78:$AN$1228,$I$15+I$33+2,0))","v":0},{"$f":"+IF(OR($C49=0,$C49=\"NO\"),0,VLOOKUP($I$16+$H49,Tasas!$C$78:$AN$1228,$I$15+J$33+2,0))","v":0},{"$f":"+IF(OR($C49=0,$C49=\"NO\"),0,VLOOKUP($I$16+$H49,Tasas!$C$78:$AN$1228,$I$15+K$33+2,0))","v":0},{"$f":"+IF(OR($C49=0,$C49=\"NO\"),0,VLOOKUP($I$16+$H49,Tasas!$C$78:$AN$1228,$I$15+L$33+2,0))","v":0},{"$f":"+IF(OR($C49=0,$C49=\"NO\"),0,VLOOKUP($I$16+$H49,Tasas!$C$78:$AN$1228,$I$15+M$33+2,0))","v":0},{"$f":"+IF(OR($C49=0,$C49=\"NO\"),0,VLOOKUP($I$16+$H49,Tasas!$C$78:$AN$1228,$I$15+N$33+2,0))","v":0},{"$f":"+IF(OR($C49=0,$C49=\"NO\"),0,VLOOKUP($I$16+$H49,Tasas!$C$78:$AN$1228,$I$15+O$33+2,0))","v":0},{"$f":"+IF(OR($C49=0,$C49=\"NO\"),0,VLOOKUP($I$16+$H49,Tasas!$C$78:$AN$1228,$I$15+P$33+2,0))","v":0},{"$f":"+IF(OR($D49=0,$D49=\"NO\"),0,VLOOKUP($J$16+$H49,Tasas!$C$78:$AN$1228,$J$15+Q$33+2,0))","v":0},{"$f":"+IF(OR($D49=0,$D49=\"NO\"),0,VLOOKUP($J$16+$H49,Tasas!$C$78:$AN$1228,$J$15+R$33+2,0))","v":0},{"$f":"+IF(OR($D49=0,$D49=\"NO\"),0,VLOOKUP($J$16+$H49,Tasas!$C$78:$AN$1228,$J$15+S$33+2,0))","v":0},{"$f":"+IF(OR($D49=0,$D49=\"NO\"),0,VLOOKUP($J$16+$H49,Tasas!$C$78:$AN$1228,$J$15+T$33+2,0))","v":0},{"$f":"+IF(OR($D49=0,$D49=\"NO\"),0,VLOOKUP($J$16+$H49,Tasas!$C$78:$AN$1228,$J$15+U$33+2,0))","v":0},{"$f":"+IF(OR($D49=0,$D49=\"NO\"),0,VLOOKUP($J$16+$H49,Tasas!$C$78:$AN$1228,$J$15+V$33+2,0))","v":0},{"$f":"+IF(OR($D49=0,$D49=\"NO\"),0,VLOOKUP($J$16+$H49,Tasas!$C$78:$AN$1228,$J$15+W$33+2,0))","v":0},{"$f":"+IF(OR($D49=0,$D49=\"NO\"),0,VLOOKUP($J$16+$H49,Tasas!$C$78:$AN$1228,$J$15+X$33+2,0))","v":0},{"$f":"+IF(OR($E49=0,$E49=\"NO\"),0,VLOOKUP($K$16+$H49,Tasas!$C$78:$AN$1228,$K$15+Y$33+2,0))","v":0},{"$f":"+IF(OR($E49=0,$E49=\"NO\"),0,VLOOKUP($K$16+$H49,Tasas!$C$78:$AN$1228,$K$15+Z$33+2,0))","v":0},{"$f":"+IF(OR($E49=0,$E49=\"NO\"),0,VLOOKUP($K$16+$H49,Tasas!$C$78:$AN$1228,$K$15+AA$33+2,0))","v":0},{"$f":"+IF(OR($E49=0,$E49=\"NO\"),0,VLOOKUP($K$16+$H49,Tasas!$C$78:$AN$1228,$K$15+AB$33+2,0))","v":0},{"$f":"+IF(OR($E49=0,$E49=\"NO\"),0,VLOOKUP($K$16+$H49,Tasas!$C$78:$AN$1228,$K$15+AC$33+2,0))","v":0},{"$f":"+IF(OR($E49=0,$E49=\"NO\"),0,VLOOKUP($K$16+$H49,Tasas!$C$78:$AN$1228,$K$15+AD$33+2,0))","v":0},{"$f":"+IF(OR($E49=0,$E49=\"NO\"),0,VLOOKUP($K$16+$H49,Tasas!$C$78:$AN$1228,$K$15+AE$33+2,0))","v":0},{"$f":"+IF(OR($E49=0,$E49=\"NO\"),0,VLOOKUP($K$16+$H49,Tasas!$C$78:$AN$1228,$K$15+AF$33+2,0))","v":0},{"$f":"+IF(OR($F49=0,$F49=\"NO\"),0,VLOOKUP($L$16+$H49,Tasas!$C$78:$AN$1228,$L$15+AG$33+2,0))","v":0},{"$f":"+IF(OR($F49=0,$F49=\"NO\"),0,VLOOKUP($L$16+$H49,Tasas!$C$78:$AN$1228,$L$15+AH$33+2,0))","v":0},{"$f":"+IF(OR($F49=0,$F49=\"NO\"),0,VLOOKUP($L$16+$H49,Tasas!$C$78:$AN$1228,$L$15+AI$33+2,0))","v":0},{"$f":"+IF(OR($F49=0,$F49=\"NO\"),0,VLOOKUP($L$16+$H49,Tasas!$C$78:$AN$1228,$L$15+AJ$33+2,0))","v":0},{"$f":"+IF(OR($F49=0,$F49=\"NO\"),0,VLOOKUP($L$16+$H49,Tasas!$C$78:$AN$1228,$L$15+AK$33+2,0))","v":0},{"$f":"+IF(OR($F49=0,$F49=\"NO\"),0,VLOOKUP($L$16+$H49,Tasas!$C$78:$AN$1228,$L$15+AL$33+2,0))","v":0},{"$f":"+IF(OR($F49=0,$F49=\"NO\"),0,VLOOKUP($L$16+$H49,Tasas!$C$78:$AN$1228,$L$15+AM$33+2,0))","v":0},{"$f":"+IF(OR($F49=0,$F49=\"NO\"),0,VLOOKUP($L$16+$H49,Tasas!$C$78:$AN$1228,$L$15+AN$33+2,0))","v":0},null,null,null,null,"Cláusula de invalidez permanente parcial previa al seguro.",null,{"$f":"Cotizador!$E$104","v":0},{"$f":"Cotizador!$G$104","v":0},{"$f":"Cotizador!$I$104","v":0},{"$f":"Cotizador!$K$104","v":0},null,896,{"$f":"+IF(OR($AU49=0,$AU49=\"NO\"),0,VLOOKUP($BA$16+$AZ49,Tasas!$C$78:$BY$1292,$BA$15+BA$33+39,0))","v":0},{"$f":"+IF(OR($AU49=0,$AU49=\"NO\"),0,VLOOKUP($BA$16+$AZ49,Tasas!$C$78:$BY$1292,$BA$15+BB$33+39,0))","v":0},{"$f":"+IF(OR($AU49=0,$AU49=\"NO\"),0,VLOOKUP($BA$16+$AZ49,Tasas!$C$78:$BY$1292,$BA$15+BC$33+39,0))","v":0},{"$f":"+IF(OR($AU49=0,$AU49=\"NO\"),0,VLOOKUP($BA$16+$AZ49,Tasas!$C$78:$BY$1292,$BA$15+BD$33+39,0))","v":0},{"$f":"+IF(OR($AU49=0,$AU49=\"NO\"),0,VLOOKUP($BA$16+$AZ49,Tasas!$C$78:$BY$1292,$BA$15+BE$33+39,0))","v":0},{"$f":"+IF(OR($AU49=0,$AU49=\"NO\"),0,VLOOKUP($BA$16+$AZ49,Tasas!$C$78:$BY$1292,$BA$15+BF$33+39,0))","v":0},{"$f":"+IF(OR($AU49=0,$AU49=\"NO\"),0,VLOOKUP($BA$16+$AZ49,Tasas!$C$78:$BY$1292,$BA$15+BG$33+39,0))","v":0},{"$f":"+IF(OR($AU49=0,$AU49=\"NO\"),0,VLOOKUP($BA$16+$AZ49,Tasas!$C$78:$BY$1292,$BA$15+BH$33+39,0))","v":0},{"$f":"+IF(OR($AU49=0,$AU49=\"NO\"),0,VLOOKUP($BA$16+$AZ49,Tasas!$C$78:$BY$1292,$BA$15+BI$33+39,0))","v":0},{"$f":"+IF(OR($AU49=0,$AU49=\"NO\"),0,VLOOKUP($BA$16+$AZ49,Tasas!$C$78:$BY$1292,$BA$15+BJ$33+39,0))","v":0},{"$f":"+IF(OR($AU49=0,$AU49=\"NO\"),0,VLOOKUP($BA$16+$AZ49,Tasas!$C$78:$BY$1292,$BA$15+BK$33+39,0))","v":0},{"$f":"+IF(OR($AU49=0,$AU49=\"NO\"),0,VLOOKUP($BA$16+$AZ49,Tasas!$C$78:$BY$1292,$BA$15+BL$33+39,0))","v":0},{"$f":"+IF(OR($AU49=0,$AU49=\"NO\"),0,VLOOKUP($BA$16+$AZ49,Tasas!$C$78:$BY$1292,$BA$15+BM$33+39,0))","v":0},{"$f":"+IF(OR($AU49=0,$AU49=\"NO\"),0,VLOOKUP($BA$16+$AZ49,Tasas!$C$78:$BY$1292,$BA$15+BN$33+39,0))","v":0},{"$f":"+IF(OR($AU49=0,$AU49=\"NO\"),0,VLOOKUP($BA$16+$AZ49,Tasas!$C$78:$BY$1292,$BA$15+BO$33+39,0))","v":0},{"$f":"+IF(OR($AU49=0,$AU49=\"NO\"),0,VLOOKUP($BA$16+$AZ49,Tasas!$C$78:$BY$1292,$BA$15+BP$33+39,0))","v":0},{"$f":"+IF(OR($AU49=0,$AU49=\"NO\"),0,VLOOKUP($BA$16+$AZ49,Tasas!$C$78:$BY$1292,$BA$15+BQ$33+39,0))","v":0},{"$f":"+IF(OR($AU49=0,$AU49=\"NO\"),0,VLOOKUP($BA$16+$AZ49,Tasas!$C$78:$BY$1292,$BA$15+BR$33+39,0))","v":0},{"$f":"+IF(OR($AU49=0,$AU49=\"NO\"),0,VLOOKUP($BA$16+$AZ49,Tasas!$C$78:$BY$1292,$BA$15+BS$33+39,0))","v":0},{"$f":"+IF(OR($AU49=0,$AU49=\"NO\"),0,VLOOKUP($BA$16+$AZ49,Tasas!$C$78:$BY$1292,$BA$15+BT$33+39,0))","v":0},{"$f":"+IF(OR($AU49=0,$AU49=\"NO\"),0,VLOOKUP($BA$16+$AZ49,Tasas!$C$78:$BY$1292,$BA$15+BU$33+39,0))","v":0},{"$f":"+IF(OR($AU49=0,$AU49=\"NO\"),0,VLOOKUP($BA$16+$AZ49,Tasas!$C$78:$BY$1292,$BA$15+BV$33+39,0))","v":0},{"$f":"+IF(OR($AU49=0,$AU49=\"NO\"),0,VLOOKUP($BA$16+$AZ49,Tasas!$C$78:$BY$1292,$BA$15+BW$33+39,0))","v":0},{"$f":"+IF(OR($AU49=0,$AU49=\"NO\"),0,VLOOKUP($BA$16+$AZ49,Tasas!$C$78:$BY$1292,$BA$15+BX$33+39,0))","v":0},{"$f":"+IF(OR($AU49=0,$AU49=\"NO\"),0,VLOOKUP($BA$16+$AZ49,Tasas!$C$78:$BY$1292,$BA$15+BY$33+39,0))","v":0},{"$f":"+IF(OR($AU49=0,$AU49=\"NO\"),0,VLOOKUP($BA$16+$AZ49,Tasas!$C$78:$BY$1292,$BA$15+BZ$33+39,0))","v":0},{"$f":"+IF(OR($AU49=0,$AU49=\"NO\"),0,VLOOKUP($BA$16+$AZ49,Tasas!$C$78:$BY$1292,$BA$15+CA$33+39,0))","v":0},{"$f":"+IF(OR($AU49=0,$AU49=\"NO\"),0,VLOOKUP($BA$16+$AZ49,Tasas!$C$78:$BY$1292,$BA$15+CB$33+39,0))","v":0},{"$f":"+IF(OR($AU49=0,$AU49=\"NO\"),0,VLOOKUP($BA$16+$AZ49,Tasas!$C$78:$BY$1292,$BA$15+CC$33+39,0))","v":0},{"$f":"+IF(OR($AU49=0,$AU49=\"NO\"),0,VLOOKUP($BA$16+$AZ49,Tasas!$C$78:$BY$1292,$BA$15+CD$33+39,0))","v":0},{"$f":"+IF(OR($AU49=0,$AU49=\"NO\"),0,VLOOKUP($BA$16+$AZ49,Tasas!$C$78:$BY$1292,$BA$15+CE$33+39,0))","v":0},{"$f":"+IF(OR($AU49=0,$AU49=\"NO\"),0,VLOOKUP($BA$16+$AZ49,Tasas!$C$78:$BY$1292,$BA$15+CF$33+39,0))","v":0},null,null,null,null,"Cláusula de invalidez permanente parcial previa al seguro.",null,{"$f":"Cotizador!$E$104","v":0},43,{"$error":"#N/A"},{"$f":"IF(OR($CM49=\"\",$CM49=0),0,VLOOKUP($CO49,Tasas!$CB$17:$CL$70,Calculadora!CP$33,0))","v":0},{"$f":"IF(OR($CM49=\"\",$CM49=0),0,VLOOKUP($CO49,Tasas!$CB$17:$CL$70,Calculadora!CQ$33,0))","v":0},{"$f":"IF(OR($CM49=\"\",$CM49=0),0,VLOOKUP($CO49,Tasas!$CB$17:$CL$70,Calculadora!CR$33,0))","v":0},{"$f":"IF(OR($CM49=\"\",$CM49=0),0,VLOOKUP($CO49,Tasas!$CB$17:$CL$70,Calculadora!CS$33,0))","v":0},{"$f":"IF(OR($CM49=\"\",$CM49=0),0,VLOOKUP($CO49,Tasas!$CB$17:$CL$70,Calculadora!CT$33,0))","v":0},{"$f":"IF(OR($CM49=\"\",$CM49=0),0,VLOOKUP($CO49,Tasas!$CB$17:$CL$70,Calculadora!CU$33,0))","v":0},{"$f":"IF(OR($CM49=\"\",$CM49=0),0,VLOOKUP($CO49,Tasas!$CB$17:$CL$70,Calculadora!CV$33,0))","v":0},{"$f":"IF(OR($CM49=\"\",$CM49=0),0,VLOOKUP($CO49,Tasas!$CB$17:$CL$70,Calculadora!CW$33,0))","v":0},null,null,null,null,"Cláusula de invalidez permanente parcial previa al seguro.",null,{"$f":"Cotizador!$E$104","v":0},43,{"$error":"#N/A"},{"$f":"IF(OR($DD49=\"\",$DD49=0),0,VLOOKUP($DF49,Tasas!$CO$17:$CY$70,Calculadora!DG$33,0))","v":0},{"$f":"IF(OR($DD49=\"\",$DD49=0),0,VLOOKUP($DF49,Tasas!$CO$17:$CY$70,Calculadora!DH$33,0))","v":0},{"$f":"IF(OR($DD49=\"\",$DD49=0),0,VLOOKUP($DF49,Tasas!$CO$17:$CY$70,Calculadora!DI$33,0))","v":0},{"$f":"IF(OR($DD49=\"\",$DD49=0),0,VLOOKUP($DF49,Tasas!$CO$17:$CY$70,Calculadora!DJ$33,0))","v":0},{"$f":"IF(OR($DD49=\"\",$DD49=0),0,VLOOKUP($DF49,Tasas!$CO$17:$CY$70,Calculadora!DK$33,0))","v":0},{"$f":"IF(OR($DD49=\"\",$DD49=0),0,VLOOKUP($DF49,Tasas!$CO$17:$CY$70,Calculadora!DL$33,0))","v":0},{"$f":"IF(OR($DD49=\"\",$DD49=0),0,VLOOKUP($DF49,Tasas!$CO$17:$CY$70,Calculadora!DM$33,0))","v":0},{"$f":"IF(OR($DD49=\"\",$DD49=0),0,VLOOKUP($DF49,Tasas!$CO$17:$CY$70,Calculadora!DN$33,0))","v":0},null,null,null,null,"Cláusula de invalidez permanente parcial previa al seguro.",null,{"$f":"Cotizador!$E$104","v":0},43,{"$error":"#N/A"},{"$f":"IF(OR($DU49=\"\",$DU49=0),0,VLOOKUP($DW49,Tasas!$DB$17:$DL$70,Calculadora!DX$33,0))","v":0},{"$f":"IF(OR($DU49=\"\",$DU49=0),0,VLOOKUP($DW49,Tasas!$DB$17:$DL$70,Calculadora!DY$33,0))","v":0},{"$f":"IF(OR($DU49=\"\",$DU49=0),0,VLOOKUP($DW49,Tasas!$DB$17:$DL$70,Calculadora!DZ$33,0))","v":0},{"$f":"IF(OR($DU49=\"\",$DU49=0),0,VLOOKUP($DW49,Tasas!$DB$17:$DL$70,Calculadora!EA$33,0))","v":0},{"$f":"IF(OR($DU49=\"\",$DU49=0),0,VLOOKUP($DW49,Tasas!$DB$17:$DL$70,Calculadora!EB$33,0))","v":0},{"$f":"IF(OR($DU49=\"\",$DU49=0),0,VLOOKUP($DW49,Tasas!$DB$17:$DL$70,Calculadora!EC$33,0))","v":0},{"$f":"IF(OR($DU49=\"\",$DU49=0),0,VLOOKUP($DW49,Tasas!$DB$17:$DL$70,Calculadora!ED$33,0))","v":0},{"$f":"IF(OR($DU49=\"\",$DU49=0),0,VLOOKUP($DW49,Tasas!$DB$17:$DL$70,Calculadora!EE$33,0))","v":0},null,null,null,null,"Cláusula de invalidez permanente parcial previa al seguro.",null,{"$f":"Cotizador!$E$104","v":0},43,{"$error":"#N/A"},{"$f":"IF(OR($EL49=\"\",$EL49=0),0,VLOOKUP($EN49,Tasas!$DO$17:$DY$70,Calculadora!EO$33,0))","v":0},{"$f":"IF(OR($EL49=\"\",$EL49=0),0,VLOOKUP($EN49,Tasas!$DO$17:$DY$70,Calculadora!EP$33,0))","v":0},{"$f":"IF(OR($EL49=\"\",$EL49=0),0,VLOOKUP($EN49,Tasas!$DO$17:$DY$70,Calculadora!EQ$33,0))","v":0},{"$f":"IF(OR($EL49=\"\",$EL49=0),0,VLOOKUP($EN49,Tasas!$DO$17:$DY$70,Calculadora!ER$33,0))","v":0},{"$f":"IF(OR($EL49=\"\",$EL49=0),0,VLOOKUP($EN49,Tasas!$DO$17:$DY$70,Calculadora!ES$33,0))","v":0},{"$f":"IF(OR($EL49=\"\",$EL49=0),0,VLOOKUP($EN49,Tasas!$DO$17:$DY$70,Calculadora!ET$33,0))","v":0},{"$f":"IF(OR($EL49=\"\",$EL49=0),0,VLOOKUP($EN49,Tasas!$DO$17:$DY$70,Calculadora!EU$33,0))","v":0},{"$f":"IF(OR($EL49=\"\",$EL49=0),0,VLOOKUP($EN49,Tasas!$DO$17:$DY$70,Calculadora!EV$33,0))","v":0},null,null,null,null,"Cláusula de invalidez permanente parcial previa al seguro.",null,{"$f":"Cotizador!$E$104","v":0},43,{"$error":"#N/A"},{"$f":"IF(OR($FC49=\"\",$FC49=0),0,VLOOKUP($FE49,Tasas!$EB$17:$EL$70,Calculadora!FF$33,0))","v":0},{"$f":"IF(OR($FC49=\"\",$FC49=0),0,VLOOKUP($FE49,Tasas!$EB$17:$EL$70,Calculadora!FG$33,0))","v":0},{"$f":"IF(OR($FC49=\"\",$FC49=0),0,VLOOKUP($FE49,Tasas!$EB$17:$EL$70,Calculadora!FH$33,0))","v":0},{"$f":"IF(OR($FC49=\"\",$FC49=0),0,VLOOKUP($FE49,Tasas!$EB$17:$EL$70,Calculadora!FI$33,0))","v":0},{"$f":"IF(OR($FC49=\"\",$FC49=0),0,VLOOKUP($FE49,Tasas!$EB$17:$EL$70,Calculadora!FJ$33,0))","v":0},{"$f":"IF(OR($FC49=\"\",$FC49=0),0,VLOOKUP($FE49,Tasas!$EB$17:$EL$70,Calculadora!FK$33,0))","v":0},{"$f":"IF(OR($FC49=\"\",$FC49=0),0,VLOOKUP($FE49,Tasas!$EB$17:$EL$70,Calculadora!FL$33,0))","v":0},{"$f":"IF(OR($FC49=\"\",$FC49=0),0,VLOOKUP($FE49,Tasas!$EB$17:$EL$70,Calculadora!FM$33,0))","v":0},null,null,null,null,"Por usar y/o portar armas",null,{"$f":"Cotizador!$E$124","v":0},null,16,{"$f":"IF(OR($FT49=0,$FT49=\"NO\"),0,VLOOKUP($FV49,Tasas!$EO$29:$FU$45,Calculadora!FW$32,0))","v":0},{"$f":"IF(OR($FT49=0,$FT49=\"NO\"),0,VLOOKUP($FV49,Tasas!$EO$29:$FU$45,Calculadora!FX$32,0))","v":0},{"$f":"IF(OR($FT49=0,$FT49=\"NO\"),0,VLOOKUP($FV49,Tasas!$EO$29:$FU$45,Calculadora!FY$32,0))","v":0},{"$f":"IF(OR($FT49=0,$FT49=\"NO\"),0,VLOOKUP($FV49,Tasas!$EO$29:$FU$45,Calculadora!FZ$32,0))","v":0},{"$f":"IF(OR($FT49=0,$FT49=\"NO\"),0,VLOOKUP($FV49,Tasas!$EO$29:$FU$45,Calculadora!GA$32,0))","v":0},{"$f":"IF(OR($FT49=0,$FT49=\"NO\"),0,VLOOKUP($FV49,Tasas!$EO$29:$FU$45,Calculadora!GB$32,0))","v":0},{"$f":"IF(OR($FT49=0,$FT49=\"NO\"),0,VLOOKUP($FV49,Tasas!$EO$29:$FU$45,Calculadora!GC$32,0))","v":0},{"$f":"IF(OR($FT49=0,$FT49=\"NO\"),0,VLOOKUP($FV49,Tasas!$EO$29:$FU$45,Calculadora!GD$32,0))","v":0},null,null,null,null,"Cláusula de invalidez permanente parcial previa al seguro.",null,{"$f":"Cotizador!$E$104","v":0},null,null,null,null,896,{"$f":"+IF(OR($C49=0,$C49=\"NO\"),0,VLOOKUP($I$16+$H49,Tasas!$FY$78:$HJ$1228,$I$15+GQ$33+2,0))","v":0},{"$f":"+IF(OR($C49=0,$C49=\"NO\"),0,VLOOKUP($I$16+$H49,Tasas!$FY$78:$HJ$1228,$I$15+GR$33+2,0))","v":0},{"$f":"+IF(OR($C49=0,$C49=\"NO\"),0,VLOOKUP($I$16+$H49,Tasas!$FY$78:$HJ$1228,$I$15+GS$33+2,0))","v":0},{"$f":"+IF(OR($C49=0,$C49=\"NO\"),0,VLOOKUP($I$16+$H49,Tasas!$FY$78:$HJ$1228,$I$15+GT$33+2,0))","v":0},{"$f":"+IF(OR($C49=0,$C49=\"NO\"),0,VLOOKUP($I$16+$H49,Tasas!$FY$78:$HJ$1228,$I$15+GU$33+2,0))","v":0},{"$f":"+IF(OR($C49=0,$C49=\"NO\"),0,VLOOKUP($I$16+$H49,Tasas!$FY$78:$HJ$1228,$I$15+GV$33+2,0))","v":0},{"$f":"+IF(OR($C49=0,$C49=\"NO\"),0,VLOOKUP($I$16+$H49,Tasas!$FY$78:$HJ$1228,$I$15+GW$33+2,0))","v":0},{"$f":"+IF(OR($C49=0,$C49=\"NO\"),0,VLOOKUP($I$16+$H49,Tasas!$FY$78:$HJ$1228,$I$15+GX$33+2,0))","v":0}]
["Muerte accidental en transporte público y aviación comercial",null,{"$f":"Cotizador!$E$105","v":0},{"$f":"Cotizador!$G$105","v":0},{"$f":"Cotizador!$I$105","v":0},{"$f":"Cotizador!$K$105","v":0},null,960,{"$f":"+IF(OR($C50=0,$C50=\"NO\"),0,VLOOKUP($I$16+$H50,Tasas!$C$78:$AN$1228,$I$15+I$33+2,0))","v":0},{"$f":"+IF(OR($C50=0,$C50=\"NO\"),0,VLOOKUP($I$16+$H50,Tasas!$C$78:$AN$1228,$I$15+J$33+2,0))","v":0},{"$f":"+IF(OR($C50=0,$C50=\"NO\"),0,VLOOKUP($I$16+$H50,Tasas!$C$78:$AN$1228,$I$15+K$33+2,0))","v":0},{"$f":"+IF(OR($C50=0,$C50=\"NO\"),0,VLOOKUP($I$16+$H50,Tasas!$C$78:$AN$1228,$I$15+L$33+2,0))","v":0},{"$f":"+IF(OR($C50=0,$C50=\"NO\"),0,VLOOKUP($I$16+$H50,Tasas!$C$78:$AN$1228,$I$15+M$33+2,0))","v":0},{"$f":"+IF(OR($C50=0,$C50=\"NO\"),0,VLOOKUP($I$16+$H50,Tasas!$C$78:$AN$1228,$I$15+N$33+2,0))","v":0},{"$f":"+IF(OR($C50=0,$C50=\"NO\"),0,VLOOKUP($I$16+$H50,Tasas!$C$78:$AN$1228,$I$15+O$33+2,0))","v":0},{"$f":"+IF(OR($C50=0,$C50=\"NO\"),0,VLOOKUP($I$16+$H50,Tasas!$C$78:$AN$1228,$I$15+P$33+2,0))","v":0},{"$f":"+IF(OR($D50=0,$D50=\"NO\"),0,VLOOKUP($J$16+$H50,Tasas!$C$78:$AN$1228,$J$15+Q$33+2,0))","v":0},{"$f":"+IF(OR($D50=0,$D50=\"NO\"),0,VLOOKUP($J$16+$H50,Tasas!$C$78:$AN$1228,$J$15+R$33+2,0))","v":0},{"$f":"+IF(OR($D50=0,$D50=\"NO\"),0,VLOOKUP($J$16+$H50,Tasas!$C$78:$AN$1228,$J$15+S$33+2,0))","v":0},{"$f":"+IF(OR($D50=0,$D50=\"NO\"),0,VLOOKUP($J$16+$H50,Tasas!$C$78:$AN$1228,$J$15+T$33+2,0))","v":0},{"$f":"+IF(OR($D50=0,$D50=\"NO\"),0,VLOOKUP($J$16+$H50,Tasas!$C$78:$AN$1228,$J$15+U$33+2,0))","v":0},{"$f":"+IF(OR($D50=0,$D50=\"NO\"),0,VLOOKUP($J$16+$H50,Tasas!$C$78:$AN$1228,$J$15+V$33+2,0))","v":0},{"$f":"+IF(OR($D50=0,$D50=\"NO\"),0,VLOOKUP($J$16+$H50,Tasas!$C$78:$AN$1228,$J$15+W$33+2,0))","v":0},{"$f":"+IF(OR($D50=0,$D50=\"NO\"),0,VLOOKUP($J$16+$H50,Tasas!$C$78:$AN$1228,$J$15+X$33+2,0))","v":0},{"$f":"+IF(OR($E50=0,$E50=\"NO\"),0,VLOOKUP($K$16+$H50,Tasas!$C$78:$AN$1228,$K$15+Y$33+2,0))","v":0},{"$f":"+IF(OR($E50=0,$E50=\"NO\"),0,VLOOKUP($K$16+$H50,Tasas!$C$78:$AN$1228,$K$15+Z$33+2,0))","v":0},{"$f":"+IF(OR($E50=0,$E50=\"NO\"),0,VLOOKUP($K$16+$H50,Tasas!$C$78:$AN$1228,$K$15+AA$33+2,0))","v":0},{"$f":"+IF(OR($E50=0,$E50=\"NO\"),0,VLOOKUP($K$16+$H50,Tasas!$C$78:$AN$1228,$K$15+AB$33+2,0))","v":0},{"$f":"+IF(OR($E50=0,$E50=\"NO\"),0,VLOOKUP($K$16+$H50,Tasas!$C$78:$AN$1228,$K$15+AC$33+2,0))","v":0},{"$f":"+IF(OR($E50=0,$E50=\"NO\"),0,VLOOKUP($K$16+$H50,Tasas!$C$78:$AN$1228,$K$15+AD$33+2,0))","v":0},{"$f":"+IF(OR($E50=0,$E50=\"NO\"),0,VLOOKUP($K$16+$H50,Tasas!$C$78:$AN$1228,$K$15+AE$33+2,0))","v":0},{"$f":"+IF(OR($E50=0,$E50=\"NO\"),0,VLOOKUP($K$16+$H50,Tasas!$C$78:$AN$1228,$K$15+AF$33+2,0))","v":0},{"$f":"+IF(OR($F50=0,$F50=\"NO\"),0,VLOOKUP($L$16+$H50,Tasas!$C$78:$AN$1228,$L$15+AG$33+2,0))","v":0},{"$f":"+IF(OR($F50=0,$F50=\"NO\"),0,VLOOKUP($L$16+$H50,Tasas!$C$78:$AN$1228,$L$15+AH$33+2,0))","v":0},{"$f":"+IF(OR($F50=0,$F50=\"NO\"),0,VLOOKUP($L$16+$H50,Tasas!$C$78:$AN$1228,$L$15+AI$33+2,0))","v":0},{"$f":"+IF(OR($F50=0,$F50=\"NO\"),0,VLOOKUP($L$16+$H50,Tasas!$C$78:$AN$1228,$L$15+AJ$33+2,0))","v":0},{"$f":"+IF(OR($F50=0,$F50=\"NO\"),0,VLOOKUP($L$16+$H50,Tasas!$C$78:$AN$1228,$L$15+AK$33+2,0))","v":0},{"$f":"+IF(OR($F50=0,$F50=\"NO\"),0,VLOOKUP($L$16+$H50,Tasas!$C$78:$AN$1228,$L$15+AL$33+2,0))","v":0},{"$f":"+IF(OR($F50=0,$F50=\"NO\"),0,VLOOKUP($L$16+$H50,Tasas!$C$78:$AN$1228,$L$15+AM$33+2,0))","v":0},{"$f":"+IF(OR($F50=0,$F50=\"NO\"),0,VLOOKUP($L$16+$H50,Tasas!$C$78:$AN$1228,$L$15+AN$33+2,0))","v":0},null,null,null,null,"Muerte accidental en transporte público y aviación comercial",null,{"$f":"Cotizador!$E$105","v":0},{"$f":"Cotizador!$G$105","v":0},{"$f":"Cotizador!$I$105","v":0},{"$f":"Cotizador!$K$105","v":0},null,960,{"$f":"+IF(OR($AU50=0,$AU50=\"NO\"),0,VLOOKUP($BA$16+$AZ50,Tasas!$C$78:$BY$1292,$BA$15+BA$33+39,0))","v":0},{"$f":"+IF(OR($AU50=0,$AU50=\"NO\"),0,VLOOKUP($BA$16+$AZ50,Tasas!$C$78:$BY$1292,$BA$15+BB$33+39,0))","v":0},{"$f":"+IF(OR($AU50=0,$AU50=\"NO\"),0,VLOOKUP($BA$16+$AZ50,Tasas!$C$78:$BY$1292,$BA$15+BC$33+39,0))","v":0},{"$f":"+IF(OR($AU50=0,$AU50=\"NO\"),0,VLOOKUP($BA$16+$AZ50,Tasas!$C$78:$BY$1292,$BA$15+BD$33+39,0))","v":0},{"$f":"+IF(OR($AU50=0,$AU50=\"NO\"),0,VLOOKUP($BA$16+$AZ50,Tasas!$C$78:$BY$1292,$BA$15+BE$33+39,0))","v":0},{"$f":"+IF(OR($AU50=0,$AU50=\"NO\"),0,VLOOKUP($BA$16+$AZ50,Tasas!$C$78:$BY$1292,$BA$15+BF$33+39,0))","v":0},{"$f":"+IF(OR($AU50=0,$AU50=\"NO\"),0,VLOOKUP($BA$16+$AZ50,Tasas!$C$78:$BY$1292,$BA$15+BG$33+39,0))","v":0},{"$f":"+IF(OR($AU50=0,$AU50=\"NO\"),0,VLOOKUP($BA$16+$AZ50,Tasas!$C$78:$BY$1292,$BA$15+BH$33+39,0))","v":0},{"$f":"+IF(OR($AU50=0,$AU50=\"NO\"),0,VLOOKUP($BA$16+$AZ50,Tasas!$C$78:$BY$1292,$BA$15+BI$33+39,0))","v":0},{"$f":"+IF(OR($AU50=0,$AU50=\"NO\"),0,VLOOKUP($BA$16+$AZ50,Tasas!$C$78:$BY$1292,$BA$15+BJ$33+39,0))","v":0},{"$f":"+IF(OR($AU50=0,$AU50=\"NO\"),0,VLOOKUP($BA$16+$AZ50,Tasas!$C$78:$BY$1292,$BA$15+BK$33+39,0))","v":0},{"$f":"+IF(OR($AU50=0,$AU50=\"NO\"),0,VLOOKUP($BA$16+$AZ50,Tasas!$C$78:$BY$1292,$BA$15+BL$33+39,0))","v":0},{"$f":"+IF(OR($AU50=0,$AU50=\"NO\"),0,VLOOKUP($BA$16+$AZ50,Tasas!$C$78:$BY$1292,$BA$15+BM$33+39,0))","v":0},{"$f":"+IF(OR($AU50=0,$AU50=\"NO\"),0,VLOOKUP($BA$16+$AZ50,Tasas!$C$78:$BY$1292,$BA$15+BN$33+39,0))","v":0},{"$f":"+IF(OR($AU50=0,$AU50=\"NO\"),0,VLOOKUP($BA$16+$AZ50,Tasas!$C$78:$BY$1292,$BA$15+BO$33+39,0))","v":0},{"$f":"+IF(OR($AU50=0,$AU50=\"NO\"),0,VLOOKUP($BA$16+$AZ50,Tasas!$C$78:$BY$1292,$BA$15+BP$33+39,0))","v":0},{"$f":"+IF(OR($AU50=0,$AU50=\"NO\"),0,VLOOKUP($BA$16+$AZ50,Tasas!$C$78:$BY$1292,$BA$15+BQ$33+39,0))","v":0},{"$f":"+IF(OR($AU50=0,$AU50=\"NO\"),0,VLOOKUP($BA$16+$AZ50,Tasas!$C$78:$BY$1292,$BA$15+BR$33+39,0))","v":0},{"$f":"+IF(OR($AU50=0,$AU50=\"NO\"),0,VLOOKUP($BA$16+$AZ50,Tasas!$C$78:$BY$1292,$BA$15+BS$33+39,0))","v":0},{"$f":"+IF(OR($AU50=0,$AU50=\"NO\"),0,VLOOKUP($BA$16+$AZ50,Tasas!$C$78:$BY$1292,$BA$15+BT$33+39,0))","v":0},{"$f":"+IF(OR($AU50=0,$AU50=\"NO\"),0,VLOOKUP($BA$16+$AZ50,Tasas!$C$78:$BY$1292,$BA$15+BU$33+39,0))","v":0},{"$f":"+IF(OR($AU50=0,$AU50=\"NO\"),0,VLOOKUP($BA$16+$AZ50,Tasas!$C$78:$BY$1292,$BA$15+BV$33+39,0))","v":0},{"$f":"+IF(OR($AU50=0,$AU50=\"NO\"),0,VLOOKUP($BA$16+$AZ50,Tasas!$C$78:$BY$1292,$BA$15+BW$33+39,0))","v":0},{"$f":"+IF(OR($AU50=0,$AU50=\"NO\"),0,VLOOKUP($BA$16+$AZ50,Tasas!$C$78:$BY$1292,$BA$15+BX$33+39,0))","v":0},{"$f":"+IF(OR($AU50=0,$AU50=\"NO\"),0,VLOOKUP($BA$16+$AZ50,Tasas!$C$78:$BY$1292,$BA$15+BY$33+39,0))","v":0},{"$f":"+IF(OR($AU50=0,$AU50=\"NO\"),0,VLOOKUP($BA$16+$AZ50,Tasas!$C$78:$BY$1292,$BA$15+BZ$33+39,0))","v":0},{"$f":"+IF(OR($AU50=0,$AU50=\"NO\"),0,VLOOKUP($BA$16+$AZ50,Tasas!$C$78:$BY$1292,$BA$15+CA$33+39,0))","v":0},{"$f":"+IF(OR($AU50=0,$AU50=\"NO\"),0,VLOOKUP($BA$16+$AZ50,Tasas!$C$78:$BY$1292,$BA$15+CB$33+39,0))","v":0},{"$f":"+IF(OR($AU50=0,$AU50=\"NO\"),0,VLOOKUP($BA$16+$AZ50,Tasas!$C$78:$BY$1292,$BA$15+CC$33+39,0))","v":0},{"$f":"+IF(OR($AU50=0,$AU50=\"NO\"),0,VLOOKUP($BA$16+$AZ50,Tasas!$C$78:$BY$1292,$BA$15+CD$33+39,0))","v":0},{"$f":"+IF(OR($AU50=0,$AU50=\"NO\"),0,VLOOKUP($BA$16+$AZ50,Tasas!$C$78:$BY$1292,$BA$15+CE$33+39,0))","v":0},{"$f":"+IF(OR($AU50=0,$AU50=\"NO\"),0,VLOOKUP($BA$16+$AZ50,Tasas!$C$78:$BY$1292,$BA$15+CF$33+39,0))","v":0},null,null,null,null,"Muerte accidental en transporte público y aviación comercial",null,{"$f":"Cotizador!$E$105","v":0},46,{"$error":"#N/A"},{"$f":"IF(OR($CM50=\"\",$CM50=0),0,VLOOKUP($CO50,Tasas!$CB$17:$CL$70,Calculadora!CP$33,0))","v":0},{"$f":"IF(OR($CM50=\"\",$CM50=0),0,VLOOKUP($CO50,Tasas!$CB$17:$CL$70,Calculadora!CQ$33,0))","v":0},{"$f":"IF(OR($CM50=\"\",$CM50=0),0,VLOOKUP($CO50,Tasas!$CB$17:$CL$70,Calculadora!CR$33,0))","v":0},{"$f":"IF(OR($CM50=\"\",$CM50=0),0,VLOOKUP($CO50,Tasas!$CB$17:$CL$70,Calculadora!CS$33,0))","v":0},{"$f":"IF(OR($CM50=\"\",$CM50=0),0,VLOOKUP($CO50,Tasas!$CB$17:$CL$70,Calculadora!CT$33,0))","v":0},{"$f":"IF(OR($CM50=\"\",$CM50=0),0,VLOOKUP($CO50,Tasas!$CB$17:$CL$70,Calculadora!CU$33,0))","v":0},{"$f":"IF(OR($CM50=\"\",$CM50=0),0,VLOOKUP($CO50,Tasas!$CB$17:$CL$70,Calculadora!CV$33,0))","v":0},{"$f":"IF(OR($CM50=\"\",$CM50=0),0,VLOOKUP($CO50,Tasas!$CB$17:$CL$70,Calculadora!CW$33,0))","v":0},null,null,null,null,"Muerte accidental en transporte público y aviación comercial",null,{"$f":"Cotizador!$E$105","v":0},46,{"$error":"#N/A"},{"$f":"IF(OR($DD50=\"\",$DD50=0),0,VLOOKUP($DF50,Tasas!$CO$17:$CY$70,Calculadora!DG$33,0))","v":0},{"$f":"IF(OR($DD50=\"\",$DD50=0),0,VLOOKUP($DF50,Tasas!$CO$17:$CY$70,Calculadora!DH$33,0))","v":0},{"$f":"IF(OR($DD50=\"\",$DD50=0),0,VLOOKUP($DF50,Tasas!$CO$17:$CY$70,Calculadora!DI$33,0))","v":0},{"$f":"IF(OR($DD50=\"\",$DD50=0),0,VLOOKUP($DF50,Tasas!$CO$17:$CY$70,Calculadora!DJ$33,0))","v":0},{"$f":"IF(OR($DD50=\"\",$DD50=0),0,VLOOKUP($DF50,Tasas!$CO$17:$CY$70,Calculadora!DK$33,0))","v":0},{"$f":"IF(OR($DD50=\"\",$DD50=0),0,VLOOKUP($DF50,Tasas!$CO$17:$CY$70,Calculadora!DL$33,0))","v":0},{"$f":"IF(OR($DD50=\"\",$DD50=0),0,VLOOKUP($DF50,Tasas!$CO$17:$CY$70,Calculadora!DM$33,0))","v":0},{"$f":"IF(OR($DD50=\"\",$DD50=0),0,VLOOKUP($DF50,Tasas!$CO$17:$CY$70,Calculadora!DN$33,0))","v":0},null,null,null,null,"Muerte accidental en transporte público y aviación comercial",null,{"$f":"Cotizador!$E$105","v":0},46,{"$error":"#N/A"},{"$f":"IF(OR($DU50=\"\",$DU50=0),0,VLOOKUP($DW50,Tasas!$DB$17:$DL$70,Calculadora!DX$33,0))","v":0},{"$f":"IF(OR($DU50=\"\",$DU50=0),0,VLOOKUP($DW50,Tasas!$DB$17:$DL$70,Calculadora!DY$33,0))","v":0},{"$f":"IF(OR($DU50=\"\",$DU50=0),0,VLOOKUP($DW50,Tasas!$DB$17:$DL$70,Calculadora!DZ$33,0))","v":0},{"$f":"IF(OR($DU50=\"\",$DU50=0),0,VLOOKUP($DW50,Tasas!$DB$17:$DL$70,Calculadora!EA$33,0))","v":0},{"$f":"IF(OR($DU50=\"\",$DU50=0),0,VLOOKUP($DW50,Tasas!$DB$17:$DL$70,Calculadora!EB$33,0))","v":0},{"$f":"IF(OR($DU50=\"\",$DU50=0),0,VLOOKUP($DW50,Tasas!$DB$17:$DL$70,Calculadora!EC$33,0))","v":0},{"$f":"IF(OR($DU50=\"\",$DU50=0),0,VLOOKUP($DW50,Tasas!$DB$17:$DL$70,Calculadora!ED$33,0))","v":0},{"$f":"IF(OR($DU50=\"\",$DU50=0),0,VLOOKUP($DW50,Tasas!$DB$17:$DL$70,Calculadora!EE$33,0))","v":0},null,null,null,null,"Muerte accidental en transporte público y aviación comercial",null,{"$f":"Cotizador!$E$105","v":0},46,{"$error":"#N/A"},{"$f":"IF(OR($EL50=\"\",$EL50=0),0,VLOOKUP($EN50,Tasas!$DO$17:$DY$70,Calculadora!EO$33,0))","v":0},{"$f":"IF(OR($EL50=\"\",$EL50=0),0,VLOOKUP($EN50,Tasas!$DO$17:$DY$70,Calculadora!EP$33,0))","v":0},{"$f":"IF(OR($EL50=\"\",$EL50=0),0,VLOOKUP($EN50,Tasas!$DO$17:$DY$70,Calculadora!EQ$33,0))","v":0},{"$f":"IF(OR($EL50=\"\",$EL50=0),0,VLOOKUP($EN50,Tasas!$DO$17:$DY$70,Calculadora!ER$33,0))","v":0},{"$f":"IF(OR($EL50=\"\",$EL50=0),0,VLOOKUP($EN50,Tasas!$DO$17:$DY$70,Calculadora!ES$33,0))","v":0},{"$f":"IF(OR($EL50=\"\",$EL50=0),0,VLOOKUP($EN50,Tasas!$DO$17:$DY$70,Calculadora!ET$33,0))","v":0},{"$f":"IF(OR($EL50=\"\",$EL50=0),0,VLOOKUP($EN50,Tasas!$DO$17:$DY$70,Calculadora!EU$33,0))","v":0},{"$f":"IF(OR($EL50=\"\",$EL50=0),0,VLOOKUP($EN50,Tasas!$DO$17:$DY$70,Calculadora!EV$33,0))","v":0},null,null,null,null,"Muerte accidental en transporte público y aviación comercial",null,{"$f":"Cotizador!$E$105","v":0},46,{"$error":"#N/A"},{"$f":"IF(OR($FC50=\"\",$FC50=0),0,VLOOKUP($FE50,Tasas!$EB$17:$EL$70,Calculadora!FF$33,0))","v":0},{"$f":"IF(OR($FC50=\"\",$FC50=0),0,VLOOKUP($FE50,Tasas!$EB$17:$EL$70,Calculadora!FG$33,0))","v":0},{"$f":"IF(OR($FC50=\"\",$FC50=0),0,VLOOKUP($FE50,Tasas!$EB$17:$EL$70,Calculadora!FH$33,0))","v":0},{"$f":"IF(OR($FC50=\"\",$FC50=0),0,VLOOKUP($FE50,Tasas!$EB$17:$EL$70,Calculadora!FI$33,0))","v":0},{"$f":"IF(OR($FC50=\"\",$FC50=0),0,VLOOKUP($FE50,Tasas!$EB$17:$EL$70,Calculadora!FJ$33,0))","v":0},{"$f":"IF(OR($FC50=\"\",$FC50=0),0,VLOOKUP($FE50,Tasas!$EB$17:$EL$70,Calculadora!FK$33,0))","v":0},{"$f":"IF(OR($FC50=\"\",$FC50=0),0,VLOOKUP($FE50,Tasas!$EB$17:$EL$70,Calculadora!FL$33,0))","v":0},{"$f":"IF(OR($FC50=\"\",$FC50=0),0,VLOOKUP($FE50,Tasas!$EB$17:$EL$70,Calculadora!FM$33,0))","v":0},null,null,null,null,"Por cubrir gastos no reembolsables por ESSALUD",null,{"$f":"Cotizador!$E$125","v":0},null,17,{"$f":"IF(OR($FT50=0,$FT50=\"NO\"),0,VLOOKUP($FV50,Tasas!$EO$29:$FU$45,Calculadora!FW$32,0))","v":0},{"$f":"IF(OR($FT50=0,$FT50=\"NO\"),0,VLOOKUP($FV50,Tasas!$EO$29:$FU$45,Calculadora!FX$32,0))","v":0},{"$f":"IF(OR($FT50=0,$FT50=\"NO\"),0,VLOOKUP($FV50,Tasas!$EO$29:$FU$45,Calculadora!FY$32,0))","v":0},{"$f":"IF(OR($FT50=0,$FT50=\"NO\"),0,VLOOKUP($FV50,Tasas!$EO$29:$FU$45,Calculadora!FZ$32,0))","v":0},{"$f":"IF(OR($FT50=0,$FT50=\"NO\"),0,VLOOKUP($FV50,Tasas!$EO$29:$FU$45,Calculadora!GA$32,0))","v":0},{"$f":"IF(OR($FT50=0,$FT50=\"NO\"),0,VLOOKUP($FV50,Tasas!$EO$29:$FU$45,Calculadora!GB$32,0))","v":0},{"$f":"IF(OR($FT50=0,$FT50=\"NO\"),0,VLOOKUP($FV50,Tasas!$EO$29:$FU$45,Calculadora!GC$32,0))","v":0},{"$f":"IF(OR($FT50=0,$FT50=\"NO\"),0,VLOOKUP($FV50,Tasas!$EO$29:$FU$45,Calculadora!GD$32,0))","v":0},null,null,null,null,"Muerte accidental en transporte público y aviación comercial",null,{"$f":"Cotizador!$E$105","v":0},null,null,null,null,960,{"$f":"+IF(OR($C50=0,$C50=\"NO\"),0,VLOOKUP($I$16+$H50,Tasas!$FY$78:$HJ$1228,$I$15+GQ$33+2,0))","v":0},{"$f":"+IF(OR($C50=0,$C50=\"NO\"),0,VLOOKUP($I$16+$H50,Tasas!$FY$78:$HJ$1228,$I$15+GR$33+2,0))","v":0},{"$f":"+IF(OR($C50=0,$C50=\"NO\"),0,VLOOKUP($I$16+$H50,Tasas!$FY$78:$HJ$1228,$I$15+GS$33+2,0))","v":0},{"$f":"+IF(OR($C50=0,$C50=\"NO\"),0,VLOOKUP($I$16+$H50,Tasas!$FY$78:$HJ$1228,$I$15+GT$33+2,0))","v":0},{"$f":"+IF(OR($C50=0,$C50=\"NO\"),0,VLOOKUP($I$16+$H50,Tasas!$FY$78:$HJ$1228,$I$15+GU$33+2,0))","v":0},{"$f":"+IF(OR($C50=0,$C50=\"NO\"),0,VLOOKUP($I$16+$H50,Tasas!$FY$78:$HJ$1228,$I$15+GV$33+2,0))","v":0},{"$f":"+IF(OR($C50=0,$C50=\"NO\"),0,VLOOKUP($I$16+$H50,Tasas!$FY$78:$HJ$1228,$I$15+GW$33+2,0))","v":0},{"$f":"+IF(OR($C50=0,$C50=\"NO\"),0,VLOOKUP($I$16+$H50,Tasas!$FY$78:$HJ$1228,$I$15+GX$33+2,0))","v":0}]
["Por usar y/o portar armas",null,{"$f":"Cotizador!$E$106","v":0},{"$f":"Cotizador!$G$106","v":0},{"$f":"Cotizador!$I$106","v":0},{"$f":"Cotizador!$K$106","v":0},null,1024,{"$f":"+IF(OR($C51=0,$C51=\"NO\"),0,VLOOKUP($I$16+$H51,Tasas!$C$78:$AN$1228,$I$15+I$33+2,0))","v":0},{"$f":"+IF(OR($C51=0,$C51=\"NO\"),0,VLOOKUP($I$16+$H51,Tasas!$C$78:$AN$1228,$I$15+J$33+2,0))","v":0},{"$f":"+IF(OR($C51=0,$C51=\"NO\"),0,VLOOKUP($I$16+$H51,Tasas!$C$78:$AN$1228,$I$15+K$33+2,0))","v":0},{"$f":"+IF(OR($C51=0,$C51=\"NO\"),0,VLOOKUP($I$16+$H51,Tasas!$C$78:$AN$1228,$I$15+L$33+2,0))","v":0},{"$f":"+IF(OR($C51=0,$C51=\"NO\"),0,VLOOKUP($I$16+$H51,Tasas!$C$78:$AN$1228,$I$15+M$33+2,0))","v":0},{"$f":"+IF(OR($C51=0,$C51=\"NO\"),0,VLOOKUP($I$16+$H51,Tasas!$C$78:$AN$1228,$I$15+N$33+2,0))","v":0},{"$f":"+IF(OR($C51=0,$C51=\"NO\"),0,VLOOKUP($I$16+$H51,Tasas!$C$78:$AN$1228,$I$15+O$33+2,0))","v":0},{"$f":"+IF(OR($C51=0,$C51=\"NO\"),0,VLOOKUP($I$16+$H51,Tasas!$C$78:$AN$1228,$I$15+P$33+2,0))","v":0},{"$f":"+IF(OR($D51=0,$D51=\"NO\"),0,VLOOKUP($J$16+$H51,Tasas!$C$78:$AN$1228,$J$15+Q$33+2,0))","v":0},{"$f":"+IF(OR($D51=0,$D51=\"NO\"),0,VLOOKUP($J$16+$H51,Tasas!$C$78:$AN$1228,$J$15+R$33+2,0))","v":0},{"$f":"+IF(OR($D51=0,$D51=\"NO\"),0,VLOOKUP($J$16+$H51,Tasas!$C$78:$AN$1228,$J$15+S$33+2,0))","v":0},{"$f":"+IF(OR($D51=0,$D51=\"NO\"),0,VLOOKUP($J$16+$H51,Tasas!$C$78:$AN$1228,$J$15+T$33+2,0))","v":0},{"$f":"+IF(OR($D51=0,$D51=\"NO\"),0,VLOOKUP($J$16+$H51,Tasas!$C$78:$AN$1228,$J$15+U$33+2,0))","v":0},{"$f":"+IF(OR($D51=0,$D51=\"NO\"),0,VLOOKUP($J$16+$H51,Tasas!$C$78:$AN$1228,$J$15+V$33+2,0))","v":0},{"$f":"+IF(OR($D51=0,$D51=\"NO\"),0,VLOOKUP($J$16+$H51,Tasas!$C$78:$AN$1228,$J$15+W$33+2,0))","v":0},{"$f":"+IF(OR($D51=0,$D51=\"NO\"),0,VLOOKUP($J$16+$H51,Tasas!$C$78:$AN$1228,$J$15+X$33+2,0))","v":0},{"$f":"+IF(OR($E51=0,$E51=\"NO\"),0,VLOOKUP($K$16+$H51,Tasas!$C$78:$AN$1228,$K$15+Y$33+2,0))","v":0},{"$f":"+IF(OR($E51=0,$E51=\"NO\"),0,VLOOKUP($K$16+$H51,Tasas!$C$78:$AN$1228,$K$15+Z$33+2,0))","v":0},{"$f":"+IF(OR($E51=0,$E51=\"NO\"),0,VLOOKUP($K$16+$H51,Tasas!$C$78:$AN$1228,$K$15+AA$33+2,0))","v":0},{"$f":"+IF(OR($E51=0,$E51=\"NO\"),0,VLOOKUP($K$16+$H51,Tasas!$C$78:$AN$1228,$K$15+AB$33+2,0))","v":0},{"$f":"+IF(OR($E51=0,$E51=\"NO\"),0,VLOOKUP($K$16+$H51,Tasas!$C$78:$AN$1228,$K$15+AC$33+2,0))","v":0},{"$f":"+IF(OR($E51=0,$E51=\"NO\"),0,VLOOKUP($K$16+$H51,Tasas!$C$78:$AN$1228,$K$15+AD$33+2,0))","v":0},{"$f":"+IF(OR($E51=0,$E51=\"NO\"),0,VLOOKUP($K$16+$H51,Tasas!$C$78:$AN$1228,$K$15+AE$33+2,0))","v":0},{"$f":"+IF(OR($E51=0,$E51=\"NO\"),0,VLOOKUP($K$16+$H51,Tasas!$C$78:$AN$1228,$K$15+AF$33+2,0))","v":0},{"$f":"+IF(OR($F51=0,$F51=\"NO\"),0,VLOOKUP($L$16+$H51,Tasas!$C$78:$AN$1228,$L$15+AG$33+2,0))","v":0},{"$f":"+IF(OR($F51=0,$F51=\"NO\"),0,VLOOKUP($L$16+$H51,Tasas!$C$78:$AN$1228,$L$15+AH$33+2,0))","v":0},{"$f":"+IF(OR($F51=0,$F51=\"NO\"),0,VLOOKUP($L$16+$H51,Tasas!$C$78:$AN$1228,$L$15+AI$33+2,0))","v":0},{"$f":"+IF(OR($F51=0,$F51=\"NO\"),0,VLOOKUP($L$16+$H51,Tasas!$C$78:$AN$1228,$L$15+AJ$33+2,0))","v":0},{"$f":"+IF(OR($F51=0,$F51=\"NO\"),0,VLOOKUP($L$16+$H51,Tasas!$C$78:$AN$1228,$L$15+AK$33+2,0))","v":0},{"$f":"+IF(OR($F51=0,$F51=\"NO\"),0,VLOOKUP($L$16+$H51,Tasas!$C$78:$AN$1228,$L$15+AL$33+2,0))","v":0},{"$f":"+IF(OR($F51=0,$F51=\"NO\"),0,VLOOKUP($L$16+$H51,Tasas!$C$78:$AN$1228,$L$15+AM$33+2,0))","v":0},{"$f":"+IF(OR($F51=0,$F51=\"NO\"),0,VLOOKUP($L$16+$H51,Tasas!$C$78:$AN$1228,$L$15+AN$33+2,0))","v":0},null,null,null,null,"Por usar y/o portar armas",null,{"$f":"Cotizador!$E$106","v":0},{"$f":"Cotizador!$G$106","v":0},{"$f":"Cotizador!$I$106","v":0},{"$f":"Cotizador!$K$106","v":0},null,1024,{"$f":"+IF(OR($AU51=0,$AU51=\"NO\"),0,VLOOKUP($BA$16+$AZ51,Tasas!$C$78:$BY$1292,$BA$15+BA$33+39,0))","v":0},{"$f":"+IF(OR($AU51=0,$AU51=\"NO\"),0,VLOOKUP($BA$16+$AZ51,Tasas!$C$78:$BY$1292,$BA$15+BB$33+39,0))","v":0},{"$f":"+IF(OR($AU51=0,$AU51=\"NO\"),0,VLOOKUP($BA$16+$AZ51,Tasas!$C$78:$BY$1292,$BA$15+BC$33+39,0))","v":0},{"$f":"+IF(OR($AU51=0,$AU51=\"NO\"),0,VLOOKUP($BA$16+$AZ51,Tasas!$C$78:$BY$1292,$BA$15+BD$33+39,0))","v":0},{"$f":"+IF(OR($AU51=0,$AU51=\"NO\"),0,VLOOKUP($BA$16+$AZ51,Tasas!$C$78:$BY$1292,$BA$15+BE$33+39,0))","v":0},{"$f":"+IF(OR($AU51=0,$AU51=\"NO\"),0,VLOOKUP($BA$16+$AZ51,Tasas!$C$78:$BY$1292,$BA$15+BF$33+39,0))","v":0},{"$f":"+IF(OR($AU51=0,$AU51=\"NO\"),0,VLOOKUP($BA$16+$AZ51,Tasas!$C$78:$BY$1292,$BA$15+BG$33+39,0))","v":0},{"$f":"+IF(OR($AU51=0,$AU51=\"NO\"),0,VLOOKUP($BA$16+$AZ51,Tasas!$C$78:$BY$1292,$BA$15+BH$33+39,0))","v":0},{"$f":"+IF(OR($AU51=0,$AU51=\"NO\"),0,VLOOKUP($BA$16+$AZ51,Tasas!$C$78:$BY$1292,$BA$15+BI$33+39,0))","v":0},{"$f":"+IF(OR($AU51=0,$AU51=\"NO\"),0,VLOOKUP($BA$16+$AZ51,Tasas!$C$78:$BY$1292,$BA$15+BJ$33+39,0))","v":0},{"$f":"+IF(OR($AU51=0,$AU51=\"NO\"),0,VLOOKUP($BA$16+$AZ51,Tasas!$C$78:$BY$1292,$BA$15+BK$33+39,0))","v":0},{"$f":"+IF(OR($AU51=0,$AU51=\"NO\"),0,VLOOKUP($BA$16+$AZ51,Tasas!$C$78:$BY$1292,$BA$15+BL$33+39,0))","v":0},{"$f":"+IF(OR($AU51=0,$AU51=\"NO\"),0,VLOOKUP($BA$16+$AZ51,Tasas!$C$78:$BY$1292,$BA$15+BM$33+39,0))","v":0},{"$f":"+IF(OR($AU51=0,$AU51=\"NO\"),0,VLOOKUP($BA$16+$AZ51,Tasas!$C$78:$BY$1292,$BA$15+BN$33+39,0))","v":0},{"$f":"+IF(OR($AU51=0,$AU51=\"NO\"),0,VLOOKUP($BA$16+$AZ51,Tasas!$C$78:$BY$1292,$BA$15+BO$33+39,0))","v":0},{"$f":"+IF(OR($AU51=0,$AU51=\"NO\"),0,VLOOKUP($BA$16+$AZ51,Tasas!$C$78:$BY$1292,$BA$15+BP$33+39,0))","v":0},{"$f":"+IF(OR($AU51=0,$AU51=\"NO\"),0,VLOOKUP($BA$16+$AZ51,Tasas!$C$78:$BY$1292,$BA$15+BQ$33+39,0))","v":0},{"$f":"+IF(OR($AU51=0,$AU51=\"NO\"),0,VLOOKUP($BA$16+$AZ51,Tasas!$C$78:$BY$1292,$BA$15+BR$33+39,0))","v":0},{"$f":"+IF(OR($AU51=0,$AU51=\"NO\"),0,VLOOKUP($BA$16+$AZ51,Tasas!$C$78:$BY$1292,$BA$15+BS$33+39,0))","v":0},{"$f":"+IF(OR($AU51=0,$AU51=\"NO\"),0,VLOOKUP($BA$16+$AZ51,Tasas!$C$78:$BY$1292,$BA$15+BT$33+39,0))","v":0},{"$f":"+IF(OR($AU51=0,$AU51=\"NO\"),0,VLOOKUP($BA$16+$AZ51,Tasas!$C$78:$BY$1292,$BA$15+BU$33+39,0))","v":0},{"$f":"+IF(OR($AU51=0,$AU51=\"NO\"),0,VLOOKUP($BA$16+$AZ51,Tasas!$C$78:$BY$1292,$BA$15+BV$33+39,0))","v":0},{"$f":"+IF(OR($AU51=0,$AU51=\"NO\"),0,VLOOKUP($BA$16+$AZ51,Tasas!$C$78:$BY$1292,$BA$15+BW$33+39,0))","v":0},{"$f":"+IF(OR($AU51=0,$AU51=\"NO\"),0,VLOOKUP($BA$16+$AZ51,Tasas!$C$78:$BY$1292,$BA$15+BX$33+39,0))","v":0},{"$f":"+IF(OR($AU51=0,$AU51=\"NO\"),0,VLOOKUP($BA$16+$AZ51,Tasas!$C$78:$BY$1292,$BA$15+BY$33+39,0))","v":0},{"$f":"+IF(OR($AU51=0,$AU51=\"NO\"),0,VLOOKUP($BA$16+$AZ51,Tasas!$C$78:$BY$1292,$BA$15+BZ$33+39,0))","v":0},{"$f":"+IF(OR($AU51=0,$AU51=\"NO\"),0,VLOOKUP($BA$16+$AZ51,Tasas!$C$78:$BY$1292,$BA$15+CA$33+39,0))","v":0},{"$f":"+IF(OR($AU51=0,$AU51=\"NO\"),0,VLOOKUP($BA$16+$AZ51,Tasas!$C$78:$BY$1292,$BA$15+CB$33+39,0))","v":0},{"$f":"+IF(OR($AU51=0,$AU51=\"NO\"),0,VLOOKUP($BA$16+$AZ51,Tasas!$C$78:$BY$1292,$BA$15+CC$33+39,0))","v":0},{"$f":"+IF(OR($AU51=0,$AU51=\"NO\"),0,VLOOKUP($BA$16+$AZ51,Tasas!$C$78:$BY$1292,$BA$15+CD$33+39,0))","v":0},{"$f":"+IF(OR($AU51=0,$AU51=\"NO\"),0,VLOOKUP($BA$16+$AZ51,Tasas!$C$78:$BY$1292,$BA$15+CE$33+39,0))","v":0},{"$f":"+IF(OR($AU51=0,$AU51=\"NO\"),0,VLOOKUP($BA$16+$AZ51,Tasas!$C$78:$BY$1292,$BA$15+CF$33+39,0))","v":0},null,null,null,null,"Por usar y/o portar armas",null,{"$f":"Cotizador!$E$106","v":0},49,{"$error":"#N/A"},{"$f":"IF(OR($CM51=\"\",$CM51=0),0,VLOOKUP($CO51,Tasas!$CB$17:$CL$70,Calculadora!CP$33,0))","v":0},{"$f":"IF(OR($CM51=\"\",$CM51=0),0,VLOOKUP($CO51,Tasas!$CB$17:$CL$70,Calculadora!CQ$33,0))","v":0},{"$f":"IF(OR($CM51=\"\",$CM51=0),0,VLOOKUP($CO51,Tasas!$CB$17:$CL$70,Calculadora!CR$33,0))","v":0},{"$f":"IF(OR($CM51=\"\",$CM51=0),0,VLOOKUP($CO51,Tasas!$CB$17:$CL$70,Calculadora!CS$33,0))","v":0},{"$f":"IF(OR($CM51=\"\",$CM51=0),0,VLOOKUP($CO51,Tasas!$CB$17:$CL$70,Calculadora!CT$33,0))","v":0},{"$f":"IF(OR($CM51=\"\",$CM51=0),0,VLOOKUP($CO51,Tasas!$CB$17:$CL$70,Calculadora!CU$33,0))","v":0},{"$f":"IF(OR($CM51=\"\",$CM51=0),0,VLOOKUP($CO51,Tasas!$CB$17:$CL$70,Calculadora!CV$33,0))","v":0},{"$f":"IF(OR($CM51=\"\",$CM51=0),0,VLOOKUP($CO51,Tasas!$CB$17:$CL$70,Calculadora!CW$33,0))","v":0},null,null,null,null,"Por usar y/o portar armas",null,{"$f":"Cotizador!$E$106","v":0},49,{"$error":"#N/A"},{"$f":"IF(OR($DD51=\"\",$DD51=0),0,VLOOKUP($DF51,Tasas!$CO$17:$CY$70,Calculadora!DG$33,0))","v":0},{"$f":"IF(OR($DD51=\"\",$DD51=0),0,VLOOKUP($DF51,Tasas!$CO$17:$CY$70,Calculadora!DH$33,0))","v":0},{"$f":"IF(OR($DD51=\"\",$DD51=0),0,VLOOKUP($DF51,Tasas!$CO$17:$CY$70,Calculadora!DI$33,0))","v":0},{"$f":"IF(OR($DD51=\"\",$DD51=0),0,VLOOKUP($DF51,Tasas!$CO$17:$CY$70,Calculadora!DJ$33,0))","v":0},{"$f":"IF(OR($DD51=\"\",$DD51=0),0,VLOOKUP($DF51,Tasas!$CO$17:$CY$70,Calculadora!DK$33,0))","v":0},{"$f":"IF(OR($DD51=\"\",$DD51=0),0,VLOOKUP($DF51,Tasas!$CO$17:$CY$70,Calculadora!DL$33,0))","v":0},{"$f":"IF(OR($DD51=\"\",$DD51=0),0,VLOOKUP($DF51,Tasas!$CO$17:$CY$70,Calculadora!DM$33,0))","v":0},{"$f":"IF(OR($DD51=\"\",$DD51=0),0,VLOOKUP($DF51,Tasas!$CO$17:$CY$70,Calculadora!DN$33,0))","v":0},null,null,null,null,"Por usar y/o portar armas",null,{"$f":"Cotizador!$E$106","v":0},49,{"$error":"#N/A"},{"$f":"IF(OR($DU51=\"\",$DU51=0),0,VLOOKUP($DW51,Tasas!$DB$17:$DL$70,Calculadora!DX$33,0))","v":0},{"$f":"IF(OR($DU51=\"\",$DU51=0),0,VLOOKUP($DW51,Tasas!$DB$17:$DL$70,Calculadora!DY$33,0))","v":0},{"$f":"IF(OR($DU51=\"\",$DU51=0),0,VLOOKUP($DW51,Tasas!$DB$17:$DL$70,Calculadora!DZ$33,0))","v":0},{"$f":"IF(OR($DU51=\"\",$DU51=0),0,VLOOKUP($DW51,Tasas!$DB$17:$DL$70,Calculadora!EA$33,0))","v":0},{"$f":"IF(OR($DU51=\"\",$DU51=0),0,VLOOKUP($DW51,Tasas!$DB$17:$DL$70,Calculadora!EB$33,0))","v":0},{"$f":"IF(OR($DU51=\"\",$DU51=0),0,VLOOKUP($DW51,Tasas!$DB$17:$DL$70,Calculadora!EC$33,0))","v":0},{"$f":"IF(OR($DU51=\"\",$DU51=0),0,VLOOKUP($DW51,Tasas!$DB$17:$DL$70,Calculadora!ED$33,0))","v":0},{"$f":"IF(OR($DU51=\"\",$DU51=0),0,VLOOKUP($DW51,Tasas!$DB$17:$DL$70,Calculadora!EE$33,0))","v":0},null,null,null,null,"Por usar y/o portar armas",null,{"$f":"Cotizador!$E$106","v":0},49,{"$error":"#N/A"},{"$f":"IF(OR($EL51=\"\",$EL51=0),0,VLOOKUP($EN51,Tasas!$DO$17:$DY$70,Calculadora!EO$33,0))","v":0},{"$f":"IF(OR($EL51=\"\",$EL51=0),0,VLOOKUP($EN51,Tasas!$DO$17:$DY$70,Calculadora!EP$33,0))","v":0},{"$f":"IF(OR($EL51=\"\",$EL51=0),0,VLOOKUP($EN51,Tasas!$DO$17:$DY$70,Calculadora!EQ$33,0))","v":0},{"$f":"IF(OR($EL51=\"\",$EL51=0),0,VLOOKUP($EN51,Tasas!$DO$17:$DY$70,Calculadora!ER$33,0))","v":0},{"$f":"IF(OR($EL51=\"\",$EL51=0),0,VLOOKUP($EN51,Tasas!$DO$17:$DY$70,Calculadora!ES$33,0))","v":0},{"$f":"IF(OR($EL51=\"\",$EL51=0),0,VLOOKUP($EN51,Tasas!$DO$17:$DY$70,Calculadora!ET$33,0))","v":0},{"$f":"IF(OR($EL51=\"\",$EL51=0),0,VLOOKUP($EN51,Tasas!$DO$17:$DY$70,Calculadora!EU$33,0))","v":0},{"$f":"IF(OR($EL51=\"\",$EL51=0),0,VLOOKUP($EN51,Tasas!$DO$17:$DY$70,Calculadora!EV$33,0))","v":0},null,null,null,null,"Por usar y/o portar armas",null,{"$f":"Cotizador!$E$106","v":0},49,{"$error":"#N/A"},{"$f":"IF(OR($FC51=\"\",$FC51=0),0,VLOOKUP($FE51,Tasas!$EB$17:$EL$70,Calculadora!FF$33,0))","v":0},{"$f":"IF(OR($FC51=\"\",$FC51=0),0,VLOOKUP($FE51,Tasas!$EB$17:$EL$70,Calculadora!FG$33,0))","v":0},{"$f":"IF(OR($FC51=\"\",$FC51=0),0,VLOOKUP($FE51,Tasas!$EB$17:$EL$70,Calculadora!FH$33,0))","v":0},{"$f":"IF(OR($FC51=\"\",$FC51=0),0,VLOOKUP($FE51,Tasas!$EB$17:$EL$70,Calculadora!FI$33,0))","v":0},{"$f":"IF(OR($FC51=\"\",$FC51=0),0,VLOOKUP($FE51,Tasas!$EB$17:$EL$70,Calculadora!FJ$33,0))","v":0},{"$f":"IF(OR($FC51=\"\",$FC51=0),0,VLOOKUP($FE51,Tasas!$EB$17:$EL$70,Calculadora!FK$33,0))","v":0},{"$f":"IF(OR($FC51=\"\",$FC51=0),0,VLOOKUP($FE51,Tasas!$EB$17:$EL$70,Calculadora!FL$33,0))","v":0},{"$f":"IF(OR($FC51=\"\",$FC51=0),0,VLOOKUP($FE51,Tasas!$EB$17:$EL$70,Calculadora!FM$33,0))","v":0},null,null,null,null,null,null,null,null,null,null,null,null,null,null,null,null,null,null,null,null,null,"Por usar y/o portar armas",null,{"$f":"Cotizador!$E$106","v":0},null,null,null,null,1024,{"$f":"+IF(OR($C51=0,$C51=\"NO\"),0,VLOOKUP($I$16+$H51,Tasas!$FY$78:$HJ$1228,$I$15+GQ$33+2,0))","v":0},{"$f":"+IF(OR($C51=0,$C51=\"NO\"),0,VLOOKUP($I$16+$H51,Tasas!$FY$78:$HJ$1228,$I$15+GR$33+2,0))","v":0},{"$f":"+IF(OR($C51=0,$C51=\"NO\"),0,VLOOKUP($I$16+$H51,Tasas!$FY$78:$HJ$1228,$I$15+GS$33+2,0))","v":0},{"$f":"+IF(OR($C51=0,$C51=\"NO\"),0,VLOOKUP($I$16+$H51,Tasas!$FY$78:$HJ$1228,$I$15+GT$33+2,0))","v":0},{"$f":"+IF(OR($C51=0,$C51=\"NO\"),0,VLOOKUP($I$16+$H51,Tasas!$FY$78:$HJ$1228,$I$15+GU$33+2,0))","v":0},{"$f":"+IF(OR($C51=0,$C51=\"NO\"),0,VLOOKUP($I$16+$H51,Tasas!$FY$78:$HJ$1228,$I$15+GV$33+2,0))","v":0},{"$f":"+IF(OR($C51=0,$C51=\"NO\"),0,VLOOKUP($I$16+$H51,Tasas!$FY$78:$HJ$1228,$I$15+GW$33+2,0))","v":0},{"$f":"+IF(OR($C51=0,$C51=\"NO\"),0,VLOOKUP($I$16+$H51,Tasas!$FY$78:$HJ$1228,$I$15+GX$33+2,0))","v":0}]
["Por cubrir gastos no reembolsables por ESSALUD",null,{"$f":"Cotizador!$E$107","v":0},{"$f":"Cotizador!$G$107","v":0},{"$f":"Cotizador!$I$107","v":0},{"$f":"Cotizador!$K$107","v":0},null,1088,{"$f":"+IF(OR($C52=0,$C52=\"NO\"),0,VLOOKUP($I$16+$H52,Tasas!$C$78:$AN$1228,$I$15+I$33+2,0))","v":0},{"$f":"+IF(OR($C52=0,$C52=\"NO\"),0,VLOOKUP($I$16+$H52,Tasas!$C$78:$AN$1228,$I$15+J$33+2,0))","v":0},{"$f":"+IF(OR($C52=0,$C52=\"NO\"),0,VLOOKUP($I$16+$H52,Tasas!$C$78:$AN$1228,$I$15+K$33+2,0))","v":0},{"$f":"+IF(OR($C52=0,$C52=\"NO\"),0,VLOOKUP($I$16+$H52,Tasas!$C$78:$AN$1228,$I$15+L$33+2,0))","v":0},{"$f":"+IF(OR($C52=0,$C52=\"NO\"),0,VLOOKUP($I$16+$H52,Tasas!$C$78:$AN$1228,$I$15+M$33+2,0))","v":0},{"$f":"+IF(OR($C52=0,$C52=\"NO\"),0,VLOOKUP($I$16+$H52,Tasas!$C$78:$AN$1228,$I$15+N$33+2,0))","v":0},{"$f":"+IF(OR($C52=0,$C52=\"NO\"),0,VLOOKUP($I$16+$H52,Tasas!$C$78:$AN$1228,$I$15+O$33+2,0))","v":0},{"$f":"+IF(OR($C52=0,$C52=\"NO\"),0,VLOOKUP($I$16+$H52,Tasas!$C$78:$AN$1228,$I$15+P$33+2,0))","v":0},{"$f":"+IF(OR($D52=0,$D52=\"NO\"),0,VLOOKUP($J$16+$H52,Tasas!$C$78:$AN$1228,$J$15+Q$33+2,0))","v":0},{"$f":"+IF(OR($D52=0,$D52=\"NO\"),0,VLOOKUP($J$16+$H52,Tasas!$C$78:$AN$1228,$J$15+R$33+2,0))","v":0},{"$f":"+IF(OR($D52=0,$D52=\"NO\"),0,VLOOKUP($J$16+$H52,Tasas!$C$78:$AN$1228,$J$15+S$33+2,0))","v":0},{"$f":"+IF(OR($D52=0,$D52=\"NO\"),0,VLOOKUP($J$16+$H52,Tasas!$C$78:$AN$1228,$J$15+T$33+2,0))","v":0},{"$f":"+IF(OR($D52=0,$D52=\"NO\"),0,VLOOKUP($J$16+$H52,Tasas!$C$78:$AN$1228,$J$15+U$33+2,0))","v":0},{"$f":"+IF(OR($D52=0,$D52=\"NO\"),0,VLOOKUP($J$16+$H52,Tasas!$C$78:$AN$1228,$J$15+V$33+2,0))","v":0},{"$f":"+IF(OR($D52=0,$D52=\"NO\"),0,VLOOKUP($J$16+$H52,Tasas!$C$78:$AN$1228,$J$15+W$33+2,0))","v":0},{"$f":"+IF(OR($D52=0,$D52=\"NO\"),0,VLOOKUP($J$16+$H52,Tasas!$C$78:$AN$1228,$J$15+X$33+2,0))","v":0},{"$f":"+IF(OR($E52=0,$E52=\"NO\"),0,VLOOKUP($K$16+$H52,Tasas!$C$78:$AN$1228,$K$15+Y$33+2,0))","v":0},{"$f":"+IF(OR($E52=0,$E52=\"NO\"),0,VLOOKUP($K$16+$H52,Tasas!$C$78:$AN$1228,$K$15+Z$33+2,0))","v":0},{"$f":"+IF(OR($E52=0,$E52=\"NO\"),0,VLOOKUP($K$16+$H52,Tasas!$C$78:$AN$1228,$K$15+AA$33+2,0))","v":0},{"$f":"+IF(OR($E52=0,$E52=\"NO\"),0,VLOOKUP($K$16+$H52,Tasas!$C$78:$AN$1228,$K$15+AB$33+2,0))","v":0},{"$f":"+IF(OR($E52=0,$E52=\"NO\"),0,VLOOKUP($K$16+$H52,Tasas!$C$78:$AN$1228,$K$15+AC$33+2,0))","v":0},{"$f":"+IF(OR($E52=0,$E52=\"NO\"),0,VLOOKUP($K$16+$H52,Tasas!$C$78:$AN$1228,$K$15+AD$33+2,0))","v":0},{"$f":"+IF(OR($E52=0,$E52=\"NO\"),0,VLOOKUP($K$16+$H52,Tasas!$C$78:$AN$1228,$K$15+AE$33+2,0))","v":0},{"$f":"+IF(OR($E52=0,$E52=\"NO\"),0,VLOOKUP($K$16+$H52,Tasas!$C$78:$AN$1228,$K$15+AF$33+2,0))","v":0},{"$f":"+IF(OR($F52=0,$F52=\"NO\"),0,VLOOKUP($L$16+$H52,Tasas!$C$78:$AN$1228,$L$15+AG$33+2,0))","v":0},{"$f":"+IF(OR($F52=0,$F52=\"NO\"),0,VLOOKUP($L$16+$H52,Tasas!$C$78:$AN$1228,$L$15+AH$33+2,0))","v":0},{"$f":"+IF(OR($F52=0,$F52=\"NO\"),0,VLOOKUP($L$16+$H52,Tasas!$C$78:$AN$1228,$L$15+AI$33+2,0))","v":0},{"$f":"+IF(OR($F52=0,$F52=\"NO\"),0,VLOOKUP($L$16+$H52,Tasas!$C$78:$AN$1228,$L$15+AJ$33+2,0))","v":0},{"$f":"+IF(OR($F52=0,$F52=\"NO\"),0,VLOOKUP($L$16+$H52,Tasas!$C$78:$AN$1228,$L$15+AK$33+2,0))","v":0},{"$f":"+IF(OR($F52=0,$F52=\"NO\"),0,VLOOKUP($L$16+$H52,Tasas!$C$78:$AN$1228,$L$15+AL$33+2,0))","v":0},{"$f":"+IF(OR($F52=0,$F52=\"NO\"),0,VLOOKUP($L$16+$H52,Tasas!$C$78:$AN$1228,$L$15+AM$33+2,0))","v":0},{"$f":"+IF(OR($F52=0,$F52=\"NO\"),0,VLOOKUP($L$16+$H52,Tasas!$C$78:$AN$1228,$L$15+AN$33+2,0))","v":0},null,null,null,null,"Por cubrir gastos no reembolsables por ESSALUD",null,{"$f":"Cotizador!$E$107","v":0},{"$f":"Cotizador!$G$107","v":0},{"$f":"Cotizador!$I$107","v":0},{"$f":"Cotizador!$K$107","v":0},null,1088,{"$f":"+IF(OR($AU52=0,$AU52=\"NO\"),0,VLOOKUP($BA$16+$AZ52,Tasas!$C$78:$BY$1292,$BA$15+BA$33+39,0))","v":0},{"$f":"+IF(OR($AU52=0,$AU52=\"NO\"),0,VLOOKUP($BA$16+$AZ52,Tasas!$C$78:$BY$1292,$BA$15+BB$33+39,0))","v":0},{"$f":"+IF(OR($AU52=0,$AU52=\"NO\"),0,VLOOKUP($BA$16+$AZ52,Tasas!$C$78:$BY$1292,$BA$15+BC$33+39,0))","v":0},{"$f":"+IF(OR($AU52=0,$AU52=\"NO\"),0,VLOOKUP($BA$16+$AZ52,Tasas!$C$78:$BY$1292,$BA$15+BD$33+39,0))","v":0},{"$f":"+IF(OR($AU52=0,$AU52=\"NO\"),0,VLOOKUP($BA$16+$AZ52,Tasas!$C$78:$BY$1292,$BA$15+BE$33+39,0))","v":0},{"$f":"+IF(OR($AU52=0,$AU52=\"NO\"),0,VLOOKUP($BA$16+$AZ52,Tasas!$C$78:$BY$1292,$BA$15+BF$33+39,0))","v":0},{"$f":"+IF(OR($AU52=0,$AU52=\"NO\"),0,VLOOKUP($BA$16+$AZ52,Tasas!$C$78:$BY$1292,$BA$15+BG$33+39,0))","v":0},{"$f":"+IF(OR($AU52=0,$AU52=\"NO\"),0,VLOOKUP($BA$16+$AZ52,Tasas!$C$78:$BY$1292,$BA$15+BH$33+39,0))","v":0},{"$f":"+IF(OR($AU52=0,$AU52=\"NO\"),0,VLOOKUP($BA$16+$AZ52,Tasas!$C$78:$BY$1292,$BA$15+BI$33+39,0))","v":0},{"$f":"+IF(OR($AU52=0,$AU52=\"NO\"),0,VLOOKUP($BA$16+$AZ52,Tasas!$C$78:$BY$1292,$BA$15+BJ$33+39,0))","v":0},{"$f":"+IF(OR($AU52=0,$AU52=\"NO\"),0,VLOOKUP($BA$16+$AZ52,Tasas!$C$78:$BY$1292,$BA$15+BK$33+39,0))","v":0},{"$f":"+IF(OR($AU52=0,$AU52=\"NO\"),0,VLOOKUP($BA$16+$AZ52,Tasas!$C$78:$BY$1292,$BA$15+BL$33+39,0))","v":0},{"$f":"+IF(OR($AU52=0,$AU52=\"NO\"),0,VLOOKUP($BA$16+$AZ52,Tasas!$C$78:$BY$1292,$BA$15+BM$33+39,0))","v":0},{"$f":"+IF(OR($AU52=0,$AU52=\"NO\"),0,VLOOKUP($BA$16+$AZ52,Tasas!$C$78:$BY$1292,$BA$15+BN$33+39,0))","v":0},{"$f":"+IF(OR($AU52=0,$AU52=\"NO\"),0,VLOOKUP($BA$16+$AZ52,Tasas!$C$78:$BY$1292,$BA$15+BO$33+39,0))","v":0},{"$f":"+IF(OR($AU52=0,$AU52=\"NO\"),0,VLOOKUP($BA$16+$AZ52,Tasas!$C$78:$BY$1292,$BA$15+BP$33+39,0))","v":0},{"$f":"+IF(OR($AU52=0,$AU52=\"NO\"),0,VLOOKUP($BA$16+$AZ52,Tasas!$C$78:$BY$1292,$BA$15+BQ$33+39,0))","v":0},{"$f":"+IF(OR($AU52=0,$AU52=\"NO\"),0,VLOOKUP($BA$16+$AZ52,Tasas!$C$78:$BY$1292,$BA$15+BR$33+39,0))","v":0},{"$f":"+IF(OR($AU52=0,$AU52=\"NO\"),0,VLOOKUP($BA$16+$AZ52,Tasas!$C$78:$BY$1292,$BA$15+BS$33+39,0))","v":0},{"$f":"+IF(OR($AU52=0,$AU52=\"NO\"),0,VLOOKUP($BA$16+$AZ52,Tasas!$C$78:$BY$1292,$BA$15+BT$33+39,0))","v":0},{"$f":"+IF(OR($AU52=0,$AU52=\"NO\"),0,VLOOKUP($BA$16+$AZ52,Tasas!$C$78:$BY$1292,$BA$15+BU$33+39,0))","v":0},{"$f":"+IF(OR($AU52=0,$AU52=\"NO\"),0,VLOOKUP($BA$16+$AZ52,Tasas!$C$78:$BY$1292,$BA$15+BV$33+39,0))","v":0},{"$f":"+IF(OR($AU52=0,$AU52=\"NO\"),0,VLOOKUP($BA$16+$AZ52,Tasas!$C$78:$BY$1292,$BA$15+BW$33+39,0))","v":0},{"$f":"+IF(OR($AU52=0,$AU52=\"NO\"),0,VLOOKUP($BA$16+$AZ52,Tasas!$C$78:$BY$1292,$BA$15+BX$33+39,0))","v":0},{"$f":"+IF(OR($AU52=0,$AU52=\"NO\"),0,VLOOKUP($BA$16+$AZ52,Tasas!$C$78:$BY$1292,$BA$15+BY$33+39,0))","v":0},{"$f":"+IF(OR($AU52=0,$AU52=\"NO\"),0,VLOOKUP($BA$16+$AZ52,Tasas!$C$78:$BY$1292,$BA$15+BZ$33+39,0))","v":0},{"$f":"+IF(OR($AU52=0,$AU52=\"NO\"),0,VLOOKUP($BA$16+$AZ52,Tasas!$C$78:$BY$1292,$BA$15+CA$33+39,0))","v":0},{"$f":"+IF(OR($AU52=0,$AU52=\"NO\"),0,VLOOKUP($BA$16+$AZ52,Tasas!$C$78:$BY$1292,$BA$15+CB$33+39,0))","v":0},{"$f":"+IF(OR($AU52=0,$AU52=\"NO\"),0,VLOOKUP($BA$16+$AZ52,Tasas!$C$78:$BY$1292,$BA$15+CC$33+39,0))","v":0},{"$f":"+IF(OR($AU52=0,$AU52=\"NO\"),0,VLOOKUP($BA$16+$AZ52,Tasas!$C$78:$BY$1292,$BA$15+CD$33+39,0))","v":0},{"$f":"+IF(OR($AU52=0,$AU52=\"NO\"),0,VLOOKUP($BA$16+$AZ52,Tasas!$C$78:$BY$1292,$BA$15+CE$33+39,0))","v":0},{"$f":"+IF(OR($AU52=0,$AU52=\"NO\"),0,VLOOKUP($BA$16+$AZ52,Tasas!$C$78:$BY$1292,$BA$15+CF$33+39,0))","v":0},null,null,null,null,"Por cubrir gastos no reembolsables por ESSALUD",null,{"$f":"Cotizador!$E$107","v":0},52,{"$error":"#N/A"},{"$f":"IF(OR($CM52=\"\",$CM52=0),0,VLOOKUP($CO52,Tasas!$CB$17:$CL$70,Calculadora!CP$33,0))","v":0},{"$f":"IF(OR($CM52=\"\",$CM52=0),0,VLOOKUP($CO52,Tasas!$CB$17:$CL$70,Calculadora!CQ$33,0))","v":0},{"$f":"IF(OR($CM52=\"\",$CM52=0),0,VLOOKUP($CO52,Tasas!$CB$17:$CL$70,Calculadora!CR$33,0))","v":0},{"$f":"IF(OR($CM52=\"\",$CM52=0),0,VLOOKUP($CO52,Tasas!$CB$17:$CL$70,Calculadora!CS$33,0))","v":0},{"$f":"IF(OR($CM52=\"\",$CM52=0),0,VLOOKUP($CO52,Tasas!$CB$17:$CL$70,Calculadora!CT$33,0))","v":0},{"$f":"IF(OR($CM52=\"\",$CM52=0),0,VLOOKUP($CO52,Tasas!$CB$17:$CL$70,Calculadora!CU$33,0))","v":0},{"$f":"IF(OR($CM52=\"\",$CM52=0),0,VLOOKUP($CO52,Tasas!$CB$17:$CL$70,Calculadora!CV$33,0))","v":0},{"$f":"IF(OR($CM52=\"\",$CM52=0),0,VLOOKUP($CO52,Tasas!$CB$17:$CL$70,Calculadora!CW$33,0))","v":0},null,null,null,null,"Por cubrir gastos no reembolsables por ESSALUD",null,{"$f":"Cotizador!$E$107","v":0},52,{"$error":"#N/A"},{"$f":"IF(OR($DD52=\"\",$DD52=0),0,VLOOKUP($DF52,Tasas!$CO$17:$CY$70,Calculadora!DG$33,0))","v":0},{"$f":"IF(OR($DD52=\"\",$DD52=0),0,VLOOKUP($DF52,Tasas!$CO$17:$CY$70,Calculadora!DH$33,0))","v":0},{"$f":"IF(OR($DD52=\"\",$DD52=0),0,VLOOKUP($DF52,Tasas!$CO$17:$CY$70,Calculadora!DI$33,0))","v":0},{"$f":"IF(OR($DD52=\"\",$DD52=0),0,VLOOKUP($DF52,Tasas!$CO$17:$CY$70,Calculadora!DJ$33,0))","v":0},{"$f":"IF(OR($DD52=\"\",$DD52=0),0,VLOOKUP($DF52,Tasas!$CO$17:$CY$70,Calculadora!DK$33,0))","v":0},{"$f":"IF(OR($DD52=\"\",$DD52=0),0,VLOOKUP($DF52,Tasas!$CO$17:$CY$70,Calculadora!DL$33,0))","v":0},{"$f":"IF(OR($DD52=\"\",$DD52=0),0,VLOOKUP($DF52,Tasas!$CO$17:$CY$70,Calculadora!DM$33,0))","v":0},{"$f":"IF(OR($DD52=\"\",$DD52=0),0,VLOOKUP($DF52,Tasas!$CO$17:$CY$70,Calculadora!DN$33,0))","v":0},null,null,null,null,"Por cubrir gastos no reembolsables por ESSALUD",null,{"$f":"Cotizador!$E$107","v":0},52,{"$f":"(DV52+VLOOKUP($DZ$17,$EC$22:$ED$24,2,0))","v":{"$error":"#N/A"}},{"$f":"IF(OR($DU52=\"\",$DU52=0),0,VLOOKUP($DW52,Tasas!$DB$17:$DL$70,Calculadora!DX$33,0))","v":0},{"$f":"IF(OR($DU52=\"\",$DU52=0),0,VLOOKUP($DW52,Tasas!$DB$17:$DL$70,Calculadora!DY$33,0))","v":0},{"$f":"IF(OR($DU52=\"\",$DU52=0),0,VLOOKUP($DW52,Tasas!$DB$17:$DL$70,Calculadora!DZ$33,0))","v":0},{"$f":"IF(OR($DU52=\"\",$DU52=0),0,VLOOKUP($DW52,Tasas!$DB$17:$DL$70,Calculadora!EA$33,0))","v":0},{"$f":"IF(OR($DU52=\"\",$DU52=0),0,VLOOKUP($DW52,Tasas!$DB$17:$DL$70,Calculadora!EB$33,0))","v":0},{"$f":"IF(OR($DU52=\"\",$DU52=0),0,VLOOKUP($DW52,Tasas!$DB$17:$DL$70,Calculadora!EC$33,0))","v":0},{"$f":"IF(OR($DU52=\"\",$DU52=0),0,VLOOKUP($DW52,Tasas!$DB$17:$DL$70,Calculadora!ED$33,0))","v":0},{"$f":"IF(OR($DU52=\"\",$DU52=0),0,VLOOKUP($DW52,Tasas!$DB$17:$DL$70,Calculadora!EE$33,0))","v":0},null,null,null,null,"Por cubrir gastos no reembolsables por ESSALUD",null,{"$f":"Cotizador!$E$107","v":0},52,{"$error":"#N/A"},{"$f":"IF(OR($EL52=\"\",$EL52=0),0,VLOOKUP($EN52,Tasas!$DO$17:$DY$70,Calculadora!EO$33,0))","v":0},{"$f":"IF(OR($EL52=\"\",$EL52=0),0,VLOOKUP($EN52,Tasas!$DO$17:$DY$70,Calculadora!EP$33,0))","v":0},{"$f":"IF(OR($EL52=\"\",$EL52=0),0,VLOOKUP($EN52,Tasas!$DO$17:$DY$70,Calculadora!EQ$33,0))","v":0},{"$f":"IF(OR($EL52=\"\",$EL52=0),0,VLOOKUP($EN52,Tasas!$DO$17:$DY$70,Calculadora!ER$33,0))","v":0},{"$f":"IF(OR($EL52=\"\",$EL52=0),0,VLOOKUP($EN52,Tasas!$DO$17:$DY$70,Calculadora!ES$33,0))","v":0},{"$f":"IF(OR($EL52=\"\",$EL52=0),0,VLOOKUP($EN52,Tasas!$DO$17:$DY$70,Calculadora!ET$33,0))","v":0},{"$f":"IF(OR($EL52=\"\",$EL52=0),0,VLOOKUP($EN52,Tasas!$DO$17:$DY$70,Calculadora!EU$33,0))","v":0},{"$f":"IF(OR($EL52=\"\",$EL52=0),0,VLOOKUP($EN52,Tasas!$DO$17:$DY$70,Calculadora!EV$33,0))","v":0},null,null,null,null,"Por cubrir gastos no reembolsables por ESSALUD",null,{"$f":"Cotizador!$E$107","v":0},52,{"$error":"#N/A"},{"$f":"IF(OR($FC52=\"\",$FC52=0),0,VLOOKUP($FE52,Tasas!$EB$17:$EL$70,Calculadora!FF$33,0))","v":0},{"$f":"IF(OR($FC52=\"\",$FC52=0),0,VLOOKUP($FE52,Tasas!$EB$17:$EL$70,Calculadora!FG$33,0))","v":0},{"$f":"IF(OR($FC52=\"\",$FC52=0),0,VLOOKUP($FE52,Tasas!$EB$17:$EL$70,Calculadora!FH$33,0))","v":0},{"$f":"IF(OR($FC52=\"\",$FC52=0),0,VLOOKUP($FE52,Tasas!$EB$17:$EL$70,Calculadora!FI$33,0))","v":0},{"$f":"IF(OR($FC52=\"\",$FC52=0),0,VLOOKUP($FE52,Tasas!$EB$17:$EL$70,Calculadora!FJ$33,0))","v":0},{"$f":"IF(OR($FC52=\"\",$FC52=0),0,VLOOKUP($FE52,Tasas!$EB$17:$EL$70,Calculadora!FK$33,0))","v":0},{"$f":"IF(OR($FC52=\"\",$FC52=0),0,VLOOKUP($FE52,Tasas!$EB$17:$EL$70,Calculadora!FL$33,0))","v":0},{"$f":"IF(OR($FC52=\"\",$FC52=0),0,VLOOKUP($FE52,Tasas!$EB$17:$EL$70,Calculadora!FM$33,0))","v":0},null,null,null,null,"Grupo 1","GC","MA","GS","IP","IT","DSF","RHA","RRM","Total",null,null,null,null,null,null,null,"Por cubrir gastos no reembolsables por ESSALUD",null,{"$f":"Cotizador!$E$107","v":0},null,null,null,null,1088,{"$f":"+IF(OR($C52=0,$C52=\"NO\"),0,VLOOKUP($I$16+$H52,Tasas!$FY$78:$HJ$1228,$I$15+GQ$33+2,0))","v":0},{"$f":"+IF(OR($C52=0,$C52=\"NO\"),0,VLOOKUP($I$16+$H52,Tasas!$FY$78:$HJ$1228,$I$15+GR$33+2,0))","v":0},{"$f":"+IF(OR($C52=0,$C52=\"NO\"),0,VLOOKUP($I$16+$H52,Tasas!$FY$78:$HJ$1228,$I$15+GS$33+2,0))","v":0},{"$f":"+IF(OR($C52=0,$C52=\"NO\"),0,VLOOKUP($I$16+$H52,Tasas!$FY$78:$HJ$1228,$I$15+GT$33+2,0))","v":0},{"$f":"+IF(OR($C52=0,$C52=\"NO\"),0,VLOOKUP($I$16+$H52,Tasas!$FY$78:$HJ$1228,$I$15+GU$33+2,0))","v":0},{"$f":"+IF(OR($C52=0,$C52=\"NO\"),0,VLOOKUP($I$16+$H52,Tasas!$FY$78:$HJ$1228,$I$15+GV$33+2,0))","v":0},{"$f":"+IF(OR($C52=0,$C52=\"NO\"),0,VLOOKUP($I$16+$H52,Tasas!$FY$78:$HJ$1228,$I$15+GW$33+2,0))","v":0},{"$f":"+IF(OR($C52=0,$C52=\"NO\"),0,VLOOKUP($I$16+$H52,Tasas!$FY$78:$HJ$1228,$I$15+GX$33+2,0))","v":0}]
["Terremoto y/o temblor y/o huaycos y/u otros fenómenos de la naturaleza",null,{"$f":"Cotizador!$E$108","v":0},{"$f":"Cotizador!$G$108","v":0},{"$f":"Cotizador!$I$108","v":0},{"$f":"Cotizador!$K$108","v":0},null,1152,{"$f":"+IF(OR($C53=0,$C53=\"NO\"),0,VLOOKUP($I$16+$H53,Tasas!$C$78:$AN$1292,$I$15+I$33+2,0))","v":0},{"$f":"+IF(OR($C53=0,$C53=\"NO\"),0,VLOOKUP($I$16+$H53,Tasas!$C$78:$AN$1292,$I$15+J$33+2,0))","v":0},{"$f":"+IF(OR($C53=0,$C53=\"NO\"),0,VLOOKUP($I$16+$H53,Tasas!$C$78:$AN$1292,$I$15+K$33+2,0))","v":0},{"$f":"+IF(OR($C53=0,$C53=\"NO\"),0,VLOOKUP($I$16+$H53,Tasas!$C$78:$AN$1292,$I$15+L$33+2,0))","v":0},{"$f":"+IF(OR($C53=0,$C53=\"NO\"),0,VLOOKUP($I$16+$H53,Tasas!$C$78:$AN$1292,$I$15+M$33+2,0))","v":0},{"$f":"+IF(OR($C53=0,$C53=\"NO\"),0,VLOOKUP($I$16+$H53,Tasas!$C$78:$AN$1292,$I$15+N$33+2,0))","v":0},{"$f":"+IF(OR($C53=0,$C53=\"NO\"),0,VLOOKUP($I$16+$H53,Tasas!$C$78:$AN$1292,$I$15+O$33+2,0))","v":0},{"$f":"+IF(OR($C53=0,$C53=\"NO\"),0,VLOOKUP($I$16+$H53,Tasas!$C$78:$AN$1292,$I$15+P$33+2,0))","v":0},{"$f":"+IF(OR($C53=0,$C53=\"NO\"),0,VLOOKUP($I$16+$H53,Tasas!$C$78:$AN$1292,$I$15+Q$33+2,0))","v":0},{"$f":"+IF(OR($C53=0,$C53=\"NO\"),0,VLOOKUP($I$16+$H53,Tasas!$C$78:$AN$1292,$I$15+R$33+2,0))","v":0},{"$f":"+IF(OR($C53=0,$C53=\"NO\"),0,VLOOKUP($I$16+$H53,Tasas!$C$78:$AN$1292,$I$15+S$33+2,0))","v":0},{"$f":"+IF(OR($C53=0,$C53=\"NO\"),0,VLOOKUP($I$16+$H53,Tasas!$C$78:$AN$1292,$I$15+T$33+2,0))","v":0},{"$f":"+IF(OR($C53=0,$C53=\"NO\"),0,VLOOKUP($I$16+$H53,Tasas!$C$78:$AN$1292,$I$15+U$33+2,0))","v":0},{"$f":"+IF(OR($C53=0,$C53=\"NO\"),0,VLOOKUP($I$16+$H53,Tasas!$C$78:$AN$1292,$I$15+V$33+2,0))","v":0},{"$f":"+IF(OR($C53=0,$C53=\"NO\"),0,VLOOKUP($I$16+$H53,Tasas!$C$78:$AN$1292,$I$15+W$33+2,0))","v":0},{"$f":"+IF(OR($C53=0,$C53=\"NO\"),0,VLOOKUP($I$16+$H53,Tasas!$C$78:$AN$1292,$I$15+X$33+2,0))","v":0},{"$f":"+IF(OR($C53=0,$C53=\"NO\"),0,VLOOKUP($I$16+$H53,Tasas!$C$78:$AN$1292,$I$15+Y$33+2,0))","v":0},{"$f":"+IF(OR($C53=0,$C53=\"NO\"),0,VLOOKUP($I$16+$H53,Tasas!$C$78:$AN$1292,$I$15+Z$33+2,0))","v":0},{"$f":"+IF(OR($C53=0,$C53=\"NO\"),0,VLOOKUP($I$16+$H53,Tasas!$C$78:$AN$1292,$I$15+AA$33+2,0))","v":0},{"$f":"+IF(OR($C53=0,$C53=\"NO\"),0,VLOOKUP($I$16+$H53,Tasas!$C$78:$AN$1292,$I$15+AB$33+2,0))","v":0},{"$f":"+IF(OR($C53=0,$C53=\"NO\"),0,VLOOKUP($I$16+$H53,Tasas!$C$78:$AN$1292,$I$15+AC$33+2,0))","v":0},{"$f":"+IF(OR($C53=0,$C53=\"NO\"),0,VLOOKUP($I$16+$H53,Tasas!$C$78:$AN$1292,$I$15+AD$33+2,0))","v":0},{"$f":"+IF(OR($C53=0,$C53=\"NO\"),0,VLOOKUP($I$16+$H53,Tasas!$C$78:$AN$1292,$I$15+AE$33+2,0))","v":0},{"$f":"+IF(OR($C53=0,$C53=\"NO\"),0,VLOOKUP($I$16+$H53,Tasas!$C$78:$AN$1292,$I$15+AF$33+2,0))","v":0},{"$f":"+IF(OR($C53=0,$C53=\"NO\"),0,VLOOKUP($I$16+$H53,Tasas!$C$78:$AN$1292,$I$15+AG$33+2,0))","v":0},{"$f":"+IF(OR($C53=0,$C53=\"NO\"),0,VLOOKUP($I$16+$H53,Tasas!$C$78:$AN$1292,$I$15+AH$33+2,0))","v":0},{"$f":"+IF(OR($C53=0,$C53=\"NO\"),0,VLOOKUP($I$16+$H53,Tasas!$C$78:$AN$1292,$I$15+AI$33+2,0))","v":0},{"$f":"+IF(OR($C53=0,$C53=\"NO\"),0,VLOOKUP($I$16+$H53,Tasas!$C$78:$AN$1292,$I$15+AJ$33+2,0))","v":0},{"$f":"+IF(OR($C53=0,$C53=\"NO\"),0,VLOOKUP($I$16+$H53,Tasas!$C$78:$AN$1292,$I$15+AK$33+2,0))","v":0},{"$f":"+IF(OR($C53=0,$C53=\"NO\"),0,VLOOKUP($I$16+$H53,Tasas!$C$78:$AN$1292,$I$15+AL$33+2,0))","v":0},{"$f":"+IF(OR($C53=0,$C53=\"NO\"),0,VLOOKUP($I$16+$H53,Tasas!$C$78:$AN$1292,$I$15+AM$33+2,0))","v":0},{"$f":"+IF(OR($C53=0,$C53=\"NO\"),0,VLOOKUP($I$16+$H53,Tasas!$C$78:$AN$1292,$I$15+AN$33+2,0))","v":0},null,null,null,null,"Terremoto y/o temblor y/o huaycos y/u otros fenómenos de la naturaleza",null,{"$f":"Cotizador!$E$108","v":0},{"$f":"Cotizador!$G$108","v":0},{"$f":"Cotizador!$I$108","v":0},{"$f":"Cotizador!$K$108","v":0},null,1152,{"$f":"+IF(OR($AU53=0,$AU53=\"NO\"),0,VLOOKUP($BA$16+$AZ53,Tasas!$C$78:$BY$1292,$BA$15+BA$33+39,0))","v":0},{"$f":"+IF(OR($AU53=0,$AU53=\"NO\"),0,VLOOKUP($BA$16+$AZ53,Tasas!$C$78:$BY$1292,$BA$15+BB$33+39,0))","v":0},{"$f":"+IF(OR($AU53=0,$AU53=\"NO\"),0,VLOOKUP($BA$16+$AZ53,Tasas!$C$78:$BY$1292,$BA$15+BC$33+39,0))","v":0},{"$f":"+IF(OR($AU53=0,$AU53=\"NO\"),0,VLOOKUP($BA$16+$AZ53,Tasas!$C$78:$BY$1292,$BA$15+BD$33+39,0))","v":0},{"$f":"+IF(OR($AU53=0,$AU53=\"NO\"),0,VLOOKUP($BA$16+$AZ53,Tasas!$C$78:$BY$1292,$BA$15+BE$33+39,0))","v":0},{"$f":"+IF(OR($AU53=0,$AU53=\"NO\"),0,VLOOKUP($BA$16+$AZ53,Tasas!$C$78:$BY$1292,$BA$15+BF$33+39,0))","v":0},{"$f":"+IF(OR($AU53=0,$AU53=\"NO\"),0,VLOOKUP($BA$16+$AZ53,Tasas!$C$78:$BY$1292,$BA$15+BG$33+39,0))","v":0},{"$f":"+IF(OR($AU53=0,$AU53=\"NO\"),0,VLOOKUP($BA$16+$AZ53,Tasas!$C$78:$BY$1292,$BA$15+BH$33+39,0))","v":0},{"$f":"+IF(OR($AU53=0,$AU53=\"NO\"),0,VLOOKUP($BA$16+$AZ53,Tasas!$C$78:$BY$1292,$BA$15+BI$33+39,0))","v":0},{"$f":"+IF(OR($AU53=0,$AU53=\"NO\"),0,VLOOKUP($BA$16+$AZ53,Tasas!$C$78:$BY$1292,$BA$15+BJ$33+39,0))","v":0},{"$f":"+IF(OR($AU53=0,$AU53=\"NO\"),0,VLOOKUP($BA$16+$AZ53,Tasas!$C$78:$BY$1292,$BA$15+BK$33+39,0))","v":0},{"$f":"+IF(OR($AU53=0,$AU53=\"NO\"),0,VLOOKUP($BA$16+$AZ53,Tasas!$C$78:$BY$1292,$BA$15+BL$33+39,0))","v":0},{"$f":"+IF(OR($AU53=0,$AU53=\"NO\"),0,VLOOKUP($BA$16+$AZ53,Tasas!$C$78:$BY$1292,$BA$15+BM$33+39,0))","v":0},{"$f":"+IF(OR($AU53=0,$AU53=\"NO\"),0,VLOOKUP($BA$16+$AZ53,Tasas!$C$78:$BY$1292,$BA$15+BN$33+39,0))","v":0},{"$f":"+IF(OR($AU53=0,$AU53=\"NO\"),0,VLOOKUP($BA$16+$AZ53,Tasas!$C$78:$BY$1292,$BA$15+BO$33+39,0))","v":0},{"$f":"+IF(OR($AU53=0,$AU53=\"NO\"),0,VLOOKUP($BA$16+$AZ53,Tasas!$C$78:$BY$1292,$BA$15+BP$33+39,0))","v":0},{"$f":"+IF(OR($AU53=0,$AU53=\"NO\"),0,VLOOKUP($BA$16+$AZ53,Tasas!$C$78:$BY$1292,$BA$15+BQ$33+39,0))","v":0},{"$f":"+IF(OR($AU53=0,$AU53=\"NO\"),0,VLOOKUP($BA$16+$AZ53,Tasas!$C$78:$BY$1292,$BA$15+BR$33+39,0))","v":0},{"$f":"+IF(OR($AU53=0,$AU53=\"NO\"),0,VLOOKUP($BA$16+$AZ53,Tasas!$C$78:$BY$1292,$BA$15+BS$33+39,0))","v":0},{"$f":"+IF(OR($AU53=0,$AU53=\"NO\"),0,VLOOKUP($BA$16+$AZ53,Tasas!$C$78:$BY$1292,$BA$15+BT$33+39,0))","v":0},{"$f":"+IF(OR($AU53=0,$AU53=\"NO\"),0,VLOOKUP($BA$16+$AZ53,Tasas!$C$78:$BY$1292,$BA$15+BU$33+39,0))","v":0},{"$f":"+IF(OR($AU53=0,$AU53=\"NO\"),0,VLOOKUP($BA$16+$AZ53,Tasas!$C$78:$BY$1292,$BA$15+BV$33+39,0))","v":0},{"$f":"+IF(OR($AU53=0,$AU53=\"NO\"),0,VLOOKUP($BA$16+$AZ53,Tasas!$C$78:$BY$1292,$BA$15+BW$33+39,0))","v":0},{"$f":"+IF(OR($AU53=0,$AU53=\"NO\"),0,VLOOKUP($BA$16+$AZ53,Tasas!$C$78:$BY$1292,$BA$15+BX$33+39,0))","v":0},{"$f":"+IF(OR($AU53=0,$AU53=\"NO\"),0,VLOOKUP($BA$16+$AZ53,Tasas!$C$78:$BY$1292,$BA$15+BY$33+39,0))","v":0},{"$f":"+IF(OR($AU53=0,$AU53=\"NO\"),0,VLOOKUP($BA$16+$AZ53,Tasas!$C$78:$BY$1292,$BA$15+BZ$33+39,0))","v":0},{"$f":"+IF(OR($AU53=0,$AU53=\"NO\"),0,VLOOKUP($BA$16+$AZ53,Tasas!$C$78:$BY$1292,$BA$15+CA$33+39,0))","v":0},{"$f":"+IF(OR($AU53=0,$AU53=\"NO\"),0,VLOOKUP($BA$16+$AZ53,Tasas!$C$78:$BY$1292,$BA$15+CB$33+39,0))","v":0},{"$f":"+IF(OR($AU53=0,$AU53=\"NO\"),0,VLOOKUP($BA$16+$AZ53,Tasas!$C$78:$BY$1292,$BA$15+CC$33+39,0))","v":0},{"$f":"+IF(OR($AU53=0,$AU53=\"NO\"),0,VLOOKUP($BA$16+$AZ53,Tasas!$C$78:$BY$1292,$BA$15+CD$33+39,0))","v":0},{"$f":"+IF(OR($AU53=0,$AU53=\"NO\"),0,VLOOKUP($BA$16+$AZ53,Tasas!$C$78:$BY$1292,$BA$15+CE$33+39,0))","v":0},{"$f":"+IF(OR($AU53=0,$AU53=\"NO\"),0,VLOOKUP($BA$16+$AZ53,Tasas!$C$78:$BY$1292,$BA$15+CF$33+39,0))","v":0},null,null,null,null,null,null,null,null,null,null,null,null,null,null,null,null,null,null,null,null,null,null,null,null,null,null,null,null,null,null,null,null,null,null,null,null,null,null,null,null,null,null,null,null,null,null,null,null,null,null,null,null,null,null,null,null,null,null,null,null,null,null,null,null,null,null,null,null,null,null,null,null,null,null,null,null,null,null,null,null,null,null,null,null,null,null,null,null,null,"Deducible",{"$f":"+(10%*FS10)/25%","v":0},null,null,null,{"$f":"+(0.1*FS11)/30","v":0},null,{"$f":"+(0.1*FS12)/30","v":0},null,null,null,null,null,null,null,null,null,"Terremoto y/o temblor y/o huaycos y/u otros fenómenos de la naturaleza",null,{"$f":"Cotizador!$E$108","v":0},null,null,null,null,1152,{"$f":"+IF(OR($C53=0,$C53=\"NO\"),0,VLOOKUP($I$16+$H53,Tasas!$FY$78:$HJ$1228,$I$15+GQ$33+2,0))","v":0},{"$f":"+IF(OR($C53=0,$C53=\"NO\"),0,VLOOKUP($I$16+$H53,Tasas!$FY$78:$HJ$1228,$I$15+GR$33+2,0))","v":0},{"$f":"+IF(OR($C53=0,$C53=\"NO\"),0,VLOOKUP($I$16+$H53,Tasas!$FY$78:$HJ$1228,$I$15+GS$33+2,0))","v":0},{"$f":"+IF(OR($C53=0,$C53=\"NO\"),0,VLOOKUP($I$16+$H53,Tasas!$FY$78:$HJ$1228,$I$15+GT$33+2,0))","v":0},{"$f":"+IF(OR($C53=0,$C53=\"NO\"),0,VLOOKUP($I$16+$H53,Tasas!$FY$78:$HJ$1228,$I$15+GU$33+2,0))","v":0},{"$f":"+IF(OR($C53=0,$C53=\"NO\"),0,VLOOKUP($I$16+$H53,Tasas!$FY$78:$HJ$1228,$I$15+GV$33+2,0))","v":0},{"$f":"+IF(OR($C53=0,$C53=\"NO\"),0,VLOOKUP($I$16+$H53,Tasas!$FY$78:$HJ$1228,$I$15+GW$33+2,0))","v":0},{"$f":"+IF(OR($C53=0,$C53=\"NO\"),0,VLOOKUP($I$16+$H53,Tasas!$FY$78:$HJ$1228,$I$15+GX$33+2,0))","v":0}]
[null,null,null,null,null,null,null,null,null,null,null,null,null,null,null,null,null,null,null,null,null,null,null,null,null,null,null,null,null,null,null,null,null,null,null,null,null,null,null,null,null,null,null,null,null,null,null,null,null,null,null,null,null,null,null,null,null,null,null,null,null,null,null,null,null,null,null,null,null,null,null,null,null,null,null,null,null,null,null,null,null,null,null,null,null,null,null,null,"Grupo 1","GC","MA","GS","IP","IT","DSF","RHA","RRM","Total",null,null,null,null,null,null,null,"Grupo 1","GC","MA","GS","IP","IT","DSF","RHA","RRM","Total",null,null,null,null,null,null,null,"Grupo 1","GC","MA","GS","IP","IT","DSF","RHA","RRM","Total",null,null,null,null,null,null,null,"Grupo 1","GC","MA","GS","IP","IT","DSF","RHA","RRM","Total",null,null,null,null,null,null,null,"Grupo 1","GC","MA","GS","IP","IT","DSF","RHA","RRM","Total",null,null,null,null,null,null,null,"Prima Cláusula",{"$f":"+SUM(FW34:FW50)","v":0},0,0,0,0,0,0,0]
["Grupo 1","GC","MA","GS","IP","IT","DSF","RHA","RRM","Total",null,null,null,null,null,null,null,null,null,null,null,null,null,null,null,null,null,null,null,null,null,null,null,null,null,null,null,null,null,null,null,null,null,null,"Grupo 1","GC","MA","GS","IP","IT","DSF","RHA","RRM","Total",null,null,null,null,null,null,null,null,null,null,null,null,null,null,null,null,null,null,null,null,null,null,null,null,null,null,null,null,null,null,null,null,null,null,"Deducible",{"$f":"+(10%*CM14)/25%","v":0},null,null,null,{"$f":"+(0.1*CM15)/30","v":0},null,{"$f":"+(0.1*CM16)/30","v":0},null,null,null,null,null,null,null,null,null,"Deducible",{"$f":"+(10%*DD14)/25%","v":0},null,null,null,{"$f":"+(0.1*DD15)/30","v":0},null,{"$f":"+(0.1*DD16)/30","v":0},null,null,null,null,null,null,null,null,null,"Deducible",{"$f":"+(10%*DU14)/25%","v":0},null,null,null,{"$f":"+(0.1*DU15)/30","v":0},null,{"$f":"+(0.1*DU16)/30","v":0},null,null,null,null,null,null,null,null,null,"Deducible",{"$f":"+(10%*EK10)/25%","v":0},null,null,null,{"$f":"+(0.1*EK11)/30","v":0},null,{"$f":"+(0.1*EK12)/30","v":0},null,null,null,null,null,null,null,null,null,"Deducible",{"$f":"+(10%*FB10)/25%","v":0},null,null,null,{"$f":"+(0.1*FB11)/30","v":0},null,{"$f":"+(0.1*FB12)/30","v":0},null,null,null,null,null,null,null,null,null,"Prima de Riesgo",{"$f":"ROUND(((FS54+FW21)*FT21)*(1-FS53),2)","v":0},{"$f":"ROUND(((FT54+FW22)*FT22)*(1-FT53),2)","v":0},{"$f":"ROUND(((FU54+FW23)*FT23)*(1-FU53),2)","v":0},{"$f":"ROUND(((FV54+FW24)*FT24)*(1-FV53),2)","v":0},{"$f":"ROUND(((FW54+FW25)*FT25)*(1-FW53),2)","v":0},{"$f":"ROUND(((FX54+FW26)*FT26)*(1-FX53),2)","v":0},{"$f":"ROUND(((FY54+FW27)*FT27)*(1-FY53),2)","v":0},{"$f":"ROUND(((FZ54+FW28)*FT28)*(1-FZ53),2)","v":0},{"$f":"SUM(FS55:FZ55)","v":0},null,null,null,null,null,null,null,"Grupo 1","GC","MA","GS","IP","IT","DSF","RHA","RRM","Total"]
["Deducible",{"$f":"+(10%*C14)/25%","v":0},null,null,null,{"$f":"+(0.1*C15)/30","v":0},null,{"$f":"+(0.1*C16)/30","v":0},null,null,null,null,null,null,null,null,null,null,null,null,null,null,null,null,null,null,null,null,null,null,null,null,null,null,null,null,null,null,null,null,null,null,null,null,"Deducible",{"$f":"+(10%*AU14)/25%","v":0},null,null,null,{"$f":"+(0.1*AU15)/30","v":0},null,{"$f":"+(0.1*AU16)/30","v":0},null,null,null,null,null,null,null,null,null,null,null,null,null,null,null,null,null,null,null,null,null,null,null,null,null,null,null,null,null,null,null,null,null,null,null,null,"Prima Cláusula",{"$f":"+SUM(CP35:CP52)","v":0},0,0,0,0,0,0,0,null,null,null,null,null,null,null,null,"Prima Cláusula",{"$f":"+SUM(DG35:DG52)","v":0},0,0,0,0,0,0,0,null,null,null,null,null,null,null,null,"Prima Cláusula",{"$f":"+SUM(DX35:DX52)","v":0},0,0,0,0,0,0,0,null,null,null,null,null,null,null,null,"Prima Cláusula",{"$f":"+SUM(EO35:EO52)","v":0},{"$f":"+SUM(EP35:EP52)","v":0},{"$f":"+SUM(EQ35:EQ52)","v":0},{"$f":"+SUM(ER35:ER52)","v":0},{"$f":"+SUM(ES35:ES52)","v":0},{"$f":"+SUM(ET35:ET52)","v":0},{"$f":"+SUM(EU35:EU52)","v":0},{"$f":"+SUM(EV35:EV52)","v":0},null,null,null,null,null,null,null,null,"Prima Cláusula",{"$f":"+SUM(FF35:FF52)","v":0},{"$f":"+SUM(FG35:FG52)","v":0},{"$f":"+SUM(FH35:FH52)","v":0},{"$f":"+SUM(FI35:FI52)","v":0},{"$f":"+SUM(FJ35:FJ52)","v":0},{"$f":"+SUM(FK35:FK52)","v":0},{"$f":"+SUM(FL35:FL52)","v":0},{"$f":"+SUM(FM35:FM52)","v":0},null,null,null,null,null,null,null,null,"Prima Neta",{"$f":"ROUND(FS55/(1-$CO3-$CO4-$CO5),2)","v":0},0,0,0,0,0,0,0,{"$f":"SUM(FS56:FZ56)","v":0},null,null,null,null,null,null,null,"Deducible",{"$f":"+(10%*GK14)/25%","v":0},null,null,null,{"$f":"+(0.1*GK15)/30","v":0},null,{"$f":"+(0.1*GK16)/30","v":0}]
["Prima Cláusula",{"$f":"+SUM(I35:I53)","v":0},{"$f":"+SUM(J35:J53)","v":0},0,0,0,0,0,{"$f":"+SUM(P35:P53)","v":0},null,null,null,null,null,null,null,null,null,null,null,null,null,null,null,null,null,null,null,null,null,null,null,null,null,null,null,null,null,null,null,null,null,null,null,"Prima Cláusula",{"$f":"+SUM(BA35:BA53)","v":0},{"$f":"+SUM(BB35:BB53)","v":0},0,0,0,0,0,0,null,null,null,null,null,null,null,null,null,null,null,null,null,null,null,null,null,null,null,null,null,null,null,null,null,null,null,null,null,null,null,null,null,null,null,"Prima de Riesgo",{"$f":"ROUND(((CL56+CR21)*CM21+CR29*CM29)*(1-CL55),2)","v":0},{"$f":"ROUND(((CM56+CR22)*CM22)*(1-CM55),2)","v":0},{"$f":"ROUND(((CN56+CR23)*CM23)*(1-CN55),2)","v":0},{"$f":"ROUND(((CO56+CR24)*CM24)*(1-CO55),2)","v":0},{"$f":"ROUND(((CP56+CR25)*CM25)*(1-CP55),2)","v":0},{"$f":"ROUND(((CQ56+CR26)*CM26)*(1-CQ55),2)","v":0},{"$f":"ROUND(((CR56+CR27)*CM27)*(1-CR55),2)","v":0},{"$f":"ROUND(((CS56+CR28)*CM28)*(1-CS55),2)","v":0},{"$f":"SUM(CL57:CS57)","v":0},null,null,null,null,null,null,null,"Prima de Riesgo",{"$f":"ROUND(((DC56+DI21)*DD21+DI29*DD29)*(1-DC55),2)","v":0},{"$f":"ROUND(((DD56+DI22)*DD22)*(1-DD55),2)","v":0},{"$f":"ROUND(((DE56+DI23)*DD23)*(1-DE55),2)","v":0},{"$f":"ROUND(((DF56+DI24)*DD24)*(1-DF55),2)","v":0},{"$f":"ROUND(((DG56+DI25)*DD25)*(1-DG55),2)","v":0},{"$f":"ROUND(((DH56+DI26)*DD26)*(1-DH55),2)","v":0},{"$f":"ROUND(((DI56+DI27)*DD27)*(1-DI55),2)","v":0},{"$f":"ROUND(((DJ56+DI28)*DD28)*(1-DJ55),2)","v":0},{"$f":"SUM(DC57:DJ57)","v":0},null,null,null,null,null,null,null,"Prima de Riesgo",{"$f":"ROUND(((DT56+DZ21)*DU21+DZ29*DU29)*(1-DT55),2)","v":0},{"$f":"ROUND(((DU56+DZ22)*DU22)*(1-DU55),2)","v":0},{"$f":"ROUND(((DV56+DZ23)*DU23)*(1-DV55),2)","v":0},{"$f":"ROUND(((DW56+DZ24)*DU24)*(1-DW55),2)","v":0},{"$f":"ROUND(((DX56+DZ25)*DU25)*(1-DX55),2)","v":0},{"$f":"ROUND(((DY56+DZ26)*DU26)*(1-DY55),2)","v":0},{"$f":"ROUND(((DZ56+DZ27)*DU27)*(1-DZ55),2)","v":0},{"$f":"ROUND(((EA56+DZ28)*DU28)*(1-EA55),2)","v":0},{"$f":"SUM(DT57:EA57)","v":0},null,null,null,null,null,null,null,"Prima de Riesgo",{"$f":"ROUND(((EK56+EO21)*EL21+EO29*EL29)*(1-EK55),2)","v":0},{"$f":"ROUND(((EL56+EO22)*EL22)*(1-EL55),2)","v":0},{"$f":"ROUND(((EM56+EO23)*EL23)*(1-EM55),2)","v":0},{"$f":"ROUND(((EN56+EO24)*EL24)*(1-EN55),2)","v":0},{"$f":"ROUND(((EO56+EO25)*EL25)*(1-EO55),2)","v":0},{"$f":"ROUND(((EP56+EO26)*EL26)*(1-EP55),2)","v":0},{"$f":"ROUND(((EQ56+EO27)*EL27)*(1-EQ55),2)","v":0},{"$f":"ROUND(((ER56+EO28)*EL28)*(1-ER55),2)","v":0},{"$f":"SUM(EK57:ER57)","v":0},null,null,null,null,null,null,null,"Prima de Riesgo",{"$f":"ROUND(((FB56+FF21)*FC21+FF29*FC29)*(1-FB55),2)","v":0},{"$f":"ROUND(((FC56+FF22)*FC22)*(1-FC55),2)","v":0},{"$f":"ROUND(((FD56+FF23)*FC23)*(1-FD55),2)","v":0},{"$f":"ROUND(((FE56+FF24)*FC24)*(1-FE55),2)","v":0},{"$f":"ROUND(((FF56+FF25)*FC25)*(1-FF55),2)","v":0},{"$f":"ROUND(((FG56+FF26)*FC26)*(1-FG55),2)","v":0},{"$f":"ROUND(((FH56+FF27)*FC27)*(1-FH55),2)","v":0},{"$f":"ROUND(((FI56+FF28)*FC28)*(1-FI55),2)","v":0},{"$f":"SUM(FB57:FI57)","v":0},null,null,null,null,null,null,null,null,null,null,null,null,null,null,null,null,null,null,null,null,null,null,null,null,"Prima Cláusula",{"$f":"+SUM(GQ35:GQ53)","v":0},{"$f":"+SUM(GR35:GR53)","v":0},{"$f":"+SUM(GS35:GS53)","v":0},{"$f":"+SUM(GT35:GT53)","v":0},{"$f":"+SUM(GU35:GU53)","v":0},{"$f":"+SUM(GV35:GV53)","v":0},{"$f":"+SUM(GW35:GW53)","v":0},{"$f":"+SUM(GX35:GX53)","v":0}]
["Prima de Riesgo",{"$f":"+((B57+I21)*C21+I29*C29)*(1-B56)","v":0},{"$f":"+((C57+I22)*C22)*(1-C56)","v":0},{"$f":"+((D57+I23)*C23)*(1-D56)","v":0},{"$f":"+((E57+I24)*C24)*(1-E56)","v":0},{"$f":"+((F57+I25)*C25)*(1-F56)","v":0},{"$f":"+((G57+I26)*C26)*(1-G56)","v":0},{"$f":"+((H57+I27)*C27)*(1-H56)","v":0},{"$f":"+((I57+I28)*C28)*(1-I56)","v":0},{"$f":"ROUND(SUM(B58:I58),2)","v":0},null,null,null,null,null,null,null,null,null,null,null,null,null,null,null,null,null,null,null,null,null,null,null,null,null,null,null,null,null,null,null,null,null,null,"Prima de Riesgo",{"$f":"+((AT57+BA21)+BA29)*(1-AT56)*(AU21/100)","v":0},{"$f":"(AU57+BA22)*(1-AU56)*(AU22/100)","v":0},{"$f":"(AV57+BA23)*(1-AV56)*(AU23/100)","v":0},{"$f":"(AW57+BA24)*(1-AW56)*(AU24/100)","v":0},{"$f":"(AX57+BA25)*(1-AX56)*(AU25/100)","v":0},{"$f":"(AY57+BA26)*(1-AY56)*(AU26/100)","v":0},{"$f":"(AZ57+BA27)*(1-AZ56)*(AU27/100)","v":0},{"$f":"(BA57+BA28)*(1-BA56)*(AU28/100)","v":0},{"$f":"ROUND(SUM(AT58:BA58),4)","v":0},null,null,null,null,null,null,null,null,null,null,null,null,null,null,null,null,null,null,null,null,null,null,null,null,null,null,null,null,null,null,null,null,null,null,"Prima Neta",{"$f":"ROUND(CL57/(1-$CO3-$CO4-$CO5),2)","v":0},{"$f":"ROUND(CM57/(1-$CO3-$CO4-$CO5),2)","v":0},0,0,0,0,0,0,{"$f":"SUM(CL58:CS58)","v":0},null,null,null,null,null,null,null,"Prima Neta",{"$f":"ROUND(DC57/(1-$CO3-$CO4-$CO5),2)","v":0},{"$f":"ROUND(DD57/(1-$CO3-$CO4-$CO5),2)","v":0},{"$f":"ROUND(DE57/(1-$CO3-$CO4-$CO5),2)","v":0},{"$f":"ROUND(DF57/(1-$CO3-$CO4-$CO5),2)","v":0},{"$f":"ROUND(DG57/(1-$CO3-$CO4-$CO5),2)","v":0},{"$f":"ROUND(DH57/(1-$CO3-$CO4-$CO5),2)","v":0},{"$f":"ROUND(DI57/(1-$CO3-$CO4-$CO5),2)","v":0},{"$f":"ROUND(DJ57/(1-$CO3-$CO4-$CO5),2)","v":0},{"$f":"SUM(DC58:DJ58)","v":0},null,null,null,null,null,null,null,"Prima Neta",{"$f":"ROUND(DT57/(1-$CO3-$CO4-$CO5),2)","v":0},{"$f":"ROUND(DU57/(1-$CO3-$CO4-$CO5),2)","v":0},{"$f":"ROUND(DV57/(1-$CO3-$CO4-$CO5),2)","v":0},{"$f":"ROUND(DW57/(1-$CO3-$CO4-$CO5),2)","v":0},{"$f":"ROUND(DX57/(1-$CO3-$CO4-$CO5),2)","v":0},{"$f":"ROUND(DY57/(1-$CO3-$CO4-$CO5),2)","v":0},{"$f":"ROUND(DZ57/(1-$CO3-$CO4-$CO5),2)","v":0},{"$f":"ROUND(EA57/(1-$CO3-$CO4-$CO5),2)","v":0},{"$f":"SUM(DT58:EA58)","v":0},{"$f":"+EB58*IF($DT$4<=366,LOOKUP($DT$4-1,'Período corto'!$B$2:$D$18),$DT$4/366)","v":{"$error":"#N/A"}},null,null,null,null,null,null,"Prima Neta",{"$f":"ROUND(EK57/(1-$CO3-$CO4-$CO5),2)","v":0},{"$f":"ROUND(EL57/(1-$CO3-$CO4-$CO5),2)","v":0},0,0,0,0,0,0,{"$f":"SUM(EK58:ER58)","v":0},null,null,null,null,null,null,null,"Prima Neta",{"$f":"ROUND(FB57/(1-$CO3-$CO4-$CO5),2)","v":0},{"$f":"ROUND(FC57/(1-$CO3-$CO4-$CO5),2)","v":0},0,0,0,0,0,0,{"$f":"SUM(FB58:FI58)","v":0},null,null,null,null,null,null,null,null,null,null,null,null,null,null,null,null,null,null,null,null,null,null,null,null,"Prima de Riesgo",{"$f":"+((GJ57+GQ21)*GK21+GQ29*GK29)*(1-GJ56)","v":0},{"$f":"+((GK57+GQ22)*GK22)*(1-GK56)","v":0},{"$f":"+((GL57+GQ23)*GK23)*(1-GL56)","v":0},{"$f":"+((GM57+GQ24)*GK24)*(1-GM56)","v":0},{"$f":"+((GN57+GQ25)*GK25)*(1-GN56)","v":0},{"$f":"+((GO57+GQ26)*GK26)*(1-GO56)","v":0},{"$f":"+((GP57+GQ27)*GK27)*(1-GP56)","v":0},{"$f":"+((GQ57+GQ28)*GK28)*(1-GQ56)","v":0},{"$f":"ROUND(SUM(GJ58:GQ58),2)","v":0}]
["Prima Neta",{"$f":"+B58/(1-$E$3-$E$4-$E$5)","v":0},{"$f":"+C58/(1-$E$3-$E$4-$E$5)","v":0},{"$f":"+D58/(1-$E$3-$E$4-$E$5)","v":0},0,0,0,0,0,{"$f":"ROUND(SUM(B59:I59),2)","v":0},null,null,null,null,null,null,null,null,null,null,null,null,null,null,null,null,null,null,null,null,null,null,null,null,null,null,null,null,null,null,null,null,null,null,"Prima Neta",{"$f":"+AT58/(1-$AW3-$AW4-$AW5)","v":0},0,0,0,0,0,0,0,{"$f":"ROUND(SUM(AT59:BA59),4)","v":0},null,null,null,null,null,null,null,null,null,null,null,null,null,null,null,null,null,null,null,null,null,null,null,null,null,null,null,null,null,null,null,null,null,null,null,null,null,null,null,null,null,null,null,null,null,null,null,null,null,null,null,null,null,null,null,null,null,null,null,null,null,null,null,null,null,null,null,null,null,null,null,null,null,null,null,null,null,null,null,null,null,null,null,null,null,null,null,null,null,null,null,null,null,null,null,null,null,null,null,null,null,null,null,null,null,null,null,null,null,null,null,null,null,null,null,null,null,null,null,null,null,null,null,null,null,null,null,null,null,null,null,null,null,null,null,null,"Prima Neta",{"$f":"+GJ58/(1-$E$3-$E$4-$E$5)","v":0},{"$f":"+GK58/(1-$E$3-$E$4-$E$5)","v":0},{"$f":"+GL58/(1-$E$3-$E$4-$E$5)","v":0},0,0,0,0,0,{"$f":"ROUND(SUM(GJ59:GQ59),2)","v":0}]
[]
["Grupo 2","GC","MA","GS","IP","IT","DSF","RHA","RRM","Total",null,null,null,null,null,null,null,null,null,null,null,null,null,null,null,null,null,null,null,null,null,null,null,null,null,null,null,null,null,null,null,null,null,null,"Grupo 2","GC","MA","GS","IP","IT","DSF","RHA","RRM","Total"]
["Deducible",{"$f":"+(10%*D14)/25%","v":0},null,null,null,{"$f":"+(0.1*D15)/30","v":0},null,{"$f":"+(0.1*D16)/30","v":0},null,null,null,null,null,null,null,null,null,null,null,null,null,null,null,null,null,null,null,null,null,null,null,null,null,null,null,null,null,null,null,null,null,null,null,null,"Deducible",{"$f":"+(10%*AV14)/25%","v":0},null,null,null,{"$f":"+(0.1*AV15)/30","v":0},null,{"$f":"+(0.1*AV16)/30","v":0}]
["Prima Cláusula",{"$f":"+SUM(Q35:Q53)","v":0},{"$f":"+SUM(R35:R53)","v":0},0,0,0,0,0,0,null,null,null,null,null,null,null,null,null,null,null,null,null,null,null,null,null,null,null,null,null,null,null,null,null,null,null,null,null,null,null,null,null,null,null,"Prima Cláusula",{"$f":"+SUM(BI35:BI53)","v":0},{"$f":"+SUM(BJ35:BJ53)","v":0},0,0,0,0,0,0]
["Prima de Riesgo",{"$f":"+((B63+J21)*D21+(J29*D29)*(1-B62))","v":0},{"$f":"+((C63+J22)*D22)*(1-C62)","v":0},{"$f":"+((D63+J23)*D23)*(1-D62)","v":0},{"$f":"+((E63+J24)*D24)*(1-E62)","v":0},{"$f":"+((F63+J25)*D25)*(1-F62)","v":0},{"$f":"+((G63+J26)*D26)*(1-G62)","v":0},{"$f":"+((H63+J27)*D27)*(1-H62)","v":0},{"$f":"+((I63+J28)*D28)*(1-I62)","v":0},{"$f":"ROUND(SUM(B64:I64),2)","v":0},null,null,null,null,null,null,null,null,null,null,null,null,null,null,null,null,null,null,null,null,null,null,null,null,null,null,null,null,null,null,null,null,null,null,"Prima de Riesgo",{"$f":"+((AT63+BB21)+BB29)*(1-AT62)*(AV21/100)","v":0},{"$f":"(AU63+BB22)*(1-AU62)*(AV22/100)","v":0},{"$f":"(AV63+BB23)*(1-AV62)*(AV23/100)","v":0},{"$f":"(AW63+BB24)*(1-AW62)*(AV24/100)","v":0},{"$f":"(AX63+BB25)*(1-AX62)*(AV25/100)","v":0},{"$f":"(AY63+BB26)*(1-AY62)*(AV26/100)","v":0},{"$f":"(AZ63+BB27)*(1-AZ62)*(AV27/100)","v":0},{"$f":"(BA63+BB28)*(1-BA62)*(AV28/100)","v":0},{"$f":"ROUND(SUM(AT64:BA64),4)","v":0}]
["Prima Neta",{"$f":"+B64/(1-$E$3-$E$4-$E$5)","v":0},{"$f":"+C64/(1-$E$3-$E$4-$E$5)","v":0},{"$f":"+D64/(1-$E$3-$E$4-$E$5)","v":0},{"$f":"+E64/(1-$E$3-$E$4-$E$5)","v":0},{"$f":"+F64/(1-$E$3-$E$4-$E$5)","v":0},{"$f":"+G64/(1-$E$3-$E$4-$E$5)","v":0},{"$f":"+H64/(1-$E$3-$E$4-$E$5)","v":0},{"$f":"+I64/(1-$E$3-$E$4-$E$5)","v":0},{"$f":"ROUND(SUM(B65:I65),2)","v":0},null,null,null,null,null,null,null,null,null,null,null,null,null,null,null,null,null,null,null,null,null,null,null,null,null,null,null,null,null,null,null,null,null,null,"Prima Neta",{"$f":"+AT64/(1-$AW3-$AW4-$AW5)","v":0},0,0,0,0,0,0,0,{"$f":"ROUND(SUM(AT65:BA65),4)","v":0}]
[]
["Grupo 3","GC","MA","GS","IP","IT","DSF","RHA","RRM","Total",null,null,null,null,null,null,null,null,null,null,null,null,null,null,null,null,null,null,null,null,null,null,null,null,null,null,null,null,null,null,null,null,null,null,"Grupo 3","GC","MA","GS","IP","IT","DSF","RHA","RRM","Total"]
["Deducible",{"$f":"+(10%*E14)/25%","v":0},null,null,null,{"$f":"+(0.1*E15)/30","v":0},null,{"$f":"+(0.1*E16)/30","v":0},null,null,null,null,null,null,null,null,null,null,null,null,null,null,null,null,null,null,null,null,null,null,null,null,null,null,null,null,null,null,null,null,null,null,null,null,"Deducible",{"$f":"+(10%*AW14)/25%","v":0},null,null,null,{"$f":"+(0.1*AW15)/30","v":0},null,{"$f":"+(0.1*AW16)/30","v":0}]
["Prima Cláusula",{"$f":"+SUM(Y35:Y53)","v":0},{"$f":"+SUM(Z35:Z53)","v":0},0,0,0,0,0,0,null,null,null,null,null,null,null,null,null,null,null,null,null,null,null,null,null,null,null,null,null,null,null,null,null,null,null,null,null,null,null,null,null,null,null,"Prima Cláusula",{"$f":"+SUM(BQ35:BQ53)","v":0},{"$f":"+SUM(BR35:BR53)","v":0},0,0,0,0,0,0]
["Prima de Riesgo",{"$f":"+((B69+K21)*E21+(K29*E29)*(1-B68))","v":0},{"$f":"+((C69+K22)*E22)*(1-C68)","v":0},{"$f":"+((D69+K23)*E23)*(1-D68)","v":0},{"$f":"+((E69+K24)*E24)*(1-E68)","v":0},{"$f":"+((F69+K25)*E25)*(1-F68)","v":0},{"$f":"+((G69+K26)*E26)*(1-G68)","v":0},{"$f":"+((H69+K27)*E27)*(1-H68)","v":0},{"$f":"+((I69+K28)*E28)*(1-I68)","v":0},{"$f":"ROUND(SUM(B70:I70),2)","v":0},null,null,null,null,null,null,null,null,null,null,null,null,null,null,null,null,null,null,null,null,null,null,null,null,null,null,null,null,null,null,null,null,null,null,"Prima de Riesgo",{"$f":"+((AT69+BC21)+BC29)*(1-AT68)*(AW21/100)","v":0},{"$f":"(AU69+BC22)*(1-AU68)*(AW22/100)","v":0},{"$f":"(AV69+BC23)*(1-AV68)*(AW23/100)","v":0},{"$f":"(AW69+BC24)*(1-AW68)*(AW24/100)","v":0},{"$f":"(AX69+BC25)*(1-AX68)*(AW25/100)","v":0},{"$f":"(AY69+BC26)*(1-AY68)*(AW26/100)","v":0},{"$f":"(AZ69+BC27)*(1-AZ68)*(AW27/100)","v":0},{"$f":"(BA69+BC28)*(1-BA68)*(AW28/100)","v":0},{"$f":"ROUND(SUM(AT70:BA70),4)","v":0}]
["Prima Neta",{"$f":"+B70/(1-$E$3-$E$4-$E$5)","v":0},{"$f":"+C70/(1-$E$3-$E$4-$E$5)","v":0},{"$f":"+D70/(1-$E$3-$E$4-$E$5)","v":0},{"$f":"+E70/(1-$E$3-$E$4-$E$5)","v":0},{"$f":"+F70/(1-$E$3-$E$4-$E$5)","v":0},{"$f":"+G70/(1-$E$3-$E$4-$E$5)","v":0},{"$f":"+H70/(1-$E$3-$E$4-$E$5)","v":0},{"$f":"+I70/(1-$E$3-$E$4-$E$5)","v":0},{"$f":"ROUND(SUM(B71:I71),2)","v":0},null,null,null,null,null,null,null,null,null,null,null,null,null,null,null,null,null,null,null,null,null,null,null,null,null,null,null,null,null,null,null,null,null,null,"Prima Neta",{"$f":"+AT70/(1-$AW3-$AW4-$AW5)","v":0},0,0,0,0,0,0,0,{"$f":"ROUND(SUM(AT71:BA71),4)","v":0}]
[]
["Grupo 4","GC","MA","GS","IP","IT","DSF","RHA","RRM","Total",null,null,null,null,null,null,null,null,null,null,null,null,null,null,null,null,null,null,null,null,null,null,null,null,null,null,null,null,null,null,null,null,null,null,"Grupo 4","GC","MA","GS","IP","IT","DSF","RHA","RRM","Total"]
["Deducible",{"$f":"+(10%*F14)/25%","v":0},null,null,null,{"$f":"+(0.1*F15)/30","v":0},null,{"$f":"+(0.1*F16)/30","v":0},null,null,null,null,null,null,null,null,null,null,null,null,null,null,null,null,null,null,null,null,null,null,null,null,null,null,null,null,null,null,null,null,null,null,null,null,"Deducible",{"$f":"+(10%*AX14)/25%","v":0},null,null,null,{"$f":"+(0.1*AX15)/30","v":0},null,{"$f":"+(0.1*AX16)/30","v":0}]
["Prima Cláusula",{"$f":"+SUM(AG35:AG53)","v":0},{"$f":"+SUM(AH35:AH53)","v":0},0,0,0,0,0,0,null,null,null,null,null,null,null,null,null,null,null,null,null,null,null,null,null,null,null,null,null,null,null,null,null,null,null,null,null,null,null,null,null,null,null,"Prima Cláusula",{"$f":"+SUM(BY35:BY53)","v":0},{"$f":"+SUM(BZ35:BZ53)","v":0},0,0,0,0,0,{"$f":"+SUM(CF35:CF53)","v":0}]
["Prima de Riesgo",{"$f":"+((B75+L21)*F21+L29*F29)*(1-B74)","v":0},{"$f":"+((C75+L22)*F22)*(1-C74)","v":0},{"$f":"+((D75+L23)*F23)*(1-D74)","v":0},{"$f":"+((E75+L24)*F24)*(1-E74)","v":0},{"$f":"+((F75+L25)*F25)*(1-F74)","v":0},{"$f":"+((G75+L26)*F26)*(1-G74)","v":0},{"$f":"+((H75+L27)*F27)*(1-H74)","v":0},{"$f":"+((I75+L28)*F28)*(1-I74)","v":0},{"$f":"ROUND(SUM(B76:I76),2)","v":0},null,null,null,null,null,null,null,null,null,null,null,null,null,null,null,null,null,null,null,null,null,null,null,null,null,null,null,null,null,null,null,null,null,null,"Prima de Riesgo",{"$f":"+((AT75+BD21)+BD29)*(1-AT74)*(AX21/100)","v":0},{"$f":"(AU75+BD22)*(1-AU74)*(AX22/100)","v":0},{"$f":"(AV75+BD23)*(1-AV74)*(AX23/100)","v":0},{"$f":"(AW75+BD24)*(1-AW74)*(AX24/100)","v":0},{"$f":"(AX75+BD25)*(1-AX74)*(AX25/100)","v":0},{"$f":"(AY75+BD26)*(1-AY74)*(AX26/100)","v":0},{"$f":"(AZ75+BD27)*(1-AZ74)*(AW27/100)","v":0},{"$f":"(BA75+BD28)*(1-BA74)*(AX28/100)","v":0},{"$f":"ROUND(SUM(AT76:BA76),4)","v":0}]
["Prima Neta",{"$f":"+B76/(1-$E$3-$E$4-$E$5)","v":0},{"$f":"+C76/(1-$E$3-$E$4-$E$5)","v":0},{"$f":"+D76/(1-$E$3-$E$4-$E$5)","v":0},{"$f":"+E76/(1-$E$3-$E$4-$E$5)","v":0},{"$f":"+F76/(1-$E$3-$E$4-$E$5)","v":0},{"$f":"+G76/(1-$E$3-$E$4-$E$5)","v":0},{"$f":"+H76/(1-$E$3-$E$4-$E$5)","v":0},{"$f":"+I76/(1-$E$3-$E$4-$E$5)","v":0},{"$f":"ROUND(SUM(B77:I77),2)","v":0},null,null,null,null,null,null,null,null,null,null,null,null,null,null,null,null,null,null,null,null,null,null,null,null,null,null,null,null,null,null,null,null,null,null,"Prima Neta",{"$f":"+AT76/(1-$AW3-$AW4-$AW5)","v":0},0,0,0,0,0,0,0,{"$f":"ROUND(SUM(AT77:BA77),4)","v":0}]

{"sheet":"Slip","index":6,"n_rows":311,"n_cols":13,"rows_kept":311,"cut":false,"hidden":true,"merged":[[1,4,1,8],[4,3,4,10],[6,3,6,10],[8,3,8,4],[8,5,8,10],[10,3,10,4],[10,5,10,6],[17,3,17,4],[17,5,17,10],[18,3,18,4],[18,5,18,10],[19,5,19,10],[20,3,20,4],[20,5,20,10],[12,3,12,10],[14,3,14,4],[14,5,14,10],[15,3,15,4],[15,5,15,6],[16,3,16,4],[16,5,16,10],[30,3,30,10],[32,3,32,4],[32,5,32,10],[33,3,33,4],[33,5,33,10],[34,3,34,4],[34,5,34,10],[23,3,23,10],[25,3,25,4],[25,5,25,10],[26,3,26,4],[26,5,26,6],[27,3,27,4],[27,5,27,10],[40,3,40,4],[40,5,40,10],[41,3,41,4],[41,5,41,10],[42,3,42,4],[42,5,42,10],[35,3,35,4],[35,5,35,10],[36,3,36,4],[36,5,36,10],[39,3,39,4],[39,5,39,10],[37,3,37,4],[38,3,38,4],[37,5,37,10],[38,5,38,10],[46,3,46,4],[46,5,46,10],[47,3,47,4],[47,5,47,10],[48,3,48,4],[48,5,48,10],[43,3,43,4],[43,5,43,10],[44,3,44,4],[44,5,44,10],[45,3,45,4],[45,5,45,10],[59,3,59,6],[59,7,59,8],[60,3,60,6],[60,7,60,8],[61,3,61,6],[61,7,61,8],[49,3,49,4],[49,5,49,10],[50,3,50,4],[50,5,50,10],[53,3,53,10],[55,3,55,10],[66,3,66,6],[66,7,66,8],[67,3,67,6],[67,7,67,8],[68,3,68,6],[68,7,68,8],[62,3,62,6],[62,7,62,8],[63,3,64,6],[63,7,63,8],[64,7,64,8],[65,3,65,6],[65,7,65,8],[80,3,80,10],[81,3,81,10],[82,3,82,10],[83,3,83,10],[84,3,84,10],[85,3,85,10],[71,3,71,10],[75,3,75,10],[76,3,76,10],[77,3,77,10],[78,3,78,10],[79,3,79,10],[92,3,92,10],[94,3,94,10],[95,3,95,10],[96,3,96,10],[97,3,97,10],[98,3,98,10],[86,3,86,10],[87,3,87,10],[88,3,88,10],[89,3,89,10],[90,3,90,10],[91,3,91,10],[93,3,93,10],[105,3,105,10],[106,3,106,10],[107,3,107,10],[108,3,108,10],[109,3,109,10],[110,3,110,10],[99,3,99,10],[100,3,100,10],[101,3,101,10],[102,3,102,10],[103,3,103,10],[104,3,104,10],[119,3,119,5],[122,3,122,10],[126,3,126,6],[126,7,126,8],[127,3,127,6],[127,7,127,8],[111,3,111,10],[113,3,113,10],[115,3,115,5],[116,3,116,5],[117,3,117,5],[118,3,118,5],[132,3,132,6],[132,7,132,8],[133,3,133,6],[133,7,133,8],[134,3,134,6],[134,7,134,8],[128,3,128,6],[128,7,128,8],[129,3,129,6],[129,7,129,8],[130,3,131,6],[130,7,130,8],[131,7,131,8],[145,3,145,10],[146,3,146,10],[147,3,147,10],[148,3,148,10],[149,3,149,10],[150,3,150,10],[135,3,135,6],[135,7,135,8],[138,3,138,10],[142,3,142,10],[143,3,143,10],[144,3,144,10],[157,3,157,10],[158,3,158,10],[159,3,159,10],[151,3,151,10],[152,3,152,10],[153,3,153,10],[154,3,154,10],[155,3,155,10],[156,3,156,10],[167,3,167,5],[168,3,168,5],[169,3,169,5],[172,3,172,10],[176,3,176,6],[176,7,176,8],[161,3,161,10],[163,3,163,10],[165,3,165,5],[166,3,166,5],[180,3,181,6],[180,7,180,8],[181,7,181,8],[182,3,182,6],[182,7,182,8],[183,3,183,6],[183,7,183,8],[177,3,177,6],[177,7,177,8],[178,3,178,6],[178,7,178,8],[179,3,179,6],[179,7,179,8],[193,3,193,10],[194,3,194,10],[195,3,195,10],[196,3,196,10],[197,3,197,10],[198,3,198,10],[184,3,184,6],[184,7,184,8],[185,3,185,6],[185,7,185,8],[188,3,188,10],[192,3,192,10],[190,4,190,6],[205,3,205,10],[206,3,206,10],[207,3,207,10],[208,3,208,10],[209,3,209,10],[199,3,199,10],[200,3,200,10],[201,3,201,10],[202,3,202,10],[203,3,203,10],[204,3,204,10],[215,3,215,5],[216,3,216,5],[217,3,217,5],[218,3,218,5],[219,3,219,5],[222,3,222,10],[211,3,211,10],[213,3,213,10],[224,4,224,6],[229,3,229,6],[229,7,229,8],[230,3,231,6],[230,7,230,8],[231,7,231,8],[232,3,232,6],[232,7,232,8],[226,3,226,6],[226,7,226,8],[227,3,227,6],[227,7,227,8],[228,3,228,6],[228,7,228,8],[238,3,238,10],[242,3,242,10],[243,3,243,10],[244,3,244,10],[245,3,245,10],[246,3,246,10],[240,4,240,6],[233,3,233,6],[233,7,233,8],[234,3,234,6],[234,7,234,8],[235,3,235,6],[235,7,235,8],[257,3,257,10],[258,3,258,10],[247,3,247,10],[279,11,280,11],[280,3,280,5],[281,3,281,5],[284,3,284,10],[286,3,286,5],[286,11,287,11],[287,3,287,5],[269,3,269,5],[272,3,272,10],[274,3,274,10],[276,3,276,5],[278,3,278,5],[279,3,279,5],[277,3,277,5],[248,3,248,10],[249,3,249,10],[250,3,250,10],[251,3,251,10],[252,3,252,10],[160,3,160,10],[210,3,210,10],[260,3,260,10],[288,3,288,5],[291,3,291,10],[293,3,294,10],[298,3,299,10],[303,3,305,10],[57,4,57,6],[73,4,73,6],[124,4,124,6],[140,4,140,6],[174,4,174,6],[261,3,261,10],[263,3,263,10],[265,3,265,5],[266,3,266,5],[267,3,267,5],[268,3,268,5],[259,3,259,10],[253,3,253,10],[254,3,254,10],[255,3,255,10],[256,3,256,10]]}
[]
[]
[null,true]
[null,true]
[null,true,null,"SLIP COTIZACIÓN N°  00000"]
[null,true]
[null,true,null,"SEGURO DE ACCIDENTES COLECTIVOS"]
[null,true]
[null,true,null,"PRODUCTO:",null,{"$f":"Cotizador!$D$3","v":"Suma Asegurada Fija"}]
[null,true]
[null,true,null,"FECHA DE COTIZACIÓN:",null,{"$f":"TODAY()","v":44052},null,null,null,null,"BROKER"]
[null,true]
[null,true,null,"I) DATOS DEL CONTRATANTE "]
[null,true]
[null,true,null,"Nombre/Razón Social",null,{"$f":"Cotizador!$C$9","v":0}]
[null,true,null,"Nro Documento",null,{"$f":"Cotizador!$C$8","v":0}]
[null,{"$f":"IFERROR(IF(ISNUMBER(VLOOKUP(Cotizador!C8,Info!A2:A1234,1,0)),\"Falso\",\"Verdadero\"),\"Falso\")","v":"Verdadero"},null,"Domicilio",null,{"$f":"CONCATENATE(Cotizador!H8,\" \",Cotizador!H9,\" \",Cotizador!H10,\" \",Cotizador!H11,\" \",Cotizador!H12,\" - \",Cotizador!H13,\" \",Cotizador!H14,\" \",Cotizador!H15)","v":"     -   "}]
[null,true,null,"Correo electrónico",null,{"$f":"Cotizador!C15","v":0}]
[null,true,null,"Teléfono",null,{"$f":"Cotizador!C16","v":0}]
[null,true,null,"CIIU",null,{"$f":"Cotizador!C11","v":0}]
[null,true,null,"Sector",null,{"$f":"Cotizador!C12","v":0}]
[null,true]
[null,true]
[null,true,null,"II) DATOS DEL AGENTE"]
[null,true]
[null,true,null,"Nombre del Agente",null,{"$f":"Cotizador!C19","v":0},"HERMES CORREDORES SE SEGUROS"]
[null,true,null,"Código del Agente",null,{"$f":"Cotizador!F18","v":0}]
[null,true,null,"Comisión",null,{"$f":"Cotizador!J18","v":0.25}]
[null,true]
[null,true]
[null,true,null,"III) DATOS GENERALES"]
[null,true]
[null,true,null,"Tipo de Póliza",null,{"$f":"Cotizador!$F$70","v":"Nominativa"},"Nominativa"]
[null,true,null,"Inicio de Vigencia",null,{"$f":"Cotizador!$C$70","v":0},43911]
[null,true,null,"Fin de Vigencia",null,{"$f":"Cotizador!$C$71","v":0},44276]
[null,true,null,"Moneda",null,{"$f":"Cotizador!$C$73","v":0},"Dólares"]
[null,true,null,"Rango de Cobertura",null,{"$f":"IF(OR(Cotizador!E93=\"Si\",Cotizador!G93=\"Si\",Cotizador!I93=\"Si\",Cotizador!K93=\"Si\"),\"Limitado al horario de trabajo\",\"24 horas\")","v":"24 horas"}]
[null,null,null,{"$f":"IF(F9=\"Suma Asegurada Variable\",\"Monto de Sueldo Mayor\",\"Fecha de Nacimiento\")","v":"Fecha de Nacimiento"},null,{"$f":"IF(F9=\"Suma Asegurada Variable\",MAX(Cotizador!$E$56,Cotizador!$G$56,Cotizador!$I$56,Cotizador!$K$56),G116)","v":0}]
[null,null,null,"Monto de la Planilla Anual",null,{"$f":"Cotizador!E55+Cotizador!G55+Cotizador!I55+Cotizador!K55","v":0}]
[null,null,null,"Tipo de Transporte",null,{"$f":"Cotizador!C35","v":"Aéreo"}]
[null,null,null,"N° de Matrícula del Vehículo",null,{"$f":"Cotizador!C36","v":0}]
[null,null,null,"Nombre del Evento",null,{"$f":"Cotizador!C63","v":0}]
[null,null,null,"Lugar del Evento",null,{"$f":"Cotizador!C64","v":0}]
[null,null,null,"Nombre del Local",null,{"$f":"Cotizador!C60","v":0}]
[null,null,null,"Tipo de Local",null,{"$f":"Cotizador!C61","v":0}]
[null,null,null,{"$f":"IF(F9=\"Aforo\",\"Aforo Máximo\",\"N° Asistentes al Evento\")","v":"N° Asistentes al Evento"},null,{"$f":"IF(F9=\"Aforo\",Cotizador!H61,Cotizador!H63)","v":0}]
[null,null,null,"Motivo de Viaje",null,{"$f":"Cotizador!$F$46","v":0}]
[null,null,null,"Lugar de Viaje",null,{"$f":"Cotizador!$F$48","v":0}]
[null,null,null,"N° Promedio de Viajes al Año",null,{"$f":"Cotizador!C46","v":0}]
[null,null,null,"N° de Días Promedio por Viaje",null,{"$f":"Cotizador!C47","v":0}]
[null,null,null,"N° de Personas que viajan juntos",null,{"$f":"Cotizador!C49","v":0},"Limitado a horas de trabajo"]
[null,true]
[null,true]
[null,true,null,"IV) DETALLE DE COBERTURAS"]
[null,true]
[null,true,null,"GRUPO 1 - COBERTURAS PRINCIPALES"]
[null,true]
[null,{"$f":"IF(OR(F9=\"Aforo\",F9=\"Eventos\"),\"Falso\",\"VERDADERO\")","v":"VERDADERO"},null,{"$f":"VLOOKUP(Cotizador!$E$66,'Listas desplegables'!$T$1:$V$4,2,0)","v":{"$error":"#N/A"}},{"$f":"Cotizador!$E$29","v":0}]
[null,{"$f":"IF(OR(F9=\"Aforo\",F9=\"Eventos\"),\"Falso\",\"VERDADERO\")","v":"VERDADERO"}]
[null,{"$f":"IF(Cotizador!E77<>\"\",\"Verdadero\",\"Falso\")","v":"Falso"},null,{"$f":"IF($F$9=\"Suma Asegurada Variable\",\"Muerte accidental (remuneraciones mensuales)\",\"Muerte accidental\")","v":"Muerte accidental"},null,null,null,{"$f":"Cotizador!$E$77","v":0},null,"Sin Deducible"]
[null,{"$f":"IF(Cotizador!E78<>\"\",\"Verdadero\",\"Falso\")","v":"Falso"},null,{"$f":"IF($F$9=\"Suma Asegurada Variable\",\"Invalidez Total y Permanente por Accidente (remuneraciones mensuales)\",\"Invalidez Total y Permanente por Accidente\")","v":"Invalidez Total y Permanente por Accidente"},null,null,null,{"$f":"Cotizador!$E$78","v":0},null,"Sin Deducible"]
[null,{"$f":"IF(Cotizador!E79<>\"\",\"Verdadero\",\"Falso\")","v":"Falso"},null,{"$f":"IF($F$9=\"Suma Asegurada Variable\",\"Gastos de Curación por Accidente (remuneraciones mensuales)\",\"Gastos de Curación por Accidente\")","v":"Gastos de Curación por Accidente"},null,null,null,{"$f":"Cotizador!$E$79","v":0},null,"0% de Copago",null,null,"       "]
[null,{"$f":"IF(Cotizador!E80<>\"\",\"Verdadero\",\"Falso\")","v":"Falso"},null,{"$f":"IF($F$9=\"Suma Asegurada Variable\",\"Gastos de Sepelio por Muerte Accidental (remuneraciones mensuales)\",\"Gastos de Sepelio por Muerte Accidental\")","v":"Gastos de Sepelio por Muerte Accidental"},null,null,null,{"$f":"Cotizador!$E$80","v":0},null,"Sin Deducible"]
[null,{"$f":"IF(Cotizador!E82<>\"\",\"Verdadero\",\"Falso\")","v":"Falso"},null,{"$f":"IF($F$9=\"Suma Asegurada Variable\",\"Incapacidad Temporal (remuneraciones mensuales)\",\"Incapacidad Temporal\")","v":"Incapacidad Temporal"},null,null,null,{"$f":"Cotizador!$E$82","v":0},null,"Suma Asegurada por día"]
[null,{"$f":"IF(Cotizador!E83<>\"\",\"Verdadero\",\"Falso\")","v":"Falso"},null,null,null,null,null,{"$f":"Cotizador!$E$83","v":0},null,"N° máximo de días"]
[null,{"$f":"IF(Cotizador!E84<>\"\",\"Verdadero\",\"Falso\")","v":"Falso"},null,{"$f":"IF($F$9=\"Suma Asegurada Variable\",\"Desamparo Súbito Familiar (remuneraciones mensuales)\",\"Desamparo Súbito Familiar\")","v":"Desamparo Súbito Familiar"},null,null,null,{"$f":"Cotizador!$E$84","v":0},null,"Sin Deducible"]
[null,{"$f":"IF(Cotizador!E85<>\"\",\"Verdadero\",\"Falso\")","v":"Falso"},null,{"$f":"IF($F$9=\"Suma Asegurada Variable\",\"Renta Hospitalaria Diaria por Accidente (remuneraciones mensuales)\",\"Renta Hospitalaria Diaria por Accidente\")","v":"Renta Hospitalaria Diaria por Accidente"},null,null,null,{"$f":"Cotizador!$E$85","v":0},null,"Sin Deducible"]
[null,{"$f":"IF(Cotizador!E86<>\"\",\"Verdadero\",\"Falso\")","v":"Falso"},null,{"$f":"IF($F$9=\"Suma Asegurada Variable\",\"Repatriación de Restos Mortales (remuneraciones mensuales)\",\"Repatriación de Restos Mortales\")","v":"Repatriación de Restos Mortales"},null,null,null,{"$f":"Cotizador!$E$86","v":0},null,"Sin Deducible"]
[null,{"$f":"IF(Cotizador!E87<>\"\",\"Verdadero\",\"Falso\")","v":"Falso"},null,"Límite Agregado Anual por Gastos de Curación por Accidente",null,null,null,{"$f":"Cotizador!$E$87","v":0},null,"Sin Deducible"]
[]
[null,true]
[null,true,null,"GRUPO 1 - CLÁUSULAS ADICIONALES"]
[null,true]
[null,{"$f":"IF(OR(F9=\"Aforo\",F9=\"Eventos\"),\"Falso\",\"VERDADERO\")","v":"VERDADERO"},null,{"$f":"VLOOKUP(Cotizador!$E$66,'Listas desplegables'!$T$1:$V$4,2,0)","v":{"$error":"#N/A"}},{"$f":"Cotizador!$E$29","v":0}]
[null,{"$f":"IF(OR(F9=\"Aforo\",F9=\"Eventos\"),\"Falso\",\"VERDADERO\")","v":"VERDADERO"}]
[null,{"$f":"IF(Cotizador!E90=\"Si\",\"Verdadero\",\"Falso\")","v":"Falso"},null,"Cláusula por la cobertura de Terrorismo y otros riesgos. "]
[null,{"$f":"IF(Cotizador!E91=\"Si\",\"Verdadero\",\"Falso\")","v":"Falso"},null,"Cláusula de ampliación del límite máximo de edad, personas mayores de 70 y hasta los 80 años inclusive."]
[null,{"$f":"IF(Cotizador!E92=\"Si\",\"Verdadero\",\"Falso\")","v":"Falso"},null,"Cláusula de asegurado menor de edad"]
[null,{"$f":"IF(Cotizador!E93=\"Si\",\"Verdadero\",\"Falso\")","v":"Falso"},null,"Por limitación a horas de trabajo."]
[null,{"$f":"IF(Cotizador!E94=\"Si\",\"Verdadero\",\"Falso\")","v":"Falso"},null,"Cláusula por la práctica no profesional de deportes y/o actividades de riesgo. N1"]
[null,{"$f":"IF(Cotizador!E95=\"Si\",\"Verdadero\",\"Falso\")","v":"Falso"},null,"Cláusula por la práctica no profesional de deportes y/o actividades de riesgo. N2"]
[null,{"$f":"IF(Cotizador!E96=\"Si\",\"Verdadero\",\"Falso\")","v":"Falso"},null,"Cláusula por la práctica no profesional de deportes y/o actividades de riesgo. N3"]
[null,{"$f":"IF(Cotizador!E97=\"Si\",\"Verdadero\",\"Falso\")","v":"Falso"},null,"Cláusula por la conducción urbana o rural de motocicletas, motonetas y otros vehículos similares."]
[null,{"$f":"IF(Cotizador!E98=\"Si\",\"Verdadero\",\"Falso\")","v":"Falso"},null,"Cláusula para pasajeros que usan cualquier medio habitual de transporte público de personas, en vehículos que no recorren itinerarios regulares y fijos. "]
[null,{"$f":"IF(Cotizador!E99=\"Si\",\"Verdadero\",\"Falso\")","v":"Falso"},null,"Ocupantes de vehiculos automotores particulares (no comerciales) por accidentes de tránsito."]
[null,{"$f":"IF(Cotizador!E100=\"Si\",\"Verdadero\",\"Falso\")","v":"Falso"},null,"Cláusula para pasajeros de aviones y/o helicópteros particulares y/o de la FAP por viajes eventuales. N1"]
[null,{"$f":"IF(Cotizador!E101=\"Si\",\"Verdadero\",\"Falso\")","v":"Falso"},null,"Cláusula para pasajeros de aviones y/o helicópteros particulares y/o de la FAP por viajes eventuales. N2"]
[null,{"$f":"IF(Cotizador!E102=\"Si\",\"Verdadero\",\"Falso\")","v":"Falso"},null,"Cláusula para pasajeros de aviones y/o helicópteros particulares y/o de la FAP por viajes eventuales. N3"]
[null,{"$f":"IF(Cotizador!E103=\"Si\",\"Verdadero\",\"Falso\")","v":"Falso"},null,"Pescadores y/o Estibadores"]
[null,{"$f":"IF(Cotizador!E104=\"Si\",\"Verdadero\",\"Falso\")","v":"Falso"},null,"Cláusula de invalidez permanente parcial previa al seguro."]
[null,{"$f":"IF(Cotizador!E105=\"Si\",\"Verdadero\",\"Falso\")","v":"Falso"},null,"Muerte accidental en transporte público y aviación comercial"]
[null,{"$f":"IF(Cotizador!E106=\"Si\",\"Verdadero\",\"Falso\")","v":"Falso"},null,"Por usar y/o portar armas"]
[null,{"$f":"IF(Cotizador!E107=\"Si\",\"Verdadero\",\"Falso\")","v":"Falso"},null,"Por cubrir gastos no reembolsables por ESSALUD"]
[null,{"$f":"IF(Cotizador!E108=\"Si\",\"Verdadero\",\"Falso\")","v":"Falso"},null,"Terremoto y/o temblor y/o huaycos y/u otros fenómenos de la naturaleza"]
[null,{"$f":"IF(Cotizador!E109=\"Si\",\"Verdadero\",\"Falso\")","v":"Falso"},null,"Cláusula de invalidez permanente parcial previa al seguro."]
[null,{"$f":"IF(Cotizador!E110=\"Si\",\"Verdadero\",\"Falso\")","v":"Falso"},null,"Cláusula por la cobertura de Terrorismo y otros riesgos. "]
[null,{"$f":"IF(Cotizador!E111=\"Si\",\"Verdadero\",\"Falso\")","v":"Falso"},null,"Por limitación a horas de trabajo."]
[null,{"$f":"IF(Cotizador!E112=\"Si\",\"Verdadero\",\"Falso\")","v":"Falso"},null,"Cláusula por la práctica no profesional de deportes y/o actividades de riesgo. N1"]
[null,{"$f":"IF(Cotizador!E113=\"Si\",\"Verdadero\",\"Falso\")","v":"Falso"},null,"Cláusula por la práctica no profesional de deportes y/o actividades de riesgo. N2"]
[null,{"$f":"IF(Cotizador!E114=\"Si\",\"Verdadero\",\"Falso\")","v":"Falso"},null,"Cláusula por la práctica no profesional de deportes y/o actividades de riesgo. N3"]
[null,{"$f":"IF(Cotizador!E115=\"Si\",\"Verdadero\",\"Falso\")","v":"Falso"},null,"Cláusula por la conducción urbana o rural de motocicletas, motonetas y otros vehículos similares."]
[null,{"$f":"IF(Cotizador!E116=\"Si\",\"Verdadero\",\"Falso\")","v":"Falso"},null,"Cláusula para pasajeros que usan cualquier medio habitual de transporte público de personas, en vehículos que no recorren itinerarios regulares y fijos. "]
[null,{"$f":"IF(Cotizador!E117=\"Si\",\"Verdadero\",\"Falso\")","v":"Falso"},null,"Cláusula para pasajeros de aviones y/o helicópteros particulares y/o de la FAP por viajes eventuales. N1"]
[null,{"$f":"IF(Cotizador!E118=\"Si\",\"Verdadero\",\"Falso\")","v":"Falso"},null,"Cláusula para pasajeros de aviones y/o helicópteros particulares y/o de la FAP por viajes eventuales. N2"]
[null,{"$f":"IF(Cotizador!E119=\"Si\",\"Verdadero\",\"Falso\")","v":"Falso"},null,"Cláusula para pasajeros de aviones y/o helicópteros particulares y/o de la FAP por viajes eventuales. N3"]
[null,{"$f":"IF(Cotizador!E120=\"Si\",\"Verdadero\",\"Falso\")","v":"Falso"},null,"Cláusula de accidentes personales para viajes y/o corto plazo."]
[null,{"$f":"IF(Cotizador!E121=\"Si\",\"Verdadero\",\"Falso\")","v":"Falso"},null,"Pescadores y/o Estibadores"]
[null,{"$f":"IF(Cotizador!E122=\"Si\",\"Verdadero\",\"Falso\")","v":"Falso"},null,"Cláusula de ampliación del límite máximo de edad, personas mayores de 70 y hasta los 80 años inclusive."]
[null,{"$f":"IF(Cotizador!E123=\"Si\",\"Verdadero\",\"Falso\")","v":"Falso"},null,"Ocupantes de vehiculos automotores particulares (no comerciales) por accidentes de tránsito."]
[null,{"$f":"IF(Cotizador!E124=\"Si\",\"Verdadero\",\"Falso\")","v":"Falso"},null,"Por usar y/o portar armas"]
[null,{"$f":"IF(Cotizador!E125=\"Si\",\"Verdadero\",\"Falso\")","v":"Falso"},null,"Por cubrir gastos no reembolsables por ESSALUD"]
[null,true]
[null,true]
[null,true,null,"GRUPO 1 - PRIMA PROPUESTA",null,null,"Profesor"]
[null,true]
[null,true,null,{"$f":"IF(F9=\"Accidentes Individual\",\"Fecha de Nacimiento\",IF(F9=\"Viajes\",\"N° de Días de Viaje\",\"Número de Asegurados\"))","v":"Número de Asegurados"},null,null,{"$f":"IF(F9=\"Viajes\",F49*F50,IF(F9=\"Aforo\",F46,IF(F9=\"Eventos\",Cotizador!H63,Cotizador!$E$51)))","v":0}]
[null,true,null,{"$f":"IF(OR(F9=\"Suma Asegurada Fija\",F9=\"Suma Asegurada Variable\"),\"Prima Neta por Asegurado (*)\",Cotizador!$B144)","v":"Prima Neta por Asegurado (*)"},null,null,{"$f":"IF(OR($F$9=\"Suma Asegurada Fija\",$F$9=\"Suma Asegurada Variable\"),Cotizador!E137/Cotizador!E51,Cotizador!E144)","v":{"$error":"#DIV/0!"}},null,null,{"$f":"IF($F$9=\"Accidentes Individual\",J279,\"\")","v":""},{"$f":"IF($F$9=\"Accidentes Individual\",K279,\"\")","v":""}]
[null,true,null,{"$f":"IF(OR(F9=\"Suma Asegurada Fija\",F9=\"Suma Asegurada Variable\"),\"Prima Comercial por Asegurado (*)\",Cotizador!$B146)","v":"Prima Comercial por Asegurado (*)"},null,null,{"$f":"G117*1.03","v":{"$error":"#DIV/0!"}},null,null,{"$f":"IF($F$9=\"Accidentes Individual\",J280,\"\")","v":""},""]
[null,true,null,{"$f":"IF(OR(F9=\"Suma Asegurada Fija\",F9=\"Suma Asegurada Variable\"),\"IGV por Asegurado (*)\",Cotizador!$B147)","v":"IGV por Asegurado (*)"},null,null,{"$f":"G118*18%","v":{"$error":"#DIV/0!"}}]
[null,true,null,{"$f":"IF(OR(F9=\"Suma Asegurada Fija\",F9=\"Suma Asegurada Variable\"),\"Prima Total por Asegurado (*)\",Cotizador!$B148)","v":"Prima Total por Asegurado (*)"},null,null,{"$f":"G118+G119","v":{"$error":"#DIV/0!"}}]
[null,true]
[null,true]
[null,{"$f":"IF(Cotizador!$G$29=\"\",\"Falso\",\"Verdadero\")","v":"Falso"},null,"GRUPO 2 - COBERTURAS PRINCIPALES"]
[null,{"$f":"IF(Cotizador!$G$29=\"\",\"Falso\",\"Verdadero\")","v":"Falso"}]
[null,{"$f":"IF(Cotizador!$G$29=\"\",\"Falso\",\"Verdadero\")","v":"Falso"},null,{"$f":"VLOOKUP(Cotizador!$G$66,'Listas desplegables'!$T$1:$V$4,2,0)","v":{"$error":"#N/A"}},{"$f":"Cotizador!$G$29","v":0}]
[null,{"$f":"IF(Cotizador!$G$29=\"\",\"Falso\",\"Verdadero\")","v":"Falso"}]
[null,{"$f":"IF(Cotizador!G77<>\"\",\"Verdadero\",\"Falso\")","v":"Falso"},null,{"$f":"IF($F$9=\"Suma Asegurada Variable\",\"Muerte accidental (remuneraciones mensuales)\",\"Muerte accidental\")","v":"Muerte accidental"},null,null,null,{"$f":"Cotizador!$G$77","v":0},null,"Sin Deducible"]
[null,{"$f":"IF(Cotizador!G78<>\"\",\"Verdadero\",\"Falso\")","v":"Falso"},null,{"$f":"IF($F$9=\"Suma Asegurada Variable\",\"Invalidez Total y Permanente por Accidente (remuneraciones mensuales)\",\"Invalidez Total y Permanente por Accidente\")","v":"Invalidez Total y Permanente por Accidente"},null,null,null,{"$f":"Cotizador!$G$78","v":0},null,"Sin Deducible"]
[null,{"$f":"IF(Cotizador!G79<>\"\",\"Verdadero\",\"Falso\")","v":"Falso"},null,{"$f":"IF($F$9=\"Suma Asegurada Variable\",\"Gastos de Curación por Accidente (remuneraciones mensuales)\",\"Gastos de Curación por Accidente\")","v":"Gastos de Curación por Accidente"},null,null,null,{"$f":"Cotizador!$G$79","v":0},null,"0% de Copago"]
[null,{"$f":"IF(Cotizador!G80<>\"\",\"Verdadero\",\"Falso\")","v":"Falso"},null,{"$f":"IF($F$9=\"Suma Asegurada Variable\",\"Gastos de Sepelio por Muerte Accidental (remuneraciones mensuales)\",\"Gastos de Sepelio por Muerte Accidental\")","v":"Gastos de Sepelio por Muerte Accidental"},null,null,null,{"$f":"Cotizador!$G$80","v":0},null,"Sin Deducible"]
[null,{"$f":"IF(Cotizador!G82<>\"\",\"Verdadero\",\"Falso\")","v":"Falso"},null,{"$f":"IF($F$9=\"Suma Asegurada Variable\",\"Incapacidad Temporal (remuneraciones mensuales)\",\"Incapacidad Temporal\")","v":"Incapacidad Temporal"},null,null,null,{"$f":"Cotizador!$G$82","v":0},null,"Suma Asegurada por día"]
[null,{"$f":"IF(Cotizador!G83<>\"\",\"Verdadero\",\"Falso\")","v":"Falso"},null,null,null,null,null,{"$f":"Cotizador!$G$83","v":0},null,"N° máximo de días"]
[null,{"$f":"IF(Cotizador!G84<>\"\",\"Verdadero\",\"Falso\")","v":"Falso"},null,{"$f":"IF($F$9=\"Suma Asegurada Variable\",\"Desamparo Súbito Familiar (remuneraciones mensuales)\",\"Desamparo Súbito Familiar\")","v":"Desamparo Súbito Familiar"},null,null,null,{"$f":"Cotizador!$G$84","v":0},null,"Sin Deducible"]
[null,{"$f":"IF(Cotizador!G85<>\"\",\"Verdadero\",\"Falso\")","v":"Falso"},null,{"$f":"IF($F$9=\"Suma Asegurada Variable\",\"Renta Hospitalaria Diaria por Accidente (remuneraciones mensuales)\",\"Renta Hospitalaria Diaria por Accidente\")","v":"Renta Hospitalaria Diaria por Accidente"},null,null,null,{"$f":"Cotizador!$G$85","v":0},null,"Sin Deducible"]
[null,{"$f":"IF(Cotizador!G86<>\"\",\"Verdadero\",\"Falso\")","v":"Falso"},null,{"$f":"IF($F$9=\"Suma Asegurada Variable\",\"Repatriación de Restos Mortales (remuneraciones mensuales)\",\"Repatriación de Restos Mortales\")","v":"Repatriación de Restos Mortales"},null,null,null,{"$f":"Cotizador!$G$86","v":0},null,"Sin Deducible"]
[null,{"$f":"IF(Cotizador!G87<>\"\",\"Verdadero\",\"Falso\")","v":"Falso"},null,"Límite Agregado Anual por Gastos de Curación por Accidente",null,null,null,{"$f":"Cotizador!$G$87","v":0},null,"Sin Deducible"]
[null,{"$f":"IF(Cotizador!$G$29=\"\",\"Falso\",\"Verdadero\")","v":"Falso"}]
[null,{"$f":"IF(Cotizador!$G$29=\"\",\"Falso\",\"Verdadero\")","v":"Falso"}]
[null,{"$f":"IF(Cotizador!$G$29=\"\",\"Falso\",\"Verdadero\")","v":"Falso"},null,"GRUPO 2 - CLÁUSULAS ADICIONALES"]
[null,{"$f":"IF(Cotizador!$G$29=\"\",\"Falso\",\"Verdadero\")","v":"Falso"}]
[null,{"$f":"IF(Cotizador!$G$29=\"\",\"Falso\",\"Verdadero\")","v":"Falso"},null,{"$f":"VLOOKUP(Cotizador!$G$66,'Listas desplegables'!$T$1:$V$4,2,0)","v":{"$error":"#N/A"}},{"$f":"Cotizador!$G$29","v":0}]
[null,{"$f":"IF(Cotizador!$G$29=\"\",\"Falso\",\"Verdadero\")","v":"Falso"}]
[null,{"$f":"IF(Cotizador!G90=\"Si\",\"Verdadero\",\"Falso\")","v":"Falso"},null,"Cláusula por la cobertura de Terrorismo y otros riesgos. "]
[null,{"$f":"IF(Cotizador!G91=\"Si\",\"Verdadero\",\"Falso\")","v":"Falso"},null,"Cláusula de ampliación del límite máximo de edad, personas mayores de 70 y hasta los 80 años inclusive."]
[null,{"$f":"IF(Cotizador!G92=\"Si\",\"Verdadero\",\"Falso\")","v":"Falso"},null,"Cláusula de asegurado menor de edad"]
[null,{"$f":"IF(Cotizador!G93=\"Si\",\"Verdadero\",\"Falso\")","v":"Falso"},null,"Por limitación a horas de trabajo."]
[null,{"$f":"IF(Cotizador!G94=\"Si\",\"Verdadero\",\"Falso\")","v":"Falso"},null,"Cláusula por la práctica no profesional de deportes y/o actividades de riesgo. N1"]
[null,{"$f":"IF(Cotizador!G95=\"Si\",\"Verdadero\",\"Falso\")","v":"Falso"},null,"Cláusula por la práctica no profesional de deportes y/o actividades de riesgo. N2"]
[null,{"$f":"IF(Cotizador!G96=\"Si\",\"Verdadero\",\"Falso\")","v":"Falso"},null,"Cláusula por la práctica no profesional de deportes y/o actividades de riesgo. N3"]
[null,{"$f":"IF(Cotizador!G97=\"Si\",\"Verdadero\",\"Falso\")","v":"Falso"},null,"Cláusula por la conducción urbana o rural de motocicletas, motonetas y otros vehículos similares."]
[null,{"$f":"IF(Cotizador!G98=\"Si\",\"Verdadero\",\"Falso\")","v":"Falso"},null,"Cláusula para pasajeros que usan cualquier medio habitual de transporte público de personas, en vehículos que no recorren itinerarios regulares y fijos. "]
[null,{"$f":"IF(Cotizador!G99=\"Si\",\"Verdadero\",\"Falso\")","v":"Falso"},null,"Ocupantes de vehiculos automotores particulares (no comerciales) por accidentes de tránsito."]
[null,{"$f":"IF(Cotizador!G100=\"Si\",\"Verdadero\",\"Falso\")","v":"Falso"},null,"Cláusula para pasajeros de aviones y/o helicópteros particulares y/o de la FAP por viajes eventuales. N1"]
[null,{"$f":"IF(Cotizador!G101=\"Si\",\"Verdadero\",\"Falso\")","v":"Falso"},null,"Cláusula para pasajeros de aviones y/o helicópteros particulares y/o de la FAP por viajes eventuales. N2"]
[null,{"$f":"IF(Cotizador!G102=\"Si\",\"Verdadero\",\"Falso\")","v":"Falso"},null,"Cláusula para pasajeros de aviones y/o helicópteros particulares y/o de la FAP por viajes eventuales. N3"]
[null,{"$f":"IF(Cotizador!G103=\"Si\",\"Verdadero\",\"Falso\")","v":"Falso"},null,"Pescadores y/o Estibadores"]
[null,{"$f":"IF(Cotizador!G104=\"Si\",\"Verdadero\",\"Falso\")","v":"Falso"},null,"Cláusula de invalidez permanente parcial previa al seguro."]
[null,{"$f":"IF(Cotizador!G105=\"Si\",\"Verdadero\",\"Falso\")","v":"Falso"},null,"Muerte accidental en transporte público y aviación comercial"]
[null,{"$f":"IF(Cotizador!G106=\"Si\",\"Verdadero\",\"Falso\")","v":"Falso"},null,"Por usar y/o portar armas"]
[null,{"$f":"IF(Cotizador!G107=\"Si\",\"Verdadero\",\"Falso\")","v":"Falso"},null,"Por cubrir gastos no reembolsables por ESSALUD"]
[null,{"$f":"IF(Cotizador!G108=\"Si\",\"Verdadero\",\"Falso\")","v":"Falso"},null,"Terremoto y/o temblor y/o huaycos y/u otros fenómenos de la naturaleza"]
[null,{"$f":"IF(Cotizador!$G$29=\"\",\"Falso\",\"Verdadero\")","v":"Falso"}]
[null,{"$f":"IF(Cotizador!$G$29=\"\",\"Falso\",\"Verdadero\")","v":"Falso"}]
[null,{"$f":"IF(Cotizador!$G$29=\"\",\"Falso\",\"Verdadero\")","v":"Falso"},null,"GRUPO 2 - PRIMA PROPUESTA",null,null,"Profesor"]
[null,{"$f":"IF(Cotizador!$G$29=\"\",\"Falso\",\"Verdadero\")","v":"Falso"}]
[null,{"$f":"IF(Cotizador!$G$29=\"\",\"Falso\",\"Verdadero\")","v":"Falso"},null,"Número de Asegurados",null,null,{"$f":"Cotizador!$G$51","v":0}]
[null,{"$f":"IF(Cotizador!$G$29=\"\",\"Falso\",\"Verdadero\")","v":"Falso"},null,"Prima Neta por Asegurado (*)",null,null,{"$f":"IFERROR(IF(OR($F$9=\"Suma Asegurada Fija\",$F$9=\"Suma Asegurada Variable\"),Cotizador!G137/Cotizador!G51,0),0)","v":0}]
[null,{"$f":"IF(Cotizador!$G$29=\"\",\"Falso\",\"Verdadero\")","v":"Falso"},null,"Prima Comercial por Asegurado (*)",null,null,{"$f":"G167*1.03","v":0}]
[null,{"$f":"IF(Cotizador!$G$29=\"\",\"Falso\",\"Verdadero\")","v":"Falso"},null,"IGV por Asegurado",null,null,{"$f":"G168*18%","v":0}]
[null,{"$f":"IF(Cotizador!$G$29=\"\",\"Falso\",\"Verdadero\")","v":"Falso"},null,"Prima Total por Asegurado",null,null,{"$f":"G168+G169","v":0}]
[null,{"$f":"IF(Cotizador!$G$29=\"\",\"Falso\",\"Verdadero\")","v":"Falso"}]
[null,{"$f":"IF(Cotizador!$G$29=\"\",\"Falso\",\"Verdadero\")","v":"Falso"}]
[null,{"$f":"IF(Cotizador!$I$29=\"\",\"Falso\",\"Verdadero\")","v":"Falso"},null,"GRUPO 3 - COBERTURAS PRINCIPALES"]
[null,{"$f":"IF(Cotizador!$I$29=\"\",\"Falso\",\"Verdadero\")","v":"Falso"}]
[null,{"$f":"IF(Cotizador!$I$29=\"\",\"Falso\",\"Verdadero\")","v":"Falso"},null,{"$f":"VLOOKUP(Cotizador!$I$66,'Listas desplegables'!$T$1:$V$4,2,0)","v":{"$error":"#N/A"}},{"$f":"Cotizador!$I$29","v":0}]
[null,{"$f":"IF(Cotizador!$I$29=\"\",\"Falso\",\"Verdadero\")","v":"Falso"}]
[null,{"$f":"IF(Cotizador!I77<>\"\",\"Verdadero\",\"Falso\")","v":"Falso"},null,{"$f":"IF($F$9=\"Suma Asegurada Variable\",\"Muerte accidental (remuneraciones mensuales)\",\"Muerte accidental\")","v":"Muerte accidental"},null,null,null,{"$f":"Cotizador!$I$77","v":0},null,"Sin Deducible"]
[null,{"$f":"IF(Cotizador!I78<>\"\",\"Verdadero\",\"Falso\")","v":"Falso"},null,{"$f":"IF($F$9=\"Suma Asegurada Variable\",\"Invalidez Total y Permanente por Accidente (remuneraciones mensuales)\",\"Invalidez Total y Permanente por Accidente\")","v":"Invalidez Total y Permanente por Accidente"},null,null,null,{"$f":"Cotizador!$I$78","v":0},null,"Sin Deducible"]
[null,{"$f":"IF(Cotizador!I79<>\"\",\"Verdadero\",\"Falso\")","v":"Falso"},null,{"$f":"IF($F$9=\"Suma Asegurada Variable\",\"Gastos de Curación por Accidente (remuneraciones mensuales)\",\"Gastos de Curación por Accidente\")","v":"Gastos de Curación por Accidente"},null,null,null,{"$f":"Cotizador!$I$79","v":0},null,"0% de Copago"]
[null,{"$f":"IF(Cotizador!I80<>\"\",\"Verdadero\",\"Falso\")","v":"Falso"},null,{"$f":"IF($F$9=\"Suma Asegurada Variable\",\"Gastos de Sepelio por Muerte Accidental (remuneraciones mensuales)\",\"Gastos de Sepelio por Muerte Accidental\")","v":"Gastos de Sepelio por Muerte Accidental"},null,null,null,{"$f":"Cotizador!$I$80","v":0},null,"Sin Deducible"]
[null,{"$f":"IF(Cotizador!I82<>\"\",\"Verdadero\",\"Falso\")","v":"Falso"},null,{"$f":"IF($F$9=\"Suma Asegurada Variable\",\"Incapacidad Temporal (remuneraciones mensuales)\",\"Incapacidad Temporal\")","v":"Incapacidad Temporal"},null,null,null,{"$f":"Cotizador!$I$82","v":0},null,"Suma Asegurada por día"]
[null,{"$f":"IF(Cotizador!I83<>\"\",\"Verdadero\",\"Falso\")","v":"Falso"},null,null,null,null,null,{"$f":"Cotizador!$I$83","v":0},null,"N° máximo de días"]
[null,{"$f":"IF(Cotizador!I84<>\"\",\"Verdadero\",\"Falso\")","v":"Falso"},null,{"$f":"IF($F$9=\"Suma Asegurada Variable\",\"Desamparo Súbito Familiar (remuneraciones mensuales)\",\"Desamparo Súbito Familiar\")","v":"Desamparo Súbito Familiar"},null,null,null,{"$f":"Cotizador!$I$84","v":0},null,"Sin Deducible"]
[null,{"$f":"IF(Cotizador!I85<>\"\",\"Verdadero\",\"Falso\")","v":"Falso"},null,{"$f":"IF($F$9=\"Suma Asegurada Variable\",\"Renta Hospitalaria Diaria por Accidente (remuneraciones mensuales)\",\"Renta Hospitalaria Diaria por Accidente\")","v":"Renta Hospitalaria Diaria por Accidente"},null,null,null,{"$f":"Cotizador!$I$85","v":0},null,"Sin Deducible"]
[null,{"$f":"IF(Cotizador!I86<>\"\",\"Verdadero\",\"Falso\")","v":"Falso"},null,{"$f":"IF($F$9=\"Suma Asegurada Variable\",\"Repatriación de Restos Mortales (remuneraciones mensuales)\",\"Repatriación de Restos Mortales\")","v":"Repatriación de Restos Mortales"},null,null,null,{"$f":"Cotizador!$I$86","v":0},null,"Sin Deducible"]
[null,{"$f":"IF(Cotizador!I87<>\"\",\"Verdadero\",\"Falso\")","v":"Falso"},null,"Límite Agregado Anual por Gastos de Curación por Accidente",null,null,null,{"$f":"Cotizador!$I$87","v":0},null,"Sin Deducible"]
[null,{"$f":"IF(Cotizador!$I$29=\"\",\"Falso\",\"Verdadero\")","v":"Falso"}]
[null,{"$f":"IF(Cotizador!$I$29=\"\",\"Falso\",\"Verdadero\")","v":"Falso"}]
[null,{"$f":"IF(Cotizador!$I$29=\"\",\"Falso\",\"Verdadero\")","v":"Falso"},null,"GRUPO 3 - CLÁUSULAS ADICIONALES"]
[null,{"$f":"IF(Cotizador!$I$29=\"\",\"Falso\",\"Verdadero\")","v":"Falso"}]
[null,{"$f":"IF(Cotizador!$I$29=\"\",\"Falso\",\"Verdadero\")","v":"Falso"},null,{"$f":"VLOOKUP(Cotizador!$I$66,'Listas desplegables'!$T$1:$V$4,2,0)","v":{"$error":"#N/A"}},{"$f":"Cotizador!$I$29","v":0}]
[null,{"$f":"IF(Cotizador!$I$29=\"\",\"Falso\",\"Verdadero\")","v":"Falso"}]
[null,{"$f":"IF(Cotizador!I90=\"Si\",\"Verdadero\",\"Falso\")","v":"Falso"},null,"Cláusula por la cobertura de Terrorismo y otros riesgos. "]
[null,{"$f":"IF(Cotizador!I91=\"Si\",\"Verdadero\",\"Falso\")","v":"Falso"},null,"Cláusula de ampliación del límite máximo de edad, personas mayores de 70 y hasta los 80 años inclusive."]
[null,{"$f":"IF(Cotizador!I92=\"Si\",\"Verdadero\",\"Falso\")","v":"Falso"},null,"Cláusula de asegurado menor de edad"]
[null,{"$f":"IF(Cotizador!I93=\"Si\",\"Verdadero\",\"Falso\")","v":"Falso"},null,"Por limitación a horas de trabajo."]
[null,{"$f":"IF(Cotizador!I94=\"Si\",\"Verdadero\",\"Falso\")","v":"Falso"},null,"Cláusula por la práctica no profesional de deportes y/o actividades de riesgo. N1"]
[null,{"$f":"IF(Cotizador!I95=\"Si\",\"Verdadero\",\"Falso\")","v":"Falso"},null,"Cláusula por la práctica no profesional de deportes y/o actividades de riesgo. N2"]
[null,{"$f":"IF(Cotizador!I96=\"Si\",\"Verdadero\",\"Falso\")","v":"Falso"},null,"Cláusula por la práctica no profesional de deportes y/o actividades de riesgo. N3"]
[null,{"$f":"IF(Cotizador!I97=\"Si\",\"Verdadero\",\"Falso\")","v":"Falso"},null,"Cláusula por la conducción urbana o rural de motocicletas, motonetas y otros vehículos similares."]
[null,{"$f":"IF(Cotizador!I98=\"Si\",\"Verdadero\",\"Falso\")","v":"Falso"},null,"Cláusula para pasajeros que usan cualquier medio habitual de transporte público de personas, en vehículos que no recorren itinerarios regulares y fijos. "]
[null,{"$f":"IF(Cotizador!I99=\"Si\",\"Verdadero\",\"Falso\")","v":"Falso"},null,"Ocupantes de vehiculos automotores particulares (no comerciales) por accidentes de tránsito."]
[null,{"$f":"IF(Cotizador!I100=\"Si\",\"Verdadero\",\"Falso\")","v":"Falso"},null,"Cláusula para pasajeros de aviones y/o helicópteros particulares y/o de la FAP por viajes eventuales. N1"]
[null,{"$f":"IF(Cotizador!I101=\"Si\",\"Verdadero\",\"Falso\")","v":"Falso"},null,"Cláusula para pasajeros de aviones y/o helicópteros particulares y/o de la FAP por viajes eventuales. N2"]
[null,{"$f":"IF(Cotizador!I102=\"Si\",\"Verdadero\",\"Falso\")","v":"Falso"},null,"Cláusula para pasajeros de aviones y/o helicópteros particulares y/o de la FAP por viajes eventuales. N3"]
[null,{"$f":"IF(Cotizador!I103=\"Si\",\"Verdadero\",\"Falso\")","v":"Falso"},null,"Pescadores y/o Estibadores"]
[null,{"$f":"IF(Cotizador!I104=\"Si\",\"Verdadero\",\"Falso\")","v":"Falso"},null,"Cláusula de invalidez permanente parcial previa al seguro."]
[null,{"$f":"IF(Cotizador!I105=\"Si\",\"Verdadero\",\"Falso\")","v":"Falso"},null,"Muerte accidental en transporte público y aviación comercial"]
[null,{"$f":"IF(Cotizador!I106=\"Si\",\"Verdadero\",\"Falso\")","v":"Falso"},null,"Por usar y/o portar armas"]
[null,{"$f":"IF(Cotizador!I107=\"Si\",\"Verdadero\",\"Falso\")","v":"Falso"},null,"Por cubrir gastos no reembolsables por ESSALUD"]
[null,{"$f":"IF(Cotizador!I108=\"Si\",\"Verdadero\",\"Falso\")","v":"Falso"},null,"Terremoto y/o temblor y/o huaycos y/u otros fenómenos de la naturaleza"]
[null,{"$f":"IF(Cotizador!$I$29=\"\",\"Falso\",\"Verdadero\")","v":"Falso"}]
[null,{"$f":"IF(Cotizador!$I$29=\"\",\"Falso\",\"Verdadero\")","v":"Falso"}]
[null,{"$f":"IF(Cotizador!$I$29=\"\",\"Falso\",\"Verdadero\")","v":"Falso"},null,"GRUPO 3 - PRIMA PROPUESTA",null,null,"Profesor"]
[null,{"$f":"IF(Cotizador!$I$29=\"\",\"Falso\",\"Verdadero\")","v":"Falso"}]
[null,{"$f":"IF(Cotizador!$I$29=\"\",\"Falso\",\"Verdadero\")","v":"Falso"},null,"Número de Asegurados",null,null,{"$f":"Cotizador!$I$51","v":0}]
[null,{"$f":"IF(Cotizador!$I$29=\"\",\"Falso\",\"Verdadero\")","v":"Falso"},null,"Prima Neta por Asegurado (*)",null,null,{"$f":"IFERROR(IF(OR($F$9=\"Suma Asegurada Fija\",$F$9=\"Suma Asegurada Variable\"),Cotizador!I137/Cotizador!I51,0),0)","v":0}]
[null,{"$f":"IF(Cotizador!$I$29=\"\",\"Falso\",\"Verdadero\")","v":"Falso"},null,"Prima Comercial por Asegurado (*)",null,null,{"$f":"G217*1.03","v":0}]
[null,{"$f":"IF(Cotizador!$I$29=\"\",\"Falso\",\"Verdadero\")","v":"Falso"},null,"IGV por Asegurado",null,null,{"$f":"G218*18%","v":0}]
[null,{"$f":"IF(Cotizador!$I$29=\"\",\"Falso\",\"Verdadero\")","v":"Falso"},null,"Prima Total por Asegurado",null,null,{"$f":"G218+G219","v":0}]
[null,{"$f":"IF(Cotizador!$I$29=\"\",\"Falso\",\"Verdadero\")","v":"Falso"}]
[null,{"$f":"IF(Cotizador!$I$29=\"\",\"Falso\",\"Verdadero\")","v":"Falso"}]
[null,{"$f":"IF(Cotizador!$K$29=\"\",\"Falso\",\"Verdadero\")","v":"Falso"},null,"GRUPO 4 - COBERTURAS PRINCIPALES"]
[null,{"$f":"IF(Cotizador!$K$29=\"\",\"Falso\",\"Verdadero\")","v":"Falso"}]
[null,{"$f":"IF(Cotizador!$K$29=\"\",\"Falso\",\"Verdadero\")","v":"Falso"},null,{"$f":"VLOOKUP(Cotizador!$K$66,'Listas desplegables'!$T$1:$V$4,2,0)","v":{"$error":"#N/A"}},{"$f":"Cotizador!$K$29","v":0}]
[null,{"$f":"IF(Cotizador!$K$29=\"\",\"Falso\",\"Verdadero\")","v":"Falso"}]
[null,{"$f":"IF(Cotizador!K77<>\"\",\"Verdadero\",\"Falso\")","v":"Falso"},null,{"$f":"IF($F$9=\"Suma Asegurada Variable\",\"Muerte accidental (remuneraciones mensuales)\",\"Muerte accidental\")","v":"Muerte accidental"},null,null,null,{"$f":"Cotizador!$K$77","v":0},null,"Sin Deducible"]
[null,{"$f":"IF(Cotizador!K78<>\"\",\"Verdadero\",\"Falso\")","v":"Falso"},null,{"$f":"IF($F$9=\"Suma Asegurada Variable\",\"Invalidez Total y Permanente por Accidente (remuneraciones mensuales)\",\"Invalidez Total y Permanente por Accidente\")","v":"Invalidez Total y Permanente por Accidente"},null,null,null,{"$f":"Cotizador!$K$78","v":0},null,"Sin Deducible"]
[null,{"$f":"IF(Cotizador!K79<>\"\",\"Verdadero\",\"Falso\")","v":"Falso"},null,{"$f":"IF($F$9=\"Suma Asegurada Variable\",\"Gastos de Curación por Accidente (remuneraciones mensuales)\",\"Gastos de Curación por Accidente\")","v":"Gastos de Curación por Accidente"},null,null,null,{"$f":"Cotizador!$K$79","v":0},null,"0% de Copago"]
[null,{"$f":"IF(Cotizador!K80<>\"\",\"Verdadero\",\"Falso\")","v":"Falso"},null,{"$f":"IF($F$9=\"Suma Asegurada Variable\",\"Gastos de Sepelio por Muerte Accidental (remuneraciones mensuales)\",\"Gastos de Sepelio por Muerte Accidental\")","v":"Gastos de Sepelio por Muerte Accidental"},null,null,null,{"$f":"Cotizador!$K$80","v":0},null,"Sin Deducible"]
[null,{"$f":"IF(Cotizador!K82<>\"\",\"Verdadero\",\"Falso\")","v":"Falso"},null,{"$f":"IF($F$9=\"Suma Asegurada Variable\",\"Incapacidad Temporal (remuneraciones mensuales)\",\"Incapacidad Temporal\")","v":"Incapacidad Temporal"},null,null,null,{"$f":"Cotizador!$K$82","v":0},null,"Suma Asegurada por día"]
[null,{"$f":"IF(Cotizador!K83<>\"\",\"Verdadero\",\"Falso\")","v":"Falso"},null,null,null,null,null,{"$f":"Cotizador!$K$83","v":0},null,"N° máximo de días"]
[null,{"$f":"IF(Cotizador!K84<>\"\",\"Verdadero\",\"Falso\")","v":"Falso"},null,{"$f":"IF($F$9=\"Suma Asegurada Variable\",\"Desamparo Súbito Familiar (remuneraciones mensuales)\",\"Desamparo Súbito Familiar\")","v":"Desamparo Súbito Familiar"},null,null,null,{"$f":"Cotizador!$K$84","v":0},null,"Sin Deducible"]
[null,{"$f":"IF(Cotizador!K85<>\"\",\"Verdadero\",\"Falso\")","v":"Falso"},null,{"$f":"IF($F$9=\"Suma Asegurada Variable\",\"Renta Hospitalaria Diaria por Accidente (remuneraciones mensuales)\",\"Renta Hospitalaria Diaria por Accidente\")","v":"Renta Hospitalaria Diaria por Accidente"},null,null,null,{"$f":"Cotizador!$K$85","v":0},null,"Sin Deducible"]
[null,{"$f":"IF(Cotizador!K86<>\"\",\"Verdadero\",\"Falso\")","v":"Falso"},null,{"$f":"IF($F$9=\"Suma Asegurada Variable\",\"Repatriación de Restos Mortales (remuneraciones mensuales)\",\"Repatriación de Restos Mortales\")","v":"Repatriación de Restos Mortales"},null,null,null,{"$f":"Cotizador!$K$86","v":0},null,"Sin Deducible"]
[null,{"$f":"IF(Cotizador!K87<>\"\",\"Verdadero\",\"Falso\")","v":"Falso"},null,"Límite Agregado Anual por Gastos de Curación por Accidente",null,null,null,{"$f":"Cotizador!$K$87","v":0},null,"Sin Deducible"]
[null,{"$f":"IF(Cotizador!$K$29=\"\",\"Falso\",\"Verdadero\")","v":"Falso"}]
[null,{"$f":"IF(Cotizador!$K$29=\"\",\"Falso\",\"Verdadero\")","v":"Falso"}]
[null,{"$f":"IF(Cotizador!$K$29=\"\",\"Falso\",\"Verdadero\")","v":"Falso"},null,"GRUPO 4 - CLÁUSULAS ADICIONALES"]
[null,{"$f":"IF(Cotizador!$K$29=\"\",\"Falso\",\"Verdadero\")","v":"Falso"}]
[null,{"$f":"IF(Cotizador!$K$29=\"\",\"Falso\",\"Verdadero\")","v":"Falso"},null,{"$f":"VLOOKUP(Cotizador!$K$66,'Listas desplegables'!$T$1:$V$4,2,0)","v":{"$error":"#N/A"}},{"$f":"Cotizador!$K$29","v":0}]
[null,{"$f":"IF(Cotizador!$K$29=\"\",\"Falso\",\"Verdadero\")","v":"Falso"}]
[null,{"$f":"IF(Cotizador!K90=\"Si\",\"Verdadero\",\"Falso\")","v":"Falso"},null,"Cláusula por la cobertura de Terrorismo y otros riesgos. "]
[null,{"$f":"IF(Cotizador!K91=\"Si\",\"Verdadero\",\"Falso\")","v":"Falso"},null,"Cláusula de ampliación del límite máximo de edad, personas mayores de 70 y hasta los 80 años inclusive."]
[null,{"$f":"IF(Cotizador!K92=\"Si\",\"Verdadero\",\"Falso\")","v":"Falso"},null,"Cláusula de asegurado menor de edad"]
[null,{"$f":"IF(Cotizador!K93=\"Si\",\"Verdadero\",\"Falso\")","v":"Falso"},null,"Por limitación a horas de trabajo."]
[null,{"$f":"IF(Cotizador!K94=\"Si\",\"Verdadero\",\"Falso\")","v":"Falso"},null,"Cláusula por la práctica no profesional de deportes y/o actividades de riesgo. N1"]
[null,{"$f":"IF(Cotizador!K95=\"Si\",\"Verdadero\",\"Falso\")","v":"Falso"},null,"Cláusula por la práctica no profesional de deportes y/o actividades de riesgo. N2"]
[null,{"$f":"IF(Cotizador!K96=\"Si\",\"Verdadero\",\"Falso\")","v":"Falso"},null,"Cláusula por la práctica no profesional de deportes y/o actividades de riesgo. N3"]
[null,{"$f":"IF(Cotizador!K97=\"Si\",\"Verdadero\",\"Falso\")","v":"Falso"},null,"Cláusula por la conducción urbana o rural de motocicletas, motonetas y otros vehículos similares."]
[null,{"$f":"IF(Cotizador!K98=\"Si\",\"Verdadero\",\"Falso\")","v":"Falso"},null,"Cláusula para pasajeros que usan cualquier medio habitual de transporte público de personas, en vehículos que no recorren itinerarios regulares y fijos. "]
[null,{"$f":"IF(Cotizador!K99=\"Si\",\"Verdadero\",\"Falso\")","v":"Falso"},null,"Ocupantes de vehiculos automotores particulares (no comerciales) por accidentes de tránsito."]
[null,{"$f":"IF(Cotizador!K100=\"Si\",\"Verdadero\",\"Falso\")","v":"Falso"},null,"Cláusula para pasajeros de aviones y/o helicópteros particulares y/o de la FAP por viajes eventuales. N1"]
[null,{"$f":"IF(Cotizador!K101=\"Si\",\"Verdadero\",\"Falso\")","v":"Falso"},null,"Cláusula para pasajeros de aviones y/o helicópteros particulares y/o de la FAP por viajes eventuales. N2"]
[null,{"$f":"IF(Cotizador!K102=\"Si\",\"Verdadero\",\"Falso\")","v":"Falso"},null,"Cláusula para pasajeros de aviones y/o helicópteros particulares y/o de la FAP por viajes eventuales. N3"]
[null,{"$f":"IF(Cotizador!K103=\"Si\",\"Verdadero\",\"Falso\")","v":"Falso"},null,"Pescadores y/o Estibadores"]
[null,{"$f":"IF(Cotizador!K104=\"Si\",\"Verdadero\",\"Falso\")","v":"Falso"},null,"Cláusula de invalidez permanente parcial previa al seguro."]
[null,{"$f":"IF(Cotizador!K105=\"Si\",\"Verdadero\",\"Falso\")","v":"Falso"},null,"Muerte accidental en transporte público y aviación comercial"]
[null,{"$f":"IF(Cotizador!K106=\"Si\",\"Verdadero\",\"Falso\")","v":"Falso"},null,"Por usar y/o portar armas"]
[null,{"$f":"IF(Cotizador!K107=\"Si\",\"Verdadero\",\"Falso\")","v":"Falso"},null,"Por cubrir gastos no reembolsables por ESSALUD"]
[null,{"$f":"IF(Cotizador!K108=\"Si\",\"Verdadero\",\"Falso\")","v":"Falso"},null,"Terremoto y/o temblor y/o huaycos y/u otros fenómenos de la naturaleza"]
[null,{"$f":"IF(Cotizador!$K$29=\"\",\"Falso\",\"Verdadero\")","v":"Falso"}]
[null,{"$f":"IF(Cotizador!$K$29=\"\",\"Falso\",\"Verdadero\")","v":"Falso"}]
[null,{"$f":"IF(Cotizador!$K$29=\"\",\"Falso\",\"Verdadero\")","v":"Falso"},null,"GRUPO 4 - PRIMA PROPUESTA",null,null,"Profesor"]
[null,{"$f":"IF(Cotizador!$K$29=\"\",\"Falso\",\"Verdadero\")","v":"Falso"}]
[null,{"$f":"IF(Cotizador!$K$29=\"\",\"Falso\",\"Verdadero\")","v":"Falso"},null,"Número de Asegurados",null,null,{"$f":"Cotizador!$K$51","v":0}]
[null,{"$f":"IF(Cotizador!$K$29=\"\",\"Falso\",\"Verdadero\")","v":"Falso"},null,"Prima Neta por Asegurado (*)",null,null,{"$f":"IFERROR(IF(OR($F$9=\"Suma Asegurada Fija\",$F$9=\"Suma Asegurada Variable\"),Cotizador!K137/Cotizador!K51,0),0)","v":0}]
[null,{"$f":"IF(Cotizador!$K$29=\"\",\"Falso\",\"Verdadero\")","v":"Falso"},null,"Prima Comercial por Asegurado (*)",null,null,{"$f":"G267*1.03","v":0}]
[null,{"$f":"IF(Cotizador!$K$29=\"\",\"Falso\",\"Verdadero\")","v":"Falso"},null,"IGV por Asegurado",null,null,{"$f":"G268*18%","v":0}]
[null,{"$f":"IF(Cotizador!$K$29=\"\",\"Falso\",\"Verdadero\")","v":"Falso"},null,"Prima Total por Asegurado",null,null,{"$f":"G268+G269","v":0}]
[null,{"$f":"IF(Cotizador!$K$29=\"\",\"Falso\",\"Verdadero\")","v":"Falso"}]
[null,{"$f":"IF(Cotizador!$K$29=\"\",\"Falso\",\"Verdadero\")","v":"Falso"}]
[null,true,null,{"$f":"IF(F9=\"Accidentes Individual\",\"V) FORMA DE PAGO\",\"V) PRIMA TOTAL Y FORMA DE PAGO\")","v":"V) PRIMA TOTAL Y FORMA DE PAGO"}]
[null,true]
[null,{"$f":"IF($F$9=\"Accidentes Individual\",\"Falso\",\"Verdadero\")","v":"Verdadero"},null,"TOTAL PÓLIZA"]
[null,"Verdadero"]
[null,"Verdadero",null,{"$f":"IF(F9<>\"Viajes\",\"Número de Asegurados\",\"N° de Días de Viaje\")","v":"Número de Asegurados"},null,null,{"$f":"IF(F9<>\"Viajes\",G116+G166+G216+G266,F49*F50)","v":0}]
[null,{"$f":"IF($F$9=\"Suma Asegurada Variable\",\"Verdadero\",\"Falso\")","v":"Falso"},null,"Tasa Neta sobre Planilla Anual",null,null,{"$f":"Cotizador!C135","v":0}]
[null,"Verdadero",null,"Prima Neta",null,null,{"$f":"IF(F9=\"Viajes\",G117*F49*F50,((G117*G116)+(G167*G166)+(G217*G216)+(G267*G266)))","v":{"$error":"#DIV/0!"}},null,null,"CGW",{"$f":"Cotizador!$J$18*100","v":25}]
[null,"Verdadero",null,"Prima Comercial",null,null,{"$f":"G279*1.03","v":{"$error":"#DIV/0!"}},null,null,"UGW",{"$f":"Calculadora!GT17*100","v":{"$error":"#DIV/0!"}}]
[null,"Verdadero",null,"IGV",null,null,{"$f":"G280*18%","v":{"$error":"#DIV/0!"}}]
[null,"Verdadero",null,"Prima Total",null,null,{"$f":"G280+G281","v":{"$error":"#DIV/0!"}}]
[null,"Verdadero"]
[null,"Verdadero"]
[null,true,null,"FORMA DE PAGO"]
[null,true]
[null,true,null,"Modalidad de Pago",null,null,{"$f":"Cotizador!$C$158","v":"Débito Automático"}]
[null,true,null,"N° Cuotas",null,null,{"$f":"Cotizador!$C$160","v":0}]
[null,true,null,"Prima Total por Cuota",null,null,{"$f":"Cotizador!$C$161","v":0}]
[null,true]
[null,true]
[null,true,null,"DISCLAIMER"]
[null,true]
[null,true,null,"Se deja constancia expresa que la presente cotización se originó con información brindada por el ASEGURADO y/o CONTRATANTE, así como la no existencia de siniestros conocidos, ocurridos, ni reportados."]
[null,true]
[null,true]
[null,true,null,"Las condiciones antes detalladas quedan sujetas al no aumento de la siniestralidad antes del inicio de la vigencia."]
[null,true]
[null,true,null,"La presente cotización se ha basado en la información presentada por el cliente, en caso de sufrir modificaciones para la orden de emisión, Pacifico se reserva el derecho de anular, cambiar o ajustar las condiciones y términos presentados."]
[null,true]
[null,true]
[null,true,null,"La presente cotización tiene una validez de quince (15) días calendarios, contados a partir de la fecha de cotización."]
[null,true]
[null,true,null,"La Compañía, se obliga a entregar la póliza de seguro al contratante y/o asegurado dentro de 15 días calendario de haber recibido la solicitud si no media rechazo previo de ésta. En el supuesto que el contratante y/o asegurado no completen la información y/o no cumplan con las medidas que la compañía requiera, se considerará rechazada la solicitud al vencimiento del plazo indicado. El contratante y/o asegurado podrá presentar una nueva solicitud."]
[null,true]
[null,true]
[null,true]
[null,true,null,"(*) La prima comercial por asegurado entregada en este slip es referencial y la prima de emisión tiene una diferencia de +/- 0.05 centavos en la moneda"]
[null,true,null,"indicada."]
[null,true]
[null,true]

{"sheet":"tabla","index":7,"n_rows":49,"n_cols":45,"rows_kept":49,"cut":false,"hidden":true,"merged":[]}
[null,null,null,"Producto","Siglas","Celdas Ocultas","rangoFilas",null,null,null,"Perfil","Celdas Ocultas","rangoFilas",null,null,null,"Perfiles","Hojas",null,null,null,"Producto","Siglas","Tipo de Póliza","Rango de Cobertura",null,null,null,"Perfiles",null,null,null,null,null,"Producto","Siglas","Celdas Ocultas","rangoFilas","<- INFO PARA SLIP -> ","Perfil","Celdas Ocultas","rangoFilas","<- INFO PARA SLIP -> ","bloquesDesde","bloquesHasta"]
[null,null,null,"Suma Asegurada Fija","ESF","A32:L49","32:49",null,null,null,"Broker","A81:L87","81:87",null,null,null,"Broker","Panel",null,null,null,"Suma Asegurada Fija","ESF","Nominativa","24 horas",null,null,null,"Broker",null,null,null,null,null,"Suma Asegurada Fija","ESF","C38:L51","38:51",null,"Broker","C64:L69","64:69",null,17,17]
[null,null,null,"Suma Asegurada Fija","ESF","A55:L66","55:66",null,null,null,"Broker","A95:L96","95:96",null,null,null,"Broker","ListarArchivos",null,null,null,"Suma Asegurada Variable","TAS","Nominativa","24 horas",null,null,null,"Comercial",null,null,null,null,null,"Suma Asegurada Fija","ESF","C95:L111","95:111",null,"Broker","C81:L82","81:82",null,60,69]
[null,null,null,"Suma Asegurada Fija","ESF","A108:L125","108:125",null,null,null,"Broker","A101:L107","101:107",null,null,null,"Broker","Cotizador",null,null,null,"Tripulantes","TRI","Nominativa","24 horas",null,null,null,"Producto",null,null,null,null,null,"Suma Asegurada Fija","ESF","C278:L278","278:278",null,"Broker","C87:L93","87:93",null,76,111]
[null,null,null,"Suma Asegurada Fija","ESF","A142:L154","142:154",null,null,null,"Broker","A113:L114","113:114",null,null,null,"Comercial","Panel",null,null,null,"Ocupantes","OCU","No Nominativa","Limitado a horas de trabajo",null,null,null,null,null,null,null,null,null,"Suma Asegurada Variable","TAS","C40:L51","40:51",null,"Broker","C99:L100","99:100",null,123,272]
[null,null,null,"Suma Asegurada Variable","TAS","A32:L49","32:49",null,null,null,"Broker","A118:L119","118:119",null,null,null,"Comercial","ListarArchivos",null,null,null,"Viajes","VIA","Nominativa","24 horas",null,null,null,null,null,null,null,null,null,"Suma Asegurada Variable","TAS","C95:L111","95:111",null,"Broker","C104:L105","104:105",null,275,284]
[null,null,null,"Suma Asegurada Variable","TAS","A58:L67","58:67",null,null,null,"Broker","A121:L122","121:122",null,null,null,"Comercial","Cotizador",null,null,null,"Aforo","AFO","No Nominativa","Limitado a horas de trabajo",null,null,null,null,null,null,null,null,null,"Tripulantes","TRI","C38:L39","38:39",null,"Broker","C107:L111","107:111"]
[null,null,null,"Suma Asegurada Variable","TAS","A108:L125","108:125",null,null,null,"Broker","A124:L125","124:125",null,null,null,"Comercial","Trama",null,null,null,"Eventos","EVE","No Nominativa","Limitado a horas de trabajo",null,null,null,null,null,null,null,null,null,"Tripulantes","TRI","C42:L51","42:51",null,"Broker","C131:L136","131:136"]
[null,null,null,"Suma Asegurada Variable","TAS","A142:L154","142:154",null,null,null,"Broker","A133:L133","133:133",null,null,null,"Producto","configuracion",null,null,null,"Accidentes Individual","ACI","Nominativa","24 horas",null,null,null,null,null,null,null,null,null,"Tripulantes","TRI","C94:L111","94:111",null,"Broker","C148:L149","148:149"]
[null,null,null,"Suma Asegurada Variable","TAS","A136:L136","136:136",null,null,null,"Comercial","A84:L85","84:85",null,null,null,"Producto","Calculadora",null,null,null,null,null,null,null,null,null,null,null,null,null,null,null,null,"Tripulantes","TRI","C121:L211","121:211",null,"Broker","C154:L160","154:160"]
[null,null,null,"Tripulantes","TRI","A23:L32","23:32",null,null,null,"Comercial","A87:L87","87:87",null,null,null,"Producto","Panel",null,null,null,null,null,null,null,null,null,null,null,null,null,null,null,null,"Ocupantes","OCU","C38:L39","38:39",null,"Broker","C181:L186","181:186"]
[null,null,null,"Tripulantes","TRI","A44:L50","44:50",null,null,null,"Comercial","A103:L104","103:104",null,null,null,"Producto","ListarArchivos",null,null,null,null,null,null,null,null,null,null,null,null,null,null,null,null,"Ocupantes","OCU","C42:L51","42:51",null,"Broker","C198:L199","198:199"]
[null,null,null,"Tripulantes","TRI","A54:L66","54:66",null,null,null,"Comercial","A106:L107","106:107",null,null,null,"Producto","Cotizador",null,null,null,null,null,null,null,null,null,null,null,null,null,null,null,null,"Ocupantes","OCU","C94:L111","94:111",null,"Broker","C204:L210","204:210"]
[null,null,null,"Tripulantes","TRI","A108:L125","108:125",null,null,null,"Comercial","A121:L122","121:122",null,null,null,"Producto","Trama",null,null,null,null,null,null,null,null,null,null,null,null,null,null,null,null,"Ocupantes","OCU","C121:L211","121:211",null,"Broker","C231:L236","231:236"]
[null,null,null,"Tripulantes","TRI","A134:L141","134:141",null,null,null,"Comercial","A124:L125","124:125",null,null,null,null,null,null,null,null,null,null,null,null,null,null,null,null,null,null,null,null,null,"Eventos","EVE","C38:L41","38:41",null,"Broker","C248:L249","248:249"]
[null,null,null,"Ocupantes","OCU","A23:L32","23:32",null,null,null,"Comercial","A133:L133","133:133",null,null,null,null,null,null,null,null,null,null,null,null,null,null,null,null,null,null,null,null,null,"Eventos","EVE","C44:L45","44:45",null,"Broker","C254:L260","254:260"]
[null,null,null,"Ocupantes","OCU","A44:L50","44:50",null,null,null,null,null,null,null,null,null,null,null,null,null,null,null,null,null,null,null,null,null,null,null,null,null,null,null,"Eventos","EVE","C47:L51","47:51",null,"Comercial","C66:L67","66:67"]
[null,null,null,"Ocupantes","OCU","A54:L66","54:66",null,null,null,null,null,null,null,null,null,null,null,null,null,null,null,null,null,null,null,null,null,null,null,null,null,null,null,"Eventos","EVE","C94:L111","94:111",null,"Comercial","C69:L69","69:69"]
[null,null,null,"Ocupantes","OCU","A108:L125","108:125",null,null,null,null,null,null,null,null,null,null,null,null,null,null,null,null,null,null,null,null,null,null,null,null,null,null,null,"Eventos","EVE","C121:L211","121:211",null,"Comercial","C89:L90","89:90"]
[null,null,null,"Ocupantes","OCU","A134:L141","134:141",null,null,null,null,null,null,null,null,null,null,null,null,null,null,null,null,null,null,null,null,null,null,null,null,null,null,null,"Eventos","EVE","C58:L59","58:59",null,"Comercial","C92:L93","92:93"]
[null,null,null,"Viajes","VIA","A24:L25","24:25",null,null,null,null,null,null,null,null,null,null,null,null,null,null,null,null,null,null,null,null,null,null,null,null,null,null,null,"Eventos","EVE","C74:C75","74:75",null,"Comercial","C107:L108","107:108"]
[null,null,null,"Viajes","VIA","A32:L42","32:42",null,null,null,null,null,null,null,null,null,null,null,null,null,null,null,null,null,null,null,null,null,null,null,null,null,null,null,"Aforo","AFO","C38:L43","38:43",null,"Comercial","C110:L111","110:111"]
[null,null,null,"Viajes","VIA","A54:L66","54:66",null,null,null,null,null,null,null,null,null,null,null,null,null,null,null,null,null,null,null,null,null,null,null,null,null,null,null,"Aforo","AFO","C47:L51","47:51",null,"Comercial","C133:L134","133:134"]
[null,null,null,"Viajes","VIA","A108:L125","108:125",null,null,null,null,null,null,null,null,null,null,null,null,null,null,null,null,null,null,null,null,null,null,null,null,null,null,null,"Aforo","AFO","C94:L111","94:111",null,"Comercial","C136:L136","136:136"]
[null,null,null,"Viajes","VIA","A134:L141","134:141",null,null,null,null,null,null,null,null,null,null,null,null,null,null,null,null,null,null,null,null,null,null,null,null,null,null,null,"Aforo","AFO","C121:L211","121:211",null,"Comercial","C156:L157","156:157"]
[null,null,null,"Aforo","AFO","A23:L57","23:57",null,null,null,null,null,null,null,null,null,null,null,null,null,null,null,null,null,null,null,null,null,null,null,null,null,null,null,"Aforo","AFO","C58:L59","58:59",null,"Comercial","C159:L160","159:160"]
[null,null,null,"Aforo","AFO","A62:L66","62:66",null,null,null,null,null,null,null,null,null,null,null,null,null,null,null,null,null,null,null,null,null,null,null,null,null,null,null,"Aforo","AFO","C74:C75","74:75",null,"Comercial","C183:L184","183:184"]
[null,null,null,"Aforo","AFO","A108:L125","108:125",null,null,null,null,null,null,null,null,null,null,null,null,null,null,null,null,null,null,null,null,null,null,null,null,null,null,null,"Viajes","VIA","C38:L46","38:46",null,"Comercial","C186:L186","186:186"]
[null,null,null,"Aforo","AFO","A134:L141","134:141",null,null,null,null,null,null,null,null,null,null,null,null,null,null,null,null,null,null,null,null,null,null,null,null,null,null,null,"Viajes","VIA","C94:L111","94:111",null,"Comercial","C206:L207","206:207"]
[null,null,null,"Eventos","EVE","A23:L57","23:57",null,null,null,null,null,null,null,null,null,null,null,null,null,null,null,null,null,null,null,null,null,null,null,null,null,null,null,"Viajes","VIA","C121:L211","121:211",null,"Comercial","C209:L210","209:210"]
[null,null,null,"Eventos","EVE","A59:L61","59:61",null,null,null,null,null,null,null,null,null,null,null,null,null,null,null,null,null,null,null,null,null,null,null,null,null,null,null,"Accidentes Individual","ACI","C20:L21","20:21",null,"Comercial","C233:L234","233:234"]
[null,null,null,"Eventos","EVE","A65:L66","65:66",null,null,null,null,null,null,null,null,null,null,null,null,null,null,null,null,null,null,null,null,null,null,null,null,null,null,null,"Accidentes Individual","ACI","C39:L51","39:51",null,"Comercial","C236:L236","236:236"]
[null,null,null,"Eventos","EVE","A108:L125","108:125",null,null,null,null,null,null,null,null,null,null,null,null,null,null,null,null,null,null,null,null,null,null,null,null,null,null,null,"Accidentes Individual","ACI","C76:L94","76:94",null,"Comercial","C256:L257","256:257"]
[null,null,null,"Eventos","EVE","A134:L141","134:141",null,null,null,null,null,null,null,null,null,null,null,null,null,null,null,null,null,null,null,null,null,null,null,null,null,null,null,"Accidentes Individual","ACI","C123:L211","123:211",null,"Comercial","C259:L260","259:260"]
[null,null,null,"Accidentes Individual","ACI","A24:L25","24:25"]
[null,null,null,"Accidentes Individual","ACI","A33:L50","33:50"]
[null,null,null,"Accidentes Individual","ACI","A52:L52","52:52"]
[null,null,null,"Accidentes Individual","ACI","A54:L66","54:66"]
[null,null,null,"Accidentes Individual","ACI","A90:L108","90:108"]
[null,null,null,"Accidentes Individual","ACI","A134:L141","134:141"]
[null,null,null,"Accidentes Individual","ACI","A149:L154","149:154"]
[null,null,null,"Suma Asegurada Fija","ESF","A52:L53","52:53"]
[null,null,null,"Suma Asegurada Variable","TAS","A52:L53","52:53"]
[null,null,null,"Tripulantes","TRI","A52:L53","52:53"]
[null,null,null,"Ocupantes","OCU","A52:L53","52:53"]
[null,null,null,"Viajes","VIA","A52:L53","52:53"]
[null,null,null,"Aforo","AFO","A52:L53","52:53"]
[null,null,null,"Eventos","EVE","A52:L53","52:53"]
[null,null,null,"Accidentes Individual","ACI","A52:L53","52:53"]

{"sheet":"Tasas","index":8,"n_rows":1292,"n_cols":219,"rows_kept":281,"cut":true,"hidden":true,"merged":[[8,1,9,1],[8,2,9,2],[8,4,8,7],[8,8,8,11],[8,12,8,15],[8,3,9,3],[75,41,75,44],[75,45,75,48],[75,49,75,52],[75,53,75,56],[75,57,75,60],[75,61,75,64],[4,4,4,39],[8,41,8,44],[8,36,8,39],[8,20,8,23],[8,24,8,27],[8,28,8,31],[8,32,8,35],[75,36,75,39],[75,4,75,7],[75,8,75,11],[75,12,75,15],[75,16,75,19],[8,16,8,19],[75,20,75,23],[75,24,75,27],[75,28,75,31],[75,32,75,35],[8,57,8,60],[4,117,4,128],[4,130,4,141],[8,143,9,143],[8,144,8,145],[8,146,8,147],[8,148,8,149],[8,150,8,151],[75,65,75,68],[75,69,75,72],[75,73,75,76],[4,41,4,76],[8,61,8,64],[8,65,8,68],[8,69,8,72],[8,73,8,76],[16,78,18,78],[19,78,21,78],[22,78,24,78],[4,104,4,115],[8,45,8,48],[8,49,8,52],[8,53,8,56],[64,91,66,91],[67,91,69,91],[52,78,54,78],[55,78,57,78],[58,78,60,78],[61,78,63,78],[64,78,66,78],[67,78,69,78],[25,78,27,78],[28,78,30,78],[31,78,33,78],[34,78,36,78],[37,78,39,78],[40,78,42,78],[43,78,45,78],[46,78,48,78],[49,78,51,78],[37,91,39,91],[40,91,42,91],[43,91,45,91],[46,91,48,91],[49,91,51,91],[52,91,54,91],[55,91,57,91],[58,91,60,91],[61,91,63,91],[4,78,4,89],[4,91,4,102],[16,91,18,91],[19,91,21,91],[22,91,24,91],[25,91,27,91],[28,91,30,91],[31,91,33,91],[34,91,36,91],[16,104,18,104],[19,104,21,104],[22,104,24,104],[25,104,27,104],[28,104,30,104],[31,104,33,104],[34,104,36,104],[37,104,39,104],[40,104,42,104],[43,104,45,104],[46,104,48,104],[49,104,51,104],[52,104,54,104],[55,104,57,104],[58,104,60,104],[61,104,63,104],[64,104,66,104],[67,104,69,104],[16,117,18,117],[19,117,21,117],[22,117,24,117],[25,117,27,117],[28,117,30,117],[31,117,33,117],[34,117,36,117],[37,117,39,117],[40,117,42,117],[43,117,45,117],[46,117,48,117],[49,117,51,117],[52,117,54,117],[55,117,57,117],[58,117,60,117],[61,117,63,117],[64,117,66,117],[67,117,69,117],[67,130,69,130],[16,130,18,130],[19,130,21,130],[22,130,24,130],[25,130,27,130],[28,130,30,130],[31,130,33,130],[34,130,36,130],[37,130,39,130],[40,130,42,130],[4,143,4,176],[43,130,45,130],[46,130,48,130],[49,130,51,130],[52,130,54,130],[55,130,57,130],[58,130,60,130],[61,130,63,130],[64,130,66,130],[4,182,4,217],[8,179,9,179],[8,180,9,180],[8,181,9,181],[8,182,8,185],[8,186,8,189],[8,190,8,193],[8,194,8,197],[8,198,8,201],[8,202,8,205],[8,206,8,209],[8,210,8,213],[8,214,8,217],[75,182,75,185],[75,186,75,189],[75,190,75,193],[75,194,75,197],[75,198,75,201],[75,202,75,205],[75,206,75,209],[75,210,75,213],[75,214,75,217]],"bounds":{"rows_first":125,"rows_last":31,"rows_between":125,"halvings":4}}
[]
[null,"SEGURO DE ACCIDENTES COLECTIVOS",null,null,null,null,null,null,null,null,null,null,null,null,null,null,null,null,null,null,null,null,null,null,null,null,null,null,null,null,null,null,null,null,null,null,null,null,null,null,null,null,null,null,null,null,null,null,null,null,null,null,null,null,null,null,null,null,null,null,null,null,null,null,null,null,null,null,null,null,null,null,null,null,null,null,null,null,null,null,null,null,null,null,null,null,null,null,null,null,null,null,null,null,null,null,null,null,null,null,null,null,null,null,null,null,null,null,null,null,null,null,null,null,null,null,null,null,null,null,null,null,null,null,null,null,null,null,null,null,null,null,null,null,null,null,null,null,null,null,null,null,null,null,null,null,null,null,null,null,null,null,null,null,null,null,null,null,null,null,null,null,null,null,null,null,null,null,null,null,null,null,null,null,null,null,null,null,null,"SEGURO DE ACCIDENTES COLECTIVOS"]
[null,"Tasas de Riesgo",null,null,null,null,null,null,null,null,null,null,null,null,null,null,null,null,null,null,null,null,null,null,null,null,null,null,null,null,null,null,null,null,null,null,null,null,null,null,null,null,null,null,null,null,null,null,null,null,null,null,null,null,null,null,null,null,null,null,null,null,null,null,null,null,null,null,null,null,null,null,null,null,null,null,null,null,null,null,null,null,null,null,null,null,null,null,null,null,null,null,null,null,null,null,null,null,null,null,null,null,null,null,null,null,null,null,null,null,null,null,null,null,null,null,null,null,null,null,null,null,null,null,null,null,null,null,null,null,null,null,null,null,null,null,null,null,null,null,null,null,null,null,null,null,null,null,null,null,null,null,null,null,null,null,null,null,null,null,null,null,null,null,null,null,null,null,null,null,null,null,null,null,null,null,null,null,null,"Tasas de Riesgo"]
[]
[null,"Nota: Estas tasas son por asegurado",null,null,"SUMA FIJA",null,null,null,null,null,null,null,null,null,null,null,null,null,null,null,null,null,null,null,null,null,null,null,null,null,null,null,null,null,null,null,null,null,null,null,"ESF","TASA",null,null,null,null,null,null,null,null,null,null,null,null,null,null,null,null,null,null,null,null,null,null,null,null,null,null,null,null,null,null,null,null,null,null,null,"TAS","TRIPULANTES",null,null,null,null,null,null,null,null,null,null,null,"TRI","OCUPANTES",null,null,null,null,null,null,null,null,null,null,null,"OCU","VIAJES",null,null,null,null,null,null,null,null,null,null,null,"VIA","AFORO",null,null,null,null,null,null,null,null,null,null,null,"AFO","EVENTOS",null,null,null,null,null,null,null,null,null,null,null,"EVE","ACCIDENTES INDIVIDUAL",null,null,null,null,null,null,null,null,null,null,null,null,null,null,null,null,null,null,null,null,null,null,null,null,null,null,null,null,null,null,null,null,null,"ACI",null,"Nota: Estas tasas son por asegurado",null,null,"SUMA FIJA",null,null,null,null,null,null,null,null,null,null,null,null,null,null,null,null,null,null,null,null,null,null,null,null,null,null,null,null,null,null,null,null,null,null,null,"TASAS ANTERIORES"]
[null,null,1,{"$f":"C6+1","v":2},3,4,5,6,7,8,9,10,11,12,13,14,15,16,17,18,19,20,21,22,23,24,25,26,27,28,29,30,31,32,33,{"$f":"AI6+1","v":34},35,36,37,38,{"$f":"AN6+1","v":39},{"$f":"AO6+1","v":40},41,{"$f":"AQ6+1","v":42},{"$f":"AR6+1","v":43},{"$f":"AS6+1","v":44},{"$f":"AT6+1","v":45},{"$f":"AU6+1","v":46},{"$f":"AV6+1","v":47},{"$f":"AW6+1","v":48},{"$f":"AX6+1","v":49},{"$f":"AY6+1","v":50},{"$f":"AZ6+1","v":51},{"$f":"BA6+1","v":52},{"$f":"BB6+1","v":53},{"$f":"BC6+1","v":54},{"$f":"BD6+1","v":55},{"$f":"BE6+1","v":56},{"$f":"BF6+1","v":57},{"$f":"BG6+1","v":58},{"$f":"BH6+1","v":59},{"$f":"BI6+1","v":60},{"$f":"BJ6+1","v":61},{"$f":"BK6+1","v":62},{"$f":"BL6+1","v":63},{"$f":"BM6+1","v":64},{"$f":"BN6+1","v":65},{"$f":"BO6+1","v":66},{"$f":"BP6+1","v":67},{"$f":"BQ6+1","v":68},{"$f":"BR6+1","v":69},{"$f":"BS6+1","v":70},{"$f":"BT6+1","v":71},{"$f":"BU6+1","v":72},{"$f":"BV6+1","v":73},{"$f":"BW6+1","v":74},{"$f":"BX6+1","v":75},76,null,null,null,null,null,null,null,null,null,null,null,null,null,null,null,null,null,null,null,null,null,null,null,null,null,null,null,null,null,null,null,null,null,null,null,null,null,null,null,null,null,null,null,null,null,null,null,null,null,null,null,null,null,null,null,null,null,null,null,null,null,null,null,null,null,null,null,null,null,null,null,null,null,null,null,null,null,null,null,null,null,null,null,null,null,null,null,null,null,null,null,null,null,null,null,null,null,null,null,null,null,null,1,{"$f":"FY6+1","v":2},{"$f":"FZ6+1","v":3},{"$f":"GA6+1","v":4},{"$f":"GB6+1","v":5},{"$f":"GC6+1","v":6},{"$f":"GD6+1","v":7},{"$f":"GE6+1","v":8},{"$f":"GF6+1","v":9},{"$f":"GG6+1","v":10},{"$f":"GH6+1","v":11},{"$f":"GI6+1","v":12},{"$f":"GJ6+1","v":13},{"$f":"GK6+1","v":14},{"$f":"GL6+1","v":15},{"$f":"GM6+1","v":16},{"$f":"GN6+1","v":17},{"$f":"GO6+1","v":18},{"$f":"GP6+1","v":19},{"$f":"GQ6+1","v":20},{"$f":"GR6+1","v":21},{"$f":"GS6+1","v":22},{"$f":"GT6+1","v":23},{"$f":"GU6+1","v":24},{"$f":"GV6+1","v":25},{"$f":"GW6+1","v":26},{"$f":"GX6+1","v":27},{"$f":"GY6+1","v":28},{"$f":"GZ6+1","v":29},{"$f":"HA6+1","v":30},{"$f":"HB6+1","v":31},{"$f":"HC6+1","v":32},{"$f":"HD6+1","v":33},{"$f":"HE6+1","v":34},{"$f":"HF6+1","v":35},{"$f":"HG6+1","v":36},{"$f":"HH6+1","v":37},{"$f":"HI6+1","v":38}]
[null,null,null,null,{"$f":"+E10","v":"Grupo1"},{"$f":"+F10","v":"Grupo2"},{"$f":"+G10","v":"Grupo3"},{"$f":"+H10","v":"Grupo4"},null,null,null,null,null,null,null,null,null,null,null,null,null,null,null,null,null,null,null,null,null,null,null,null,null,null,null,null,null,null,null,null,null,null,null,null,null,null,null,null,null,null,null,null,null,null,null,null,null,null,null,null,null,null,null,null,null,null,null,null,null,null,null,null,null,null,null,null,null,null,"COBERTURAS PRINCIPALES",null,null,null,null,null,null,null,null,null,null,null,null,"COBERTURAS PRINCIPALES",null,null,null,null,null,null,null,null,null,null,null,null,"COBERTURAS PRINCIPALES",null,null,null,null,null,null,null,null,null,null,null,null,"COBERTURAS PRINCIPALES",null,null,null,null,null,null,null,null,null,null,null,null,"COBERTURAS PRINCIPALES",null,null,null,null,null,null,null,null,null,null,null,null,"COBERTURAS PRINCIPALES",null,null,null,null,null,null,null,null,null,null,null,null,null,null,null,null,null,null,null,null,null,null,null,null,null,null,null,null,null,null,null,null,null,null,null,null,null,null,{"$f":"+GA10","v":"Grupo1"},{"$f":"+GB10","v":"Grupo2"},{"$f":"+GC10","v":"Grupo3"},{"$f":"+GD10","v":"Grupo4"}]
[null,"COBERTURAS PRINCIPALES",null,null,1,2,3,4,5,6,7,8,9,10,11,12,13,14,15,16,17,18,19,20,21,22,23,24,25,26,27,28,29,30,31,32,33,34,{"$f":"AL8+1","v":35},36,{"$f":"AN8+1","v":37},{"$f":"AO8+1","v":38},39,{"$f":"AQ8+1","v":40},{"$f":"AR8+1","v":41},{"$f":"AS8+1","v":42},{"$f":"AT8+1","v":43},{"$f":"AU8+1","v":44},{"$f":"AV8+1","v":45},{"$f":"AW8+1","v":46},{"$f":"AX8+1","v":47},{"$f":"AY8+1","v":48},{"$f":"AZ8+1","v":49},{"$f":"BA8+1","v":50},{"$f":"BB8+1","v":51},{"$f":"BC8+1","v":52},{"$f":"BD8+1","v":53},{"$f":"BE8+1","v":54},{"$f":"BF8+1","v":55},{"$f":"BG8+1","v":56},{"$f":"BH8+1","v":57},{"$f":"BI8+1","v":58},{"$f":"BJ8+1","v":59},{"$f":"BK8+1","v":60},{"$f":"BL8+1","v":61},{"$f":"BM8+1","v":62},{"$f":"BN8+1","v":63},{"$f":"BO8+1","v":64},{"$f":"BP8+1","v":65},{"$f":"BQ8+1","v":66},{"$f":"BR8+1","v":67},{"$f":"BS8+1","v":68},{"$f":"BT8+1","v":69},{"$f":"BU8+1","v":70},{"$f":"BV8+1","v":71},{"$f":"BW8+1","v":72},{"$f":"BX8+1","v":73},74,1,2,3,4,5,6,7,8,9,10,null,null,null,1,2,3,4,5,6,7,8,9,10,null,null,null,1,2,3,4,5,6,7,8,9,10,null,null,null,1,2,3,4,5,6,7,8,9,10,null,null,null,1,2,3,4,5,6,7,8,9,10,null,null,null,null,null,null,null,null,null,null,null,null,null,null,null,null,null,null,null,null,null,null,null,null,null,null,null,null,null,null,null,null,null,null,null,null,null,null,null,"COBERTURAS PRINCIPALES",null,null,1,2,3,4,5,6,7,8,9,10,11,12,13,14,15,16,17,18,19,20,21,22,23,24,25,26,27,28,29,30,31,32,33,34,{"$f":"HH8+1","v":35},{"$f":"HI8+1","v":36}]
[null,"SECTOR","COD","RANGO ASEG.","GASTOS DE CURACIÓN",null,null,null,"MUERTE ACCIDENTAL",null,null,null,"GASTOS DE SEPELIO",null,null,null,"INVALIDEZ PERMANENTE",null,null,null,"INCAPACIDAD TEMPORAL",null,null,null,"DESAMPARO SÚBITO FAMILIAR",null,null,null,"RENTA HOSPITALARIA DIARIA X ACC",null,null,null,"REPATRIACIÓN DE RESTOS MORTALES",null,null,null,"Límite agregado anual por GC x ACC",null,null,null,null,"GASTOS DE CURACIÓN",null,null,null,"MUERTE ACCIDENTAL",null,null,null,"GASTOS DE SEPELIO",null,null,null,"INVALIDEZ PERMANENTE",null,null,null,"INCAPACIDAD TEMPORAL",null,null,null,"DESAMPARO SÚBITO FAMILIAR",null,null,null,"RENTA HOSPITALARIA DIARIA X ACC",null,null,null,"REPATRIACIÓN DE RESTOS MORTALES",null,null,null,"Límite agregado anual por GC x ACC",null,null,null,null,"RANGO ASEG.","GC","MA","GS","IP","IT","DSF","RHD x A","RRM","LAGC",null,null,null,"RANGO ASEG.","GC","MA","GS","IP","IT","DSF","RHD x A","RRM","LAGC",null,null,null,"RANGO ASEG.","GC","MA","GS","IP","IT","DSF","RHD x A","RRM","LAGC",null,null,null,"RANGO ASEG.","GC","MA","GS","IP","IT","DSF","RHD x A","RRM","LAGC",null,null,null,"RANGO ASEG.","GC","MA","GS","IP","IT","DSF","RHD x A","RRM","LAGC",null,null,null,"COBERTURA","GRUPO 1",null,"GRUPO 2",null,"GRUPO 3",null,"GRUPO 4",null,null,null,null,null,null,null,null,null,null,null,null,null,null,null,null,null,null,null,null,null,null,null,null,null,null,null,null,"SECTOR","COD","RANGO ASEG.","GASTOS DE CURACIÓN",null,null,null,"MUERTE ACCIDENTAL",null,null,null,"GASTOS DE SEPELIO",null,null,null,"INVALIDEZ PERMANENTE",null,null,null,"INCAPACIDAD TEMPORAL",null,null,null,"DESAMPARO SÚBITO FAMILIAR",null,null,null,"RENTA HOSPITALARIA DIARIA X ACC",null,null,null,"REPATRIACIÓN DE RESTOS MORTALES",null,null,null,"Límite agregado anual por GC x ACC"]
[null,null,null,null,"Grupo1","Grupo2","Grupo3","Grupo4","Grupo1","Grupo2","Grupo3","Grupo4","Grupo1","Grupo2","Grupo3","Grupo4","Grupo1","Grupo2","Grupo3","Grupo4","Grupo1","Grupo2","Grupo3","Grupo4","Grupo1","Grupo2","Grupo3","Grupo4","Grupo1","Grupo2","Grupo3","Grupo4","Grupo1","Grupo2","Grupo3","Grupo4","Grupo1","Grupo2","Grupo3","Grupo4",null,"Grupo1","Grupo2","Grupo3","Grupo4","Grupo1","Grupo2","Grupo3","Grupo4","Grupo1","Grupo2","Grupo3","Grupo4","Grupo1","Grupo2","Grupo3","Grupo4","Grupo1","Grupo2","Grupo3","Grupo4","Grupo1","Grupo2","Grupo3","Grupo4","Grupo1","Grupo2","Grupo3","Grupo4","Grupo1","Grupo2","Grupo3","Grupo4","Grupo1","Grupo2","Grupo3","Grupo4",null,"1-50",4.9989198181521195E-4,6.2174626014008147E-5,6.8723453518584733E-5,4.1145838927681969E-5,1.5178247735073959E-5,2.2748308094336555E-5,5.5386354658440641E-6,4.1062763458500696E-6,4.9989198181521195E-4,null,null,null,"1-50",4.9989198181521195E-4,6.2174626014008147E-5,6.8723453518584733E-5,4.1145838927681969E-5,1.5178247735073959E-5,2.2748308094336555E-5,5.5386354658440641E-6,4.1062763458500696E-6,4.9989198181521195E-4,null,null,null,"1-50",5.9265644351893635E-5,1.7682367984542089E-6,2.0261178346824896E-5,3.3258363762060444E-5,3.3258363762060444E-5,2.2576941932383154E-5,5.5386354658440641E-6,2.2063439130270714E-8,5.9265644351893635E-5,null,null,null,"1-50",9.6879561125208434E-6,6.2774698800065446E-6,5.3029796037517821E-6,3.7027079391274829E-6,4.435174957278806E-6,2.2576941932383154E-5,5.5386354658440641E-6,2.2063439130270714E-8,9.6879561125208434E-6,null,null,null,"1-50",9.6879561125208434E-6,6.2774698800065446E-6,5.3029796037517821E-6,3.7027079391274829E-6,4.435174957278806E-6,2.2576941932383154E-5,5.5386354658440641E-6,2.2063439130270714E-8,9.6879561125208434E-6,null,null,null,null,"SA <= 30M","SA > 30M","SA <= 30M","SA > 30M","SA <= 30M","SA > 30M","SA <= 30M","SA > 30M",null,null,null,null,null,null,null,null,null,null,null,null,null,null,null,null,null,null,null,null,null,null,null,null,null,null,null,null,null,null,"Grupo1","Grupo2","Grupo3","Grupo4","Grupo1","Grupo2","Grupo3","Grupo4","Grupo1","Grupo2","Grupo3","Grupo4","Grupo1","Grupo2","Grupo3","Grupo4","Grupo1","Grupo2","Grupo3","Grupo4","Grupo1","Grupo2","Grupo3","Grupo4","Grupo1","Grupo2","Grupo3","Grupo4","Grupo1","Grupo2","Grupo3","Grupo4","Grupo1","Grupo2","Grupo3","Grupo4"]
[null,"Editoriales",1,"1-50",3.4968025366229503E-3,4.1527340851828963E-3,5.1909176064786197E-3,6.894171923282422E-3,3.3442280824373029E-5,3.9715396569047656E-5,4.9644245711309576E-5,6.5933615380118018E-5,9.7262083426130927E-6,9.7262083426130927E-6,9.7262083426130927E-6,9.7262083426130927E-6,7.4529554731069711E-6,7.4529554731069711E-6,7.4529554731069711E-6,7.4529554731069711E-6,1.2253468566578299E-3,1.2253468566578299E-3,1.2253468566578299E-3,1.2253468566578299E-3,2.2748308094336555E-5,2.2748308094336555E-5,2.2748308094336555E-5,2.2748308094336555E-5,5.5386354658440641E-6,5.5386354658440641E-6,5.5386354658440641E-6,5.5386354658440641E-6,4.1062763458500696E-6,4.1062763458500696E-6,4.1062763458500696E-6,4.1062763458500696E-6,3.4968025366229503E-3,4.1527340851828963E-3,5.1909176064786197E-3,6.894171923282422E-3,null,3.4968025366229503E-3,4.1527340851828963E-3,5.1909176064786197E-3,6.894171923282422E-3,3.3442280824373029E-5,3.9715396569047656E-5,4.9644245711309576E-5,6.5933615380118018E-5,9.7262083426130927E-6,9.7262083426130927E-6,9.7262083426130927E-6,9.7262083426130927E-6,7.4529554731069711E-6,7.4529554731069711E-6,7.4529554731069711E-6,7.4529554731069711E-6,1.2253468566578299E-3,1.2253468566578299E-3,1.2253468566578299E-3,1.2253468566578299E-3,2.2748308094336555E-5,2.2748308094336555E-5,2.2748308094336555E-5,2.2748308094336555E-5,5.5386354658440641E-6,5.5386354658440641E-6,5.5386354658440641E-6,5.5386354658440641E-6,4.1062763458500696E-6,4.1062763458500696E-6,4.1062763458500696E-6,4.1062763458500696E-6,3.4968025366229503E-3,4.1527340851828963E-3,5.1909176064786197E-3,6.894171923282422E-3,null,"50-400",8.0041216834215E-5,2.7127750086923867E-5,6.8723453518584733E-5,4.1145838927681969E-5,1.5178247735073959E-5,2.2748308094336555E-5,5.5386354658440641E-6,4.1062763458500696E-6,8.0041216834215E-5,null,null,null,"50-400",8.0041216834215E-5,2.7127750086923867E-5,6.8723453518584733E-5,4.1145838927681969E-5,1.5178247735073959E-5,2.2748308094336555E-5,5.5386354658440641E-6,4.1062763458500696E-6,8.0041216834215E-5,null,null,null,"50-400",5.9265644351893635E-5,1.7682367984542089E-6,2.0261178346824896E-5,3.3258363762060444E-5,3.3258363762060444E-5,2.2576941932383154E-5,5.5386354658440641E-6,2.2063439130270714E-8,5.9265644351893635E-5,null,null,null,"50-400",9.6879561125208434E-6,6.2774698800065446E-6,5.3029796037517821E-6,3.7027079391274829E-6,4.435174957278806E-6,2.2576941932383154E-5,5.5386354658440641E-6,2.2063439130270714E-8,9.6879561125208434E-6,null,null,null,"50-400",9.6879561125208434E-6,6.2774698800065446E-6,5.3029796037517821E-6,3.7027079391274829E-6,4.435174957278806E-6,2.2576941932383154E-5,5.5386354658440641E-6,2.2063439130270714E-8,9.6879561125208434E-6,null,null,null,"GC",2.0502313607345573E-3,1.5542112375936568E-3,2.0502313607345573E-3,1.5542112375936568E-3,2.0502313607345573E-3,1.5542112375936568E-3,2.0502313607345573E-3,1.5542112375936568E-3,null,null,null,null,null,null,null,null,null,null,null,null,null,null,null,null,null,null,null,null,null,null,null,null,null,null,null,"Editoriales",1,"1-50",1.3257248237049293E-3,1.4553910379011728E-3,1.5254797587323158E-3,3.7180979698995154E-3,1.0505636622465709E-4,2.2455950764080875E-4,3.3846650427020447E-4,4.3005396603404536E-4,3.2032343973321527E-5,3.2032343973321527E-5,3.2032343973321527E-5,3.2032343973321527E-5,1.808221780815688E-5,1.808221780815688E-5,1.808221780815688E-5,1.808221780815688E-5,2.5886455208872888E-4,2.5886455208872888E-4,2.5886455208872888E-4,2.5886455208872888E-4,3.2032343973321527E-5,3.2032343973321527E-5,3.2032343973321527E-5,3.2032343973321527E-5,1.9072530055383801E-5,1.9072530055383801E-5,1.9072530055383801E-5,1.9072530055383801E-5,6.3767316055212042E-8,6.3767316055212042E-8,6.3767316055212042E-8,6.3767316055212042E-8,1.3257248237049293E-3,1.4553910379011728E-3,1.5254797587323158E-3,3.7180979698995154E-3]
[null,"Alimentos y Bebidas",2,"1-50",3.4968025366229503E-3,4.1527340851828963E-3,5.1909176064786197E-3,6.894171923282422E-3,3.3442280824373029E-5,3.9715396569047656E-5,4.9644245711309576E-5,6.5933615380118018E-5,9.7262083426130927E-6,9.7262083426130927E-6,9.7262083426130927E-6,9.7262083426130927E-6,7.4529554731069711E-6,7.4529554731069711E-6,7.4529554731069711E-6,7.4529554731069711E-6,1.2253468566578299E-3,1.2253468566578299E-3,1.2253468566578299E-3,1.2253468566578299E-3,2.2748308094336555E-5,2.2748308094336555E-5,2.2748308094336555E-5,2.2748308094336555E-5,5.5386354658440641E-6,5.5386354658440641E-6,5.5386354658440641E-6,5.5386354658440641E-6,4.1062763458500696E-6,4.1062763458500696E-6,4.1062763458500696E-6,4.1062763458500696E-6,3.4968025366229503E-3,4.1527340851828963E-3,5.1909176064786197E-3,6.894171923282422E-3,null,3.4968025366229503E-3,4.1527340851828963E-3,5.1909176064786197E-3,6.894171923282422E-3,3.3442280824373029E-5,3.9715396569047656E-5,4.9644245711309576E-5,6.5933615380118018E-5,9.7262083426130927E-6,9.7262083426130927E-6,9.7262083426130927E-6,9.7262083426130927E-6,7.4529554731069711E-6,7.4529554731069711E-6,7.4529554731069711E-6,7.4529554731069711E-6,1.2253468566578299E-3,1.2253468566578299E-3,1.2253468566578299E-3,1.2253468566578299E-3,2.2748308094336555E-5,2.2748308094336555E-5,2.2748308094336555E-5,2.2748308094336555E-5,5.5386354658440641E-6,5.5386354658440641E-6,5.5386354658440641E-6,5.5386354658440641E-6,4.1062763458500696E-6,4.1062763458500696E-6,4.1062763458500696E-6,4.1062763458500696E-6,3.4968025366229503E-3,4.1527340851828963E-3,5.1909176064786197E-3,6.894171923282422E-3,null,">400",3.4405486027966998E-5,2.1208302547457906E-5,6.8723453518584733E-5,4.1145838927681969E-5,1.5178247735073959E-5,2.2748308094336555E-5,5.5386354658440641E-6,4.1062763458500696E-6,3.4405486027966998E-5,null,null,null,">400",3.4405486027966998E-5,2.1208302547457906E-5,6.8723453518584733E-5,4.1145838927681969E-5,1.5178247735073959E-5,2.2748308094336555E-5,5.5386354658440641E-6,4.1062763458500696E-6,3.4405486027966998E-5,null,null,null,">400",5.9265644351893635E-5,1.7682367984542089E-6,2.0261178346824896E-5,3.3258363762060444E-5,3.3258363762060444E-5,2.2576941932383154E-5,5.5386354658440641E-6,2.2063439130270714E-8,5.9265644351893635E-5,null,null,null,">400",9.6879561125208434E-6,6.2774698800065446E-6,5.3029796037517821E-6,3.7027079391274829E-6,4.435174957278806E-6,2.2576941932383154E-5,5.5386354658440641E-6,2.2063439130270714E-8,9.6879561125208434E-6,null,null,null,">400",9.6879561125208434E-6,6.2774698800065446E-6,5.3029796037517821E-6,3.7027079391274829E-6,4.435174957278806E-6,2.2576941932383154E-5,5.5386354658440641E-6,2.2063439130270714E-8,9.6879561125208434E-6,null,null,null,null,null,null,null,null,null,null,null,null,null,null,null,null,null,null,null,null,null,null,null,null,null,null,null,null,null,null,null,null,null,null,null,null,null,null,null,"Alimentos y Bebidas",2,"1-50",1.3257248237049293E-3,1.4553910379011728E-3,1.5254797587323158E-3,3.7180979698995154E-3,1.0505636622465709E-4,2.2455950764080875E-4,3.3846650427020447E-4,4.3005396603404536E-4,3.2032343973321527E-5,3.2032343973321527E-5,3.2032343973321527E-5,3.2032343973321527E-5,1.808221780815688E-5,1.808221780815688E-5,1.808221780815688E-5,1.808221780815688E-5,2.5886455208872888E-4,2.5886455208872888E-4,2.5886455208872888E-4,2.5886455208872888E-4,3.2032343973321527E-5,3.2032343973321527E-5,3.2032343973321527E-5,3.2032343973321527E-5,1.9072530055383801E-5,1.9072530055383801E-5,1.9072530055383801E-5,1.9072530055383801E-5,6.3767316055212042E-8,6.3767316055212042E-8,6.3767316055212042E-8,6.3767316055212042E-8,1.3257248237049293E-3,1.4553910379011728E-3,1.5254797587323158E-3,3.7180979698995154E-3]
[null,"Hoteles",3,"1-50",3.4968025366229503E-3,4.1527340851828963E-3,5.1909176064786197E-3,6.894171923282422E-3,3.3442280824373029E-5,3.9715396569047656E-5,4.9644245711309576E-5,6.5933615380118018E-5,9.7262083426130927E-6,9.7262083426130927E-6,9.7262083426130927E-6,9.7262083426130927E-6,7.4529554731069711E-6,7.4529554731069711E-6,7.4529554731069711E-6,7.4529554731069711E-6,1.2253468566578299E-3,1.2253468566578299E-3,1.2253468566578299E-3,1.2253468566578299E-3,2.2748308094336555E-5,2.2748308094336555E-5,2.2748308094336555E-5,2.2748308094336555E-5,5.5386354658440641E-6,5.5386354658440641E-6,5.5386354658440641E-6,5.5386354658440641E-6,4.1062763458500696E-6,4.1062763458500696E-6,4.1062763458500696E-6,4.1062763458500696E-6,3.4968025366229503E-3,4.1527340851828963E-3,5.1909176064786197E-3,6.894171923282422E-3,null,3.4968025366229503E-3,4.1527340851828963E-3,5.1909176064786197E-3,6.894171923282422E-3,3.3442280824373029E-5,3.9715396569047656E-5,4.9644245711309576E-5,6.5933615380118018E-5,9.7262083426130927E-6,9.7262083426130927E-6,9.7262083426130927E-6,9.7262083426130927E-6,7.4529554731069711E-6,7.4529554731069711E-6,7.4529554731069711E-6,7.4529554731069711E-6,1.2253468566578299E-3,1.2253468566578299E-3,1.2253468566578299E-3,1.2253468566578299E-3,2.2748308094336555E-5,2.2748308094336555E-5,2.2748308094336555E-5,2.2748308094336555E-5,5.5386354658440641E-6,5.5386354658440641E-6,5.5386354658440641E-6,5.5386354658440641E-6,4.1062763458500696E-6,4.1062763458500696E-6,4.1062763458500696E-6,4.1062763458500696E-6,3.4968025366229503E-3,4.1527340851828963E-3,5.1909176064786197E-3,6.894171923282422E-3,null,null,null,null,null,null,null,null,null,null,null,null,null,null,null,null,null,null,null,null,null,null,null,null,null,null,null,null,null,null,null,null,null,null,null,null,null,null,null,null,null,null,null,null,null,null,null,null,null,null,null,null,null,null,null,null,null,null,null,null,null,null,null,null,null,null,null,null,"GRUPO 1","GRUPO 2","GRUPO 3","GRUPO 4",null,null,null,null,null,null,null,null,null,null,null,null,null,null,null,null,null,null,null,null,null,null,null,null,null,null,null,null,null,null,"Hoteles",3,"1-50",1.3257248237049293E-3,1.4553910379011728E-3,1.5254797587323158E-3,3.7180979698995154E-3,1.0505636622465709E-4,2.2455950764080875E-4,3.3846650427020447E-4,4.3005396603404536E-4,3.2032343973321527E-5,3.2032343973321527E-5,3.2032343973321527E-5,3.2032343973321527E-5,1.808221780815688E-5,1.808221780815688E-5,1.808221780815688E-5,1.808221780815688E-5,2.5886455208872888E-4,2.5886455208872888E-4,2.5886455208872888E-4,2.5886455208872888E-4,3.2032343973321527E-5,3.2032343973321527E-5,3.2032343973321527E-5,3.2032343973321527E-5,1.9072530055383801E-5,1.9072530055383801E-5,1.9072530055383801E-5,1.9072530055383801E-5,6.3767316055212042E-8,6.3767316055212042E-8,6.3767316055212042E-8,6.3767316055212042E-8,1.3257248237049293E-3,1.4553910379011728E-3,1.5254797587323158E-3,3.7180979698995154E-3]
[null,"Salud",4,"1-50",2.6405690664483856E-2,3.1358880153152253E-2,3.9198600191440322E-2,5.206052366050281E-2,1.2283684805592128E-4,1.4587863069068124E-4,1.8234828836335157E-4,2.4218077519169785E-4,9.7262083426130927E-6,9.7262083426130927E-6,9.7262083426130927E-6,9.7262083426130927E-6,7.4529554731069711E-6,7.4529554731069711E-6,7.4529554731069711E-6,7.4529554731069711E-6,1.2253468566578299E-3,1.2253468566578299E-3,1.2253468566578299E-3,1.2253468566578299E-3,2.2748308094336555E-5,2.2748308094336555E-5,2.2748308094336555E-5,2.2748308094336555E-5,5.5386354658440641E-6,5.5386354658440641E-6,5.5386354658440641E-6,5.5386354658440641E-6,4.1062763458500696E-6,4.1062763458500696E-6,4.1062763458500696E-6,4.1062763458500696E-6,2.6405690664483856E-2,3.1358880153152253E-2,3.9198600191440322E-2,5.206052366050281E-2,null,2.6405690664483856E-2,3.1358880153152253E-2,3.9198600191440322E-2,5.206052366050281E-2,1.2283684805592128E-4,1.4587863069068124E-4,1.8234828836335157E-4,2.4218077519169785E-4,9.7262083426130927E-6,9.7262083426130927E-6,9.7262083426130927E-6,9.7262083426130927E-6,7.4529554731069711E-6,7.4529554731069711E-6,7.4529554731069711E-6,7.4529554731069711E-6,1.2253468566578299E-3,1.2253468566578299E-3,1.2253468566578299E-3,1.2253468566578299E-3,2.2748308094336555E-5,2.2748308094336555E-5,2.2748308094336555E-5,2.2748308094336555E-5,5.5386354658440641E-6,5.5386354658440641E-6,5.5386354658440641E-6,5.5386354658440641E-6,4.1062763458500696E-6,4.1062763458500696E-6,4.1062763458500696E-6,4.1062763458500696E-6,2.6405690664483856E-2,3.1358880153152253E-2,3.9198600191440322E-2,5.206052366050281E-2,null,"COBERTURAS ADICIONALES",null,null,null,null,null,null,null,null,null,null,null,null,"COBERTURAS ADICIONALES",null,null,null,null,null,null,null,null,null,null,null,null,"COBERTURAS ADICIONALES",null,null,null,null,null,null,null,null,null,null,null,null,"COBERTURAS ADICIONALES",null,null,null,null,null,null,null,null,null,null,null,null,"COBERTURAS ADICIONALES",null,null,null,null,null,null,null,null,null,null,null,null,"COBERTURA","FILA",1,2,3,4,null,null,null,null,null,null,null,null,null,null,null,null,null,null,null,null,null,null,null,null,null,null,null,null,null,null,null,null,null,null,"Salud",4,"1-50",9.5278783836688814E-4,1.0459779104875823E-3,1.0963501141459402E-3,2.6721673036767045E-3,7.4388352009943987E-5,1.5900618212743358E-4,2.396614919022187E-4,3.0451277688590625E-4,3.2032343973321527E-5,3.2032343973321527E-5,3.2032343973321527E-5,3.2032343973321527E-5,1.808221780815688E-5,1.808221780815688E-5,1.808221780815688E-5,1.808221780815688E-5,2.5886455208872888E-4,2.5886455208872888E-4,2.5886455208872888E-4,2.5886455208872888E-4,3.2032343973321527E-5,3.2032343973321527E-5,3.2032343973321527E-5,3.2032343973321527E-5,1.9072530055383801E-5,1.9072530055383801E-5,1.9072530055383801E-5,1.9072530055383801E-5,6.3767316055212042E-8,6.3767316055212042E-8,6.3767316055212042E-8,6.3767316055212042E-8,9.5278783836688814E-4,1.0459779104875823E-3,1.0963501141459402E-3,2.6721673036767045E-3]
[null,"AgroIndustria",5,"1-50",3.4968025366229503E-3,4.1527340851828963E-3,5.1909176064786197E-3,6.894171923282422E-3,3.3442280824373029E-5,3.9715396569047656E-5,4.9644245711309576E-5,6.5933615380118018E-5,9.7262083426130927E-6,9.7262083426130927E-6,9.7262083426130927E-6,9.7262083426130927E-6,7.4529554731069711E-6,7.4529554731069711E-6,7.4529554731069711E-6,7.4529554731069711E-6,1.2253468566578299E-3,1.2253468566578299E-3,1.2253468566578299E-3,1.2253468566578299E-3,2.2748308094336555E-5,2.2748308094336555E-5,2.2748308094336555E-5,2.2748308094336555E-5,5.5386354658440641E-6,5.5386354658440641E-6,5.5386354658440641E-6,5.5386354658440641E-6,4.1062763458500696E-6,4.1062763458500696E-6,4.1062763458500696E-6,4.1062763458500696E-6,3.4968025366229503E-3,4.1527340851828963E-3,5.1909176064786197E-3,6.894171923282422E-3,null,3.4968025366229503E-3,4.1527340851828963E-3,5.1909176064786197E-3,6.894171923282422E-3,3.3442280824373029E-5,3.9715396569047656E-5,4.9644245711309576E-5,6.5933615380118018E-5,9.7262083426130927E-6,9.7262083426130927E-6,9.7262083426130927E-6,9.7262083426130927E-6,7.4529554731069711E-6,7.4529554731069711E-6,7.4529554731069711E-6,7.4529554731069711E-6,1.2253468566578299E-3,1.2253468566578299E-3,1.2253468566578299E-3,1.2253468566578299E-3,2.2748308094336555E-5,2.2748308094336555E-5,2.2748308094336555E-5,2.2748308094336555E-5,5.5386354658440641E-6,5.5386354658440641E-6,5.5386354658440641E-6,5.5386354658440641E-6,4.1062763458500696E-6,4.1062763458500696E-6,4.1062763458500696E-6,4.1062763458500696E-6,3.4968025366229503E-3,4.1527340851828963E-3,5.1909176064786197E-3,6.894171923282422E-3,null,null,null,null,null,null,null,null,null,null,null,null,null,null,null,null,null,null,null,null,null,null,null,null,null,null,null,null,null,null,null,null,null,null,null,null,null,null,null,null,null,null,null,null,null,null,null,null,null,null,null,null,null,null,null,null,null,null,null,null,null,null,null,null,null,null,"GC",1,{"$f":"IF(Cotizador!$E$79<=30000,Tasas!EO11,Tasas!EP11)","v":2.0502313607345573E-3},{"$f":"IF(Cotizador!$E$79<=30000,Tasas!EQ11,Tasas!ER11)","v":2.0502313607345573E-3},{"$f":"IF(Cotizador!$E$79<=30000,Tasas!ES11,Tasas!ET11)","v":2.0502313607345573E-3},{"$f":"IF(Cotizador!$E$79<=30000,Tasas!EU11,Tasas!EV11)","v":2.0502313607345573E-3},null,null,null,null,null,null,null,null,null,null,null,null,null,null,null,null,null,null,null,null,null,null,null,null,null,null,null,null,null,null,"AgroIndustria",5,"1-50",1.3257248237049293E-3,1.4553910379011728E-3,1.5254797587323158E-3,3.7180979698995154E-3,1.0505636622465709E-4,2.2455950764080875E-4,3.3846650427020447E-4,4.3005396603404536E-4,3.2032343973321527E-5,3.2032343973321527E-5,3.2032343973321527E-5,3.2032343973321527E-5,1.808221780815688E-5,1.808221780815688E-5,1.808221780815688E-5,1.808221780815688E-5,2.5886455208872888E-4,2.5886455208872888E-4,2.5886455208872888E-4,2.5886455208872888E-4,3.2032343973321527E-5,3.2032343973321527E-5,3.2032343973321527E-5,3.2032343973321527E-5,1.9072530055383801E-5,1.9072530055383801E-5,1.9072530055383801E-5,1.9072530055383801E-5,6.3767316055212042E-8,6.3767316055212042E-8,6.3767316055212042E-8,6.3767316055212042E-8,1.3257248237049293E-3,1.4553910379011728E-3,1.5254797587323158E-3,3.7180979698995154E-3]
[null,"Mineras",6,"1-50",2.3339343839787214E-3,2.7717346825906473E-3,3.4646683532383094E-3,4.6015022959658061E-3,2.9304908158205886E-3,3.4801933966012214E-3,4.3502417457515269E-3,5.7776518096954712E-3,9.7262083426130927E-6,9.7262083426130927E-6,9.7262083426130927E-6,9.7262083426130927E-6,7.4529554731069711E-6,7.4529554731069711E-6,7.4529554731069711E-6,7.4529554731069711E-6,1.2253468566578299E-3,1.2253468566578299E-3,1.2253468566578299E-3,1.2253468566578299E-3,2.2748308094336555E-5,2.2748308094336555E-5,2.2748308094336555E-5,2.2748308094336555E-5,5.5386354658440641E-6,5.5386354658440641E-6,5.5386354658440641E-6,5.5386354658440641E-6,4.1062763458500696E-6,4.1062763458500696E-6,4.1062763458500696E-6,4.1062763458500696E-6,2.3339343839787214E-3,2.7717346825906473E-3,3.4646683532383094E-3,4.6015022959658061E-3,null,2.3339343839787214E-3,2.7717346825906473E-3,3.4646683532383094E-3,4.6015022959658061E-3,2.9304908158205886E-3,3.4801933966012214E-3,4.3502417457515269E-3,5.7776518096954712E-3,9.7262083426130927E-6,9.7262083426130927E-6,9.7262083426130927E-6,9.7262083426130927E-6,7.4529554731069711E-6,7.4529554731069711E-6,7.4529554731069711E-6,7.4529554731069711E-6,1.2253468566578299E-3,1.2253468566578299E-3,1.2253468566578299E-3,1.2253468566578299E-3,2.2748308094336555E-5,2.2748308094336555E-5,2.2748308094336555E-5,2.2748308094336555E-5,5.5386354658440641E-6,5.5386354658440641E-6,5.5386354658440641E-6,5.5386354658440641E-6,4.1062763458500696E-6,4.1062763458500696E-6,4.1062763458500696E-6,4.1062763458500696E-6,2.3339343839787214E-3,2.7717346825906473E-3,3.4646683532383094E-3,4.6015022959658061E-3,null,"Descripcion Clausula",null,"RANGO ASEG.","GC","MA","GS","IP","IT","DSF","RHD x A","RRM","LAGC",null,"Descripcion Clausula",null,"RANGO ASEG.","GC","MA","GS","IP","IT","DSF","RHD x A","RRM","LAGC",null,"Descripcion Clausula",null,"RANGO ASEG.","GC","MA","GS","IP","IT","DSF","RHD x A","RRM","LAGC",null,"Descripcion Clausula",null,"RANGO ASEG.","GC","MA","GS","IP","IT","DSF","RHD x A","RRM","LAGC",null,"Descripcion Clausula",null,"RANGO ASEG.","GC","MA","GS","IP","IT","DSF","RHD x A","RRM","LAGC",null,"MA",2,2.1169127854526228E-5,2.1169127854526228E-5,2.1169127854526228E-5,2.1169127854526228E-5,null,null,null,null,null,null,null,null,null,null,null,null,null,null,null,null,null,null,null,null,null,null,null,null,null,null,null,null,null,null,"Mineras",6,"1-50",1.6934763329580683E-4,1.8591115092776481E-4,1.9486426003551612E-4,4.7494855667315348E-4,1.0667786890370371E-3,2.2802549315249399E-3,3.4369059837477353E-3,4.3669167570475316E-3,3.2032343973321527E-5,3.2032343973321527E-5,3.2032343973321527E-5,3.2032343973321527E-5,1.808221780815688E-5,1.808221780815688E-5,1.808221780815688E-5,1.808221780815688E-5,2.5886455208872888E-4,2.5886455208872888E-4,2.5886455208872888E-4,2.5886455208872888E-4,3.2032343973321527E-5,3.2032343973321527E-5,3.2032343973321527E-5,3.2032343973321527E-5,1.9072530055383801E-5,1.9072530055383801E-5,1.9072530055383801E-5,1.9072530055383801E-5,6.3767316055212042E-8,6.3767316055212042E-8,6.3767316055212042E-8,6.3767316055212042E-8,1.6934763329580683E-4,1.8591115092776481E-4,1.9486426003551612E-4,4.7494855667315348E-4]
[null,"Hidrocarburos",7,"1-50",2.5603072478693574E-3,3.04057065430868E-3,3.8007133178858503E-3,5.0478110097358034E-3,2.6768221400563057E-3,3.1789414542462242E-3,3.9736768178077805E-3,5.2775276408428325E-3,9.7262083426130927E-6,9.7262083426130927E-6,9.7262083426130927E-6,9.7262083426130927E-6,7.4529554731069711E-6,7.4529554731069711E-6,7.4529554731069711E-6,7.4529554731069711E-6,1.2253468566578299E-3,1.2253468566578299E-3,1.2253468566578299E-3,1.2253468566578299E-3,2.2748308094336555E-5,2.2748308094336555E-5,2.2748308094336555E-5,2.2748308094336555E-5,5.5386354658440641E-6,5.5386354658440641E-6,5.5386354658440641E-6,5.5386354658440641E-6,4.1062763458500696E-6,4.1062763458500696E-6,4.1062763458500696E-6,4.1062763458500696E-6,2.5603072478693574E-3,3.04057065430868E-3,3.8007133178858503E-3,5.0478110097358034E-3,null,2.5603072478693574E-3,3.04057065430868E-3,3.8007133178858503E-3,5.0478110097358034E-3,2.6768221400563057E-3,3.1789414542462242E-3,3.9736768178077805E-3,5.2775276408428325E-3,9.7262083426130927E-6,9.7262083426130927E-6,9.7262083426130927E-6,9.7262083426130927E-6,7.4529554731069711E-6,7.4529554731069711E-6,7.4529554731069711E-6,7.4529554731069711E-6,1.2253468566578299E-3,1.2253468566578299E-3,1.2253468566578299E-3,1.2253468566578299E-3,2.2748308094336555E-5,2.2748308094336555E-5,2.2748308094336555E-5,2.2748308094336555E-5,5.5386354658440641E-6,5.5386354658440641E-6,5.5386354658440641E-6,5.5386354658440641E-6,4.1062763458500696E-6,4.1062763458500696E-6,4.1062763458500696E-6,4.1062763458500696E-6,2.5603072478693574E-3,3.04057065430868E-3,3.8007133178858503E-3,5.0478110097358034E-3,null,"Cláusula por la cobertura de Terrorismo y otros riesgos. ",1,"1-50",4.849549630428262E-5,7.0183136531298085E-7,0,0,0,0,0,0,0,null,"Cláusula por la cobertura de Terrorismo y otros riesgos. ",1,"1-50",4.849549630428262E-5,7.0183136531298085E-7,0,0,0,0,0,0,0,null,"Cláusula por la cobertura de Terrorismo y otros riesgos. ",1,"1-50",5.7494757691485046E-6,1.9959976054800382E-8,0,0,0,0,0,0,0,null,"Cláusula por la cobertura de Terrorismo y otros riesgos. ",1,"1-50",9.3984752094799429E-7,7.0860502733116289E-8,0,0,0,0,0,0,0,null,"Cláusula por la cobertura de Terrorismo y otros riesgos. ",1,"1-50",9.3984752094799429E-7,7.0860502733116289E-8,0,0,0,0,0,0,0,null,"GS",3,2.1169866722612551E-5,2.1169866722612551E-5,2.1169866722612551E-5,2.1169866722612551E-5,null,null,null,null,null,null,null,null,null,null,null,null,null,null,null,null,null,null,null,null,null,null,null,null,null,null,null,null,null,null,"Hidrocarburos",7,"1-50",3.0114783009223527E-4,3.3060243359912784E-4,3.4652358542100627E-4,8.4459241894289136E-4,4.3282388354443733E-5,9.2516733327779651E-5,1.3944551110274032E-4,1.771788178114768E-4,3.2032343973321527E-5,3.2032343973321527E-5,3.2032343973321527E-5,3.2032343973321527E-5,1.808221780815688E-5,1.808221780815688E-5,1.808221780815688E-5,1.808221780815688E-5,2.5886455208872888E-4,2.5886455208872888E-4,2.5886455208872888E-4,2.5886455208872888E-4,3.2032343973321527E-5,3.2032343973321527E-5,3.2032343973321527E-5,3.2032343973321527E-5,1.9072530055383801E-5,1.9072530055383801E-5,1.9072530055383801E-5,1.9072530055383801E-5,6.3767316055212042E-8,6.3767316055212042E-8,6.3767316055212042E-8,6.3767316055212042E-8,3.0114783009223527E-4,3.3060243359912784E-4,3.4652358542100627E-4,8.4459241894289136E-4]
[null,"Telecomunicaciones",8,"1-50",3.4968025366229503E-3,4.1527340851828963E-3,5.1909176064786197E-3,6.894171923282422E-3,3.3442280824373029E-5,3.9715396569047656E-5,4.9644245711309576E-5,6.5933615380118018E-5,9.7262083426130927E-6,9.7262083426130927E-6,9.7262083426130927E-6,9.7262083426130927E-6,7.4529554731069711E-6,7.4529554731069711E-6,7.4529554731069711E-6,7.4529554731069711E-6,1.2253468566578299E-3,1.2253468566578299E-3,1.2253468566578299E-3,1.2253468566578299E-3,2.2748308094336555E-5,2.2748308094336555E-5,2.2748308094336555E-5,2.2748308094336555E-5,5.5386354658440641E-6,5.5386354658440641E-6,5.5386354658440641E-6,5.5386354658440641E-6,4.1062763458500696E-6,4.1062763458500696E-6,4.1062763458500696E-6,4.1062763458500696E-6,3.4968025366229503E-3,4.1527340851828963E-3,5.1909176064786197E-3,6.894171923282422E-3,null,3.4968025366229503E-3,4.1527340851828963E-3,5.1909176064786197E-3,6.894171923282422E-3,3.3442280824373029E-5,3.9715396569047656E-5,4.9644245711309576E-5,6.5933615380118018E-5,9.7262083426130927E-6,9.7262083426130927E-6,9.7262083426130927E-6,9.7262083426130927E-6,7.4529554731069711E-6,7.4529554731069711E-6,7.4529554731069711E-6,7.4529554731069711E-6,1.2253468566578299E-3,1.2253468566578299E-3,1.2253468566578299E-3,1.2253468566578299E-3,2.2748308094336555E-5,2.2748308094336555E-5,2.2748308094336555E-5,2.2748308094336555E-5,5.5386354658440641E-6,5.5386354658440641E-6,5.5386354658440641E-6,5.5386354658440641E-6,4.1062763458500696E-6,4.1062763458500696E-6,4.1062763458500696E-6,4.1062763458500696E-6,3.4968025366229503E-3,4.1527340851828963E-3,5.1909176064786197E-3,6.894171923282422E-3,null,null,{"$f":"CB17+1","v":2},"50-400",7.7649545829459384E-6,3.062198697759041E-7,0,0,0,0,0,0,0,null,null,{"$f":"CO17+1","v":2},"50-400",7.7649545829459384E-6,3.062198697759041E-7,0,0,0,0,0,0,0,null,null,{"$f":"DB17+1","v":2},"50-400",5.7494757691485046E-6,1.9959976054800382E-8,0,0,0,0,0,0,0,null,null,{"$f":"DO17+1","v":2},"50-400",9.3984752094799429E-7,7.0860502733116289E-8,0,0,0,0,0,0,0,null,null,{"$f":"EB17+1","v":2},"50-400",9.3984752094799429E-7,7.0860502733116289E-8,0,0,0,0,0,0,0,null,"IP",4,1.4966508950132424E-4,1.4966508950132424E-4,1.4966508950132424E-4,1.4966508950132424E-4,null,null,null,null,null,null,null,null,null,null,null,null,null,null,null,null,null,null,null,null,null,null,null,null,null,null,null,null,null,null,"Telecomunicaciones",8,"1-50",1.3257248237049293E-3,1.4553910379011728E-3,1.5254797587323158E-3,3.7180979698995154E-3,1.0505636622465709E-4,2.2455950764080875E-4,3.3846650427020447E-4,4.3005396603404536E-4,3.2032343973321527E-5,3.2032343973321527E-5,3.2032343973321527E-5,3.2032343973321527E-5,1.808221780815688E-5,1.808221780815688E-5,1.808221780815688E-5,1.808221780815688E-5,2.5886455208872888E-4,2.5886455208872888E-4,2.5886455208872888E-4,2.5886455208872888E-4,3.2032343973321527E-5,3.2032343973321527E-5,3.2032343973321527E-5,3.2032343973321527E-5,1.9072530055383801E-5,1.9072530055383801E-5,1.9072530055383801E-5,1.9072530055383801E-5,6.3767316055212042E-8,6.3767316055212042E-8,6.3767316055212042E-8,6.3767316055212042E-8,1.3257248237049293E-3,1.4553910379011728E-3,1.5254797587323158E-3,3.7180979698995154E-3]
[null,"Plasticos y Cauchos",9,"1-50",3.4968025366229503E-3,4.1527340851828963E-3,5.1909176064786197E-3,6.894171923282422E-3,3.3442280824373029E-5,3.9715396569047656E-5,4.9644245711309576E-5,6.5933615380118018E-5,9.7262083426130927E-6,9.7262083426130927E-6,9.7262083426130927E-6,9.7262083426130927E-6,7.4529554731069711E-6,7.4529554731069711E-6,7.4529554731069711E-6,7.4529554731069711E-6,1.2253468566578299E-3,1.2253468566578299E-3,1.2253468566578299E-3,1.2253468566578299E-3,2.2748308094336555E-5,2.2748308094336555E-5,2.2748308094336555E-5,2.2748308094336555E-5,5.5386354658440641E-6,5.5386354658440641E-6,5.5386354658440641E-6,5.5386354658440641E-6,4.1062763458500696E-6,4.1062763458500696E-6,4.1062763458500696E-6,4.1062763458500696E-6,3.4968025366229503E-3,4.1527340851828963E-3,5.1909176064786197E-3,6.894171923282422E-3,null,3.4968025366229503E-3,4.1527340851828963E-3,5.1909176064786197E-3,6.894171923282422E-3,3.3442280824373029E-5,3.9715396569047656E-5,4.9644245711309576E-5,6.5933615380118018E-5,9.7262083426130927E-6,9.7262083426130927E-6,9.7262083426130927E-6,9.7262083426130927E-6,7.4529554731069711E-6,7.4529554731069711E-6,7.4529554731069711E-6,7.4529554731069711E-6,1.2253468566578299E-3,1.2253468566578299E-3,1.2253468566578299E-3,1.2253468566578299E-3,2.2748308094336555E-5,2.2748308094336555E-5,2.2748308094336555E-5,2.2748308094336555E-5,5.5386354658440641E-6,5.5386354658440641E-6,5.5386354658440641E-6,5.5386354658440641E-6,4.1062763458500696E-6,4.1062763458500696E-6,4.1062763458500696E-6,4.1062763458500696E-6,3.4968025366229503E-3,4.1527340851828963E-3,5.1909176064786197E-3,6.894171923282422E-3,null,null,{"$f":"CB18+1","v":3},">400",3.337743314980987E-6,2.3940074733219292E-7,0,0,0,0,0,0,0,null,null,{"$f":"CO18+1","v":3},">400",3.337743314980987E-6,2.3940074733219292E-7,0,0,0,0,0,0,0,null,null,{"$f":"DB18+1","v":3},">400",5.7494757691485046E-6,1.9959976054800382E-8,0,0,0,0,0,0,0,null,null,{"$f":"DO18+1","v":3},">400",9.3984752094799429E-7,7.0860502733116289E-8,0,0,0,0,0,0,0,null,null,{"$f":"EB18+1","v":3},">400",9.3984752094799429E-7,7.0860502733116289E-8,0,0,0,0,0,0,0,null,"IT",5,6.7998147623175574E-6,6.7998147623175574E-6,6.7998147623175574E-6,6.7998147623175574E-6,null,null,null,null,null,null,null,null,null,null,null,null,null,null,null,null,null,null,null,null,null,null,null,null,null,null,null,null,null,null,"Plasticos y Cauchos",9,"1-50",1.3257248237049293E-3,1.4553910379011728E-3,1.5254797587323158E-3,3.7180979698995154E-3,1.0505636622465709E-4,2.2455950764080875E-4,3.3846650427020447E-4,4.3005396603404536E-4,3.2032343973321527E-5,3.2032343973321527E-5,3.2032343973321527E-5,3.2032343973321527E-5,1.808221780815688E-5,1.808221780815688E-5,1.808221780815688E-5,1.808221780815688E-5,2.5886455208872888E-4,2.5886455208872888E-4,2.5886455208872888E-4,2.5886455208872888E-4,3.2032343973321527E-5,3.2032343973321527E-5,3.2032343973321527E-5,3.2032343973321527E-5,1.9072530055383801E-5,1.9072530055383801E-5,1.9072530055383801E-5,1.9072530055383801E-5,6.3767316055212042E-8,6.3767316055212042E-8,6.3767316055212042E-8,6.3767316055212042E-8,1.3257248237049293E-3,1.4553910379011728E-3,1.5254797587323158E-3,3.7180979698995154E-3]
[null,"Instituciones Financieras",10,"1-50",6.3414387642889581E-3,7.5309682573598555E-3,9.41371032169982E-3,1.2502555870425978E-2,1.2370965470638557E-4,1.4691515874429496E-4,1.8364394843036874E-4,2.4390156984368763E-4,9.7262083426130927E-6,9.7262083426130927E-6,9.7262083426130927E-6,9.7262083426130927E-6,7.4529554731069711E-6,7.4529554731069711E-6,7.4529554731069711E-6,7.4529554731069711E-6,1.2253468566578299E-3,1.2253468566578299E-3,1.2253468566578299E-3,1.2253468566578299E-3,2.2748308094336555E-5,2.2748308094336555E-5,2.2748308094336555E-5,2.2748308094336555E-5,5.5386354658440641E-6,5.5386354658440641E-6,5.5386354658440641E-6,5.5386354658440641E-6,4.1062763458500696E-6,4.1062763458500696E-6,4.1062763458500696E-6,4.1062763458500696E-6,6.3414387642889581E-3,7.5309682573598555E-3,9.41371032169982E-3,1.2502555870425978E-2,null,6.3414387642889581E-3,7.5309682573598555E-3,9.41371032169982E-3,1.2502555870425978E-2,1.2370965470638557E-4,1.4691515874429496E-4,1.8364394843036874E-4,2.4390156984368763E-4,9.7262083426130927E-6,9.7262083426130927E-6,9.7262083426130927E-6,9.7262083426130927E-6,7.4529554731069711E-6,7.4529554731069711E-6,7.4529554731069711E-6,7.4529554731069711E-6,1.2253468566578299E-3,1.2253468566578299E-3,1.2253468566578299E-3,1.2253468566578299E-3,2.2748308094336555E-5,2.2748308094336555E-5,2.2748308094336555E-5,2.2748308094336555E-5,5.5386354658440641E-6,5.5386354658440641E-6,5.5386354658440641E-6,5.5386354658440641E-6,4.1062763458500696E-6,4.1062763458500696E-6,4.1062763458500696E-6,4.1062763458500696E-6,6.3414387642889581E-3,7.5309682573598555E-3,9.41371032169982E-3,1.2502555870425978E-2,null,"Cláusula de ampliación del límite máximo de edad, personas mayores de 70 y hasta los 80 años inclusive.",4,"1-50",4.9989198181515687E-7,6.2174626014001302E-8,6.872345351857717E-8,0,0,0,0,0,0,null,"Cláusula de ampliación del límite máximo de edad, personas mayores de 70 y hasta los 80 años inclusive.",4,"1-50",4.9989198181515687E-7,6.2174626014001302E-8,6.872345351857717E-8,0,0,0,0,0,0,null,"Cláusula de ampliación del límite máximo de edad, personas mayores de 70 y hasta los 80 años inclusive.",4,"1-50",5.9265644351887108E-8,1.768236798454014E-9,2.0261178346822665E-8,0,0,0,0,0,0,null,"Cláusula de ampliación del límite máximo de edad, personas mayores de 70 y hasta los 80 años inclusive.",4,"1-50",9.687956112519777E-9,6.2774698800058533E-9,5.3029796037511984E-9,0,0,0,0,0,0,null,"Cláusula de ampliación del límite máximo de edad, personas mayores de 70 y hasta los 80 años inclusive.",4,"1-50",9.687956112519777E-9,6.2774698800058533E-9,5.3029796037511984E-9,0,0,0,0,0,0,null,"RHD x A",6,2.2061309907705893E-5,2.2061309907705893E-5,2.2061309907705893E-5,2.2061309907705893E-5,null,null,null,null,null,null,null,null,null,null,null,null,null,null,null,null,null,null,null,null,null,null,null,null,null,null,null,null,null,null,"Instituciones Financieras",10,"1-50",3.2674306972494186E-4,3.5870108703632493E-4,3.7597541379552526E-4,9.1637625131581462E-4,2.0881072420972741E-5,4.4633595377156448E-5,6.7273824916293766E-5,8.5477809031394214E-5,3.2032343973321527E-5,3.2032343973321527E-5,3.2032343973321527E-5,3.2032343973321527E-5,1.808221780815688E-5,1.808221780815688E-5,1.808221780815688E-5,1.808221780815688E-5,2.5886455208872888E-4,2.5886455208872888E-4,2.5886455208872888E-4,2.5886455208872888E-4,3.2032343973321527E-5,3.2032343973321527E-5,3.2032343973321527E-5,3.2032343973321527E-5,1.9072530055383801E-5,1.9072530055383801E-5,1.9072530055383801E-5,1.9072530055383801E-5,6.3767316055212042E-8,6.3767316055212042E-8,6.3767316055212042E-8,6.3767316055212042E-8,3.2674306972494186E-4,3.5870108703632493E-4,3.7597541379552526E-4,9.1637625131581462E-4]
[null,"Quimicas",11,"1-50",3.4968025366229503E-3,4.1527340851828963E-3,5.1909176064786197E-3,6.894171923282422E-3,3.3442280824373029E-5,3.9715396569047656E-5,4.9644245711309576E-5,6.5933615380118018E-5,9.7262083426130927E-6,9.7262083426130927E-6,9.7262083426130927E-6,9.7262083426130927E-6,7.4529554731069711E-6,7.4529554731069711E-6,7.4529554731069711E-6,7.4529554731069711E-6,1.2253468566578299E-3,1.2253468566578299E-3,1.2253468566578299E-3,1.2253468566578299E-3,2.2748308094336555E-5,2.2748308094336555E-5,2.2748308094336555E-5,2.2748308094336555E-5,5.5386354658440641E-6,5.5386354658440641E-6,5.5386354658440641E-6,5.5386354658440641E-6,4.1062763458500696E-6,4.1062763458500696E-6,4.1062763458500696E-6,4.1062763458500696E-6,3.4968025366229503E-3,4.1527340851828963E-3,5.1909176064786197E-3,6.894171923282422E-3,null,3.4968025366229503E-3,4.1527340851828963E-3,5.1909176064786197E-3,6.894171923282422E-3,3.3442280824373029E-5,3.9715396569047656E-5,4.9644245711309576E-5,6.5933615380118018E-5,9.7262083426130927E-6,9.7262083426130927E-6,9.7262083426130927E-6,9.7262083426130927E-6,7.4529554731069711E-6,7.4529554731069711E-6,7.4529554731069711E-6,7.4529554731069711E-6,1.2253468566578299E-3,1.2253468566578299E-3,1.2253468566578299E-3,1.2253468566578299E-3,2.2748308094336555E-5,2.2748308094336555E-5,2.2748308094336555E-5,2.2748308094336555E-5,5.5386354658440641E-6,5.5386354658440641E-6,5.5386354658440641E-6,5.5386354658440641E-6,4.1062763458500696E-6,4.1062763458500696E-6,4.1062763458500696E-6,4.1062763458500696E-6,3.4968025366229503E-3,4.1527340851828963E-3,5.1909176064786197E-3,6.894171923282422E-3,null,null,5,"50-400",8.004121683420618E-8,2.7127750086920879E-8,6.872345351857717E-8,0,0,0,0,0,0,null,null,5,"50-400",8.004121683420618E-8,2.7127750086920879E-8,6.872345351857717E-8,0,0,0,0,0,0,null,null,5,"50-400",5.9265644351887108E-8,1.768236798454014E-9,2.0261178346822665E-8,0,0,0,0,0,0,null,null,5,"50-400",9.687956112519777E-9,6.2774698800058533E-9,5.3029796037511984E-9,0,0,0,0,0,0,null,null,5,"50-400",9.687956112519777E-9,6.2774698800058533E-9,5.3029796037511984E-9,0,0,0,0,0,0,null,"DSF",7,5.8451167278708121E-6,5.8451167278708121E-6,5.8451167278708121E-6,5.8451167278708121E-6,null,null,null,null,null,null,null,null,null,null,null,null,null,null,null,null,null,null,null,null,null,null,null,null,null,null,null,null,null,null,"Quimicas",11,"1-50",1.3257248237049293E-3,1.4553910379011728E-3,1.5254797587323158E-3,3.7180979698995154E-3,1.0505636622465709E-4,2.2455950764080875E-4,3.3846650427020447E-4,4.3005396603404536E-4,3.2032343973321527E-5,3.2032343973321527E-5,3.2032343973321527E-5,3.2032343973321527E-5,1.808221780815688E-5,1.808221780815688E-5,1.808221780815688E-5,1.808221780815688E-5,2.5886455208872888E-4,2.5886455208872888E-4,2.5886455208872888E-4,2.5886455208872888E-4,3.2032343973321527E-5,3.2032343973321527E-5,3.2032343973321527E-5,3.2032343973321527E-5,1.9072530055383801E-5,1.9072530055383801E-5,1.9072530055383801E-5,1.9072530055383801E-5,6.3767316055212042E-8,6.3767316055212042E-8,6.3767316055212042E-8,6.3767316055212042E-8,1.3257248237049293E-3,1.4553910379011728E-3,1.5254797587323158E-3,3.7180979698995154E-3]
[null,"Comercio",12,"1-50",1.0496460464726968E-3,1.24653905072211E-3,1.5581738134026375E-3,2.0694449363918275E-3,3.3768092440856215E-4,4.0102324052355005E-4,5.0127905065443755E-4,6.6575974013501689E-4,9.7262083426130927E-6,9.7262083426130927E-6,9.7262083426130927E-6,9.7262083426130927E-6,7.4529554731069711E-6,7.4529554731069711E-6,7.4529554731069711E-6,7.4529554731069711E-6,1.2253468566578299E-3,1.2253468566578299E-3,1.2253468566578299E-3,1.2253468566578299E-3,2.2748308094336555E-5,2.2748308094336555E-5,2.2748308094336555E-5,2.2748308094336555E-5,5.5386354658440641E-6,5.5386354658440641E-6,5.5386354658440641E-6,5.5386354658440641E-6,4.1062763458500696E-6,4.1062763458500696E-6,4.1062763458500696E-6,4.1062763458500696E-6,1.0496460464726968E-3,1.24653905072211E-3,1.5581738134026375E-3,2.0694449363918275E-3,null,1.0496460464726968E-3,1.24653905072211E-3,1.5581738134026375E-3,2.0694449363918275E-3,3.3768092440856215E-4,4.0102324052355005E-4,5.0127905065443755E-4,6.6575974013501689E-4,9.7262083426130927E-6,9.7262083426130927E-6,9.7262083426130927E-6,9.7262083426130927E-6,7.4529554731069711E-6,7.4529554731069711E-6,7.4529554731069711E-6,7.4529554731069711E-6,1.2253468566578299E-3,1.2253468566578299E-3,1.2253468566578299E-3,1.2253468566578299E-3,2.2748308094336555E-5,2.2748308094336555E-5,2.2748308094336555E-5,2.2748308094336555E-5,5.5386354658440641E-6,5.5386354658440641E-6,5.5386354658440641E-6,5.5386354658440641E-6,4.1062763458500696E-6,4.1062763458500696E-6,4.1062763458500696E-6,4.1062763458500696E-6,1.0496460464726968E-3,1.24653905072211E-3,1.5581738134026375E-3,2.0694449363918275E-3,null,null,6,">400",3.440548602796321E-8,2.1208302547455569E-8,6.872345351857717E-8,0,0,0,0,0,0,null,null,6,">400",3.440548602796321E-8,2.1208302547455569E-8,6.872345351857717E-8,0,0,0,0,0,0,null,null,6,">400",5.9265644351887108E-8,1.768236798454014E-9,2.0261178346822665E-8,0,0,0,0,0,0,null,null,6,">400",9.687956112519777E-9,6.2774698800058533E-9,5.3029796037511984E-9,0,0,0,0,0,0,null,null,6,">400",9.687956112519777E-9,6.2774698800058533E-9,5.3029796037511984E-9,0,0,0,0,0,0,null,"RRM",8,2.7018775122014368E-6,2.7018775122014368E-6,2.7018775122014368E-6,2.7018775122014368E-6,null,null,null,null,null,null,null,null,null,null,null,null,null,null,null,null,null,null,null,null,null,null,null,null,null,null,null,null,null,null,"Comercio",12,"1-50",4.8912389463223E-4,5.3696402144877344E-4,5.6282313450883804E-4,1.3717858541556682E-3,2.2680843838991988E-4,4.8480632905868775E-4,7.3072258292903659E-4,9.2845271509762659E-4,3.2032343973321527E-5,3.2032343973321527E-5,3.2032343973321527E-5,3.2032343973321527E-5,1.808221780815688E-5,1.808221780815688E-5,1.808221780815688E-5,1.808221780815688E-5,2.5886455208872888E-4,2.5886455208872888E-4,2.5886455208872888E-4,2.5886455208872888E-4,3.2032343973321527E-5,3.2032343973321527E-5,3.2032343973321527E-5,3.2032343973321527E-5,1.9072530055383801E-5,1.9072530055383801E-5,1.9072530055383801E-5,1.9072530055383801E-5,6.3767316055212042E-8,6.3767316055212042E-8,6.3767316055212042E-8,6.3767316055212042E-8,4.8912389463223E-4,5.3696402144877344E-4,5.6282313450883804E-4,1.3717858541556682E-3]
[null,"Educación",13,"1-50",4.316003031598523E-3,5.1256005202916909E-3,6.407000650364615E-3,8.5092785793917346E-3,1.2487728149360259E-4,1.4830180940794138E-4,1.8537726175992675E-4,2.4620362142623942E-4,9.7262083426130927E-6,9.7262083426130927E-6,9.7262083426130927E-6,9.7262083426130927E-6,7.4529554731069711E-6,7.4529554731069711E-6,7.4529554731069711E-6,7.4529554731069711E-6,1.2253468566578299E-3,1.2253468566578299E-3,1.2253468566578299E-3,1.2253468566578299E-3,2.2748308094336555E-5,2.2748308094336555E-5,2.2748308094336555E-5,2.2748308094336555E-5,5.5386354658440641E-6,5.5386354658440641E-6,5.5386354658440641E-6,5.5386354658440641E-6,4.1062763458500696E-6,4.1062763458500696E-6,4.1062763458500696E-6,4.1062763458500696E-6,4.316003031598523E-3,5.1256005202916909E-3,6.407000650364615E-3,8.5092785793917346E-3,null,4.316003031598523E-3,5.1256005202916909E-3,6.407000650364615E-3,8.5092785793917346E-3,1.2487728149360259E-4,1.4830180940794138E-4,1.8537726175992675E-4,2.4620362142623942E-4,9.7262083426130927E-6,9.7262083426130927E-6,9.7262083426130927E-6,9.7262083426130927E-6,7.4529554731069711E-6,7.4529554731069711E-6,7.4529554731069711E-6,7.4529554731069711E-6,1.2253468566578299E-3,1.2253468566578299E-3,1.2253468566578299E-3,1.2253468566578299E-3,2.2748308094336555E-5,2.2748308094336555E-5,2.2748308094336555E-5,2.2748308094336555E-5,5.5386354658440641E-6,5.5386354658440641E-6,5.5386354658440641E-6,5.5386354658440641E-6,4.1062763458500696E-6,4.1062763458500696E-6,4.1062763458500696E-6,4.1062763458500696E-6,4.316003031598523E-3,5.1256005202916909E-3,6.407000650364615E-3,8.5092785793917346E-3,null,"Edad de ingreso del asegurado",7,"1-50",3.3608581439723657E-8,0,0,0,0,0,0,0,0,null,"Edad de ingreso del asegurado",7,"1-50",3.3608581439723657E-8,0,0,0,0,0,0,0,0,null,"Edad de ingreso del asegurado",7,"1-50",3.9845292727951954E-9,0,0,0,0,0,0,0,0,null,"Edad de ingreso del asegurado",7,"1-50",6.5133763660263065E-10,0,0,0,0,0,0,0,0,null,"Edad de ingreso del asegurado",7,"1-50",6.5133763660263065E-10,0,0,0,0,0,0,0,0,null,null,null,null,null,null,null,null,null,null,null,null,null,null,null,null,null,null,null,null,null,null,null,null,null,null,null,null,null,null,null,null,null,null,null,null,null,"Educación",13,"1-50",2.6943421461409658E-3,2.9578697950109097E-3,3.1003148870298613E-3,7.5564912753049041E-3,2.3772833957069612E-4,5.081477763289804E-4,7.6590389475672408E-4,9.731539262688775E-4,3.2032343973321527E-5,3.2032343973321527E-5,3.2032343973321527E-5,3.2032343973321527E-5,1.808221780815688E-5,1.808221780815688E-5,1.808221780815688E-5,1.808221780815688E-5,2.5886455208872888E-4,2.5886455208872888E-4,2.5886455208872888E-4,2.5886455208872888E-4,3.2032343973321527E-5,3.2032343973321527E-5,3.2032343973321527E-5,3.2032343973321527E-5,1.9072530055383801E-5,1.9072530055383801E-5,1.9072530055383801E-5,1.9072530055383801E-5,6.3767316055212042E-8,6.3767316055212042E-8,6.3767316055212042E-8,6.3767316055212042E-8,2.6943421461409658E-3,2.9578697950109097E-3,3.1003148870298613E-3,7.5564912753049041E-3]
[null,"Industria",14,"1-50",3.4968025366229503E-3,4.1527340851828963E-3,5.1909176064786197E-3,6.894171923282422E-3,3.3442280824373029E-5,3.9715396569047656E-5,4.9644245711309576E-5,6.5933615380118018E-5,9.7262083426130927E-6,9.7262083426130927E-6,9.7262083426130927E-6,9.7262083426130927E-6,7.4529554731069711E-6,7.4529554731069711E-6,7.4529554731069711E-6,7.4529554731069711E-6,1.2253468566578299E-3,1.2253468566578299E-3,1.2253468566578299E-3,1.2253468566578299E-3,2.2748308094336555E-5,2.2748308094336555E-5,2.2748308094336555E-5,2.2748308094336555E-5,5.5386354658440641E-6,5.5386354658440641E-6,5.5386354658440641E-6,5.5386354658440641E-6,4.1062763458500696E-6,4.1062763458500696E-6,4.1062763458500696E-6,4.1062763458500696E-6,3.4968025366229503E-3,4.1527340851828963E-3,5.1909176064786197E-3,6.894171923282422E-3,null,3.4968025366229503E-3,4.1527340851828963E-3,5.1909176064786197E-3,6.894171923282422E-3,3.3442280824373029E-5,3.9715396569047656E-5,4.9644245711309576E-5,6.5933615380118018E-5,9.7262083426130927E-6,9.7262083426130927E-6,9.7262083426130927E-6,9.7262083426130927E-6,7.4529554731069711E-6,7.4529554731069711E-6,7.4529554731069711E-6,7.4529554731069711E-6,1.2253468566578299E-3,1.2253468566578299E-3,1.2253468566578299E-3,1.2253468566578299E-3,2.2748308094336555E-5,2.2748308094336555E-5,2.2748308094336555E-5,2.2748308094336555E-5,5.5386354658440641E-6,5.5386354658440641E-6,5.5386354658440641E-6,5.5386354658440641E-6,4.1062763458500696E-6,4.1062763458500696E-6,4.1062763458500696E-6,4.1062763458500696E-6,3.4968025366229503E-3,4.1527340851828963E-3,5.1909176064786197E-3,6.894171923282422E-3,null,null,8,"50-400",5.3813060668408475E-9,0,0,0,0,0,0,0,0,null,null,8,"50-400",5.3813060668408475E-9,0,0,0,0,0,0,0,0,null,null,8,"50-400",3.9845292727951954E-9,0,0,0,0,0,0,0,0,null,null,8,"50-400",6.5133763660263065E-10,0,0,0,0,0,0,0,0,null,null,8,"50-400",6.5133763660263065E-10,0,0,0,0,0,0,0,0,null,"CLAÚSULAS ADICIONALES",null,null,null,null,null,null,null,null,null,null,null,null,null,null,null,null,null,null,null,null,null,null,null,null,null,null,null,null,null,null,null,null,null,null,null,"Industria",14,"1-50",1.3257248237049293E-3,1.4553910379011728E-3,1.5254797587323158E-3,3.7180979698995154E-3,1.0505636622465709E-4,2.2455950764080875E-4,3.3846650427020447E-4,4.3005396603404536E-4,3.2032343973321527E-5,3.2032343973321527E-5,3.2032343973321527E-5,3.2032343973321527E-5,1.808221780815688E-5,1.808221780815688E-5,1.808221780815688E-5,1.808221780815688E-5,2.5886455208872888E-4,2.5886455208872888E-4,2.5886455208872888E-4,2.5886455208872888E-4,3.2032343973321527E-5,3.2032343973321527E-5,3.2032343973321527E-5,3.2032343973321527E-5,1.9072530055383801E-5,1.9072530055383801E-5,1.9072530055383801E-5,1.9072530055383801E-5,6.3767316055212042E-8,6.3767316055212042E-8,6.3767316055212042E-8,6.3767316055212042E-8,1.3257248237049293E-3,1.4553910379011728E-3,1.5254797587323158E-3,3.7180979698995154E-3]
[null,"Construcción",15,"1-50",1.9251912827116923E-4,2.286319395070801E-4,2.8578992438385017E-4,3.7956388870150737E-4,4.4629762334714101E-4,5.3001430112198302E-4,6.6251787640247885E-4,8.7990457341609416E-4,9.7262083426130927E-6,9.7262083426130927E-6,9.7262083426130927E-6,9.7262083426130927E-6,7.4529554731069711E-6,7.4529554731069711E-6,7.4529554731069711E-6,7.4529554731069711E-6,1.2253468566578299E-3,1.2253468566578299E-3,1.2253468566578299E-3,1.2253468566578299E-3,2.2748308094336555E-5,2.2748308094336555E-5,2.2748308094336555E-5,2.2748308094336555E-5,5.5386354658440641E-6,5.5386354658440641E-6,5.5386354658440641E-6,5.5386354658440641E-6,4.1062763458500696E-6,4.1062763458500696E-6,4.1062763458500696E-6,4.1062763458500696E-6,1.9251912827116923E-4,2.286319395070801E-4,2.8578992438385017E-4,3.7956388870150737E-4,null,1.9251912827116923E-4,2.286319395070801E-4,2.8578992438385017E-4,3.7956388870150737E-4,4.4629762334714101E-4,5.3001430112198302E-4,6.6251787640247885E-4,8.7990457341609416E-4,9.7262083426130927E-6,9.7262083426130927E-6,9.7262083426130927E-6,9.7262083426130927E-6,7.4529554731069711E-6,7.4529554731069711E-6,7.4529554731069711E-6,7.4529554731069711E-6,1.2253468566578299E-3,1.2253468566578299E-3,1.2253468566578299E-3,1.2253468566578299E-3,2.2748308094336555E-5,2.2748308094336555E-5,2.2748308094336555E-5,2.2748308094336555E-5,5.5386354658440641E-6,5.5386354658440641E-6,5.5386354658440641E-6,5.5386354658440641E-6,4.1062763458500696E-6,4.1062763458500696E-6,4.1062763458500696E-6,4.1062763458500696E-6,1.9251912827116923E-4,2.286319395070801E-4,2.8578992438385017E-4,3.7956388870150737E-4,null,null,9,">400",2.3131388804144565E-9,0,0,0,0,0,0,0,0,null,null,9,">400",2.3131388804144565E-9,0,0,0,0,0,0,0,0,null,null,9,">400",3.9845292727951954E-9,0,0,0,0,0,0,0,0,null,null,9,">400",6.5133763660263065E-10,0,0,0,0,0,0,0,0,null,null,9,">400",6.5133763660263065E-10,0,0,0,0,0,0,0,0,null,null,null,null,null,null,null,null,null,null,null,null,null,null,null,null,null,null,null,null,null,null,null,null,null,null,null,null,null,null,null,null,null,null,null,null,null,"Construcción",15,"1-50",6.5261960715248476E-4,7.1645088816690524E-4,7.5095372965916171E-4,1.8303222456746784E-3,3.4944388908618946E-3,7.4694138490834913E-3,1.1258246960937437E-2,1.4304676223667601E-2,3.2032343973321527E-5,3.2032343973321527E-5,3.2032343973321527E-5,3.2032343973321527E-5,1.808221780815688E-5,1.808221780815688E-5,1.808221780815688E-5,1.808221780815688E-5,2.5886455208872888E-4,2.5886455208872888E-4,2.5886455208872888E-4,2.5886455208872888E-4,3.2032343973321527E-5,3.2032343973321527E-5,3.2032343973321527E-5,3.2032343973321527E-5,1.9072530055383801E-5,1.9072530055383801E-5,1.9072530055383801E-5,1.9072530055383801E-5,6.3767316055212042E-8,6.3767316055212042E-8,6.3767316055212042E-8,6.3767316055212042E-8,6.5261960715248476E-4,7.1645088816690524E-4,7.5095372965916171E-4,1.8303222456746784E-3]
[null,"Pesca",16,"1-50",3.4968025366229503E-3,4.1527340851828963E-3,5.1909176064786197E-3,6.894171923282422E-3,3.3442280824373029E-5,3.9715396569047656E-5,4.9644245711309576E-5,6.5933615380118018E-5,9.7262083426130927E-6,9.7262083426130927E-6,9.7262083426130927E-6,9.7262083426130927E-6,7.4529554731069711E-6,7.4529554731069711E-6,7.4529554731069711E-6,7.4529554731069711E-6,1.2253468566578299E-3,1.2253468566578299E-3,1.2253468566578299E-3,1.2253468566578299E-3,2.2748308094336555E-5,2.2748308094336555E-5,2.2748308094336555E-5,2.2748308094336555E-5,5.5386354658440641E-6,5.5386354658440641E-6,5.5386354658440641E-6,5.5386354658440641E-6,4.1062763458500696E-6,4.1062763458500696E-6,4.1062763458500696E-6,4.1062763458500696E-6,3.4968025366229503E-3,4.1527340851828963E-3,5.1909176064786197E-3,6.894171923282422E-3,null,3.4968025366229503E-3,4.1527340851828963E-3,5.1909176064786197E-3,6.894171923282422E-3,3.3442280824373029E-5,3.9715396569047656E-5,4.9644245711309576E-5,6.5933615380118018E-5,9.7262083426130927E-6,9.7262083426130927E-6,9.7262083426130927E-6,9.7262083426130927E-6,7.4529554731069711E-6,7.4529554731069711E-6,7.4529554731069711E-6,7.4529554731069711E-6,1.2253468566578299E-3,1.2253468566578299E-3,1.2253468566578299E-3,1.2253468566578299E-3,2.2748308094336555E-5,2.2748308094336555E-5,2.2748308094336555E-5,2.2748308094336555E-5,5.5386354658440641E-6,5.5386354658440641E-6,5.5386354658440641E-6,5.5386354658440641E-6,4.1062763458500696E-6,4.1062763458500696E-6,4.1062763458500696E-6,4.1062763458500696E-6,3.4968025366229503E-3,4.1527340851828963E-3,5.1909176064786197E-3,6.894171923282422E-3,null,"Por limitación a horas de trabajo.",10,"1-50",-3.1366440269188236E-6,-3.6913841138106658E-6,0,0,-5.5903543628395103E-9,0,0,0,0,null,"Por limitación a horas de trabajo.",10,"1-50",-3.1366440269188236E-6,-3.6913841138106658E-6,0,0,-5.5903543628395103E-9,0,0,0,0,null,"Por limitación a horas de trabajo.",10,"1-50",-3.71870796332516E-7,-1.0498239628813675E-7,0,0,-1.2249506148756514E-8,0,0,0,0,null,"Por limitación a horas de trabajo.",10,"1-50",-6.0788471867554772E-8,-3.7270111741018362E-7,0,0,-1.6335350499705952E-9,0,0,0,0,null,"Por limitación a horas de trabajo.",10,"1-50",-6.0788471867554772E-8,-3.7270111741018362E-7,0,0,-1.6335350499705952E-9,0,0,0,0,null,null,null,"GRUPO 1",null,null,null,null,null,null,null,"GRUPO 2",null,null,null,null,null,null,null,"GRUPO 3",null,null,null,null,null,null,null,"GRUPO 4",null,null,null,null,null,null,null,null,null,"Pesca",16,"1-50",1.3257248237049293E-3,1.4553910379011728E-3,1.5254797587323158E-3,3.7180979698995154E-3,1.0505636622465709E-4,2.2455950764080875E-4,3.3846650427020447E-4,4.3005396603404536E-4,3.2032343973321527E-5,3.2032343973321527E-5,3.2032343973321527E-5,3.2032343973321527E-5,1.808221780815688E-5,1.808221780815688E-5,1.808221780815688E-5,1.808221780815688E-5,2.5886455208872888E-4,2.5886455208872888E-4,2.5886455208872888E-4,2.5886455208872888E-4,3.2032343973321527E-5,3.2032343973321527E-5,3.2032343973321527E-5,3.2032343973321527E-5,1.9072530055383801E-5,1.9072530055383801E-5,1.9072530055383801E-5,1.9072530055383801E-5,6.3767316055212042E-8,6.3767316055212042E-8,6.3767316055212042E-8,6.3767316055212042E-8,1.3257248237049293E-3,1.4553910379011728E-3,1.5254797587323158E-3,3.7180979698995154E-3]
[null,"Energia y Agua",17,"1-50",2.5603072478693574E-3,3.04057065430868E-3,3.8007133178858503E-3,5.0478110097358034E-3,2.6768221400563057E-3,3.1789414542462242E-3,3.9736768178077805E-3,5.2775276408428325E-3,9.7262083426130927E-6,9.7262083426130927E-6,9.7262083426130927E-6,9.7262083426130927E-6,7.4529554731069711E-6,7.4529554731069711E-6,7.4529554731069711E-6,7.4529554731069711E-6,1.2253468566578299E-3,1.2253468566578299E-3,1.2253468566578299E-3,1.2253468566578299E-3,2.2748308094336555E-5,2.2748308094336555E-5,2.2748308094336555E-5,2.2748308094336555E-5,5.5386354658440641E-6,5.5386354658440641E-6,5.5386354658440641E-6,5.5386354658440641E-6,4.1062763458500696E-6,4.1062763458500696E-6,4.1062763458500696E-6,4.1062763458500696E-6,2.5603072478693574E-3,3.04057065430868E-3,3.8007133178858503E-3,5.0478110097358034E-3,null,2.5603072478693574E-3,3.04057065430868E-3,3.8007133178858503E-3,5.0478110097358034E-3,2.6768221400563057E-3,3.1789414542462242E-3,3.9736768178077805E-3,5.2775276408428325E-3,9.7262083426130927E-6,9.7262083426130927E-6,9.7262083426130927E-6,9.7262083426130927E-6,7.4529554731069711E-6,7.4529554731069711E-6,7.4529554731069711E-6,7.4529554731069711E-6,1.2253468566578299E-3,1.2253468566578299E-3,1.2253468566578299E-3,1.2253468566578299E-3,2.2748308094336555E-5,2.2748308094336555E-5,2.2748308094336555E-5,2.2748308094336555E-5,5.5386354658440641E-6,5.5386354658440641E-6,5.5386354658440641E-6,5.5386354658440641E-6,4.1062763458500696E-6,4.1062763458500696E-6,4.1062763458500696E-6,4.1062763458500696E-6,2.5603072478693574E-3,3.04057065430868E-3,3.8007133178858503E-3,5.0478110097358034E-3,null,null,11,"50-400",-5.0223010935022556E-7,-1.6106079301825642E-6,0,0,-5.5903543628395103E-9,0,0,0,0,null,null,11,"50-400",-5.0223010935022556E-7,-1.6106079301825642E-6,0,0,-5.5903543628395103E-9,0,0,0,0,null,null,11,"50-400",-3.71870796332516E-7,-1.0498239628813675E-7,0,0,-1.2249506148756514E-8,0,0,0,0,null,null,11,"50-400",-6.0788471867554772E-8,-3.7270111741018362E-7,0,0,-1.6335350499705952E-9,0,0,0,0,null,null,11,"50-400",-6.0788471867554772E-8,-3.7270111741018362E-7,0,0,-1.6335350499705952E-9,0,0,0,0,null,null,null,2,3,4,5,6,7,8,9,10,{"$f":"EX27+1","v":11},{"$f":"EY27+1","v":12},13,14,15,16,17,18,19,20,21,22,23,24,25,26,27,28,29,30,31,32,33,null,null,"Energia y Agua",17,"1-50",3.0114783009223527E-4,3.3060243359912784E-4,3.4652358542100627E-4,8.4459241894289136E-4,4.3282388354443733E-5,9.2516733327779651E-5,1.3944551110274032E-4,1.771788178114768E-4,3.2032343973321527E-5,3.2032343973321527E-5,3.2032343973321527E-5,3.2032343973321527E-5,1.808221780815688E-5,1.808221780815688E-5,1.808221780815688E-5,1.808221780815688E-5,2.5886455208872888E-4,2.5886455208872888E-4,2.5886455208872888E-4,2.5886455208872888E-4,3.2032343973321527E-5,3.2032343973321527E-5,3.2032343973321527E-5,3.2032343973321527E-5,1.9072530055383801E-5,1.9072530055383801E-5,1.9072530055383801E-5,1.9072530055383801E-5,6.3767316055212042E-8,6.3767316055212042E-8,6.3767316055212042E-8,6.3767316055212042E-8,3.0114783009223527E-4,3.3060243359912784E-4,3.4652358542100627E-4,8.4459241894289136E-4]
[null,"Textiles",18,"1-50",3.4968025366229503E-3,4.1527340851828963E-3,5.1909176064786197E-3,6.894171923282422E-3,3.3442280824373029E-5,3.9715396569047656E-5,4.9644245711309576E-5,6.5933615380118018E-5,9.7262083426130927E-6,9.7262083426130927E-6,9.7262083426130927E-6,9.7262083426130927E-6,7.4529554731069711E-6,7.4529554731069711E-6,7.4529554731069711E-6,7.4529554731069711E-6,1.2253468566578299E-3,1.2253468566578299E-3,1.2253468566578299E-3,1.2253468566578299E-3,2.2748308094336555E-5,2.2748308094336555E-5,2.2748308094336555E-5,2.2748308094336555E-5,5.5386354658440641E-6,5.5386354658440641E-6,5.5386354658440641E-6,5.5386354658440641E-6,4.1062763458500696E-6,4.1062763458500696E-6,4.1062763458500696E-6,4.1062763458500696E-6,3.4968025366229503E-3,4.1527340851828963E-3,5.1909176064786197E-3,6.894171923282422E-3,null,3.4968025366229503E-3,4.1527340851828963E-3,5.1909176064786197E-3,6.894171923282422E-3,3.3442280824373029E-5,3.9715396569047656E-5,4.9644245711309576E-5,6.5933615380118018E-5,9.7262083426130927E-6,9.7262083426130927E-6,9.7262083426130927E-6,9.7262083426130927E-6,7.4529554731069711E-6,7.4529554731069711E-6,7.4529554731069711E-6,7.4529554731069711E-6,1.2253468566578299E-3,1.2253468566578299E-3,1.2253468566578299E-3,1.2253468566578299E-3,2.2748308094336555E-5,2.2748308094336555E-5,2.2748308094336555E-5,2.2748308094336555E-5,5.5386354658440641E-6,5.5386354658440641E-6,5.5386354658440641E-6,5.5386354658440641E-6,4.1062763458500696E-6,4.1062763458500696E-6,4.1062763458500696E-6,4.1062763458500696E-6,3.4968025366229503E-3,4.1527340851828963E-3,5.1909176064786197E-3,6.894171923282422E-3,null,null,12,">400",-2.1588216288444923E-7,-1.2591630400307974E-6,0,0,-5.5903543628395103E-9,0,0,0,0,null,null,12,">400",-2.1588216288444923E-7,-1.2591630400307974E-6,0,0,-5.5903543628395103E-9,0,0,0,0,null,null,12,">400",-3.71870796332516E-7,-1.0498239628813675E-7,0,0,-1.2249506148756514E-8,0,0,0,0,null,null,12,">400",-6.0788471867554772E-8,-3.7270111741018362E-7,0,0,-1.6335350499705952E-9,0,0,0,0,null,null,12,">400",-6.0788471867554772E-8,-3.7270111741018362E-7,0,0,-1.6335350499705952E-9,0,0,0,0,null,"Descripcion Clausula",null,"GC","MA","GS","IP","IT","RHD x A","DSF","RRM","GC","MA","GS","IP","IT","RHD x A","DSF","RRM","GC","MA","GS","IP","IT","RHD x A","DSF","RRM","GC","MA","GS","IP","IT","RHD x A","DSF","RRM",null,null,"Textiles",18,"1-50",1.3257248237049293E-3,1.4553910379011728E-3,1.5254797587323158E-3,3.7180979698995154E-3,1.0505636622465709E-4,2.2455950764080875E-4,3.3846650427020447E-4,4.3005396603404536E-4,3.2032343973321527E-5,3.2032343973321527E-5,3.2032343973321527E-5,3.2032343973321527E-5,1.808221780815688E-5,1.808221780815688E-5,1.808221780815688E-5,1.808221780815688E-5,2.5886455208872888E-4,2.5886455208872888E-4,2.5886455208872888E-4,2.5886455208872888E-4,3.2032343973321527E-5,3.2032343973321527E-5,3.2032343973321527E-5,3.2032343973321527E-5,1.9072530055383801E-5,1.9072530055383801E-5,1.9072530055383801E-5,1.9072530055383801E-5,6.3767316055212042E-8,6.3767316055212042E-8,6.3767316055212042E-8,6.3767316055212042E-8,1.3257248237049293E-3,1.4553910379011728E-3,1.5254797587323158E-3,3.7180979698995154E-3]
[null,"Transporte y Aviación",19,"1-50",1.9251912827116923E-4,2.286319395070801E-4,2.8578992438385017E-4,3.7956388870150737E-4,2.6982270199426141E-4,3.2043614696351862E-4,4.0054518370439825E-4,5.319728743246497E-4,9.7262083426130927E-6,9.7262083426130927E-6,9.7262083426130927E-6,9.7262083426130927E-6,7.4529554731069711E-6,7.4529554731069711E-6,7.4529554731069711E-6,7.4529554731069711E-6,1.2253468566578299E-3,1.2253468566578299E-3,1.2253468566578299E-3,1.2253468566578299E-3,2.2748308094336555E-5,2.2748308094336555E-5,2.2748308094336555E-5,2.2748308094336555E-5,5.5386354658440641E-6,5.5386354658440641E-6,5.5386354658440641E-6,5.5386354658440641E-6,4.1062763458500696E-6,4.1062763458500696E-6,4.1062763458500696E-6,4.1062763458500696E-6,1.9251912827116923E-4,2.286319395070801E-4,2.8578992438385017E-4,3.7956388870150737E-4,null,1.9251912827116923E-4,2.286319395070801E-4,2.8578992438385017E-4,3.7956388870150737E-4,2.6982270199426141E-4,3.2043614696351862E-4,4.0054518370439825E-4,5.319728743246497E-4,9.7262083426130927E-6,9.7262083426130927E-6,9.7262083426130927E-6,9.7262083426130927E-6,7.4529554731069711E-6,7.4529554731069711E-6,7.4529554731069711E-6,7.4529554731069711E-6,1.2253468566578299E-3,1.2253468566578299E-3,1.2253468566578299E-3,1.2253468566578299E-3,2.2748308094336555E-5,2.2748308094336555E-5,2.2748308094336555E-5,2.2748308094336555E-5,5.5386354658440641E-6,5.5386354658440641E-6,5.5386354658440641E-6,5.5386354658440641E-6,4.1062763458500696E-6,4.1062763458500696E-6,4.1062763458500696E-6,4.1062763458500696E-6,1.9251912827116923E-4,2.286319395070801E-4,2.8578992438385017E-4,3.7956388870150737E-4,null,"Cláusula por la práctica no profesional de deportes y/o actividades de riesgo. N1",13,"1-50",2.8640942544703909E-4,3.5622493582301975E-5,3.937459601876572E-5,2.3574205059304269E-5,8.6962651357395058E-6,0,0,0,0,null,"Cláusula por la práctica no profesional de deportes y/o actividades de riesgo. N1",13,"1-50",2.8640942544703909E-4,3.5622493582301975E-5,3.937459601876572E-5,2.3574205059304269E-5,8.6962651357395058E-6,0,0,0,0,null,"Cláusula por la práctica no profesional de deportes y/o actividades de riesgo. N1",13,"1-50",3.3955813985928346E-5,1.013098237064323E-6,1.1608492755019261E-5,1.9055134314839876E-5,1.9055134314839876E-5,0,0,0,0,null,"Cláusula por la práctica no profesional de deportes y/o actividades de riesgo. N1",13,"1-50",5.5506430286551737E-6,3.5966300860940436E-6,3.0383030669000747E-6,2.1214392149136515E-6,2.5411007927326268E-6,0,0,0,0,null,"Cláusula por la práctica no profesional de deportes y/o actividades de riesgo. N1",13,"1-50",5.5506430286551737E-6,3.5966300860940436E-6,3.0383030669000747E-6,2.1214392149136515E-6,2.5411007927326268E-6,0,0,0,0,null,"Cláusula de invalidez permanente parcial previa al seguro.",1,{"$f":"IF(Cotizador!$E$79<=30000,Tasas!EO49,Tasas!EP49)","v":0},0,0,1.862875795213225E-6,0,0,0,0,{"$f":"IF(Cotizador!$E$79<=30000,Tasas!EQ49,Tasas!ER49)","v":0},0,0,1.862875795213225E-6,0,0,0,0,{"$f":"IF(Cotizador!$E$79<=30000,Tasas!ES49,Tasas!ET49)","v":0},0,0,1.862875795213225E-6,0,0,0,0,{"$f":"IF(Cotizador!$E$79<=30000,Tasas!EU49,Tasas!EV49)","v":0},0,0,1.862875795213225E-6,0,0,0,0,null,null,"Transporte y Aviación",19,"1-50",5.0020814750365477E-3,5.4913240058933974E-3,5.7557751844560011E-3,1.4028725000132327E-2,2.6180515927137272E-4,5.5961232790102504E-4,8.4347365364792178E-4,1.0717137011198416E-3,3.2032343973321527E-5,3.2032343973321527E-5,3.2032343973321527E-5,3.2032343973321527E-5,1.808221780815688E-5,1.808221780815688E-5,1.808221780815688E-5,1.808221780815688E-5,2.5886455208872888E-4,2.5886455208872888E-4,2.5886455208872888E-4,2.5886455208872888E-4,3.2032343973321527E-5,3.2032343973321527E-5,3.2032343973321527E-5,3.2032343973321527E-5,1.9072530055383801E-5,1.9072530055383801E-5,1.9072530055383801E-5,1.9072530055383801E-5,6.3767316055212042E-8,6.3767316055212042E-8,6.3767316055212042E-8,6.3767316055212042E-8,5.0020814750365477E-3,5.4913240058933974E-3,5.7557751844560011E-3,1.4028725000132327E-2]
[null,"Actividades Deportivas y de Esparcimiento",20,"1-50",1.1457751234210086E-3,1.3607000564522052E-3,1.7008750705652565E-3,2.2589696168297865E-3,1.2283684805592128E-5,1.4587863069068124E-5,1.8234828836335155E-5,2.4218077519169788E-5,9.7262083426130927E-6,9.7262083426130927E-6,9.7262083426130927E-6,9.7262083426130927E-6,7.4529554731069711E-6,7.4529554731069711E-6,7.4529554731069711E-6,7.4529554731069711E-6,1.2253468566578299E-3,1.2253468566578299E-3,1.2253468566578299E-3,1.2253468566578299E-3,2.2748308094336555E-5,2.2748308094336555E-5,2.2748308094336555E-5,2.2748308094336555E-5,5.5386354658440641E-6,5.5386354658440641E-6,5.5386354658440641E-6,5.5386354658440641E-6,4.1062763458500696E-6,4.1062763458500696E-6,4.1062763458500696E-6,4.1062763458500696E-6,1.1457751234210086E-3,1.3607000564522052E-3,1.7008750705652565E-3,2.2589696168297865E-3,null,1.1457751234210086E-3,1.3607000564522052E-3,1.7008750705652565E-3,2.2589696168297865E-3,1.2283684805592128E-5,1.4587863069068124E-5,1.8234828836335155E-5,2.4218077519169788E-5,9.7262083426130927E-6,9.7262083426130927E-6,9.7262083426130927E-6,9.7262083426130927E-6,7.4529554731069711E-6,7.4529554731069711E-6,7.4529554731069711E-6,7.4529554731069711E-6,1.2253468566578299E-3,1.2253468566578299E-3,1.2253468566578299E-3,1.2253468566578299E-3,2.2748308094336555E-5,2.2748308094336555E-5,2.2748308094336555E-5,2.2748308094336555E-5,5.5386354658440641E-6,5.5386354658440641E-6,5.5386354658440641E-6,5.5386354658440641E-6,4.1062763458500696E-6,4.1062763458500696E-6,4.1062763458500696E-6,4.1062763458500696E-6,1.1457751234210086E-3,1.3607000564522052E-3,1.7008750705652565E-3,2.2589696168297865E-3,null,null,14,"50-400",4.5859025068426863E-5,1.5542644408605105E-5,3.937459601876572E-5,2.3574205059304269E-5,8.6962651357395058E-6,0,0,0,0,null,null,14,"50-400",4.5859025068426863E-5,1.5542644408605105E-5,3.937459601876572E-5,2.3574205059304269E-5,8.6962651357395058E-6,0,0,0,0,null,null,14,"50-400",3.3955813985928346E-5,1.013098237064323E-6,1.1608492755019261E-5,1.9055134314839876E-5,1.9055134314839876E-5,0,0,0,0,null,null,14,"50-400",5.5506430286551737E-6,3.5966300860940436E-6,3.0383030669000747E-6,2.1214392149136515E-6,2.5411007927326268E-6,0,0,0,0,null,null,14,"50-400",5.5506430286551737E-6,3.5966300860940436E-6,3.0383030669000747E-6,2.1214392149136515E-6,2.5411007927326268E-6,0,0,0,0,null,"Cláusula por la cobertura de Terrorismo y otros riesgos. ",2,{"$f":"IF(Cotizador!$E$79<=30000,Tasas!EO50,Tasas!EP50)","v":1.9889694372849699E-4},2.3895854076033898E-7,0,0,0,0,0,0,{"$f":"IF(Cotizador!$E$79<=30000,Tasas!EQ50,Tasas!ER50)","v":1.9889694372849699E-4},2.3895854076033898E-7,0,0,0,0,0,0,{"$f":"IF(Cotizador!$E$79<=30000,Tasas!ES50,Tasas!ET50)","v":1.9889694372849699E-4},2.3895854076033898E-7,0,0,0,0,0,0,{"$f":"IF(Cotizador!$E$79<=30000,Tasas!EU50,Tasas!EV50)","v":1.9889694372849699E-4},2.3895854076033898E-7,0,0,0,0,0,0,null,null,"Actividades Deportivas y de Esparcimiento",20,"1-50",9.2866344338703459E-4,1.0194939617671035E-3,1.0685907514370303E-3,2.6045085690767312E-3,1.3712429162387983E-4,2.9310516363001719E-4,4.4178169590611282E-4,5.6132576798204427E-4,3.2032343973321527E-5,3.2032343973321527E-5,3.2032343973321527E-5,3.2032343973321527E-5,1.808221780815688E-5,1.808221780815688E-5,1.808221780815688E-5,1.808221780815688E-5,2.5886455208872888E-4,2.5886455208872888E-4,2.5886455208872888E-4,2.5886455208872888E-4,3.2032343973321527E-5,3.2032343973321527E-5,3.2032343973321527E-5,3.2032343973321527E-5,1.9072530055383801E-5,1.9072530055383801E-5,1.9072530055383801E-5,1.9072530055383801E-5,6.3767316055212042E-8,6.3767316055212042E-8,6.3767316055212042E-8,6.3767316055212042E-8,9.2866344338703459E-4,1.0194939617671035E-3,1.0685907514370303E-3,2.6045085690767312E-3]
[null,"Estado",21,"1-50",5.2993367269093756E-3,6.2933883238231736E-3,7.866735404778967E-3,1.044798443493505E-2,7.4336804865207144E-5,8.8280930968857209E-5,1.1035116371107153E-4,1.4655980931173055E-4,9.7262083426130927E-6,9.7262083426130927E-6,9.7262083426130927E-6,9.7262083426130927E-6,7.4529554731069711E-6,7.4529554731069711E-6,7.4529554731069711E-6,7.4529554731069711E-6,1.2253468566578299E-3,1.2253468566578299E-3,1.2253468566578299E-3,1.2253468566578299E-3,2.2748308094336555E-5,2.2748308094336555E-5,2.2748308094336555E-5,2.2748308094336555E-5,5.5386354658440641E-6,5.5386354658440641E-6,5.5386354658440641E-6,5.5386354658440641E-6,4.1062763458500696E-6,4.1062763458500696E-6,4.1062763458500696E-6,4.1062763458500696E-6,5.2993367269093756E-3,6.2933883238231736E-3,7.866735404778967E-3,1.044798443493505E-2,null,5.2993367269093756E-3,6.2933883238231736E-3,7.866735404778967E-3,1.044798443493505E-2,7.4336804865207144E-5,8.8280930968857209E-5,1.1035116371107153E-4,1.4655980931173055E-4,9.7262083426130927E-6,9.7262083426130927E-6,9.7262083426130927E-6,9.7262083426130927E-6,7.4529554731069711E-6,7.4529554731069711E-6,7.4529554731069711E-6,7.4529554731069711E-6,1.2253468566578299E-3,1.2253468566578299E-3,1.2253468566578299E-3,1.2253468566578299E-3,2.2748308094336555E-5,2.2748308094336555E-5,2.2748308094336555E-5,2.2748308094336555E-5,5.5386354658440641E-6,5.5386354658440641E-6,5.5386354658440641E-6,5.5386354658440641E-6,4.1062763458500696E-6,4.1062763458500696E-6,4.1062763458500696E-6,4.1062763458500696E-6,5.2993367269093756E-3,6.2933883238231736E-3,7.866735404778967E-3,1.044798443493505E-2,null,null,15,">400",1.9712369559747747E-5,1.2151140582946537E-5,3.937459601876572E-5,2.3574205059304269E-5,8.6962651357395058E-6,0,0,0,0,null,null,15,">400",1.9712369559747747E-5,1.2151140582946537E-5,3.937459601876572E-5,2.3574205059304269E-5,8.6962651357395058E-6,0,0,0,0,null,null,15,">400",3.3955813985928346E-5,1.013098237064323E-6,1.1608492755019261E-5,1.9055134314839876E-5,1.9055134314839876E-5,0,0,0,0,null,null,15,">400",5.5506430286551737E-6,3.5966300860940436E-6,3.0383030669000747E-6,2.1214392149136515E-6,2.5411007927326268E-6,0,0,0,0,null,null,15,">400",5.5506430286551737E-6,3.5966300860940436E-6,3.0383030669000747E-6,2.1214392149136515E-6,2.5411007927326268E-6,0,0,0,0,null,"Por limitación a horas de trabajo.",3,{"$f":"IF(Cotizador!$E$79<=30000,Tasas!EO51,Tasas!EP51)","v":-1.2864471096531613E-5},-1.2568371902682458E-6,0,0,-2.5044639398776579E-9,0,0,0,{"$f":"IF(Cotizador!$E$79<=30000,Tasas!EQ51,Tasas!ER51)","v":-1.2864471096531613E-5},-1.2568371902682458E-6,0,0,-2.5044639398776579E-9,0,0,0,{"$f":"IF(Cotizador!$E$79<=30000,Tasas!ES51,Tasas!ET51)","v":-1.2864471096531613E-5},-1.2568371902682458E-6,0,0,-2.5044639398776579E-9,0,0,0,{"$f":"IF(Cotizador!$E$79<=30000,Tasas!EU51,Tasas!EV51)","v":-1.2864471096531613E-5},-1.2568371902682458E-6,0,0,-2.5044639398776579E-9,0,0,0,null,null,"Estado",21,"1-50",5.8334919229481672E-4,6.4040528716970667E-4,6.7124592464948318E-4,1.6360480009361504E-3,1.6223735045522394E-5,3.4678469138430688E-5,5.2268996962272328E-5,6.641274442419171E-5,3.2032343973321527E-5,3.2032343973321527E-5,3.2032343973321527E-5,3.2032343973321527E-5,1.808221780815688E-5,1.808221780815688E-5,1.808221780815688E-5,1.808221780815688E-5,2.5886455208872888E-4,2.5886455208872888E-4,2.5886455208872888E-4,2.5886455208872888E-4,3.2032343973321527E-5,3.2032343973321527E-5,3.2032343973321527E-5,3.2032343973321527E-5,1.9072530055383801E-5,1.9072530055383801E-5,1.9072530055383801E-5,1.9072530055383801E-5,6.3767316055212042E-8,6.3767316055212042E-8,6.3767316055212042E-8,6.3767316055212042E-8,5.8334919229481672E-4,6.4040528716970667E-4,6.7124592464948318E-4,1.6360480009361504E-3]
[null,"Editoriales",22,"50-400",6.1381443331533366E-4,7.2895397795825329E-4,9.1119247244781656E-4,1.2101747776569918E-3,6.4999679175474611E-6,7.7192343694256393E-6,9.6490429617820492E-6,1.2815106329300902E-5,7.4774602619124888E-6,7.4774602619124888E-6,7.4774602619124888E-6,7.4774602619124888E-6,6.0507783207706635E-6,6.0507783207706635E-6,6.0507783207706635E-6,6.0507783207706635E-6,7.4221151204163373E-5,7.4221151204163373E-5,7.4221151204163373E-5,7.4221151204163373E-5,2.2748308094336555E-5,2.2748308094336555E-5,2.2748308094336555E-5,2.2748308094336555E-5,5.5386354658440641E-6,5.5386354658440641E-6,5.5386354658440641E-6,5.5386354658440641E-6,4.1062763458500696E-6,4.1062763458500696E-6,4.1062763458500696E-6,4.1062763458500696E-6,6.1381443331533366E-4,7.2895397795825329E-4,9.1119247244781656E-4,1.2101747776569918E-3,null,6.1381443331533366E-4,7.2895397795825329E-4,9.1119247244781656E-4,1.2101747776569918E-3,6.4999679175474611E-6,7.7192343694256393E-6,9.6490429617820492E-6,1.2815106329300902E-5,7.4774602619124888E-6,7.4774602619124888E-6,7.4774602619124888E-6,7.4774602619124888E-6,6.0507783207706635E-6,6.0507783207706635E-6,6.0507783207706635E-6,6.0507783207706635E-6,7.4221151204163373E-5,7.4221151204163373E-5,7.4221151204163373E-5,7.4221151204163373E-5,2.2748308094336555E-5,2.2748308094336555E-5,2.2748308094336555E-5,2.2748308094336555E-5,5.5386354658440641E-6,5.5386354658440641E-6,5.5386354658440641E-6,5.5386354658440641E-6,4.1062763458500696E-6,4.1062763458500696E-6,4.1062763458500696E-6,4.1062763458500696E-6,6.1381443331533366E-4,7.2895397795825329E-4,9.1119247244781656E-4,1.2101747776569918E-3,null,"Cláusula por la práctica no profesional de deportes y/o actividades de riesgo. N2",16,"1-50",5.5432013317277898E-5,3.6875912625717713E-6,0,0,2.1183632552406367E-6,0,0,0,0,null,"Cláusula por la práctica no profesional de deportes y/o actividades de riesgo. N2",16,"1-50",5.5432013317277898E-5,3.6875912625717713E-6,0,0,2.1183632552406367E-6,0,0,0,0,null,"Cláusula por la práctica no profesional de deportes y/o actividades de riesgo. N2",16,"1-50",6.57184773206789E-6,1.0487452818242163E-7,0,0,4.6417278827365435E-6,0,0,0,0,null,"Cláusula por la práctica no profesional de deportes y/o actividades de riesgo. N2",16,"1-50",1.0742779075919903E-6,3.723181716501859E-7,0,0,6.1899843934897426E-7,0,0,0,0,null,"Cláusula por la práctica no profesional de deportes y/o actividades de riesgo. N2",16,"1-50",1.0742779075919903E-6,3.723181716501859E-7,0,0,6.1899843934897426E-7,0,0,0,0,null,"Cláusula por la práctica no profesional de deportes y/o actividades de riesgo.  N1",4,{"$f":"IF(Cotizador!$E$79<=30000,Tasas!EO52,Tasas!EP52)","v":1.1746649424726114E-3},0,6.8134804521144748E-8,0,1.4678736818591431E-6,0,0,0,{"$f":"IF(Cotizador!$E$79<=30000,Tasas!EQ52,Tasas!ER52)","v":1.1746649424726114E-3},0,6.8134804521144748E-8,0,1.4678736818591431E-6,0,0,0,{"$f":"IF(Cotizador!$E$79<=30000,Tasas!ES52,Tasas!ET52)","v":1.1746649424726114E-3},0,6.8134804521144748E-8,0,1.4678736818591431E-6,0,0,0,{"$f":"IF(Cotizador!$E$79<=30000,Tasas!EU52,Tasas!EV52)","v":1.1746649424726114E-3},0,6.8134804521144748E-8,0,1.4678736818591431E-6,0,0,0,null,null,"Editoriales",22,"50-400",7.3575062722650378E-4,1.275073546907659E-3,1.8330110122645809E-3,2.2654677355998009E-3,7.6553809755967192E-5,1.636348794899911E-4,2.4663807923129094E-4,3.1337719629638701E-4,3.2032343973321527E-5,3.2032343973321527E-5,3.2032343973321527E-5,3.2032343973321527E-5,1.808221780815688E-5,1.808221780815688E-5,1.808221780815688E-5,1.808221780815688E-5,2.5886455208872888E-4,2.5886455208872888E-4,2.5886455208872888E-4,2.5886455208872888E-4,3.2032343973321527E-5,3.2032343973321527E-5,3.2032343973321527E-5,3.2032343973321527E-5,1.9072530055383801E-5,1.9072530055383801E-5,1.9072530055383801E-5,1.9072530055383801E-5,6.3767316055212042E-8,6.3767316055212042E-8,6.3767316055212042E-8,6.3767316055212042E-8,7.3575062722650378E-4,1.275073546907659E-3,1.8330110122645809E-3,2.2654677355998009E-3]
[null,"Alimentos y Bebidas",23,"50-400",6.1381443331533366E-4,7.2895397795825329E-4,9.1119247244781656E-4,1.2101747776569918E-3,6.4999679175474611E-6,7.7192343694256393E-6,9.6490429617820492E-6,1.2815106329300902E-5,7.4774602619124888E-6,7.4774602619124888E-6,7.4774602619124888E-6,7.4774602619124888E-6,6.0507783207706635E-6,6.0507783207706635E-6,6.0507783207706635E-6,6.0507783207706635E-6,7.4221151204163373E-5,7.4221151204163373E-5,7.4221151204163373E-5,7.4221151204163373E-5,2.2748308094336555E-5,2.2748308094336555E-5,2.2748308094336555E-5,2.2748308094336555E-5,5.5386354658440641E-6,5.5386354658440641E-6,5.5386354658440641E-6,5.5386354658440641E-6,4.1062763458500696E-6,4.1062763458500696E-6,4.1062763458500696E-6,4.1062763458500696E-6,6.1381443331533366E-4,7.2895397795825329E-4,9.1119247244781656E-4,1.2101747776569918E-3,null,6.1381443331533366E-4,7.2895397795825329E-4,9.1119247244781656E-4,1.2101747776569918E-3,6.4999679175474611E-6,7.7192343694256393E-6,9.6490429617820492E-6,1.2815106329300902E-5,7.4774602619124888E-6,7.4774602619124888E-6,7.4774602619124888E-6,7.4774602619124888E-6,6.0507783207706635E-6,6.0507783207706635E-6,6.0507783207706635E-6,6.0507783207706635E-6,7.4221151204163373E-5,7.4221151204163373E-5,7.4221151204163373E-5,7.4221151204163373E-5,2.2748308094336555E-5,2.2748308094336555E-5,2.2748308094336555E-5,2.2748308094336555E-5,5.5386354658440641E-6,5.5386354658440641E-6,5.5386354658440641E-6,5.5386354658440641E-6,4.1062763458500696E-6,4.1062763458500696E-6,4.1062763458500696E-6,4.1062763458500696E-6,6.1381443331533366E-4,7.2895397795825329E-4,9.1119247244781656E-4,1.2101747776569918E-3,null,null,17,"50-400",8.8756090493274616E-6,1.608953050577781E-6,0,0,2.1183632552406367E-6,0,0,0,0,null,null,17,"50-400",8.8756090493274616E-6,1.608953050577781E-6,0,0,2.1183632552406367E-6,0,0,0,0,null,null,17,"50-400",6.57184773206789E-6,1.0487452818242163E-7,0,0,4.6417278827365435E-6,0,0,0,0,null,null,17,"50-400",1.0742779075919903E-6,3.723181716501859E-7,0,0,6.1899843934897426E-7,0,0,0,0,null,null,17,"50-400",1.0742779075919903E-6,3.723181716501859E-7,0,0,6.1899843934897426E-7,0,0,0,0,null,"Cláusula por la práctica no profesional de deportes y/o actividades de riesgo.  N2",5,{"$f":"IF(Cotizador!$E$79<=30000,Tasas!EO53,Tasas!EP53)","v":2.2734601919210137E-4},1.2555458056961655E-6,0,0,9.4902112459598542E-7,0,0,0,{"$f":"IF(Cotizador!$E$79<=30000,Tasas!EQ53,Tasas!ER53)","v":2.2734601919210137E-4},1.2555458056961655E-6,0,0,9.4902112459598542E-7,0,0,0,{"$f":"IF(Cotizador!$E$79<=30000,Tasas!ES53,Tasas!ET53)","v":2.2734601919210137E-4},1.2555458056961655E-6,0,0,9.4902112459598542E-7,0,0,0,{"$f":"IF(Cotizador!$E$79<=30000,Tasas!EU53,Tasas!EV53)","v":2.2734601919210137E-4},1.2555458056961655E-6,0,0,9.4902112459598542E-7,0,0,0,null,null,"Alimentos y Bebidas",23,"50-400",7.3575062722650378E-4,1.275073546907659E-3,1.8330110122645809E-3,2.2654677355998009E-3,7.6553809755967192E-5,1.636348794899911E-4,2.4663807923129094E-4,3.1337719629638701E-4,3.2032343973321527E-5,3.2032343973321527E-5,3.2032343973321527E-5,3.2032343973321527E-5,1.808221780815688E-5,1.808221780815688E-5,1.808221780815688E-5,1.808221780815688E-5,2.5886455208872888E-4,2.5886455208872888E-4,2.5886455208872888E-4,2.5886455208872888E-4,3.2032343973321527E-5,3.2032343973321527E-5,3.2032343973321527E-5,3.2032343973321527E-5,1.9072530055383801E-5,1.9072530055383801E-5,1.9072530055383801E-5,1.9072530055383801E-5,6.3767316055212042E-8,6.3767316055212042E-8,6.3767316055212042E-8,6.3767316055212042E-8,7.3575062722650378E-4,1.275073546907659E-3,1.8330110122645809E-3,2.2654677355998009E-3]
[null,"Hoteles",24,"50-400",6.1381443331533366E-4,7.2895397795825329E-4,9.1119247244781656E-4,1.2101747776569918E-3,6.4999679175474611E-6,7.7192343694256393E-6,9.6490429617820492E-6,1.2815106329300902E-5,7.4774602619124888E-6,7.4774602619124888E-6,7.4774602619124888E-6,7.4774602619124888E-6,6.0507783207706635E-6,6.0507783207706635E-6,6.0507783207706635E-6,6.0507783207706635E-6,7.4221151204163373E-5,7.4221151204163373E-5,7.4221151204163373E-5,7.4221151204163373E-5,2.2748308094336555E-5,2.2748308094336555E-5,2.2748308094336555E-5,2.2748308094336555E-5,5.5386354658440641E-6,5.5386354658440641E-6,5.5386354658440641E-6,5.5386354658440641E-6,4.1062763458500696E-6,4.1062763458500696E-6,4.1062763458500696E-6,4.1062763458500696E-6,6.1381443331533366E-4,7.2895397795825329E-4,9.1119247244781656E-4,1.2101747776569918E-3,null,6.1381443331533366E-4,7.2895397795825329E-4,9.1119247244781656E-4,1.2101747776569918E-3,6.4999679175474611E-6,7.7192343694256393E-6,9.6490429617820492E-6,1.2815106329300902E-5,7.4774602619124888E-6,7.4774602619124888E-6,7.4774602619124888E-6,7.4774602619124888E-6,6.0507783207706635E-6,6.0507783207706635E-6,6.0507783207706635E-6,6.0507783207706635E-6,7.4221151204163373E-5,7.4221151204163373E-5,7.4221151204163373E-5,7.4221151204163373E-5,2.2748308094336555E-5,2.2748308094336555E-5,2.2748308094336555E-5,2.2748308094336555E-5,5.5386354658440641E-6,5.5386354658440641E-6,5.5386354658440641E-6,5.5386354658440641E-6,4.1062763458500696E-6,4.1062763458500696E-6,4.1062763458500696E-6,4.1062763458500696E-6,6.1381443331533366E-4,7.2895397795825329E-4,9.1119247244781656E-4,1.2101747776569918E-3,null,null,18,">400",3.8151549316001639E-6,1.2578692656770303E-6,0,0,2.1183632552406367E-6,0,0,0,0,null,null,18,">400",3.8151549316001639E-6,1.2578692656770303E-6,0,0,2.1183632552406367E-6,0,0,0,0,null,null,18,">400",6.57184773206789E-6,1.0487452818242163E-7,0,0,4.6417278827365435E-6,0,0,0,0,null,null,18,">400",1.0742779075919903E-6,3.723181716501859E-7,0,0,6.1899843934897426E-7,0,0,0,0,null,null,18,">400",1.0742779075919903E-6,3.723181716501859E-7,0,0,6.1899843934897426E-7,0,0,0,0,null,"Cláusula por la práctica no profesional de deportes y/o actividades de riesgo.  N3",6,{"$f":"IF(Cotizador!$E$79<=30000,Tasas!EO54,Tasas!EP54)","v":1.4970543140807811E-5},0,0,0,0,0,0,0,{"$f":"IF(Cotizador!$E$79<=30000,Tasas!EQ54,Tasas!ER54)","v":1.4970543140807811E-5},0,0,0,0,0,0,0,{"$f":"IF(Cotizador!$E$79<=30000,Tasas!ES54,Tasas!ET54)","v":1.4970543140807811E-5},0,0,0,0,0,0,0,{"$f":"IF(Cotizador!$E$79<=30000,Tasas!EU54,Tasas!EV54)","v":1.4970543140807811E-5},0,0,0,0,0,0,0,null,null,"Hoteles",24,"50-400",7.3575062722650378E-4,1.275073546907659E-3,1.8330110122645809E-3,2.2654677355998009E-3,7.6553809755967192E-5,1.636348794899911E-4,2.4663807923129094E-4,3.1337719629638701E-4,3.2032343973321527E-5,3.2032343973321527E-5,3.2032343973321527E-5,3.2032343973321527E-5,1.808221780815688E-5,1.808221780815688E-5,1.808221780815688E-5,1.808221780815688E-5,2.5886455208872888E-4,2.5886455208872888E-4,2.5886455208872888E-4,2.5886455208872888E-4,3.2032343973321527E-5,3.2032343973321527E-5,3.2032343973321527E-5,3.2032343973321527E-5,1.9072530055383801E-5,1.9072530055383801E-5,1.9072530055383801E-5,1.9072530055383801E-5,6.3767316055212042E-8,6.3767316055212042E-8,6.3767316055212042E-8,6.3767316055212042E-8,7.3575062722650378E-4,1.275073546907659E-3,1.8330110122645809E-3,2.2654677355998009E-3]
[null,"Salud",25,"50-400",4.6351470755833062E-3,5.5046097253177925E-3,6.8807621566472407E-3,9.1384916631958857E-3,2.3875033394080996E-5,2.8353521230349854E-5,3.5441901537937323E-5,4.7071169495279855E-5,7.4774602619124888E-6,7.4774602619124888E-6,7.4774602619124888E-6,7.4774602619124888E-6,6.0507783207706635E-6,6.0507783207706635E-6,6.0507783207706635E-6,6.0507783207706635E-6,7.4221151204163373E-5,7.4221151204163373E-5,7.4221151204163373E-5,7.4221151204163373E-5,2.2748308094336555E-5,2.2748308094336555E-5,2.2748308094336555E-5,2.2748308094336555E-5,5.5386354658440641E-6,5.5386354658440641E-6,5.5386354658440641E-6,5.5386354658440641E-6,4.1062763458500696E-6,4.1062763458500696E-6,4.1062763458500696E-6,4.1062763458500696E-6,4.6351470755833062E-3,5.5046097253177925E-3,6.8807621566472407E-3,9.1384916631958857E-3,null,4.6351470755833062E-3,5.5046097253177925E-3,6.8807621566472407E-3,9.1384916631958857E-3,2.3875033394080996E-5,2.8353521230349854E-5,3.5441901537937323E-5,4.7071169495279855E-5,7.4774602619124888E-6,7.4774602619124888E-6,7.4774602619124888E-6,7.4774602619124888E-6,6.0507783207706635E-6,6.0507783207706635E-6,6.0507783207706635E-6,6.0507783207706635E-6,7.4221151204163373E-5,7.4221151204163373E-5,7.4221151204163373E-5,7.4221151204163373E-5,2.2748308094336555E-5,2.2748308094336555E-5,2.2748308094336555E-5,2.2748308094336555E-5,5.5386354658440641E-6,5.5386354658440641E-6,5.5386354658440641E-6,5.5386354658440641E-6,4.1062763458500696E-6,4.1062763458500696E-6,4.1062763458500696E-6,4.1062763458500696E-6,4.6351470755833062E-3,5.5046097253177925E-3,6.8807621566472407E-3,9.1384916631958857E-3,null,"Cláusula por la práctica no profesional de deportes y/o actividades de riesgo. N3",19,"1-50",3.6501512087042209E-6,0,0,0,0,0,0,0,0,null,"Cláusula por la práctica no profesional de deportes y/o actividades de riesgo. N3",19,"1-50",3.6501512087042209E-6,0,0,0,0,0,0,0,0,null,"Cláusula por la práctica no profesional de deportes y/o actividades de riesgo. N3",19,"1-50",4.3275061660354096E-7,0,0,0,0,0,0,0,0,null,"Cláusula por la práctica no profesional de deportes y/o actividades de riesgo. N3",19,"1-50",7.0740291903828459E-8,0,0,0,0,0,0,0,0,null,"Cláusula por la práctica no profesional de deportes y/o actividades de riesgo. N3",19,"1-50",7.0740291903828459E-8,0,0,0,0,0,0,0,0,null,"Cláusula por la conducción urbana o rural de motocicletas, motonetas y otros vehículos similares.",7,{"$f":"IF(Cotizador!$E$79<=30000,Tasas!EO55,Tasas!EP55)","v":1.3074519091954117E-4},1.4582471036036621E-6,0,0,0,0,0,0,{"$f":"IF(Cotizador!$E$79<=30000,Tasas!EQ55,Tasas!ER55)","v":1.3074519091954117E-4},1.4582471036036621E-6,0,0,0,0,0,0,{"$f":"IF(Cotizador!$E$79<=30000,Tasas!ES55,Tasas!ET55)","v":1.3074519091954117E-4},1.4582471036036621E-6,0,0,0,0,0,0,{"$f":"IF(Cotizador!$E$79<=30000,Tasas!EU55,Tasas!EV55)","v":1.3074519091954117E-4},1.4582471036036621E-6,0,0,0,0,0,0,null,null,"Salud",25,"50-400",5.2877809720205536E-4,9.1638517043213187E-4,1.3173703689107273E-3,1.6281735606789012E-3,5.4206250915354841E-5,1.1586664810560796E-4,1.7463958555048156E-4,2.2189624510840576E-4,3.2032343973321527E-5,3.2032343973321527E-5,3.2032343973321527E-5,3.2032343973321527E-5,1.808221780815688E-5,1.808221780815688E-5,1.808221780815688E-5,1.808221780815688E-5,2.5886455208872888E-4,2.5886455208872888E-4,2.5886455208872888E-4,2.5886455208872888E-4,3.2032343973321527E-5,3.2032343973321527E-5,3.2032343973321527E-5,3.2032343973321527E-5,1.9072530055383801E-5,1.9072530055383801E-5,1.9072530055383801E-5,1.9072530055383801E-5,6.3767316055212042E-8,6.3767316055212042E-8,6.3767316055212042E-8,6.3767316055212042E-8,5.2877809720205536E-4,9.1638517043213187E-4,1.3173703689107273E-3,1.6281735606789012E-3]
[null,"AgroIndustria",26,"50-400",6.1381443331533366E-4,7.2895397795825329E-4,9.1119247244781656E-4,1.2101747776569918E-3,6.4999679175474611E-6,7.7192343694256393E-6,9.6490429617820492E-6,1.2815106329300902E-5,7.4774602619124888E-6,7.4774602619124888E-6,7.4774602619124888E-6,7.4774602619124888E-6,6.0507783207706635E-6,6.0507783207706635E-6,6.0507783207706635E-6,6.0507783207706635E-6,7.4221151204163373E-5,7.4221151204163373E-5,7.4221151204163373E-5,7.4221151204163373E-5,2.2748308094336555E-5,2.2748308094336555E-5,2.2748308094336555E-5,2.2748308094336555E-5,5.5386354658440641E-6,5.5386354658440641E-6,5.5386354658440641E-6,5.5386354658440641E-6,4.1062763458500696E-6,4.1062763458500696E-6,4.1062763458500696E-6,4.1062763458500696E-6,6.1381443331533366E-4,7.2895397795825329E-4,9.1119247244781656E-4,1.2101747776569918E-3,null,6.1381443331533366E-4,7.2895397795825329E-4,9.1119247244781656E-4,1.2101747776569918E-3,6.4999679175474611E-6,7.7192343694256393E-6,9.6490429617820492E-6,1.2815106329300902E-5,7.4774602619124888E-6,7.4774602619124888E-6,7.4774602619124888E-6,7.4774602619124888E-6,6.0507783207706635E-6,6.0507783207706635E-6,6.0507783207706635E-6,6.0507783207706635E-6,7.4221151204163373E-5,7.4221151204163373E-5,7.4221151204163373E-5,7.4221151204163373E-5,2.2748308094336555E-5,2.2748308094336555E-5,2.2748308094336555E-5,2.2748308094336555E-5,5.5386354658440641E-6,5.5386354658440641E-6,5.5386354658440641E-6,5.5386354658440641E-6,4.1062763458500696E-6,4.1062763458500696E-6,4.1062763458500696E-6,4.1062763458500696E-6,6.1381443331533366E-4,7.2895397795825329E-4,9.1119247244781656E-4,1.2101747776569918E-3,null,null,20,"50-400",5.84451351495304E-7,0,0,0,0,0,0,0,0,null,null,20,"50-400",5.84451351495304E-7,0,0,0,0,0,0,0,0,null,null,20,"50-400",4.3275061660354096E-7,0,0,0,0,0,0,0,0,null,null,20,"50-400",7.0740291903828459E-8,0,0,0,0,0,0,0,0,null,null,20,"50-400",7.0740291903828459E-8,0,0,0,0,0,0,0,0,null,"Cláusula para pasajeros que usan cualquier medio habitual de transporte público de personas, en vehículos que no recorren itinerarios regulares y fijos. ",8,{"$f":"IF(Cotizador!$E$79<=30000,Tasas!EO56,Tasas!EP56)","v":1.9008737530196449E-5},0,0,0,0,0,0,0,{"$f":"IF(Cotizador!$E$79<=30000,Tasas!EQ56,Tasas!ER56)","v":1.9008737530196449E-5},0,0,0,0,0,0,0,{"$f":"IF(Cotizador!$E$79<=30000,Tasas!ES56,Tasas!ET56)","v":1.9008737530196449E-5},0,0,0,0,0,0,0,{"$f":"IF(Cotizador!$E$79<=30000,Tasas!EU56,Tasas!EV56)","v":1.9008737530196449E-5},0,0,0,0,0,0,0,null,null,"AgroIndustria",26,"50-400",7.3575062722650378E-4,1.275073546907659E-3,1.8330110122645809E-3,2.2654677355998009E-3,7.6553809755967192E-5,1.636348794899911E-4,2.4663807923129094E-4,3.1337719629638701E-4,3.2032343973321527E-5,3.2032343973321527E-5,3.2032343973321527E-5,3.2032343973321527E-5,1.808221780815688E-5,1.808221780815688E-5,1.808221780815688E-5,1.808221780815688E-5,2.5886455208872888E-4,2.5886455208872888E-4,2.5886455208872888E-4,2.5886455208872888E-4,3.2032343973321527E-5,3.2032343973321527E-5,3.2032343973321527E-5,3.2032343973321527E-5,1.9072530055383801E-5,1.9072530055383801E-5,1.9072530055383801E-5,1.9072530055383801E-5,6.3767316055212042E-8,6.3767316055212042E-8,6.3767316055212042E-8,6.3767316055212042E-8,7.3575062722650378E-4,1.275073546907659E-3,1.8330110122645809E-3,2.2654677355998009E-3]
[null,"Mineras",27,"50-400",4.0968930795863941E-4,4.8653898402221501E-4,6.0817373002776886E-4,8.0772891652189165E-4,5.6958125510443323E-4,6.7642352337051056E-4,8.4552940421313825E-4,1.1229662115154091E-3,7.4774602619124888E-6,7.4774602619124888E-6,7.4774602619124888E-6,7.4774602619124888E-6,6.0507783207706635E-6,6.0507783207706635E-6,6.0507783207706635E-6,6.0507783207706635E-6,7.4221151204163373E-5,7.4221151204163373E-5,7.4221151204163373E-5,7.4221151204163373E-5,2.2748308094336555E-5,2.2748308094336555E-5,2.2748308094336555E-5,2.2748308094336555E-5,5.5386354658440641E-6,5.5386354658440641E-6,5.5386354658440641E-6,5.5386354658440641E-6,4.1062763458500696E-6,4.1062763458500696E-6,4.1062763458500696E-6,4.1062763458500696E-6,4.0968930795863941E-4,4.8653898402221501E-4,6.0817373002776886E-4,8.0772891652189165E-4,null,4.0968930795863941E-4,4.8653898402221501E-4,6.0817373002776886E-4,8.0772891652189165E-4,5.6958125510443323E-4,6.7642352337051056E-4,8.4552940421313825E-4,1.1229662115154091E-3,7.4774602619124888E-6,7.4774602619124888E-6,7.4774602619124888E-6,7.4774602619124888E-6,6.0507783207706635E-6,6.0507783207706635E-6,6.0507783207706635E-6,6.0507783207706635E-6,7.4221151204163373E-5,7.4221151204163373E-5,7.4221151204163373E-5,7.4221151204163373E-5,2.2748308094336555E-5,2.2748308094336555E-5,2.2748308094336555E-5,2.2748308094336555E-5,5.5386354658440641E-6,5.5386354658440641E-6,5.5386354658440641E-6,5.5386354658440641E-6,4.1062763458500696E-6,4.1062763458500696E-6,4.1062763458500696E-6,4.1062763458500696E-6,4.0968930795863941E-4,4.8653898402221501E-4,6.0817373002776886E-4,8.0772891652189165E-4,null,null,21,">400",2.5122472649994064E-7,0,0,0,0,0,0,0,0,null,null,21,">400",2.5122472649994064E-7,0,0,0,0,0,0,0,0,null,null,21,">400",4.3275061660354096E-7,0,0,0,0,0,0,0,0,null,null,21,">400",7.0740291903828459E-8,0,0,0,0,0,0,0,0,null,null,21,">400",7.0740291903828459E-8,0,0,0,0,0,0,0,0,null,"Cláusula para pasajeros de aviones y/o helicópteros particulares y/o de la FAP por viajes eventuales.  N1",9,{"$f":"IF(Cotizador!$E$79<=30000,Tasas!EO57,Tasas!EP57)","v":6.7936658639031366E-8},0,0,0,0,0,0,0,{"$f":"IF(Cotizador!$E$79<=30000,Tasas!EQ57,Tasas!ER57)","v":6.7936658639031366E-8},0,0,0,0,0,0,0,{"$f":"IF(Cotizador!$E$79<=30000,Tasas!ES57,Tasas!ET57)","v":6.7936658639031366E-8},0,0,0,0,0,0,0,{"$f":"IF(Cotizador!$E$79<=30000,Tasas!EU57,Tasas!EV57)","v":6.7936658639031366E-8},0,0,0,0,0,0,0,null,null,"Mineras",27,"50-400",9.3984532226309072E-5,1.6287745660781438E-4,2.3414819665566449E-4,2.8939006984848273E-4,7.7735386961341659E-4,1.6616051791642484E-3,2.5044483859866934E-3,3.1821404704239584E-3,3.2032343973321527E-5,3.2032343973321527E-5,3.2032343973321527E-5,3.2032343973321527E-5,1.808221780815688E-5,1.808221780815688E-5,1.808221780815688E-5,1.808221780815688E-5,2.5886455208872888E-4,2.5886455208872888E-4,2.5886455208872888E-4,2.5886455208872888E-4,3.2032343973321527E-5,3.2032343973321527E-5,3.2032343973321527E-5,3.2032343973321527E-5,1.9072530055383801E-5,1.9072530055383801E-5,1.9072530055383801E-5,1.9072530055383801E-5,6.3767316055212042E-8,6.3767316055212042E-8,6.3767316055212042E-8,6.3767316055212042E-8,9.3984532226309072E-5,1.6287745660781438E-4,2.3414819665566449E-4,2.8939006984848273E-4]
[null,"Hidrocarburos",28,"50-400",4.4942587578359646E-4,5.3372935233916472E-4,6.6716169042395595E-4,8.8607212502659477E-4,5.2027725389668968E-4,6.1787105888132905E-4,7.7233882360166128E-4,1.0257601905085214E-3,7.4774602619124888E-6,7.4774602619124888E-6,7.4774602619124888E-6,7.4774602619124888E-6,6.0507783207706635E-6,6.0507783207706635E-6,6.0507783207706635E-6,6.0507783207706635E-6,7.4221151204163373E-5,7.4221151204163373E-5,7.4221151204163373E-5,7.4221151204163373E-5,2.2748308094336555E-5,2.2748308094336555E-5,2.2748308094336555E-5,2.2748308094336555E-5,5.5386354658440641E-6,5.5386354658440641E-6,5.5386354658440641E-6,5.5386354658440641E-6,4.1062763458500696E-6,4.1062763458500696E-6,4.1062763458500696E-6,4.1062763458500696E-6,4.4942587578359646E-4,5.3372935233916472E-4,6.6716169042395595E-4,8.8607212502659477E-4,null,4.4942587578359646E-4,5.3372935233916472E-4,6.6716169042395595E-4,8.8607212502659477E-4,5.2027725389668968E-4,6.1787105888132905E-4,7.7233882360166128E-4,1.0257601905085214E-3,7.4774602619124888E-6,7.4774602619124888E-6,7.4774602619124888E-6,7.4774602619124888E-6,6.0507783207706635E-6,6.0507783207706635E-6,6.0507783207706635E-6,6.0507783207706635E-6,7.4221151204163373E-5,7.4221151204163373E-5,7.4221151204163373E-5,7.4221151204163373E-5,2.2748308094336555E-5,2.2748308094336555E-5,2.2748308094336555E-5,2.2748308094336555E-5,5.5386354658440641E-6,5.5386354658440641E-6,5.5386354658440641E-6,5.5386354658440641E-6,4.1062763458500696E-6,4.1062763458500696E-6,4.1062763458500696E-6,4.1062763458500696E-6,4.4942587578359646E-4,5.3372935233916472E-4,6.6716169042395595E-4,8.8607212502659477E-4,null,"Cláusula por la conducción urbana o rural de motocicletas, motonetas y otros vehículos similares.",22,"1-50",3.1878583975108568E-5,4.282933568431481E-6,0,0,0,0,0,0,0,null,"Cláusula por la conducción urbana o rural de motocicletas, motonetas y otros vehículos similares.",22,"1-50",3.1878583975108568E-5,4.282933568431481E-6,0,0,0,0,0,0,0,null,"Cláusula por la conducción urbana o rural de motocicletas, motonetas y otros vehículos similares.",22,"1-50",3.7794261341226168E-6,1.21805971769401E-7,0,0,0,0,0,0,0,null,"Cláusula por la conducción urbana o rural de motocicletas, motonetas y otros vehículos similares.",22,"1-50",6.1781011441452955E-7,4.3242699148427638E-7,0,0,0,0,0,0,0,null,"Cláusula por la conducción urbana o rural de motocicletas, motonetas y otros vehículos similares.",22,"1-50",6.1781011441452955E-7,4.3242699148427638E-7,0,0,0,0,0,0,0,null,"Cláusula para pasajeros de aviones y/o helicópteros particulares y/o de la FAP por viajes eventuales.  N2",10,{"$f":"IF(Cotizador!$E$79<=30000,Tasas!EO58,Tasas!EP58)","v":0},1.0896509458671497E-6,0,0,0,0,0,0,{"$f":"IF(Cotizador!$E$79<=30000,Tasas!EQ58,Tasas!ER58)","v":0},1.0896509458671497E-6,0,0,0,0,0,0,{"$f":"IF(Cotizador!$E$79<=30000,Tasas!ES58,Tasas!ET58)","v":0},1.0896509458671497E-6,0,0,0,0,0,0,{"$f":"IF(Cotizador!$E$79<=30000,Tasas!EU58,Tasas!EV58)","v":0},1.0896509458671497E-6,0,0,0,0,0,0,null,null,"Hidrocarburos",28,"50-400",1.671309919799602E-4,2.8964203203659435E-4,4.1638149864010708E-4,5.1461712153298125E-4,3.1539561503435108E-5,6.7416270493049894E-5,1.0161292943879982E-4,1.2910891551799663E-4,3.2032343973321527E-5,3.2032343973321527E-5,3.2032343973321527E-5,3.2032343973321527E-5,1.808221780815688E-5,1.808221780815688E-5,1.808221780815688E-5,1.808221780815688E-5,2.5886455208872888E-4,2.5886455208872888E-4,2.5886455208872888E-4,2.5886455208872888E-4,3.2032343973321527E-5,3.2032343973321527E-5,3.2032343973321527E-5,3.2032343973321527E-5,1.9072530055383801E-5,1.9072530055383801E-5,1.9072530055383801E-5,1.9072530055383801E-5,6.3767316055212042E-8,6.3767316055212042E-8,6.3767316055212042E-8,6.3767316055212042E-8,1.671309919799602E-4,2.8964203203659435E-4,4.1638149864010708E-4,5.1461712153298125E-4]
[null,"Telecomunicaciones",29,"50-400",6.1381443331533366E-4,7.2895397795825329E-4,9.1119247244781656E-4,1.2101747776569918E-3,6.4999679175474611E-6,7.7192343694256393E-6,9.6490429617820492E-6,1.2815106329300902E-5,7.4774602619124888E-6,7.4774602619124888E-6,7.4774602619124888E-6,7.4774602619124888E-6,6.0507783207706635E-6,6.0507783207706635E-6,6.0507783207706635E-6,6.0507783207706635E-6,7.4221151204163373E-5,7.4221151204163373E-5,7.4221151204163373E-5,7.4221151204163373E-5,2.2748308094336555E-5,2.2748308094336555E-5,2.2748308094336555E-5,2.2748308094336555E-5,5.5386354658440641E-6,5.5386354658440641E-6,5.5386354658440641E-6,5.5386354658440641E-6,4.1062763458500696E-6,4.1062763458500696E-6,4.1062763458500696E-6,4.1062763458500696E-6,6.1381443331533366E-4,7.2895397795825329E-4,9.1119247244781656E-4,1.2101747776569918E-3,null,6.1381443331533366E-4,7.2895397795825329E-4,9.1119247244781656E-4,1.2101747776569918E-3,6.4999679175474611E-6,7.7192343694256393E-6,9.6490429617820492E-6,1.2815106329300902E-5,7.4774602619124888E-6,7.4774602619124888E-6,7.4774602619124888E-6,7.4774602619124888E-6,6.0507783207706635E-6,6.0507783207706635E-6,6.0507783207706635E-6,6.0507783207706635E-6,7.4221151204163373E-5,7.4221151204163373E-5,7.4221151204163373E-5,7.4221151204163373E-5,2.2748308094336555E-5,2.2748308094336555E-5,2.2748308094336555E-5,2.2748308094336555E-5,5.5386354658440641E-6,5.5386354658440641E-6,5.5386354658440641E-6,5.5386354658440641E-6,4.1062763458500696E-6,4.1062763458500696E-6,4.1062763458500696E-6,4.1062763458500696E-6,6.1381443331533366E-4,7.2895397795825329E-4,9.1119247244781656E-4,1.2101747776569918E-3,null,null,23,"50-400",5.1043040199484752E-6,1.8687100981858596E-6,0,0,0,0,0,0,0,null,null,23,"50-400",5.1043040199484752E-6,1.8687100981858596E-6,0,0,0,0,0,0,0,null,null,23,"50-400",3.7794261341226168E-6,1.21805971769401E-7,0,0,0,0,0,0,0,null,null,23,"50-400",6.1781011441452955E-7,4.3242699148427638E-7,0,0,0,0,0,0,0,null,null,23,"50-400",6.1781011441452955E-7,4.3242699148427638E-7,0,0,0,0,0,0,0,null,"Cláusula para pasajeros de aviones y/o helicópteros particulares y/o de la FAP por viajes eventuales.  N3",11,{"$f":"IF(Cotizador!$E$79<=30000,Tasas!EO59,Tasas!EP59)","v":0},1.0092880456719825E-6,0,0,0,0,0,0,{"$f":"IF(Cotizador!$E$79<=30000,Tasas!EQ59,Tasas!ER59)","v":0},1.0092880456719825E-6,0,0,0,0,0,0,{"$f":"IF(Cotizador!$E$79<=30000,Tasas!ES59,Tasas!ET59)","v":0},1.0092880456719825E-6,0,0,0,0,0,0,{"$f":"IF(Cotizador!$E$79<=30000,Tasas!EU59,Tasas!EV59)","v":0},1.0092880456719825E-6,0,0,0,0,0,0,null,null,"Telecomunicaciones",29,"50-400",7.3575062722650378E-4,1.275073546907659E-3,1.8330110122645809E-3,2.2654677355998009E-3,7.6553809755967192E-5,1.636348794899911E-4,2.4663807923129094E-4,3.1337719629638701E-4,3.2032343973321527E-5,3.2032343973321527E-5,3.2032343973321527E-5,3.2032343973321527E-5,1.808221780815688E-5,1.808221780815688E-5,1.808221780815688E-5,1.808221780815688E-5,2.5886455208872888E-4,2.5886455208872888E-4,2.5886455208872888E-4,2.5886455208872888E-4,3.2032343973321527E-5,3.2032343973321527E-5,3.2032343973321527E-5,3.2032343973321527E-5,1.9072530055383801E-5,1.9072530055383801E-5,1.9072530055383801E-5,1.9072530055383801E-5,6.3767316055212042E-8,6.3767316055212042E-8,6.3767316055212042E-8,6.3767316055212042E-8,7.3575062722650378E-4,1.275073546907659E-3,1.8330110122645809E-3,2.2654677355998009E-3]
[null,"Plasticos y Cauchos",30,"50-400",6.1381443331533366E-4,7.2895397795825329E-4,9.1119247244781656E-4,1.2101747776569918E-3,6.4999679175474611E-6,7.7192343694256393E-6,9.6490429617820492E-6,1.2815106329300902E-5,7.4774602619124888E-6,7.4774602619124888E-6,7.4774602619124888E-6,7.4774602619124888E-6,6.0507783207706635E-6,6.0507783207706635E-6,6.0507783207706635E-6,6.0507783207706635E-6,7.4221151204163373E-5,7.4221151204163373E-5,7.4221151204163373E-5,7.4221151204163373E-5,2.2748308094336555E-5,2.2748308094336555E-5,2.2748308094336555E-5,2.2748308094336555E-5,5.5386354658440641E-6,5.5386354658440641E-6,5.5386354658440641E-6,5.5386354658440641E-6,4.1062763458500696E-6,4.1062763458500696E-6,4.1062763458500696E-6,4.1062763458500696E-6,6.1381443331533366E-4,7.2895397795825329E-4,9.1119247244781656E-4,1.2101747776569918E-3,null,6.1381443331533366E-4,7.2895397795825329E-4,9.1119247244781656E-4,1.2101747776569918E-3,6.4999679175474611E-6,7.7192343694256393E-6,9.6490429617820492E-6,1.2815106329300902E-5,7.4774602619124888E-6,7.4774602619124888E-6,7.4774602619124888E-6,7.4774602619124888E-6,6.0507783207706635E-6,6.0507783207706635E-6,6.0507783207706635E-6,6.0507783207706635E-6,7.4221151204163373E-5,7.4221151204163373E-5,7.4221151204163373E-5,7.4221151204163373E-5,2.2748308094336555E-5,2.2748308094336555E-5,2.2748308094336555E-5,2.2748308094336555E-5,5.5386354658440641E-6,5.5386354658440641E-6,5.5386354658440641E-6,5.5386354658440641E-6,4.1062763458500696E-6,4.1062763458500696E-6,4.1062763458500696E-6,4.1062763458500696E-6,6.1381443331533366E-4,7.2895397795825329E-4,9.1119247244781656E-4,1.2101747776569918E-3,null,null,24,">400",2.1940703500869679E-6,1.4609456740357909E-6,0,0,0,0,0,0,0,null,null,24,">400",2.1940703500869679E-6,1.4609456740357909E-6,0,0,0,0,0,0,0,null,null,24,">400",3.7794261341226168E-6,1.21805971769401E-7,0,0,0,0,0,0,0,null,null,24,">400",6.1781011441452955E-7,4.3242699148427638E-7,0,0,0,0,0,0,0,null,null,24,">400",6.1781011441452955E-7,4.3242699148427638E-7,0,0,0,0,0,0,0,null,"Cláusula de accidentes personales para viajes y/o corto plazo.",12,{"$f":"IF(Cotizador!$E$79<=30000,Tasas!EO60,Tasas!EP60)","v":2.0502313607343315E-6},2.1169127854523898E-8,2.116986672261022E-8,1.4966508950130776E-7,6.7998147623168088E-9,0,0,0,{"$f":"IF(Cotizador!$E$79<=30000,Tasas!EQ60,Tasas!ER60)","v":2.0502313607343315E-6},2.1169127854523898E-8,2.116986672261022E-8,1.4966508950130776E-7,6.7998147623168088E-9,0,0,0,{"$f":"IF(Cotizador!$E$79<=30000,Tasas!ES60,Tasas!ET60)","v":2.0502313607343315E-6},2.1169127854523898E-8,2.116986672261022E-8,1.4966508950130776E-7,6.7998147623168088E-9,0,0,0,{"$f":"IF(Cotizador!$E$79<=30000,Tasas!EU60,Tasas!EV60)","v":2.0502313607343315E-6},2.1169127854523898E-8,2.116986672261022E-8,1.4966508950130776E-7,6.7998147623168088E-9,0,0,0,null,null,"Plasticos y Cauchos",30,"50-400",7.3575062722650378E-4,1.275073546907659E-3,1.8330110122645809E-3,2.2654677355998009E-3,7.6553809755967192E-5,1.636348794899911E-4,2.4663807923129094E-4,3.1337719629638701E-4,3.2032343973321527E-5,3.2032343973321527E-5,3.2032343973321527E-5,3.2032343973321527E-5,1.808221780815688E-5,1.808221780815688E-5,1.808221780815688E-5,1.808221780815688E-5,2.5886455208872888E-4,2.5886455208872888E-4,2.5886455208872888E-4,2.5886455208872888E-4,3.2032343973321527E-5,3.2032343973321527E-5,3.2032343973321527E-5,3.2032343973321527E-5,1.9072530055383801E-5,1.9072530055383801E-5,1.9072530055383801E-5,1.9072530055383801E-5,6.3767316055212042E-8,6.3767316055212042E-8,6.3767316055212042E-8,6.3767316055212042E-8,7.3575062722650378E-4,1.275073546907659E-3,1.8330110122645809E-3,2.2654677355998009E-3]
[null,"Instituciones Financieras",31,"50-400",1.1131502567671666E-3,1.3219554049144035E-3,1.6524442561430047E-3,2.1946475862518263E-3,2.4044675388777276E-5,2.8554984734873052E-5,3.5693730918591323E-5,4.7405629638395124E-5,7.4774602619124888E-6,7.4774602619124888E-6,7.4774602619124888E-6,7.4774602619124888E-6,6.0507783207706635E-6,6.0507783207706635E-6,6.0507783207706635E-6,6.0507783207706635E-6,7.4221151204163373E-5,7.4221151204163373E-5,7.4221151204163373E-5,7.4221151204163373E-5,2.2748308094336555E-5,2.2748308094336555E-5,2.2748308094336555E-5,2.2748308094336555E-5,5.5386354658440641E-6,5.5386354658440641E-6,5.5386354658440641E-6,5.5386354658440641E-6,4.1062763458500696E-6,4.1062763458500696E-6,4.1062763458500696E-6,4.1062763458500696E-6,1.1131502567671666E-3,1.3219554049144035E-3,1.6524442561430047E-3,2.1946475862518263E-3,null,1.1131502567671666E-3,1.3219554049144035E-3,1.6524442561430047E-3,2.1946475862518263E-3,2.4044675388777276E-5,2.8554984734873052E-5,3.5693730918591323E-5,4.7405629638395124E-5,7.4774602619124888E-6,7.4774602619124888E-6,7.4774602619124888E-6,7.4774602619124888E-6,6.0507783207706635E-6,6.0507783207706635E-6,6.0507783207706635E-6,6.0507783207706635E-6,7.4221151204163373E-5,7.4221151204163373E-5,7.4221151204163373E-5,7.4221151204163373E-5,2.2748308094336555E-5,2.2748308094336555E-5,2.2748308094336555E-5,2.2748308094336555E-5,5.5386354658440641E-6,5.5386354658440641E-6,5.5386354658440641E-6,5.5386354658440641E-6,4.1062763458500696E-6,4.1062763458500696E-6,4.1062763458500696E-6,4.1062763458500696E-6,1.1131502567671666E-3,1.3219554049144035E-3,1.6524442561430047E-3,2.1946475862518263E-3,null,"Cláusula para pasajeros que usan cualquier medio habitual de transporte público de personas, en vehículos que no recorren itinerarios regulares y fijos. ",25,"1-50",4.6347527687658676E-6,0,0,0,0,0,0,0,0,null,"Cláusula para pasajeros que usan cualquier medio habitual de transporte público de personas, en vehículos que no recorren itinerarios regulares y fijos. ",25,"1-50",4.6347527687658676E-6,0,0,0,0,0,0,0,0,null,"Cláusula para pasajeros que usan cualquier medio habitual de transporte público de personas, en vehículos que no recorren itinerarios regulares y fijos. ",25,"1-50",5.4948192658583167E-7,0,0,0,0,0,0,0,0,null,"Cláusula para pasajeros que usan cualquier medio habitual de transporte público de personas, en vehículos que no recorren itinerarios regulares y fijos. ",25,"1-50",8.9821967644174401E-8,0,0,0,0,0,0,0,0,null,"Cláusula para pasajeros que usan cualquier medio habitual de transporte público de personas, en vehículos que no recorren itinerarios regulares y fijos. ",25,"1-50",8.9821967644174401E-8,0,0,0,0,0,0,0,0,null,"Pescadores y/o Estibadores",13,{"$f":"IF(Cotizador!$E$79<=30000,Tasas!EO61,Tasas!EP61)","v":0},0,0,0,0,0,0,0,{"$f":"IF(Cotizador!$E$79<=30000,Tasas!EQ61,Tasas!ER61)","v":0},0,0,0,0,0,0,0,{"$f":"IF(Cotizador!$E$79<=30000,Tasas!ES61,Tasas!ET61)","v":0},0,0,0,0,0,0,0,{"$f":"IF(Cotizador!$E$79<=30000,Tasas!EU61,Tasas!EV61)","v":0},0,0,0,0,0,0,0,null,null,"Instituciones Financieras",31,"50-400",1.8133583545656387E-4,3.1425936769997968E-4,4.5177071008836782E-4,5.583556022010841E-4,1.5215885558019055E-5,3.2524176230509104E-5,4.9021946782216615E-5,6.2287057568248815E-5,3.2032343973321527E-5,3.2032343973321527E-5,3.2032343973321527E-5,3.2032343973321527E-5,1.808221780815688E-5,1.808221780815688E-5,1.808221780815688E-5,1.808221780815688E-5,2.5886455208872888E-4,2.5886455208872888E-4,2.5886455208872888E-4,2.5886455208872888E-4,3.2032343973321527E-5,3.2032343973321527E-5,3.2032343973321527E-5,3.2032343973321527E-5,1.9072530055383801E-5,1.9072530055383801E-5,1.9072530055383801E-5,1.9072530055383801E-5,6.3767316055212042E-8,6.3767316055212042E-8,6.3767316055212042E-8,6.3767316055212042E-8,1.8133583545656387E-4,3.1425936769997968E-4,4.5177071008836782E-4,5.583556022010841E-4]
[null,"Quimicas",32,"50-400",6.1381443331533366E-4,7.2895397795825329E-4,9.1119247244781656E-4,1.2101747776569918E-3,6.4999679175474611E-6,7.7192343694256393E-6,9.6490429617820492E-6,1.2815106329300902E-5,7.4774602619124888E-6,7.4774602619124888E-6,7.4774602619124888E-6,7.4774602619124888E-6,6.0507783207706635E-6,6.0507783207706635E-6,6.0507783207706635E-6,6.0507783207706635E-6,7.4221151204163373E-5,7.4221151204163373E-5,7.4221151204163373E-5,7.4221151204163373E-5,2.2748308094336555E-5,2.2748308094336555E-5,2.2748308094336555E-5,2.2748308094336555E-5,5.5386354658440641E-6,5.5386354658440641E-6,5.5386354658440641E-6,5.5386354658440641E-6,4.1062763458500696E-6,4.1062763458500696E-6,4.1062763458500696E-6,4.1062763458500696E-6,6.1381443331533366E-4,7.2895397795825329E-4,9.1119247244781656E-4,1.2101747776569918E-3,null,6.1381443331533366E-4,7.2895397795825329E-4,9.1119247244781656E-4,1.2101747776569918E-3,6.4999679175474611E-6,7.7192343694256393E-6,9.6490429617820492E-6,1.2815106329300902E-5,7.4774602619124888E-6,7.4774602619124888E-6,7.4774602619124888E-6,7.4774602619124888E-6,6.0507783207706635E-6,6.0507783207706635E-6,6.0507783207706635E-6,6.0507783207706635E-6,7.4221151204163373E-5,7.4221151204163373E-5,7.4221151204163373E-5,7.4221151204163373E-5,2.2748308094336555E-5,2.2748308094336555E-5,2.2748308094336555E-5,2.2748308094336555E-5,5.5386354658440641E-6,5.5386354658440641E-6,5.5386354658440641E-6,5.5386354658440641E-6,4.1062763458500696E-6,4.1062763458500696E-6,4.1062763458500696E-6,4.1062763458500696E-6,6.1381443331533366E-4,7.2895397795825329E-4,9.1119247244781656E-4,1.2101747776569918E-3,null,null,26,"50-400",7.4210282387545644E-7,0,0,0,0,0,0,0,0,null,null,26,"50-400",7.4210282387545644E-7,0,0,0,0,0,0,0,0,null,null,26,"50-400",5.4948192658583167E-7,0,0,0,0,0,0,0,0,null,null,26,"50-400",8.9821967644174401E-8,0,0,0,0,0,0,0,0,null,null,26,"50-400",8.9821967644174401E-8,0,0,0,0,0,0,0,0,null,"Cláusula de ampliación del límite máximo de edad, personas mayores de 70 y hasta los 80 años inclusive.",14,{"$f":"IF(Cotizador!$E$79<=30000,Tasas!EO62,Tasas!EP62)","v":2.0502313607343315E-6},2.1169127854523898E-8,2.116986672261022E-8,0,0,0,0,0,{"$f":"IF(Cotizador!$E$79<=30000,Tasas!EQ62,Tasas!ER62)","v":2.0502313607343315E-6},2.1169127854523898E-8,2.116986672261022E-8,0,0,0,0,0,{"$f":"IF(Cotizador!$E$79<=30000,Tasas!ES62,Tasas!ET62)","v":2.0502313607343315E-6},2.1169127854523898E-8,2.116986672261022E-8,0,0,0,0,0,{"$f":"IF(Cotizador!$E$79<=30000,Tasas!EU62,Tasas!EV62)","v":2.0502313607343315E-6},2.1169127854523898E-8,2.116986672261022E-8,0,0,0,0,0,null,null,"Quimicas",32,"50-400",7.3575062722650378E-4,1.275073546907659E-3,1.8330110122645809E-3,2.2654677355998009E-3,7.6553809755967192E-5,1.636348794899911E-4,2.4663807923129094E-4,3.1337719629638701E-4,3.2032343973321527E-5,3.2032343973321527E-5,3.2032343973321527E-5,3.2032343973321527E-5,1.808221780815688E-5,1.808221780815688E-5,1.808221780815688E-5,1.808221780815688E-5,2.5886455208872888E-4,2.5886455208872888E-4,2.5886455208872888E-4,2.5886455208872888E-4,3.2032343973321527E-5,3.2032343973321527E-5,3.2032343973321527E-5,3.2032343973321527E-5,1.9072530055383801E-5,1.9072530055383801E-5,1.9072530055383801E-5,1.9072530055383801E-5,6.3767316055212042E-8,6.3767316055212042E-8,6.3767316055212042E-8,6.3767316055212042E-8,7.3575062722650378E-4,1.275073546907659E-3,1.8330110122645809E-3,2.2654677355998009E-3]
[null,"Comercio",33,"50-400",1.8425057933627048E-4,2.1881237302103027E-4,2.7351546627628787E-4,3.6326191073270895E-4,6.5632938929923405E-5,7.7944390554075284E-5,9.7430488192594105E-5,1.2939957577649683E-4,7.4774602619124888E-6,7.4774602619124888E-6,7.4774602619124888E-6,7.4774602619124888E-6,6.0507783207706635E-6,6.0507783207706635E-6,6.0507783207706635E-6,6.0507783207706635E-6,7.4221151204163373E-5,7.4221151204163373E-5,7.4221151204163373E-5,7.4221151204163373E-5,2.2748308094336555E-5,2.2748308094336555E-5,2.2748308094336555E-5,2.2748308094336555E-5,5.5386354658440641E-6,5.5386354658440641E-6,5.5386354658440641E-6,5.5386354658440641E-6,4.1062763458500696E-6,4.1062763458500696E-6,4.1062763458500696E-6,4.1062763458500696E-6,1.8425057933627048E-4,2.1881237302103027E-4,2.7351546627628787E-4,3.6326191073270895E-4,null,1.8425057933627048E-4,2.1881237302103027E-4,2.7351546627628787E-4,3.6326191073270895E-4,6.5632938929923405E-5,7.7944390554075284E-5,9.7430488192594105E-5,1.2939957577649683E-4,7.4774602619124888E-6,7.4774602619124888E-6,7.4774602619124888E-6,7.4774602619124888E-6,6.0507783207706635E-6,6.0507783207706635E-6,6.0507783207706635E-6,6.0507783207706635E-6,7.4221151204163373E-5,7.4221151204163373E-5,7.4221151204163373E-5,7.4221151204163373E-5,2.2748308094336555E-5,2.2748308094336555E-5,2.2748308094336555E-5,2.2748308094336555E-5,5.5386354658440641E-6,5.5386354658440641E-6,5.5386354658440641E-6,5.5386354658440641E-6,4.1062763458500696E-6,4.1062763458500696E-6,4.1062763458500696E-6,4.1062763458500696E-6,1.8425057933627048E-4,2.1881237302103027E-4,2.7351546627628787E-4,3.6326191073270895E-4,null,null,27,">400",3.1899075686275178E-7,0,0,0,0,0,0,0,0,null,null,27,">400",3.1899075686275178E-7,0,0,0,0,0,0,0,0,null,null,27,">400",5.4948192658583167E-7,0,0,0,0,0,0,0,0,null,null,27,">400",8.9821967644174401E-8,0,0,0,0,0,0,0,0,null,null,27,">400",8.9821967644174401E-8,0,0,0,0,0,0,0,0,null,"Ocupantes de vehiculos automotores particulares (no comerciales) por accidentes de tránsito.",15,{"$f":"IF(Cotizador!$E$79<=30000,Tasas!EO63,Tasas!EP63)","v":0},0,0,0,0,0,0,0,{"$f":"IF(Cotizador!$E$79<=30000,Tasas!EQ63,Tasas!ER63)","v":0},0,0,0,0,0,0,0,{"$f":"IF(Cotizador!$E$79<=30000,Tasas!ES63,Tasas!ET63)","v":0},0,0,0,0,0,0,0,{"$f":"IF(Cotizador!$E$79<=30000,Tasas!EU63,Tasas!EV63)","v":0},0,0,0,0,0,0,0,null,null,"Comercio",33,"50-400",2.7145392907512733E-4,4.7043619313325735E-4,6.7628626181791274E-4,8.3584042644951309E-4,1.6527365896532186E-4,3.5327484489499586E-4,5.3247222998666034E-4,6.7655673876061586E-4,3.2032343973321527E-5,3.2032343973321527E-5,3.2032343973321527E-5,3.2032343973321527E-5,1.808221780815688E-5,1.808221780815688E-5,1.808221780815688E-5,1.808221780815688E-5,2.5886455208872888E-4,2.5886455208872888E-4,2.5886455208872888E-4,2.5886455208872888E-4,3.2032343973321527E-5,3.2032343973321527E-5,3.2032343973321527E-5,3.2032343973321527E-5,1.9072530055383801E-5,1.9072530055383801E-5,1.9072530055383801E-5,1.9072530055383801E-5,6.3767316055212042E-8,6.3767316055212042E-8,6.3767316055212042E-8,6.3767316055212042E-8,2.7145392907512733E-4,4.7043619313325735E-4,6.7628626181791274E-4,8.3584042644951309E-4]
[null,"Educación",34,"50-400",7.5761354188057988E-4,8.9972697794998932E-4,1.1246587224374867E-3,1.4936840025790792E-3,2.4271619737951223E-5,2.8824499391300994E-5,3.603062423912625E-5,4.7853065072291147E-5,7.4774602619124888E-6,7.4774602619124888E-6,7.4774602619124888E-6,7.4774602619124888E-6,6.0507783207706635E-6,6.0507783207706635E-6,6.0507783207706635E-6,6.0507783207706635E-6,7.4221151204163373E-5,7.4221151204163373E-5,7.4221151204163373E-5,7.4221151204163373E-5,2.2748308094336555E-5,2.2748308094336555E-5,2.2748308094336555E-5,2.2748308094336555E-5,5.5386354658440641E-6,5.5386354658440641E-6,5.5386354658440641E-6,5.5386354658440641E-6,4.1062763458500696E-6,4.1062763458500696E-6,4.1062763458500696E-6,4.1062763458500696E-6,7.5761354188057988E-4,8.9972697794998932E-4,1.1246587224374867E-3,1.4936840025790792E-3,null,7.5761354188057988E-4,8.9972697794998932E-4,1.1246587224374867E-3,1.4936840025790792E-3,2.4271619737951223E-5,2.8824499391300994E-5,3.603062423912625E-5,4.7853065072291147E-5,7.4774602619124888E-6,7.4774602619124888E-6,7.4774602619124888E-6,7.4774602619124888E-6,6.0507783207706635E-6,6.0507783207706635E-6,6.0507783207706635E-6,6.0507783207706635E-6,7.4221151204163373E-5,7.4221151204163373E-5,7.4221151204163373E-5,7.4221151204163373E-5,2.2748308094336555E-5,2.2748308094336555E-5,2.2748308094336555E-5,2.2748308094336555E-5,5.5386354658440641E-6,5.5386354658440641E-6,5.5386354658440641E-6,5.5386354658440641E-6,4.1062763458500696E-6,4.1062763458500696E-6,4.1062763458500696E-6,4.1062763458500696E-6,7.5761354188057988E-4,8.9972697794998932E-4,1.1246587224374867E-3,1.4936840025790792E-3,null,"Ocupantes de vehiculos automotores particulares (no comerciales) por accidentes de tránsito.",28,"1-50",1.5365569042033012E-6,0,0,0,0,0,0,0,0,null,"Ocupantes de vehiculos automotores particulares (no comerciales) por accidentes de tránsito.",28,"1-50",1.5365569042033012E-6,0,0,0,0,0,0,0,0,null,"Ocupantes de vehiculos automotores particulares (no comerciales) por accidentes de tránsito.",28,"1-50",1.821694252431964E-7,0,0,0,0,0,0,0,0,null,"Ocupantes de vehiculos automotores particulares (no comerciales) por accidentes de tránsito.",28,"1-50",2.9778624970654581E-8,0,0,0,0,0,0,0,0,null,"Ocupantes de vehiculos automotores particulares (no comerciales) por accidentes de tránsito.",28,"1-50",2.9778624970654581E-8,0,0,0,0,0,0,0,0,null,"Por usar y/o portar armas",16,{"$f":"IF(Cotizador!$E$79<=30000,Tasas!EO64,Tasas!EP64)","v":4.3043929996689265E-5},0,0,0,0,0,0,0,{"$f":"IF(Cotizador!$E$79<=30000,Tasas!EQ64,Tasas!ER64)","v":4.3043929996689265E-5},0,0,0,0,0,0,0,{"$f":"IF(Cotizador!$E$79<=30000,Tasas!ES64,Tasas!ET64)","v":4.3043929996689265E-5},0,0,0,0,0,0,0,{"$f":"IF(Cotizador!$E$79<=30000,Tasas!EU64,Tasas!EV64)","v":4.3043929996689265E-5},0,0,0,0,0,0,0,null,null,"Educación",34,"50-400",1.4953057290169902E-3,2.5914008212215554E-3,3.7253272597573459E-3,4.6042324105320187E-3,1.7323091151067881E-4,3.7028358770585789E-4,5.5810859596245243E-4,7.0913018612835945E-4,3.2032343973321527E-5,3.2032343973321527E-5,3.2032343973321527E-5,3.2032343973321527E-5,1.808221780815688E-5,1.808221780815688E-5,1.808221780815688E-5,1.808221780815688E-5,2.5886455208872888E-4,2.5886455208872888E-4,2.5886455208872888E-4,2.5886455208872888E-4,3.2032343973321527E-5,3.2032343973321527E-5,3.2032343973321527E-5,3.2032343973321527E-5,1.9072530055383801E-5,1.9072530055383801E-5,1.9072530055383801E-5,1.9072530055383801E-5,6.3767316055212042E-8,6.3767316055212042E-8,6.3767316055212042E-8,6.3767316055212042E-8,1.4953057290169902E-3,2.5914008212215554E-3,3.7253272597573459E-3,4.6042324105320187E-3]
[null,"Industria",35,"50-400",6.1381443331533366E-4,7.2895397795825329E-4,9.1119247244781656E-4,1.2101747776569918E-3,6.4999679175474611E-6,7.7192343694256393E-6,9.6490429617820492E-6,1.2815106329300902E-5,7.4774602619124888E-6,7.4774602619124888E-6,7.4774602619124888E-6,7.4774602619124888E-6,6.0507783207706635E-6,6.0507783207706635E-6,6.0507783207706635E-6,6.0507783207706635E-6,7.4221151204163373E-5,7.4221151204163373E-5,7.4221151204163373E-5,7.4221151204163373E-5,2.2748308094336555E-5,2.2748308094336555E-5,2.2748308094336555E-5,2.2748308094336555E-5,5.5386354658440641E-6,5.5386354658440641E-6,5.5386354658440641E-6,5.5386354658440641E-6,4.1062763458500696E-6,4.1062763458500696E-6,4.1062763458500696E-6,4.1062763458500696E-6,6.1381443331533366E-4,7.2895397795825329E-4,9.1119247244781656E-4,1.2101747776569918E-3,null,6.1381443331533366E-4,7.2895397795825329E-4,9.1119247244781656E-4,1.2101747776569918E-3,6.4999679175474611E-6,7.7192343694256393E-6,9.6490429617820492E-6,1.2815106329300902E-5,7.4774602619124888E-6,7.4774602619124888E-6,7.4774602619124888E-6,7.4774602619124888E-6,6.0507783207706635E-6,6.0507783207706635E-6,6.0507783207706635E-6,6.0507783207706635E-6,7.4221151204163373E-5,7.4221151204163373E-5,7.4221151204163373E-5,7.4221151204163373E-5,2.2748308094336555E-5,2.2748308094336555E-5,2.2748308094336555E-5,2.2748308094336555E-5,5.5386354658440641E-6,5.5386354658440641E-6,5.5386354658440641E-6,5.5386354658440641E-6,4.1062763458500696E-6,4.1062763458500696E-6,4.1062763458500696E-6,4.1062763458500696E-6,6.1381443331533366E-4,7.2895397795825329E-4,9.1119247244781656E-4,1.2101747776569918E-3,null,null,29,"50-400",2.4602891988955679E-7,0,0,0,0,0,0,0,0,null,null,29,"50-400",2.4602891988955679E-7,0,0,0,0,0,0,0,0,null,null,29,"50-400",1.821694252431964E-7,0,0,0,0,0,0,0,0,null,null,29,"50-400",2.9778624970654581E-8,0,0,0,0,0,0,0,0,null,null,29,"50-400",2.9778624970654581E-8,0,0,0,0,0,0,0,0,null,"Por cubrir gastos no reembolsables por ESSALUD",17,{"$f":"IF(Cotizador!$E$79<=30000,Tasas!EO65,Tasas!EP65)","v":0},0,0,0,0,0,0,0,{"$f":"IF(Cotizador!$E$79<=30000,Tasas!EQ65,Tasas!ER65)","v":0},0,0,0,0,0,0,0,{"$f":"IF(Cotizador!$E$79<=30000,Tasas!ES65,Tasas!ET65)","v":0},0,0,0,0,0,0,0,{"$f":"IF(Cotizador!$E$79<=30000,Tasas!EU65,Tasas!EV65)","v":0},0,0,0,0,0,0,0,null,null,"Industria",35,"50-400",7.3575062722650378E-4,1.275073546907659E-3,1.8330110122645809E-3,2.2654677355998009E-3,7.6553809755967192E-5,1.636348794899911E-4,2.4663807923129094E-4,3.1337719629638701E-4,3.2032343973321527E-5,3.2032343973321527E-5,3.2032343973321527E-5,3.2032343973321527E-5,1.808221780815688E-5,1.808221780815688E-5,1.808221780815688E-5,1.808221780815688E-5,2.5886455208872888E-4,2.5886455208872888E-4,2.5886455208872888E-4,2.5886455208872888E-4,3.2032343973321527E-5,3.2032343973321527E-5,3.2032343973321527E-5,3.2032343973321527E-5,1.9072530055383801E-5,1.9072530055383801E-5,1.9072530055383801E-5,1.9072530055383801E-5,6.3767316055212042E-8,6.3767316055212042E-8,6.3767316055212042E-8,6.3767316055212042E-8,7.3575062722650378E-4,1.275073546907659E-3,1.8330110122645809E-3,2.2654677355998009E-3]
[null,"Construcción",36,"50-400",3.3794021362228212E-5,4.0133116730650608E-5,5.016639591331327E-5,6.6627094555726094E-5,8.6744090472438143E-5,1.0301557992490236E-4,1.2876947490612795E-4,1.7102157378989482E-4,7.4774602619124888E-6,7.4774602619124888E-6,7.4774602619124888E-6,7.4774602619124888E-6,6.0507783207706635E-6,6.0507783207706635E-6,6.0507783207706635E-6,6.0507783207706635E-6,7.4221151204163373E-5,7.4221151204163373E-5,7.4221151204163373E-5,7.4221151204163373E-5,2.2748308094336555E-5,2.2748308094336555E-5,2.2748308094336555E-5,2.2748308094336555E-5,5.5386354658440641E-6,5.5386354658440641E-6,5.5386354658440641E-6,5.5386354658440641E-6,4.1062763458500696E-6,4.1062763458500696E-6,4.1062763458500696E-6,4.1062763458500696E-6,3.3794021362228212E-5,4.0133116730650608E-5,5.016639591331327E-5,6.6627094555726094E-5,null,3.3794021362228212E-5,4.0133116730650608E-5,5.016639591331327E-5,6.6627094555726094E-5,8.6744090472438143E-5,1.0301557992490236E-4,1.2876947490612795E-4,1.7102157378989482E-4,7.4774602619124888E-6,7.4774602619124888E-6,7.4774602619124888E-6,7.4774602619124888E-6,6.0507783207706635E-6,6.0507783207706635E-6,6.0507783207706635E-6,6.0507783207706635E-6,7.4221151204163373E-5,7.4221151204163373E-5,7.4221151204163373E-5,7.4221151204163373E-5,2.2748308094336555E-5,2.2748308094336555E-5,2.2748308094336555E-5,2.2748308094336555E-5,5.5386354658440641E-6,5.5386354658440641E-6,5.5386354658440641E-6,5.5386354658440641E-6,4.1062763458500696E-6,4.1062763458500696E-6,4.1062763458500696E-6,4.1062763458500696E-6,3.3794021362228212E-5,4.0133116730650608E-5,5.016639591331327E-5,6.6627094555726094E-5,null,null,30,">400",1.0575482108509821E-7,0,0,0,0,0,0,0,0,null,null,30,">400",1.0575482108509821E-7,0,0,0,0,0,0,0,0,null,null,30,">400",1.821694252431964E-7,0,0,0,0,0,0,0,0,null,null,30,">400",2.9778624970654581E-8,0,0,0,0,0,0,0,0,null,null,30,">400",2.9778624970654581E-8,0,0,0,0,0,0,0,0,null,null,null,null,null,null,null,null,null,null,null,null,null,null,null,null,null,null,null,null,null,null,null,null,null,null,null,null,null,null,null,null,null,null,null,null,null,"Construcción",36,"50-400",3.6219076290724039E-4,6.2768531025003509E-4,9.0234331087440218E-4,1.1152304288094426E-3,2.5463721968341634E-3,5.442907529930519E-3,8.2038026538083179E-3,1.0423713494007548E-2,3.2032343973321527E-5,3.2032343973321527E-5,3.2032343973321527E-5,3.2032343973321527E-5,1.808221780815688E-5,1.808221780815688E-5,1.808221780815688E-5,1.808221780815688E-5,2.5886455208872888E-4,2.5886455208872888E-4,2.5886455208872888E-4,2.5886455208872888E-4,3.2032343973321527E-5,3.2032343973321527E-5,3.2032343973321527E-5,3.2032343973321527E-5,1.9072530055383801E-5,1.9072530055383801E-5,1.9072530055383801E-5,1.9072530055383801E-5,6.3767316055212042E-8,6.3767316055212042E-8,6.3767316055212042E-8,6.3767316055212042E-8,3.6219076290724039E-4,6.2768531025003509E-4,9.0234331087440218E-4,1.1152304288094426E-3]
[null,"Pesca",37,"50-400",6.1381443331533366E-4,7.2895397795825329E-4,9.1119247244781656E-4,1.2101747776569918E-3,6.4999679175474611E-6,7.7192343694256393E-6,9.6490429617820492E-6,1.2815106329300902E-5,7.4774602619124888E-6,7.4774602619124888E-6,7.4774602619124888E-6,7.4774602619124888E-6,6.0507783207706635E-6,6.0507783207706635E-6,6.0507783207706635E-6,6.0507783207706635E-6,7.4221151204163373E-5,7.4221151204163373E-5,7.4221151204163373E-5,7.4221151204163373E-5,2.2748308094336555E-5,2.2748308094336555E-5,2.2748308094336555E-5,2.2748308094336555E-5,5.5386354658440641E-6,5.5386354658440641E-6,5.5386354658440641E-6,5.5386354658440641E-6,4.1062763458500696E-6,4.1062763458500696E-6,4.1062763458500696E-6,4.1062763458500696E-6,6.1381443331533366E-4,7.2895397795825329E-4,9.1119247244781656E-4,1.2101747776569918E-3,null,6.1381443331533366E-4,7.2895397795825329E-4,9.1119247244781656E-4,1.2101747776569918E-3,6.4999679175474611E-6,7.7192343694256393E-6,9.6490429617820492E-6,1.2815106329300902E-5,7.4774602619124888E-6,7.4774602619124888E-6,7.4774602619124888E-6,7.4774602619124888E-6,6.0507783207706635E-6,6.0507783207706635E-6,6.0507783207706635E-6,6.0507783207706635E-6,7.4221151204163373E-5,7.4221151204163373E-5,7.4221151204163373E-5,7.4221151204163373E-5,2.2748308094336555E-5,2.2748308094336555E-5,2.2748308094336555E-5,2.2748308094336555E-5,5.5386354658440641E-6,5.5386354658440641E-6,5.5386354658440641E-6,5.5386354658440641E-6,4.1062763458500696E-6,4.1062763458500696E-6,4.1062763458500696E-6,4.1062763458500696E-6,6.1381443331533366E-4,7.2895397795825329E-4,9.1119247244781656E-4,1.2101747776569918E-3,null,"Cláusula para pasajeros de aviones y/o helicópteros particulares y/o de la FAP por viajes eventuales. N1",31,"1-50",1.6564467589063401E-8,0,0,0,0,0,0,0,0,null,"Cláusula para pasajeros de aviones y/o helicópteros particulares y/o de la FAP por viajes eventuales. N1",31,"1-50",1.6564467589063401E-8,0,0,0,0,0,0,0,0,null,"Cláusula para pasajeros de aviones y/o helicópteros particulares y/o de la FAP por viajes eventuales. N1",31,"1-50",1.9638319491485524E-9,0,0,0,0,0,0,0,0,null,"Cláusula para pasajeros de aviones y/o helicópteros particulares y/o de la FAP por viajes eventuales. N1",31,"1-50",3.2102102227645056E-10,0,0,0,0,0,0,0,0,null,"Cláusula para pasajeros de aviones y/o helicópteros particulares y/o de la FAP por viajes eventuales. N1",31,"1-50",3.2102102227645056E-10,0,0,0,0,0,0,0,0,null,null,"GC",null,"GC",null,"GC",null,"GC",null,null,null,null,null,null,null,null,null,null,null,null,null,null,null,null,null,null,null,null,null,null,null,null,null,null,null,null,"Pesca",37,"50-400",7.3575062722650378E-4,1.275073546907659E-3,1.8330110122645809E-3,2.2654677355998009E-3,7.6553809755967192E-5,1.636348794899911E-4,2.4663807923129094E-4,3.1337719629638701E-4,3.2032343973321527E-5,3.2032343973321527E-5,3.2032343973321527E-5,3.2032343973321527E-5,1.808221780815688E-5,1.808221780815688E-5,1.808221780815688E-5,1.808221780815688E-5,2.5886455208872888E-4,2.5886455208872888E-4,2.5886455208872888E-4,2.5886455208872888E-4,3.2032343973321527E-5,3.2032343973321527E-5,3.2032343973321527E-5,3.2032343973321527E-5,1.9072530055383801E-5,1.9072530055383801E-5,1.9072530055383801E-5,1.9072530055383801E-5,6.3767316055212042E-8,6.3767316055212042E-8,6.3767316055212042E-8,6.3767316055212042E-8,7.3575062722650378E-4,1.275073546907659E-3,1.8330110122645809E-3,2.2654677355998009E-3]
[null,"Energia y Agua",38,"50-400",4.4942587578359646E-4,5.3372935233916472E-4,6.6716169042395595E-4,8.8607212502659477E-4,5.2027725389668968E-4,6.1787105888132905E-4,7.7233882360166128E-4,1.0257601905085214E-3,7.4774602619124888E-6,7.4774602619124888E-6,7.4774602619124888E-6,7.4774602619124888E-6,6.0507783207706635E-6,6.0507783207706635E-6,6.0507783207706635E-6,6.0507783207706635E-6,7.4221151204163373E-5,7.4221151204163373E-5,7.4221151204163373E-5,7.4221151204163373E-5,2.2748308094336555E-5,2.2748308094336555E-5,2.2748308094336555E-5,2.2748308094336555E-5,5.5386354658440641E-6,5.5386354658440641E-6,5.5386354658440641E-6,5.5386354658440641E-6,4.1062763458500696E-6,4.1062763458500696E-6,4.1062763458500696E-6,4.1062763458500696E-6,4.4942587578359646E-4,5.3372935233916472E-4,6.6716169042395595E-4,8.8607212502659477E-4,null,4.4942587578359646E-4,5.3372935233916472E-4,6.6716169042395595E-4,8.8607212502659477E-4,5.2027725389668968E-4,6.1787105888132905E-4,7.7233882360166128E-4,1.0257601905085214E-3,7.4774602619124888E-6,7.4774602619124888E-6,7.4774602619124888E-6,7.4774602619124888E-6,6.0507783207706635E-6,6.0507783207706635E-6,6.0507783207706635E-6,6.0507783207706635E-6,7.4221151204163373E-5,7.4221151204163373E-5,7.4221151204163373E-5,7.4221151204163373E-5,2.2748308094336555E-5,2.2748308094336555E-5,2.2748308094336555E-5,2.2748308094336555E-5,5.5386354658440641E-6,5.5386354658440641E-6,5.5386354658440641E-6,5.5386354658440641E-6,4.1062763458500696E-6,4.1062763458500696E-6,4.1062763458500696E-6,4.1062763458500696E-6,4.4942587578359646E-4,5.3372935233916472E-4,6.6716169042395595E-4,8.8607212502659477E-4,null,null,32,"50-400",2.6522532672461525E-9,0,0,0,0,0,0,0,0,null,null,32,"50-400",2.6522532672461525E-9,0,0,0,0,0,0,0,0,null,null,32,"50-400",1.9638319491485524E-9,0,0,0,0,0,0,0,0,null,null,32,"50-400",3.2102102227645056E-10,0,0,0,0,0,0,0,0,null,null,32,"50-400",3.2102102227645056E-10,0,0,0,0,0,0,0,0,null,null,"SA <= 30M","SA > 30M","SA <= 30M","SA > 30M","SA <= 30M","SA > 30M","SA <= 30M","SA > 30M",null,null,null,null,null,null,null,null,null,null,null,null,null,null,null,null,null,null,null,null,null,null,null,null,null,null,null,"Energia y Agua",38,"50-400",1.671309919799602E-4,2.8964203203659435E-4,4.1638149864010708E-4,5.1461712153298125E-4,3.1539561503435108E-5,6.7416270493049894E-5,1.0161292943879982E-4,1.2910891551799663E-4,3.2032343973321527E-5,3.2032343973321527E-5,3.2032343973321527E-5,3.2032343973321527E-5,1.808221780815688E-5,1.808221780815688E-5,1.808221780815688E-5,1.808221780815688E-5,2.5886455208872888E-4,2.5886455208872888E-4,2.5886455208872888E-4,2.5886455208872888E-4,3.2032343973321527E-5,3.2032343973321527E-5,3.2032343973321527E-5,3.2032343973321527E-5,1.9072530055383801E-5,1.9072530055383801E-5,1.9072530055383801E-5,1.9072530055383801E-5,6.3767316055212042E-8,6.3767316055212042E-8,6.3767316055212042E-8,6.3767316055212042E-8,1.671309919799602E-4,2.8964203203659435E-4,4.1638149864010708E-4,5.1461712153298125E-4]
[null,"Textiles",39,"50-400",6.1381443331533366E-4,7.2895397795825329E-4,9.1119247244781656E-4,1.2101747776569918E-3,6.4999679175474611E-6,7.7192343694256393E-6,9.6490429617820492E-6,1.2815106329300902E-5,7.4774602619124888E-6,7.4774602619124888E-6,7.4774602619124888E-6,7.4774602619124888E-6,6.0507783207706635E-6,6.0507783207706635E-6,6.0507783207706635E-6,6.0507783207706635E-6,7.4221151204163373E-5,7.4221151204163373E-5,7.4221151204163373E-5,7.4221151204163373E-5,2.2748308094336555E-5,2.2748308094336555E-5,2.2748308094336555E-5,2.2748308094336555E-5,5.5386354658440641E-6,5.5386354658440641E-6,5.5386354658440641E-6,5.5386354658440641E-6,4.1062763458500696E-6,4.1062763458500696E-6,4.1062763458500696E-6,4.1062763458500696E-6,6.1381443331533366E-4,7.2895397795825329E-4,9.1119247244781656E-4,1.2101747776569918E-3,null,6.1381443331533366E-4,7.2895397795825329E-4,9.1119247244781656E-4,1.2101747776569918E-3,6.4999679175474611E-6,7.7192343694256393E-6,9.6490429617820492E-6,1.2815106329300902E-5,7.4774602619124888E-6,7.4774602619124888E-6,7.4774602619124888E-6,7.4774602619124888E-6,6.0507783207706635E-6,6.0507783207706635E-6,6.0507783207706635E-6,6.0507783207706635E-6,7.4221151204163373E-5,7.4221151204163373E-5,7.4221151204163373E-5,7.4221151204163373E-5,2.2748308094336555E-5,2.2748308094336555E-5,2.2748308094336555E-5,2.2748308094336555E-5,5.5386354658440641E-6,5.5386354658440641E-6,5.5386354658440641E-6,5.5386354658440641E-6,4.1062763458500696E-6,4.1062763458500696E-6,4.1062763458500696E-6,4.1062763458500696E-6,6.1381443331533366E-4,7.2895397795825329E-4,9.1119247244781656E-4,1.2101747776569918E-3,null,null,33,">400",1.1400634115529844E-9,0,0,0,0,0,0,0,0,null,null,33,">400",1.1400634115529844E-9,0,0,0,0,0,0,0,0,null,null,33,">400",1.9638319491485524E-9,0,0,0,0,0,0,0,0,null,null,33,">400",3.2102102227645056E-10,0,0,0,0,0,0,0,0,null,null,33,">400",3.2102102227645056E-10,0,0,0,0,0,0,0,0,null,null,0,0,0,0,0,0,0,0,null,null,null,null,null,null,null,null,null,null,null,null,null,null,null,null,null,null,null,null,null,null,null,null,null,null,null,"Textiles",39,"50-400",7.3575062722650378E-4,1.275073546907659E-3,1.8330110122645809E-3,2.2654677355998009E-3,7.6553809755967192E-5,1.636348794899911E-4,2.4663807923129094E-4,3.1337719629638701E-4,3.2032343973321527E-5,3.2032343973321527E-5,3.2032343973321527E-5,3.2032343973321527E-5,1.808221780815688E-5,1.808221780815688E-5,1.808221780815688E-5,1.808221780815688E-5,2.5886455208872888E-4,2.5886455208872888E-4,2.5886455208872888E-4,2.5886455208872888E-4,3.2032343973321527E-5,3.2032343973321527E-5,3.2032343973321527E-5,3.2032343973321527E-5,1.9072530055383801E-5,1.9072530055383801E-5,1.9072530055383801E-5,1.9072530055383801E-5,6.3767316055212042E-8,6.3767316055212042E-8,6.3767316055212042E-8,6.3767316055212042E-8,7.3575062722650378E-4,1.275073546907659E-3,1.8330110122645809E-3,2.2654677355998009E-3]
[null,"Transporte y Aviación",40,"50-400",3.3794021362228212E-5,4.0133116730650608E-5,5.016639591331327E-5,6.6627094555726094E-5,5.2443758713683642E-5,6.2281178901153585E-5,7.7851473626441977E-5,1.033962556045415E-4,7.4774602619124888E-6,7.4774602619124888E-6,7.4774602619124888E-6,7.4774602619124888E-6,6.0507783207706635E-6,6.0507783207706635E-6,6.0507783207706635E-6,6.0507783207706635E-6,7.4221151204163373E-5,7.4221151204163373E-5,7.4221151204163373E-5,7.4221151204163373E-5,2.2748308094336555E-5,2.2748308094336555E-5,2.2748308094336555E-5,2.2748308094336555E-5,5.5386354658440641E-6,5.5386354658440641E-6,5.5386354658440641E-6,5.5386354658440641E-6,4.1062763458500696E-6,4.1062763458500696E-6,4.1062763458500696E-6,4.1062763458500696E-6,3.3794021362228212E-5,4.0133116730650608E-5,5.016639591331327E-5,6.6627094555726094E-5,null,3.3794021362228212E-5,4.0133116730650608E-5,5.016639591331327E-5,6.6627094555726094E-5,5.2443758713683642E-5,6.2281178901153585E-5,7.7851473626441977E-5,1.033962556045415E-4,7.4774602619124888E-6,7.4774602619124888E-6,7.4774602619124888E-6,7.4774602619124888E-6,6.0507783207706635E-6,6.0507783207706635E-6,6.0507783207706635E-6,6.0507783207706635E-6,7.4221151204163373E-5,7.4221151204163373E-5,7.4221151204163373E-5,7.4221151204163373E-5,2.2748308094336555E-5,2.2748308094336555E-5,2.2748308094336555E-5,2.2748308094336555E-5,5.5386354658440641E-6,5.5386354658440641E-6,5.5386354658440641E-6,5.5386354658440641E-6,4.1062763458500696E-6,4.1062763458500696E-6,4.1062763458500696E-6,4.1062763458500696E-6,3.3794021362228212E-5,4.0133116730650608E-5,5.016639591331327E-5,6.6627094555726094E-5,null,"Cláusula para pasajeros de aviones y/o helicópteros particulares y/o de la FAP por viajes eventuales. N2",34,"1-50",0,3.2003510258272052E-6,0,0,0,0,0,0,0,null,"Cláusula para pasajeros de aviones y/o helicópteros particulares y/o de la FAP por viajes eventuales. N2",34,"1-50",0,3.2003510258272052E-6,0,0,0,0,0,0,0,null,"Cláusula para pasajeros de aviones y/o helicópteros particulares y/o de la FAP por viajes eventuales. N2",34,"1-50",0,9.1017490809890094E-8,0,0,0,0,0,0,0,null,"Cláusula para pasajeros de aviones y/o helicópteros particulares y/o de la FAP por viajes eventuales. N2",34,"1-50",0,3.2312389246301154E-7,0,0,0,0,0,0,0,null,"Cláusula para pasajeros de aviones y/o helicópteros particulares y/o de la FAP por viajes eventuales. N2",34,"1-50",0,3.2312389246301154E-7,0,0,0,0,0,0,0,null,null,1.9889694372849699E-4,1.5077706398711451E-4,1.9889694372849699E-4,1.5077706398711451E-4,1.9889694372849699E-4,1.5077706398711451E-4,1.9889694372849699E-4,1.5077706398711451E-4,null,null,null,null,null,null,null,null,null,null,null,null,null,null,null,null,null,null,null,null,null,null,null,null,null,null,null,"Transporte y Aviación",40,"50-400",2.776054666013667E-3,4.810969557371373E-3,6.9161188385708271E-3,8.5478177596974448E-3,1.9077551486153908E-4,4.0778543201862815E-4,6.1463311492662785E-4,7.8094997701468071E-4,3.2032343973321527E-5,3.2032343973321527E-5,3.2032343973321527E-5,3.2032343973321527E-5,1.808221780815688E-5,1.808221780815688E-5,1.808221780815688E-5,1.808221780815688E-5,2.5886455208872888E-4,2.5886455208872888E-4,2.5886455208872888E-4,2.5886455208872888E-4,3.2032343973321527E-5,3.2032343973321527E-5,3.2032343973321527E-5,3.2032343973321527E-5,1.9072530055383801E-5,1.9072530055383801E-5,1.9072530055383801E-5,1.9072530055383801E-5,6.3767316055212042E-8,6.3767316055212042E-8,6.3767316055212042E-8,6.3767316055212042E-8,2.776054666013667E-3,4.810969557371373E-3,6.9161188385708271E-3,8.5478177596974448E-3]
[null,"Actividades Deportivas y de Esparcimiento",41,"50-400",2.0112468482955318E-4,2.3885172963468711E-4,2.9856466204335885E-4,3.9653029895420815E-4,2.3875033394080996E-6,2.8353521230349855E-6,3.5441901537937322E-6,4.7071169495279859E-6,7.4774602619124888E-6,7.4774602619124888E-6,7.4774602619124888E-6,7.4774602619124888E-6,6.0507783207706635E-6,6.0507783207706635E-6,6.0507783207706635E-6,6.0507783207706635E-6,7.4221151204163373E-5,7.4221151204163373E-5,7.4221151204163373E-5,7.4221151204163373E-5,2.2748308094336555E-5,2.2748308094336555E-5,2.2748308094336555E-5,2.2748308094336555E-5,5.5386354658440641E-6,5.5386354658440641E-6,5.5386354658440641E-6,5.5386354658440641E-6,4.1062763458500696E-6,4.1062763458500696E-6,4.1062763458500696E-6,4.1062763458500696E-6,2.0112468482955318E-4,2.3885172963468711E-4,2.9856466204335885E-4,3.9653029895420815E-4,null,2.0112468482955318E-4,2.3885172963468711E-4,2.9856466204335885E-4,3.9653029895420815E-4,2.3875033394080996E-6,2.8353521230349855E-6,3.5441901537937322E-6,4.7071169495279859E-6,7.4774602619124888E-6,7.4774602619124888E-6,7.4774602619124888E-6,7.4774602619124888E-6,6.0507783207706635E-6,6.0507783207706635E-6,6.0507783207706635E-6,6.0507783207706635E-6,7.4221151204163373E-5,7.4221151204163373E-5,7.4221151204163373E-5,7.4221151204163373E-5,2.2748308094336555E-5,2.2748308094336555E-5,2.2748308094336555E-5,2.2748308094336555E-5,5.5386354658440641E-6,5.5386354658440641E-6,5.5386354658440641E-6,5.5386354658440641E-6,4.1062763458500696E-6,4.1062763458500696E-6,4.1062763458500696E-6,4.1062763458500696E-6,2.0112468482955318E-4,2.3885172963468711E-4,2.9856466204335885E-4,3.9653029895420815E-4,null,null,35,"50-400",0,1.396362606178128E-6,0,0,0,0,0,0,0,null,null,35,"50-400",0,1.396362606178128E-6,0,0,0,0,0,0,0,null,null,35,"50-400",0,9.1017490809890094E-8,0,0,0,0,0,0,0,null,null,35,"50-400",0,3.2312389246301154E-7,0,0,0,0,0,0,0,null,null,35,"50-400",0,3.2312389246301154E-7,0,0,0,0,0,0,0,null,null,-1.2864471096531613E-5,-9.7521216028832643E-6,-1.2864471096531613E-5,-9.7521216028832643E-6,-1.2864471096531613E-5,-9.7521216028832643E-6,-1.2864471096531613E-5,-9.7521216028832643E-6,null,null,null,null,null,null,null,null,null,null,null,null,null,null,null,null,null,null,null,null,null,null,null,null,null,null,null,"Actividades Deportivas y de Esparcimiento",41,"50-400",5.1538954294063342E-4,8.9318248362718904E-4,1.2840148181421202E-3,1.5869485360806678E-3,9.9921473692019712E-5,2.135836003221442E-4,3.2192310773192749E-4,4.0903400333995192E-4,3.2032343973321527E-5,3.2032343973321527E-5,3.2032343973321527E-5,3.2032343973321527E-5,1.808221780815688E-5,1.808221780815688E-5,1.808221780815688E-5,1.808221780815688E-5,2.5886455208872888E-4,2.5886455208872888E-4,2.5886455208872888E-4,2.5886455208872888E-4,3.2032343973321527E-5,3.2032343973321527E-5,3.2032343973321527E-5,3.2032343973321527E-5,1.9072530055383801E-5,1.9072530055383801E-5,1.9072530055383801E-5,1.9072530055383801E-5,6.3767316055212042E-8,6.3767316055212042E-8,6.3767316055212042E-8,6.3767316055212042E-8,5.1538954294063342E-4,8.9318248362718904E-4,1.2840148181421202E-3,1.5869485360806678E-3]
[null,"Estado",42,"50-400",9.3022392197084883E-4,1.1047156787273265E-3,1.3808945984091581E-3,1.8339965091110299E-3,1.4448381952605386E-5,1.7158614929475342E-5,2.1448268661844181E-5,2.8485917678014181E-5,7.4774602619124888E-6,7.4774602619124888E-6,7.4774602619124888E-6,7.4774602619124888E-6,6.0507783207706635E-6,6.0507783207706635E-6,6.0507783207706635E-6,6.0507783207706635E-6,7.4221151204163373E-5,7.4221151204163373E-5,7.4221151204163373E-5,7.4221151204163373E-5,2.2748308094336555E-5,2.2748308094336555E-5,2.2748308094336555E-5,2.2748308094336555E-5,5.5386354658440641E-6,5.5386354658440641E-6,5.5386354658440641E-6,5.5386354658440641E-6,4.1062763458500696E-6,4.1062763458500696E-6,4.1062763458500696E-6,4.1062763458500696E-6,9.3022392197084883E-4,1.1047156787273265E-3,1.3808945984091581E-3,1.8339965091110299E-3,null,9.3022392197084883E-4,1.1047156787273265E-3,1.3808945984091581E-3,1.8339965091110299E-3,1.4448381952605386E-5,1.7158614929475342E-5,2.1448268661844181E-5,2.8485917678014181E-5,7.4774602619124888E-6,7.4774602619124888E-6,7.4774602619124888E-6,7.4774602619124888E-6,6.0507783207706635E-6,6.0507783207706635E-6,6.0507783207706635E-6,6.0507783207706635E-6,7.4221151204163373E-5,7.4221151204163373E-5,7.4221151204163373E-5,7.4221151204163373E-5,2.2748308094336555E-5,2.2748308094336555E-5,2.2748308094336555E-5,2.2748308094336555E-5,5.5386354658440641E-6,5.5386354658440641E-6,5.5386354658440641E-6,5.5386354658440641E-6,4.1062763458500696E-6,4.1062763458500696E-6,4.1062763458500696E-6,4.1062763458500696E-6,9.3022392197084883E-4,1.1047156787273265E-3,1.3808945984091581E-3,1.8339965091110299E-3,null,null,36,">400",0,1.0916674078348038E-6,0,0,0,0,0,0,0,null,null,36,">400",0,1.0916674078348038E-6,0,0,0,0,0,0,0,null,null,36,">400",0,9.1017490809890094E-8,0,0,0,0,0,0,0,null,null,36,">400",0,3.2312389246301154E-7,0,0,0,0,0,0,0,null,null,36,">400",0,3.2312389246301154E-7,0,0,0,0,0,0,0,null,null,1.1746649424726114E-3,8.9047386990711869E-4,1.1746649424726114E-3,8.9047386990711869E-4,1.1746649424726114E-3,8.9047386990711869E-4,1.1746649424726114E-3,8.9047386990711869E-4,null,null,null,null,null,null,null,null,null,null,null,null,null,null,null,null,null,null,null,null,null,null,null,null,null,null,null,"Estado",42,"50-400",3.2374707514605153E-4,5.6106147399908885E-4,8.0656669796962447E-4,9.9685753038765944E-4,1.1822117695849262E-5,2.5269948166439807E-5,3.8088037816083183E-5,4.8394483692202716E-5,3.2032343973321527E-5,3.2032343973321527E-5,3.2032343973321527E-5,3.2032343973321527E-5,1.808221780815688E-5,1.808221780815688E-5,1.808221780815688E-5,1.808221780815688E-5,2.5886455208872888E-4,2.5886455208872888E-4,2.5886455208872888E-4,2.5886455208872888E-4,3.2032343973321527E-5,3.2032343973321527E-5,3.2032343973321527E-5,3.2032343973321527E-5,1.9072530055383801E-5,1.9072530055383801E-5,1.9072530055383801E-5,1.9072530055383801E-5,6.3767316055212042E-8,6.3767316055212042E-8,6.3767316055212042E-8,6.3767316055212042E-8,3.2374707514605153E-4,5.6106147399908885E-4,8.0656669796962447E-4,9.9685753038765944E-4]
[null,"Editoriales",43,">400",1.2770435258391497E-4,1.5165918356762541E-4,1.8957397945953175E-4,2.5177737457124193E-4,1.828982897879943E-6,2.1720642048543573E-6,2.7150802560679469E-6,3.6059578459655097E-6,5.9209382531013772E-6,5.9209382531013772E-6,5.9209382531013772E-6,5.9209382531013772E-6,5.9395523776623234E-7,5.9395523776623234E-7,5.9395523776623234E-7,5.9395523776623234E-7,2.7879066687439064E-5,2.7879066687439064E-5,2.7879066687439064E-5,2.7879066687439064E-5,2.2748308094336555E-5,2.2748308094336555E-5,2.2748308094336555E-5,2.2748308094336555E-5,5.5386354658440641E-6,5.5386354658440641E-6,5.5386354658440641E-6,5.5386354658440641E-6,4.1062763458500696E-6,4.1062763458500696E-6,4.1062763458500696E-6,4.1062763458500696E-6,1.2770435258391497E-4,1.5165918356762541E-4,1.8957397945953175E-4,2.5177737457124193E-4,null,1.2770435258391497E-4,1.5165918356762541E-4,1.8957397945953175E-4,2.5177737457124193E-4,1.828982897879943E-6,2.1720642048543573E-6,2.7150802560679469E-6,3.6059578459655097E-6,5.9209382531013772E-6,5.9209382531013772E-6,5.9209382531013772E-6,5.9209382531013772E-6,5.9395523776623234E-7,5.9395523776623234E-7,5.9395523776623234E-7,5.9395523776623234E-7,2.7879066687439064E-5,2.7879066687439064E-5,2.7879066687439064E-5,2.7879066687439064E-5,2.2748308094336555E-5,2.2748308094336555E-5,2.2748308094336555E-5,2.2748308094336555E-5,5.5386354658440641E-6,5.5386354658440641E-6,5.5386354658440641E-6,5.5386354658440641E-6,4.1062763458500696E-6,4.1062763458500696E-6,4.1062763458500696E-6,4.1062763458500696E-6,1.2770435258391497E-4,1.5165918356762541E-4,1.8957397945953175E-4,2.5177737457124193E-4,null,"Cláusula para pasajeros de aviones y/o helicópteros particulares y/o de la FAP por viajes eventuales. N3",37,"1-50",0,2.964321780816657E-6,0,0,0,0,0,0,0,null,"Cláusula para pasajeros de aviones y/o helicópteros particulares y/o de la FAP por viajes eventuales. N3",37,"1-50",0,2.964321780816657E-6,0,0,0,0,0,0,0,null,"Cláusula para pasajeros de aviones y/o helicópteros particulares y/o de la FAP por viajes eventuales. N3",37,"1-50",0,8.430485539419843E-8,0,0,0,0,0,0,0,null,"Cláusula para pasajeros de aviones y/o helicópteros particulares y/o de la FAP por viajes eventuales. N3",37,"1-50",0,2.992931664684462E-7,0,0,0,0,0,0,0,null,"Cláusula para pasajeros de aviones y/o helicópteros particulares y/o de la FAP por viajes eventuales. N3",37,"1-50",0,2.992931664684462E-7,0,0,0,0,0,0,0,null,null,2.2734601919210137E-4,1.7234334847163348E-4,2.2734601919210137E-4,1.7234334847163348E-4,2.2734601919210137E-4,1.7234334847163348E-4,2.2734601919210137E-4,1.7234334847163348E-4,null,null,null,null,null,null,null,null,null,null,null,null,null,null,null,null,null,null,null,null,null,null,null,null,null,null,null,"Editoriales",43,">400",4.9446473563203046E-4,5.928088077932507E-4,7.2423429730128356E-4,2.4798651530316576E-3,3.5568432070940918E-5,7.6028039807942774E-5,1.1459298753660939E-4,1.4560131696360321E-4,3.2032343973321527E-5,3.2032343973321527E-5,3.2032343973321527E-5,3.2032343973321527E-5,1.808221780815688E-5,1.808221780815688E-5,1.808221780815688E-5,1.808221780815688E-5,2.5886455208872888E-4,2.5886455208872888E-4,2.5886455208872888E-4,2.5886455208872888E-4,3.2032343973321527E-5,3.2032343973321527E-5,3.2032343973321527E-5,3.2032343973321527E-5,1.9072530055383801E-5,1.9072530055383801E-5,1.9072530055383801E-5,1.9072530055383801E-5,6.3767316055212042E-8,6.3767316055212042E-8,6.3767316055212042E-8,6.3767316055212042E-8,4.9446473563203046E-4,5.928088077932507E-4,7.2423429730128356E-4,2.4798651530316576E-3]
[null,"Alimentos y Bebidas",44,">400",1.2770435258391497E-4,1.5165918356762541E-4,1.8957397945953175E-4,2.5177737457124193E-4,1.828982897879943E-6,2.1720642048543573E-6,2.7150802560679469E-6,3.6059578459655097E-6,5.9209382531013772E-6,5.9209382531013772E-6,5.9209382531013772E-6,5.9209382531013772E-6,5.9395523776623234E-7,5.9395523776623234E-7,5.9395523776623234E-7,5.9395523776623234E-7,2.7879066687439064E-5,2.7879066687439064E-5,2.7879066687439064E-5,2.7879066687439064E-5,2.2748308094336555E-5,2.2748308094336555E-5,2.2748308094336555E-5,2.2748308094336555E-5,5.5386354658440641E-6,5.5386354658440641E-6,5.5386354658440641E-6,5.5386354658440641E-6,4.1062763458500696E-6,4.1062763458500696E-6,4.1062763458500696E-6,4.1062763458500696E-6,1.2770435258391497E-4,1.5165918356762541E-4,1.8957397945953175E-4,2.5177737457124193E-4,null,1.2770435258391497E-4,1.5165918356762541E-4,1.8957397945953175E-4,2.5177737457124193E-4,1.828982897879943E-6,2.1720642048543573E-6,2.7150802560679469E-6,3.6059578459655097E-6,5.9209382531013772E-6,5.9209382531013772E-6,5.9209382531013772E-6,5.9209382531013772E-6,5.9395523776623234E-7,5.9395523776623234E-7,5.9395523776623234E-7,5.9395523776623234E-7,2.7879066687439064E-5,2.7879066687439064E-5,2.7879066687439064E-5,2.7879066687439064E-5,2.2748308094336555E-5,2.2748308094336555E-5,2.2748308094336555E-5,2.2748308094336555E-5,5.5386354658440641E-6,5.5386354658440641E-6,5.5386354658440641E-6,5.5386354658440641E-6,4.1062763458500696E-6,4.1062763458500696E-6,4.1062763458500696E-6,4.1062763458500696E-6,1.2770435258391497E-4,1.5165918356762541E-4,1.8957397945953175E-4,2.5177737457124193E-4,null,null,38,"50-400",0,1.2933793993244372E-6,0,0,0,0,0,0,0,null,null,38,"50-400",0,1.2933793993244372E-6,0,0,0,0,0,0,0,null,null,38,"50-400",0,8.430485539419843E-8,0,0,0,0,0,0,0,null,null,38,"50-400",0,2.992931664684462E-7,0,0,0,0,0,0,0,null,null,38,"50-400",0,2.992931664684462E-7,0,0,0,0,0,0,0,null,null,1.4970543140807811E-5,1.1348663779090714E-5,1.4970543140807811E-5,1.1348663779090714E-5,1.4970543140807811E-5,1.1348663779090714E-5,1.4970543140807811E-5,1.1348663779090714E-5,null,null,null,null,null,null,null,null,null,null,null,null,null,null,null,null,null,null,null,null,null,null,null,null,null,null,null,"Alimentos y Bebidas",44,">400",4.9446473563203046E-4,5.928088077932507E-4,7.2423429730128356E-4,2.4798651530316576E-3,3.5568432070940918E-5,7.6028039807942774E-5,1.1459298753660939E-4,1.4560131696360321E-4,3.2032343973321527E-5,3.2032343973321527E-5,3.2032343973321527E-5,3.2032343973321527E-5,1.808221780815688E-5,1.808221780815688E-5,1.808221780815688E-5,1.808221780815688E-5,2.5886455208872888E-4,2.5886455208872888E-4,2.5886455208872888E-4,2.5886455208872888E-4,3.2032343973321527E-5,3.2032343973321527E-5,3.2032343973321527E-5,3.2032343973321527E-5,1.9072530055383801E-5,1.9072530055383801E-5,1.9072530055383801E-5,1.9072530055383801E-5,6.3767316055212042E-8,6.3767316055212042E-8,6.3767316055212042E-8,6.3767316055212042E-8,4.9446473563203046E-4,5.928088077932507E-4,7.2423429730128356E-4,2.4798651530316576E-3]
[null,"Hoteles",45,">400",1.2770435258391497E-4,1.5165918356762541E-4,1.8957397945953175E-4,2.5177737457124193E-4,1.828982897879943E-6,2.1720642048543573E-6,2.7150802560679469E-6,3.6059578459655097E-6,5.9209382531013772E-6,5.9209382531013772E-6,5.9209382531013772E-6,5.9209382531013772E-6,5.9395523776623234E-7,5.9395523776623234E-7,5.9395523776623234E-7,5.9395523776623234E-7,2.7879066687439064E-5,2.7879066687439064E-5,2.7879066687439064E-5,2.7879066687439064E-5,2.2748308094336555E-5,2.2748308094336555E-5,2.2748308094336555E-5,2.2748308094336555E-5,5.5386354658440641E-6,5.5386354658440641E-6,5.5386354658440641E-6,5.5386354658440641E-6,4.1062763458500696E-6,4.1062763458500696E-6,4.1062763458500696E-6,4.1062763458500696E-6,1.2770435258391497E-4,1.5165918356762541E-4,1.8957397945953175E-4,2.5177737457124193E-4,null,1.2770435258391497E-4,1.5165918356762541E-4,1.8957397945953175E-4,2.5177737457124193E-4,1.828982897879943E-6,2.1720642048543573E-6,2.7150802560679469E-6,3.6059578459655097E-6,5.9209382531013772E-6,5.9209382531013772E-6,5.9209382531013772E-6,5.9209382531013772E-6,5.9395523776623234E-7,5.9395523776623234E-7,5.9395523776623234E-7,5.9395523776623234E-7,2.7879066687439064E-5,2.7879066687439064E-5,2.7879066687439064E-5,2.7879066687439064E-5,2.2748308094336555E-5,2.2748308094336555E-5,2.2748308094336555E-5,2.2748308094336555E-5,5.5386354658440641E-6,5.5386354658440641E-6,5.5386354658440641E-6,5.5386354658440641E-6,4.1062763458500696E-6,4.1062763458500696E-6,4.1062763458500696E-6,4.1062763458500696E-6,1.2770435258391497E-4,1.5165918356762541E-4,1.8957397945953175E-4,2.5177737457124193E-4,null,null,39,">400",0,1.0111557914544503E-6,0,0,0,0,0,0,0,null,null,39,">400",0,1.0111557914544503E-6,0,0,0,0,0,0,0,null,null,39,">400",0,8.430485539419843E-8,0,0,0,0,0,0,0,null,null,39,">400",0,2.992931664684462E-7,0,0,0,0,0,0,0,null,null,39,">400",0,2.992931664684462E-7,0,0,0,0,0,0,0,null,null,1.3074519091954117E-4,9.9113519030200788E-5,1.3074519091954117E-4,9.9113519030200788E-5,1.3074519091954117E-4,9.9113519030200788E-5,1.3074519091954117E-4,9.9113519030200788E-5,null,null,null,null,null,null,null,null,null,null,null,null,null,null,null,null,null,null,null,null,null,null,null,null,null,null,null,"Hoteles",45,">400",4.9446473563203046E-4,5.928088077932507E-4,7.2423429730128356E-4,2.4798651530316576E-3,3.5568432070940918E-5,7.6028039807942774E-5,1.1459298753660939E-4,1.4560131696360321E-4,3.2032343973321527E-5,3.2032343973321527E-5,3.2032343973321527E-5,3.2032343973321527E-5,1.808221780815688E-5,1.808221780815688E-5,1.808221780815688E-5,1.808221780815688E-5,2.5886455208872888E-4,2.5886455208872888E-4,2.5886455208872888E-4,2.5886455208872888E-4,3.2032343973321527E-5,3.2032343973321527E-5,3.2032343973321527E-5,3.2032343973321527E-5,1.9072530055383801E-5,1.9072530055383801E-5,1.9072530055383801E-5,1.9072530055383801E-5,6.3767316055212042E-8,6.3767316055212042E-8,6.3767316055212042E-8,6.3767316055212042E-8,4.9446473563203046E-4,5.928088077932507E-4,7.2423429730128356E-4,2.4798651530316576E-3]
[null,"Salud",46,">400",9.6434431041555948E-4,1.1452363826018066E-3,1.4315454782522585E-3,1.9012670574372129E-3,6.7180374300313338E-6,7.9782094439248606E-6,9.9727618049060758E-6,1.3245044449782286E-5,5.9209382531013772E-6,5.9209382531013772E-6,5.9209382531013772E-6,5.9209382531013772E-6,5.9395523776623234E-7,5.9395523776623234E-7,5.9395523776623234E-7,5.9395523776623234E-7,2.7879066687439064E-5,2.7879066687439064E-5,2.7879066687439064E-5,2.7879066687439064E-5,2.2748308094336555E-5,2.2748308094336555E-5,2.2748308094336555E-5,2.2748308094336555E-5,5.5386354658440641E-6,5.5386354658440641E-6,5.5386354658440641E-6,5.5386354658440641E-6,4.1062763458500696E-6,4.1062763458500696E-6,4.1062763458500696E-6,4.1062763458500696E-6,9.6434431041555948E-4,1.1452363826018066E-3,1.4315454782522585E-3,1.9012670574372129E-3,null,9.6434431041555948E-4,1.1452363826018066E-3,1.4315454782522585E-3,1.9012670574372129E-3,6.7180374300313338E-6,7.9782094439248606E-6,9.9727618049060758E-6,1.3245044449782286E-5,5.9209382531013772E-6,5.9209382531013772E-6,5.9209382531013772E-6,5.9209382531013772E-6,5.9395523776623234E-7,5.9395523776623234E-7,5.9395523776623234E-7,5.9395523776623234E-7,2.7879066687439064E-5,2.7879066687439064E-5,2.7879066687439064E-5,2.7879066687439064E-5,2.2748308094336555E-5,2.2748308094336555E-5,2.2748308094336555E-5,2.2748308094336555E-5,5.5386354658440641E-6,5.5386354658440641E-6,5.5386354658440641E-6,5.5386354658440641E-6,4.1062763458500696E-6,4.1062763458500696E-6,4.1062763458500696E-6,4.1062763458500696E-6,9.6434431041555948E-4,1.1452363826018066E-3,1.4315454782522585E-3,1.9012670574372129E-3,null,"Pescadores y/o Estibadores",40,"1-50",2.9639265308851354E-5,0,0,1.8194326714741709E-6,3.504671692170324E-5,0,0,0,0,null,"Pescadores y/o Estibadores",40,"1-50",2.9639265308851354E-5,0,0,1.8194326714741709E-6,3.504671692170324E-5,0,0,0,0,null,"Pescadores y/o Estibadores",40,"1-50",3.5139394520137299E-6,0,0,1.4706554831661179E-6,7.6793875050181222E-5,0,0,0,0,null,"Pescadores y/o Estibadores",40,"1-50",5.7441189689987448E-7,0,0,1.6373047610515374E-7,1.0240860733007411E-5,0,0,0,0,null,"Pescadores y/o Estibadores",40,"1-50",5.7441189689987448E-7,0,0,1.6373047610515374E-7,1.0240860733007411E-5,0,0,0,0,null,null,1.9008737530196449E-5,1.4409882732119916E-5,1.9008737530196449E-5,1.4409882732119916E-5,1.9008737530196449E-5,1.4409882732119916E-5,1.9008737530196449E-5,1.4409882732119916E-5,null,null,null,null,null,null,null,null,null,null,null,null,null,null,null,null,null,null,null,null,null,null,null,null,null,null,null,"Salud",46,">400",3.5536785476708842E-4,4.2604695366849191E-4,5.2050140289930705E-4,1.7822592715698428E-3,2.5185308995714503E-5,5.3833963529302919E-5,8.1141046478949312E-5,1.0309743624901676E-4,3.2032343973321527E-5,3.2032343973321527E-5,3.2032343973321527E-5,3.2032343973321527E-5,1.808221780815688E-5,1.808221780815688E-5,1.808221780815688E-5,1.808221780815688E-5,2.5886455208872888E-4,2.5886455208872888E-4,2.5886455208872888E-4,2.5886455208872888E-4,3.2032343973321527E-5,3.2032343973321527E-5,3.2032343973321527E-5,3.2032343973321527E-5,1.9072530055383801E-5,1.9072530055383801E-5,1.9072530055383801E-5,1.9072530055383801E-5,6.3767316055212042E-8,6.3767316055212042E-8,6.3767316055212042E-8,6.3767316055212042E-8,3.5536785476708842E-4,4.2604695366849191E-4,5.2050140289930705E-4,1.7822592715698428E-3]
[null,"AgroIndustria",47,">400",1.2770435258391497E-4,1.5165918356762541E-4,1.8957397945953175E-4,2.5177737457124193E-4,1.828982897879943E-6,2.1720642048543573E-6,2.7150802560679469E-6,3.6059578459655097E-6,5.9209382531013772E-6,5.9209382531013772E-6,5.9209382531013772E-6,5.9209382531013772E-6,5.9395523776623234E-7,5.9395523776623234E-7,5.9395523776623234E-7,5.9395523776623234E-7,2.7879066687439064E-5,2.7879066687439064E-5,2.7879066687439064E-5,2.7879066687439064E-5,2.2748308094336555E-5,2.2748308094336555E-5,2.2748308094336555E-5,2.2748308094336555E-5,5.5386354658440641E-6,5.5386354658440641E-6,5.5386354658440641E-6,5.5386354658440641E-6,4.1062763458500696E-6,4.1062763458500696E-6,4.1062763458500696E-6,4.1062763458500696E-6,1.2770435258391497E-4,1.5165918356762541E-4,1.8957397945953175E-4,2.5177737457124193E-4,null,1.2770435258391497E-4,1.5165918356762541E-4,1.8957397945953175E-4,2.5177737457124193E-4,1.828982897879943E-6,2.1720642048543573E-6,2.7150802560679469E-6,3.6059578459655097E-6,5.9209382531013772E-6,5.9209382531013772E-6,5.9209382531013772E-6,5.9209382531013772E-6,5.9395523776623234E-7,5.9395523776623234E-7,5.9395523776623234E-7,5.9395523776623234E-7,2.7879066687439064E-5,2.7879066687439064E-5,2.7879066687439064E-5,2.7879066687439064E-5,2.2748308094336555E-5,2.2748308094336555E-5,2.2748308094336555E-5,2.2748308094336555E-5,5.5386354658440641E-6,5.5386354658440641E-6,5.5386354658440641E-6,5.5386354658440641E-6,4.1062763458500696E-6,4.1062763458500696E-6,4.1062763458500696E-6,4.1062763458500696E-6,1.2770435258391497E-4,1.5165918356762541E-4,1.8957397945953175E-4,2.5177737457124193E-4,null,null,41,"50-400",4.745750977597308E-6,0,0,1.8194326714741709E-6,3.504671692170324E-5,0,0,0,0,null,null,41,"50-400",4.745750977597308E-6,0,0,1.8194326714741709E-6,3.504671692170324E-5,0,0,0,0,null,null,41,"50-400",3.5139394520137299E-6,0,0,1.4706554831661179E-6,7.6793875050181222E-5,0,0,0,0,null,null,41,"50-400",5.7441189689987448E-7,0,0,1.6373047610515374E-7,1.0240860733007411E-5,0,0,0,0,null,null,41,"50-400",5.7441189689987448E-7,0,0,1.6373047610515374E-7,1.0240860733007411E-5,0,0,0,0,null,null,6.7936658639031366E-8,5.1500489322101025E-8,6.7936658639031366E-8,5.1500489322101025E-8,6.7936658639031366E-8,5.1500489322101025E-8,6.7936658639031366E-8,5.1500489322101025E-8,null,null,null,null,null,null,null,null,null,null,null,null,null,null,null,null,null,null,null,null,null,null,null,null,null,null,null,"AgroIndustria",47,">400",4.9446473563203046E-4,5.928088077932507E-4,7.2423429730128356E-4,2.4798651530316576E-3,3.5568432070940918E-5,7.6028039807942774E-5,1.1459298753660939E-4,1.4560131696360321E-4,3.2032343973321527E-5,3.2032343973321527E-5,3.2032343973321527E-5,3.2032343973321527E-5,1.808221780815688E-5,1.808221780815688E-5,1.808221780815688E-5,1.808221780815688E-5,2.5886455208872888E-4,2.5886455208872888E-4,2.5886455208872888E-4,2.5886455208872888E-4,3.2032343973321527E-5,3.2032343973321527E-5,3.2032343973321527E-5,3.2032343973321527E-5,1.9072530055383801E-5,1.9072530055383801E-5,1.9072530055383801E-5,1.9072530055383801E-5,6.3767316055212042E-8,6.3767316055212042E-8,6.3767316055212042E-8,6.3767316055212042E-8,4.9446473563203046E-4,5.928088077932507E-4,7.2423429730128356E-4,2.4798651530316576E-3]
[null,"Mineras",48,">400",8.52360338788782E-5,1.0122464150248024E-4,1.2653080187810032E-4,1.680483428690312E-4,1.602706948332249E-4,1.9033433267085417E-4,2.3791791583856772E-4,3.1598402050785459E-4,5.9209382531013772E-6,5.9209382531013772E-6,5.9209382531013772E-6,5.9209382531013772E-6,5.9395523776623234E-7,5.9395523776623234E-7,5.9395523776623234E-7,5.9395523776623234E-7,2.7879066687439064E-5,2.7879066687439064E-5,2.7879066687439064E-5,2.7879066687439064E-5,2.2748308094336555E-5,2.2748308094336555E-5,2.2748308094336555E-5,2.2748308094336555E-5,5.5386354658440641E-6,5.5386354658440641E-6,5.5386354658440641E-6,5.5386354658440641E-6,4.1062763458500696E-6,4.1062763458500696E-6,4.1062763458500696E-6,4.1062763458500696E-6,8.52360338788782E-5,1.0122464150248024E-4,1.2653080187810032E-4,1.680483428690312E-4,null,8.52360338788782E-5,1.0122464150248024E-4,1.2653080187810032E-4,1.680483428690312E-4,1.602706948332249E-4,1.9033433267085417E-4,2.3791791583856772E-4,3.1598402050785459E-4,5.9209382531013772E-6,5.9209382531013772E-6,5.9209382531013772E-6,5.9209382531013772E-6,5.9395523776623234E-7,5.9395523776623234E-7,5.9395523776623234E-7,5.9395523776623234E-7,2.7879066687439064E-5,2.7879066687439064E-5,2.7879066687439064E-5,2.7879066687439064E-5,2.2748308094336555E-5,2.2748308094336555E-5,2.2748308094336555E-5,2.2748308094336555E-5,5.5386354658440641E-6,5.5386354658440641E-6,5.5386354658440641E-6,5.5386354658440641E-6,4.1062763458500696E-6,4.1062763458500696E-6,4.1062763458500696E-6,4.1062763458500696E-6,8.52360338788782E-5,1.0122464150248024E-4,1.2653080187810032E-4,1.680483428690312E-4,null,null,42,">400",2.0399473597475105E-6,0,0,1.8194326714741709E-6,3.504671692170324E-5,0,0,0,0,null,null,42,">400",2.0399473597475105E-6,0,0,1.8194326714741709E-6,3.504671692170324E-5,0,0,0,0,null,null,42,">400",3.5139394520137299E-6,0,0,1.4706554831661179E-6,7.6793875050181222E-5,0,0,0,0,null,null,42,">400",5.7441189689987448E-7,0,0,1.6373047610515374E-7,1.0240860733007411E-5,0,0,0,0,null,null,42,">400",5.7441189689987448E-7,0,0,1.6373047610515374E-7,1.0240860733007411E-5,0,0,0,0,null,null,0,0,0,0,0,0,0,0,null,null,null,null,null,null,null,null,null,null,null,null,null,null,null,null,null,null,null,null,null,null,null,null,null,null,null,"Mineras",48,">400",6.3162755369932378E-5,7.5725193344527845E-5,9.2513440200107553E-5,3.1677712225755734E-4,3.611741648726068E-4,7.7201501966034315E-4,1.1636168412271837E-3,1.4784861461926671E-3,3.2032343973321527E-5,3.2032343973321527E-5,3.2032343973321527E-5,3.2032343973321527E-5,1.808221780815688E-5,1.808221780815688E-5,1.808221780815688E-5,1.808221780815688E-5,2.5886455208872888E-4,2.5886455208872888E-4,2.5886455208872888E-4,2.5886455208872888E-4,3.2032343973321527E-5,3.2032343973321527E-5,3.2032343973321527E-5,3.2032343973321527E-5,1.9072530055383801E-5,1.9072530055383801E-5,1.9072530055383801E-5,1.9072530055383801E-5,6.3767316055212042E-8,6.3767316055212042E-8,6.3767316055212042E-8,6.3767316055212042E-8,6.3162755369932378E-5,7.5725193344527845E-5,9.2513440200107553E-5,3.1677712225755734E-4]
[null,"Hidrocarburos",49,">400",9.3503243629200312E-5,1.1104261759920168E-4,1.388032719990021E-4,1.8434768054899093E-4,1.4639736866455666E-4,1.7385864270778078E-4,2.1732330338472598E-4,2.8863186242833623E-4,5.9209382531013772E-6,5.9209382531013772E-6,5.9209382531013772E-6,5.9209382531013772E-6,5.9395523776623234E-7,5.9395523776623234E-7,5.9395523776623234E-7,5.9395523776623234E-7,2.7879066687439064E-5,2.7879066687439064E-5,2.7879066687439064E-5,2.7879066687439064E-5,2.2748308094336555E-5,2.2748308094336555E-5,2.2748308094336555E-5,2.2748308094336555E-5,5.5386354658440641E-6,5.5386354658440641E-6,5.5386354658440641E-6,5.5386354658440641E-6,4.1062763458500696E-6,4.1062763458500696E-6,4.1062763458500696E-6,4.1062763458500696E-6,9.3503243629200312E-5,1.1104261759920168E-4,1.388032719990021E-4,1.8434768054899093E-4,null,9.3503243629200312E-5,1.1104261759920168E-4,1.388032719990021E-4,1.8434768054899093E-4,1.4639736866455666E-4,1.7385864270778078E-4,2.1732330338472598E-4,2.8863186242833623E-4,5.9209382531013772E-6,5.9209382531013772E-6,5.9209382531013772E-6,5.9209382531013772E-6,5.9395523776623234E-7,5.9395523776623234E-7,5.9395523776623234E-7,5.9395523776623234E-7,2.7879066687439064E-5,2.7879066687439064E-5,2.7879066687439064E-5,2.7879066687439064E-5,2.2748308094336555E-5,2.2748308094336555E-5,2.2748308094336555E-5,2.2748308094336555E-5,5.5386354658440641E-6,5.5386354658440641E-6,5.5386354658440641E-6,5.5386354658440641E-6,4.1062763458500696E-6,4.1062763458500696E-6,4.1062763458500696E-6,4.1062763458500696E-6,9.3503243629200312E-5,1.1104261759920168E-4,1.388032719990021E-4,1.8434768054899093E-4,null,"Cláusula de invalidez permanente parcial previa al seguro.",43,"1-50",0,0,0,5.1214072478433669E-7,0,0,0,0,0,null,"Cláusula de invalidez permanente parcial previa al seguro.",43,"1-50",0,0,0,5.1214072478433669E-7,0,0,0,0,0,null,"Cláusula de invalidez permanente parcial previa al seguro.",43,"1-50",0,0,0,4.1396561514227313E-7,0,0,0,0,0,null,"Cláusula de invalidez permanente parcial previa al seguro.",43,"1-50",0,0,0,4.6087467822503794E-8,0,0,0,0,0,null,"Cláusula de invalidez permanente parcial previa al seguro.",43,"1-50",0,0,0,4.6087467822503794E-8,0,0,0,0,0,null,null,0,0,0,0,0,0,0,0,null,null,null,null,null,null,null,null,null,null,null,null,null,null,null,null,null,null,null,null,null,null,null,null,null,null,null,"Hidrocarburos",49,">400",1.1232118425343709E-4,1.3466074024894091E-4,1.6451497566526667E-4,5.6331902096377396E-4,1.4653911470353076E-5,3.1322948461377046E-5,4.721140057946684E-5,5.9986585984334513E-5,3.2032343973321527E-5,3.2032343973321527E-5,3.2032343973321527E-5,3.2032343973321527E-5,1.808221780815688E-5,1.808221780815688E-5,1.808221780815688E-5,1.808221780815688E-5,2.5886455208872888E-4,2.5886455208872888E-4,2.5886455208872888E-4,2.5886455208872888E-4,3.2032343973321527E-5,3.2032343973321527E-5,3.2032343973321527E-5,3.2032343973321527E-5,1.9072530055383801E-5,1.9072530055383801E-5,1.9072530055383801E-5,1.9072530055383801E-5,6.3767316055212042E-8,6.3767316055212042E-8,6.3767316055212042E-8,6.3767316055212042E-8,1.1232118425343709E-4,1.3466074024894091E-4,1.6451497566526667E-4,5.6331902096377396E-4]
[null,"Telecomunicaciones",50,">400",1.2770435258391497E-4,1.5165918356762541E-4,1.8957397945953175E-4,2.5177737457124193E-4,1.828982897879943E-6,2.1720642048543573E-6,2.7150802560679469E-6,3.6059578459655097E-6,5.9209382531013772E-6,5.9209382531013772E-6,5.9209382531013772E-6,5.9209382531013772E-6,5.9395523776623234E-7,5.9395523776623234E-7,5.9395523776623234E-7,5.9395523776623234E-7,2.7879066687439064E-5,2.7879066687439064E-5,2.7879066687439064E-5,2.7879066687439064E-5,2.2748308094336555E-5,2.2748308094336555E-5,2.2748308094336555E-5,2.2748308094336555E-5,5.5386354658440641E-6,5.5386354658440641E-6,5.5386354658440641E-6,5.5386354658440641E-6,4.1062763458500696E-6,4.1062763458500696E-6,4.1062763458500696E-6,4.1062763458500696E-6,1.2770435258391497E-4,1.5165918356762541E-4,1.8957397945953175E-4,2.5177737457124193E-4,null,1.2770435258391497E-4,1.5165918356762541E-4,1.8957397945953175E-4,2.5177737457124193E-4,1.828982897879943E-6,2.1720642048543573E-6,2.7150802560679469E-6,3.6059578459655097E-6,5.9209382531013772E-6,5.9209382531013772E-6,5.9209382531013772E-6,5.9209382531013772E-6,5.9395523776623234E-7,5.9395523776623234E-7,5.9395523776623234E-7,5.9395523776623234E-7,2.7879066687439064E-5,2.7879066687439064E-5,2.7879066687439064E-5,2.7879066687439064E-5,2.2748308094336555E-5,2.2748308094336555E-5,2.2748308094336555E-5,2.2748308094336555E-5,5.5386354658440641E-6,5.5386354658440641E-6,5.5386354658440641E-6,5.5386354658440641E-6,4.1062763458500696E-6,4.1062763458500696E-6,4.1062763458500696E-6,4.1062763458500696E-6,1.2770435258391497E-4,1.5165918356762541E-4,1.8957397945953175E-4,2.5177737457124193E-4,null,null,44,"50-400",0,0,0,5.1214072478433669E-7,0,0,0,0,0,null,null,44,"50-400",0,0,0,5.1214072478433669E-7,0,0,0,0,0,null,null,44,"50-400",0,0,0,4.1396561514227313E-7,0,0,0,0,0,null,null,44,"50-400",0,0,0,4.6087467822503794E-8,0,0,0,0,0,null,null,44,"50-400",0,0,0,4.6087467822503794E-8,0,0,0,0,0,null,null,2.0502313607343315E-6,1.5542112375934856E-6,2.0502313607343315E-6,1.5542112375934856E-6,2.0502313607343315E-6,1.5542112375934856E-6,2.0502313607343315E-6,1.5542112375934856E-6,null,null,null,null,null,null,null,null,null,null,null,null,null,null,null,null,null,null,null,null,null,null,null,null,null,null,null,"Telecomunicaciones",50,">400",4.9446473563203046E-4,5.928088077932507E-4,7.2423429730128356E-4,2.4798651530316576E-3,3.5568432070940918E-5,7.6028039807942774E-5,1.1459298753660939E-4,1.4560131696360321E-4,3.2032343973321527E-5,3.2032343973321527E-5,3.2032343973321527E-5,3.2032343973321527E-5,1.808221780815688E-5,1.808221780815688E-5,1.808221780815688E-5,1.808221780815688E-5,2.5886455208872888E-4,2.5886455208872888E-4,2.5886455208872888E-4,2.5886455208872888E-4,3.2032343973321527E-5,3.2032343973321527E-5,3.2032343973321527E-5,3.2032343973321527E-5,1.9072530055383801E-5,1.9072530055383801E-5,1.9072530055383801E-5,1.9072530055383801E-5,6.3767316055212042E-8,6.3767316055212042E-8,6.3767316055212042E-8,6.3767316055212042E-8,4.9446473563203046E-4,5.928088077932507E-4,7.2423429730128356E-4,2.4798651530316576E-3]
[null,"Plasticos y Cauchos",51,">400",1.2770435258391497E-4,1.5165918356762541E-4,1.8957397945953175E-4,2.5177737457124193E-4,1.828982897879943E-6,2.1720642048543573E-6,2.7150802560679469E-6,3.6059578459655097E-6,5.9209382531013772E-6,5.9209382531013772E-6,5.9209382531013772E-6,5.9209382531013772E-6,5.9395523776623234E-7,5.9395523776623234E-7,5.9395523776623234E-7,5.9395523776623234E-7,2.7879066687439064E-5,2.7879066687439064E-5,2.7879066687439064E-5,2.7879066687439064E-5,2.2748308094336555E-5,2.2748308094336555E-5,2.2748308094336555E-5,2.2748308094336555E-5,5.5386354658440641E-6,5.5386354658440641E-6,5.5386354658440641E-6,5.5386354658440641E-6,4.1062763458500696E-6,4.1062763458500696E-6,4.1062763458500696E-6,4.1062763458500696E-6,1.2770435258391497E-4,1.5165918356762541E-4,1.8957397945953175E-4,2.5177737457124193E-4,null,1.2770435258391497E-4,1.5165918356762541E-4,1.8957397945953175E-4,2.5177737457124193E-4,1.828982897879943E-6,2.1720642048543573E-6,2.7150802560679469E-6,3.6059578459655097E-6,5.9209382531013772E-6,5.9209382531013772E-6,5.9209382531013772E-6,5.9209382531013772E-6,5.9395523776623234E-7,5.9395523776623234E-7,5.9395523776623234E-7,5.9395523776623234E-7,2.7879066687439064E-5,2.7879066687439064E-5,2.7879066687439064E-5,2.7879066687439064E-5,2.2748308094336555E-5,2.2748308094336555E-5,2.2748308094336555E-5,2.2748308094336555E-5,5.5386354658440641E-6,5.5386354658440641E-6,5.5386354658440641E-6,5.5386354658440641E-6,4.1062763458500696E-6,4.1062763458500696E-6,4.1062763458500696E-6,4.1062763458500696E-6,1.2770435258391497E-4,1.5165918356762541E-4,1.8957397945953175E-4,2.5177737457124193E-4,null,null,45,">400",0,0,0,5.1214072478433669E-7,0,0,0,0,0,null,null,45,">400",0,0,0,5.1214072478433669E-7,0,0,0,0,0,null,null,45,">400",0,0,0,4.1396561514227313E-7,0,0,0,0,0,null,null,45,">400",0,0,0,4.6087467822503794E-8,0,0,0,0,0,null,null,45,">400",0,0,0,4.6087467822503794E-8,0,0,0,0,0,null,null,0,0,0,0,0,0,0,0,null,null,null,null,null,null,null,null,null,null,null,null,null,null,null,null,null,null,null,null,null,null,null,null,null,null,null,"Plasticos y Cauchos",51,">400",4.9446473563203046E-4,5.928088077932507E-4,7.2423429730128356E-4,2.4798651530316576E-3,3.5568432070940918E-5,7.6028039807942774E-5,1.1459298753660939E-4,1.4560131696360321E-4,3.2032343973321527E-5,3.2032343973321527E-5,3.2032343973321527E-5,3.2032343973321527E-5,1.808221780815688E-5,1.808221780815688E-5,1.808221780815688E-5,1.808221780815688E-5,2.5886455208872888E-4,2.5886455208872888E-4,2.5886455208872888E-4,2.5886455208872888E-4,3.2032343973321527E-5,3.2032343973321527E-5,3.2032343973321527E-5,3.2032343973321527E-5,1.9072530055383801E-5,1.9072530055383801E-5,1.9072530055383801E-5,1.9072530055383801E-5,6.3767316055212042E-8,6.3767316055212042E-8,6.3767316055212042E-8,6.3767316055212042E-8,4.9446473563203046E-4,5.928088077932507E-4,7.2423429730128356E-4,2.4798651530316576E-3]
[null,"Instituciones Financieras",52,">400",2.3159138194464899E-4,2.7503338137158757E-4,3.4379172671448446E-4,4.5659735897438661E-4,6.765771866723571E-6,8.0348979243903014E-6,1.0043622405487879E-5,1.3339155973029791E-5,5.9209382531013772E-6,5.9209382531013772E-6,5.9209382531013772E-6,5.9209382531013772E-6,5.9395523776623234E-7,5.9395523776623234E-7,5.9395523776623234E-7,5.9395523776623234E-7,2.7879066687439064E-5,2.7879066687439064E-5,2.7879066687439064E-5,2.7879066687439064E-5,2.2748308094336555E-5,2.2748308094336555E-5,2.2748308094336555E-5,2.2748308094336555E-5,5.5386354658440641E-6,5.5386354658440641E-6,5.5386354658440641E-6,5.5386354658440641E-6,4.1062763458500696E-6,4.1062763458500696E-6,4.1062763458500696E-6,4.1062763458500696E-6,2.3159138194464899E-4,2.7503338137158757E-4,3.4379172671448446E-4,4.5659735897438661E-4,null,2.3159138194464899E-4,2.7503338137158757E-4,3.4379172671448446E-4,4.5659735897438661E-4,6.765771866723571E-6,8.0348979243903014E-6,1.0043622405487879E-5,1.3339155973029791E-5,5.9209382531013772E-6,5.9209382531013772E-6,5.9209382531013772E-6,5.9209382531013772E-6,5.9395523776623234E-7,5.9395523776623234E-7,5.9395523776623234E-7,5.9395523776623234E-7,2.7879066687439064E-5,2.7879066687439064E-5,2.7879066687439064E-5,2.7879066687439064E-5,2.2748308094336555E-5,2.2748308094336555E-5,2.2748308094336555E-5,2.2748308094336555E-5,5.5386354658440641E-6,5.5386354658440641E-6,5.5386354658440641E-6,5.5386354658440641E-6,4.1062763458500696E-6,4.1062763458500696E-6,4.1062763458500696E-6,4.1062763458500696E-6,2.3159138194464899E-4,2.7503338137158757E-4,3.4379172671448446E-4,4.5659735897438661E-4,null,"Muerte accidental en transporte público y aviación comercial",46,"1-50",0,1.5462692315970406E-5,9.8640093732926159E-6,0,0,0,0,0,0,null,"Muerte accidental en transporte público y aviación comercial",46,"1-50",0,1.5462692315970406E-5,9.8640093732926159E-6,0,0,0,0,0,0,null,"Muerte accidental en transporte público y aviación comercial",46,"1-50",0,4.3975659057625592E-7,2.9081258710752569E-6,0,0,0,0,0,0,null,"Muerte accidental en transporte público y aviación comercial",46,"1-50",0,1.5611929093943156E-6,7.6114685510735331E-7,0,0,0,0,0,0,null,"Muerte accidental en transporte público y aviación comercial",46,"1-50",0,1.5611929093943156E-6,7.6114685510735331E-7,0,0,0,0,0,0,null,null,2.0502313607343315E-6,1.5542112375934856E-6,2.0502313607343315E-6,1.5542112375934856E-6,2.0502313607343315E-6,1.5542112375934856E-6,2.0502313607343315E-6,1.5542112375934856E-6,null,null,null,null,null,null,null,null,null,null,null,null,null,null,null,null,null,null,null,null,null,null,null,null,null,null,null,"Instituciones Financieras",52,">400",1.2186761739863224E-4,1.4610586311346115E-4,1.7849747796000909E-4,6.111967869327781E-4,7.0696049431743133E-6,1.5111383177478005E-5,2.2776577542865396E-5,2.8939813486452318E-5,3.2032343973321527E-5,3.2032343973321527E-5,3.2032343973321527E-5,3.2032343973321527E-5,1.808221780815688E-5,1.808221780815688E-5,1.808221780815688E-5,1.808221780815688E-5,2.5886455208872888E-4,2.5886455208872888E-4,2.5886455208872888E-4,2.5886455208872888E-4,3.2032343973321527E-5,3.2032343973321527E-5,3.2032343973321527E-5,3.2032343973321527E-5,1.9072530055383801E-5,1.9072530055383801E-5,1.9072530055383801E-5,1.9072530055383801E-5,6.3767316055212042E-8,6.3767316055212042E-8,6.3767316055212042E-8,6.3767316055212042E-8,1.2186761739863224E-4,1.4610586311346115E-4,1.7849747796000909E-4,6.111967869327781E-4]
[null,"Quimicas",53,">400",1.2770435258391497E-4,1.5165918356762541E-4,1.8957397945953175E-4,2.5177737457124193E-4,1.828982897879943E-6,2.1720642048543573E-6,2.7150802560679469E-6,3.6059578459655097E-6,5.9209382531013772E-6,5.9209382531013772E-6,5.9209382531013772E-6,5.9209382531013772E-6,5.9395523776623234E-7,5.9395523776623234E-7,5.9395523776623234E-7,5.9395523776623234E-7,2.7879066687439064E-5,2.7879066687439064E-5,2.7879066687439064E-5,2.7879066687439064E-5,2.2748308094336555E-5,2.2748308094336555E-5,2.2748308094336555E-5,2.2748308094336555E-5,5.5386354658440641E-6,5.5386354658440641E-6,5.5386354658440641E-6,5.5386354658440641E-6,4.1062763458500696E-6,4.1062763458500696E-6,4.1062763458500696E-6,4.1062763458500696E-6,1.2770435258391497E-4,1.5165918356762541E-4,1.8957397945953175E-4,2.5177737457124193E-4,null,1.2770435258391497E-4,1.5165918356762541E-4,1.8957397945953175E-4,2.5177737457124193E-4,1.828982897879943E-6,2.1720642048543573E-6,2.7150802560679469E-6,3.6059578459655097E-6,5.9209382531013772E-6,5.9209382531013772E-6,5.9209382531013772E-6,5.9209382531013772E-6,5.9395523776623234E-7,5.9395523776623234E-7,5.9395523776623234E-7,5.9395523776623234E-7,2.7879066687439064E-5,2.7879066687439064E-5,2.7879066687439064E-5,2.7879066687439064E-5,2.2748308094336555E-5,2.2748308094336555E-5,2.2748308094336555E-5,2.2748308094336555E-5,5.5386354658440641E-6,5.5386354658440641E-6,5.5386354658440641E-6,5.5386354658440641E-6,4.1062763458500696E-6,4.1062763458500696E-6,4.1062763458500696E-6,4.1062763458500696E-6,1.2770435258391497E-4,1.5165918356762541E-4,1.8957397945953175E-4,2.5177737457124193E-4,null,null,47,"50-400",0,6.7466115956071165E-6,9.8640093732926159E-6,0,0,0,0,0,0,null,null,47,"50-400",0,6.7466115956071165E-6,9.8640093732926159E-6,0,0,0,0,0,0,null,null,47,"50-400",0,4.3975659057625592E-7,2.9081258710752569E-6,0,0,0,0,0,0,null,null,47,"50-400",0,1.5611929093943156E-6,7.6114685510735331E-7,0,0,0,0,0,0,null,null,47,"50-400",0,1.5611929093943156E-6,7.6114685510735331E-7,0,0,0,0,0,0,null,null,0,0,0,0,0,0,0,0,null,null,null,null,null,null,null,null,null,null,null,null,null,null,null,null,null,null,null,null,null,null,null,null,null,null,null,"Quimicas",53,">400",4.9446473563203046E-4,5.928088077932507E-4,7.2423429730128356E-4,2.4798651530316576E-3,3.5568432070940918E-5,7.6028039807942774E-5,1.1459298753660939E-4,1.4560131696360321E-4,3.2032343973321527E-5,3.2032343973321527E-5,3.2032343973321527E-5,3.2032343973321527E-5,1.808221780815688E-5,1.808221780815688E-5,1.808221780815688E-5,1.808221780815688E-5,2.5886455208872888E-4,2.5886455208872888E-4,2.5886455208872888E-4,2.5886455208872888E-4,3.2032343973321527E-5,3.2032343973321527E-5,3.2032343973321527E-5,3.2032343973321527E-5,1.9072530055383801E-5,1.9072530055383801E-5,1.9072530055383801E-5,1.9072530055383801E-5,6.3767316055212042E-8,6.3767316055212042E-8,6.3767316055212042E-8,6.3767316055212042E-8,4.9446473563203046E-4,5.928088077932507E-4,7.2423429730128356E-4,2.4798651530316576E-3]
[null,"Comercio",54,">400",3.8333410995667912E-5,4.5524006796440906E-5,5.690500849555113E-5,7.5576794240490917E-5,1.846801774457406E-5,2.1932255530711665E-5,2.7415319413389578E-5,3.6410889113654512E-5,5.9209382531013772E-6,5.9209382531013772E-6,5.9209382531013772E-6,5.9209382531013772E-6,5.9395523776623234E-7,5.9395523776623234E-7,5.9395523776623234E-7,5.9395523776623234E-7,2.7879066687439064E-5,2.7879066687439064E-5,2.7879066687439064E-5,2.7879066687439064E-5,2.2748308094336555E-5,2.2748308094336555E-5,2.2748308094336555E-5,2.2748308094336555E-5,5.5386354658440641E-6,5.5386354658440641E-6,5.5386354658440641E-6,5.5386354658440641E-6,4.1062763458500696E-6,4.1062763458500696E-6,4.1062763458500696E-6,4.1062763458500696E-6,3.8333410995667912E-5,4.5524006796440906E-5,5.690500849555113E-5,7.5576794240490917E-5,null,3.8333410995667912E-5,4.5524006796440906E-5,5.690500849555113E-5,7.5576794240490917E-5,1.846801774457406E-5,2.1932255530711665E-5,2.7415319413389578E-5,3.6410889113654512E-5,5.9209382531013772E-6,5.9209382531013772E-6,5.9209382531013772E-6,5.9209382531013772E-6,5.9395523776623234E-7,5.9395523776623234E-7,5.9395523776623234E-7,5.9395523776623234E-7,2.7879066687439064E-5,2.7879066687439064E-5,2.7879066687439064E-5,2.7879066687439064E-5,2.2748308094336555E-5,2.2748308094336555E-5,2.2748308094336555E-5,2.2748308094336555E-5,5.5386354658440641E-6,5.5386354658440641E-6,5.5386354658440641E-6,5.5386354658440641E-6,4.1062763458500696E-6,4.1062763458500696E-6,4.1062763458500696E-6,4.1062763458500696E-6,3.8333410995667912E-5,4.5524006796440906E-5,5.690500849555113E-5,7.5576794240490917E-5,null,null,48,">400",0,5.2744580524130149E-6,9.8640093732926159E-6,0,0,0,0,0,0,null,null,48,">400",0,5.2744580524130149E-6,9.8640093732926159E-6,0,0,0,0,0,0,null,null,48,">400",0,4.3975659057625592E-7,2.9081258710752569E-6,0,0,0,0,0,0,null,null,48,">400",0,1.5611929093943156E-6,7.6114685510735331E-7,0,0,0,0,0,0,null,null,48,">400",0,1.5611929093943156E-6,7.6114685510735331E-7,0,0,0,0,0,0,null,null,4.3043929996689265E-5,3.2630151402561919E-5,4.3043929996689265E-5,3.2630151402561919E-5,4.3043929996689265E-5,3.2630151402561919E-5,4.3043929996689265E-5,3.2630151402561919E-5,null,null,null,null,null,null,null,null,null,null,null,null,null,null,null,null,null,null,null,null,null,null,null,null,null,null,null,"Comercio",54,">400",1.8243191416959171E-4,2.1871579052868404E-4,2.6720499894711524E-4,9.1494198503713623E-4,7.6789449548795162E-5,1.6413856296734338E-4,2.4739725432759002E-4,3.1434180064263291E-4,3.2032343973321527E-5,3.2032343973321527E-5,3.2032343973321527E-5,3.2032343973321527E-5,1.808221780815688E-5,1.808221780815688E-5,1.808221780815688E-5,1.808221780815688E-5,2.5886455208872888E-4,2.5886455208872888E-4,2.5886455208872888E-4,2.5886455208872888E-4,3.2032343973321527E-5,3.2032343973321527E-5,3.2032343973321527E-5,3.2032343973321527E-5,1.9072530055383801E-5,1.9072530055383801E-5,1.9072530055383801E-5,1.9072530055383801E-5,6.3767316055212042E-8,6.3767316055212042E-8,6.3767316055212042E-8,6.3767316055212042E-8,1.8243191416959171E-4,2.1871579052868404E-4,2.6720499894711524E-4,9.1494198503713623E-4]
[null,"Educación",55,">400",1.5762181796882368E-4,1.8718857847768928E-4,2.3398572309711165E-4,3.1076158878186316E-4,6.829630233207056E-6,8.1107348675241208E-6,1.0138418584405153E-5,1.3465056864677589E-5,5.9209382531013772E-6,5.9209382531013772E-6,5.9209382531013772E-6,5.9209382531013772E-6,5.9395523776623234E-7,5.9395523776623234E-7,5.9395523776623234E-7,5.9395523776623234E-7,2.7879066687439064E-5,2.7879066687439064E-5,2.7879066687439064E-5,2.7879066687439064E-5,2.2748308094336555E-5,2.2748308094336555E-5,2.2748308094336555E-5,2.2748308094336555E-5,5.5386354658440641E-6,5.5386354658440641E-6,5.5386354658440641E-6,5.5386354658440641E-6,4.1062763458500696E-6,4.1062763458500696E-6,4.1062763458500696E-6,4.1062763458500696E-6,1.5762181796882368E-4,1.8718857847768928E-4,2.3398572309711165E-4,3.1076158878186316E-4,null,1.5762181796882368E-4,1.8718857847768928E-4,2.3398572309711165E-4,3.1076158878186316E-4,6.829630233207056E-6,8.1107348675241208E-6,1.0138418584405153E-5,1.3465056864677589E-5,5.9209382531013772E-6,5.9209382531013772E-6,5.9209382531013772E-6,5.9209382531013772E-6,5.9395523776623234E-7,5.9395523776623234E-7,5.9395523776623234E-7,5.9395523776623234E-7,2.7879066687439064E-5,2.7879066687439064E-5,2.7879066687439064E-5,2.7879066687439064E-5,2.2748308094336555E-5,2.2748308094336555E-5,2.2748308094336555E-5,2.2748308094336555E-5,5.5386354658440641E-6,5.5386354658440641E-6,5.5386354658440641E-6,5.5386354658440641E-6,4.1062763458500696E-6,4.1062763458500696E-6,4.1062763458500696E-6,4.1062763458500696E-6,1.5762181796882368E-4,1.8718857847768928E-4,2.3398572309711165E-4,3.1076158878186316E-4,null,"Por usar y/o portar armas",49,"1-50",1.0495066987684268E-5,0,0,0,0,0,0,0,0,null,"Por usar y/o portar armas",49,"1-50",1.0495066987684268E-5,0,0,0,0,0,0,0,0,null,"Por usar y/o portar armas",49,"1-50",1.2442626210622446E-6,0,0,0,0,0,0,0,0,null,"Por usar y/o portar armas",49,"1-50",2.0339543756122211E-7,0,0,0,0,0,0,0,0,null,"Por usar y/o portar armas",49,"1-50",2.0339543756122211E-7,0,0,0,0,0,0,0,0,null,null,0,0,0,0,0,0,0,0,null,null,null,null,null,null,null,null,null,null,null,null,null,null,null,null,null,null,null,null,null,null,null,null,null,null,null,"Educación",55,">400",1.0049273824945402E-3,1.2047973507633702E-3,1.4719004698473908E-3,5.0399638590811029E-3,8.0486548328504023E-5,1.720411652703345E-4,2.5930842301615632E-4,3.2947607617652487E-4,3.2032343973321527E-5,3.2032343973321527E-5,3.2032343973321527E-5,3.2032343973321527E-5,1.808221780815688E-5,1.808221780815688E-5,1.808221780815688E-5,1.808221780815688E-5,2.5886455208872888E-4,2.5886455208872888E-4,2.5886455208872888E-4,2.5886455208872888E-4,3.2032343973321527E-5,3.2032343973321527E-5,3.2032343973321527E-5,3.2032343973321527E-5,1.9072530055383801E-5,1.9072530055383801E-5,1.9072530055383801E-5,1.9072530055383801E-5,6.3767316055212042E-8,6.3767316055212042E-8,6.3767316055212042E-8,6.3767316055212042E-8,1.0049273824945402E-3,1.2047973507633702E-3,1.4719004698473908E-3,5.0399638590811029E-3]
[null,"Industria",56,">400",1.2770435258391497E-4,1.5165918356762541E-4,1.8957397945953175E-4,2.5177737457124193E-4,1.828982897879943E-6,2.1720642048543573E-6,2.7150802560679469E-6,3.6059578459655097E-6,5.9209382531013772E-6,5.9209382531013772E-6,5.9209382531013772E-6,5.9209382531013772E-6,5.9395523776623234E-7,5.9395523776623234E-7,5.9395523776623234E-7,5.9395523776623234E-7,2.7879066687439064E-5,2.7879066687439064E-5,2.7879066687439064E-5,2.7879066687439064E-5,2.2748308094336555E-5,2.2748308094336555E-5,2.2748308094336555E-5,2.2748308094336555E-5,5.5386354658440641E-6,5.5386354658440641E-6,5.5386354658440641E-6,5.5386354658440641E-6,4.1062763458500696E-6,4.1062763458500696E-6,4.1062763458500696E-6,4.1062763458500696E-6,1.2770435258391497E-4,1.5165918356762541E-4,1.8957397945953175E-4,2.5177737457124193E-4,null,1.2770435258391497E-4,1.5165918356762541E-4,1.8957397945953175E-4,2.5177737457124193E-4,1.828982897879943E-6,2.1720642048543573E-6,2.7150802560679469E-6,3.6059578459655097E-6,5.9209382531013772E-6,5.9209382531013772E-6,5.9209382531013772E-6,5.9209382531013772E-6,5.9395523776623234E-7,5.9395523776623234E-7,5.9395523776623234E-7,5.9395523776623234E-7,2.7879066687439064E-5,2.7879066687439064E-5,2.7879066687439064E-5,2.7879066687439064E-5,2.2748308094336555E-5,2.2748308094336555E-5,2.2748308094336555E-5,2.2748308094336555E-5,5.5386354658440641E-6,5.5386354658440641E-6,5.5386354658440641E-6,5.5386354658440641E-6,4.1062763458500696E-6,4.1062763458500696E-6,4.1062763458500696E-6,4.1062763458500696E-6,1.2770435258391497E-4,1.5165918356762541E-4,1.8957397945953175E-4,2.5177737457124193E-4,null,null,50,"50-400",1.680438900821124E-6,0,0,0,0,0,0,0,0,null,null,50,"50-400",1.680438900821124E-6,0,0,0,0,0,0,0,0,null,null,50,"50-400",1.2442626210622446E-6,0,0,0,0,0,0,0,0,null,null,50,"50-400",2.0339543756122211E-7,0,0,0,0,0,0,0,0,null,null,50,"50-400",2.0339543756122211E-7,0,0,0,0,0,0,0,0,null,null,null,null,null,null,null,null,null,null,null,null,null,null,null,null,null,null,null,null,null,null,null,null,null,null,null,null,null,null,null,null,null,null,null,null,null,"Industria",56,">400",4.9446473563203046E-4,5.928088077932507E-4,7.2423429730128356E-4,2.4798651530316576E-3,3.5568432070940918E-5,7.6028039807942774E-5,1.1459298753660939E-4,1.4560131696360321E-4,3.2032343973321527E-5,3.2032343973321527E-5,3.2032343973321527E-5,3.2032343973321527E-5,1.808221780815688E-5,1.808221780815688E-5,1.808221780815688E-5,1.808221780815688E-5,2.5886455208872888E-4,2.5886455208872888E-4,2.5886455208872888E-4,2.5886455208872888E-4,3.2032343973321527E-5,3.2032343973321527E-5,3.2032343973321527E-5,3.2032343973321527E-5,1.9072530055383801E-5,1.9072530055383801E-5,1.9072530055383801E-5,1.9072530055383801E-5,6.3767316055212042E-8,6.3767316055212042E-8,6.3767316055212042E-8,6.3767316055212042E-8,4.9446473563203046E-4,5.928088077932507E-4,7.2423429730128356E-4,2.4798651530316576E-3]
[null,"Construcción",57,">400",7.0308604441910838E-6,8.3497119179494382E-6,1.0437139897436799E-5,1.3861795215257174E-5,2.4408344776277339E-5,2.8986871364270089E-5,3.6233589205337613E-5,4.812262731109801E-5,5.9209382531013772E-6,5.9209382531013772E-6,5.9209382531013772E-6,5.9209382531013772E-6,5.9395523776623234E-7,5.9395523776623234E-7,5.9395523776623234E-7,5.9395523776623234E-7,2.7879066687439064E-5,2.7879066687439064E-5,2.7879066687439064E-5,2.7879066687439064E-5,2.2748308094336555E-5,2.2748308094336555E-5,2.2748308094336555E-5,2.2748308094336555E-5,5.5386354658440641E-6,5.5386354658440641E-6,5.5386354658440641E-6,5.5386354658440641E-6,4.1062763458500696E-6,4.1062763458500696E-6,4.1062763458500696E-6,4.1062763458500696E-6,7.0308604441910838E-6,8.3497119179494382E-6,1.0437139897436799E-5,1.3861795215257174E-5,null,7.0308604441910838E-6,8.3497119179494382E-6,1.0437139897436799E-5,1.3861795215257174E-5,2.4408344776277339E-5,2.8986871364270089E-5,3.6233589205337613E-5,4.812262731109801E-5,5.9209382531013772E-6,5.9209382531013772E-6,5.9209382531013772E-6,5.9209382531013772E-6,5.9395523776623234E-7,5.9395523776623234E-7,5.9395523776623234E-7,5.9395523776623234E-7,2.7879066687439064E-5,2.7879066687439064E-5,2.7879066687439064E-5,2.7879066687439064E-5,2.2748308094336555E-5,2.2748308094336555E-5,2.2748308094336555E-5,2.2748308094336555E-5,5.5386354658440641E-6,5.5386354658440641E-6,5.5386354658440641E-6,5.5386354658440641E-6,4.1062763458500696E-6,4.1062763458500696E-6,4.1062763458500696E-6,4.1062763458500696E-6,7.0308604441910838E-6,8.3497119179494382E-6,1.0437139897436799E-5,1.3861795215257174E-5,null,null,51,">400",7.2233181115680913E-7,0,0,0,0,0,0,0,0,null,null,51,">400",7.2233181115680913E-7,0,0,0,0,0,0,0,0,null,null,51,">400",1.2442626210622446E-6,0,0,0,0,0,0,0,0,null,null,51,">400",2.0339543756122211E-7,0,0,0,0,0,0,0,0,null,null,51,">400",2.0339543756122211E-7,0,0,0,0,0,0,0,0,null,null,null,null,null,null,null,null,null,null,null,null,null,null,null,null,null,null,null,null,null,null,null,null,null,null,null,null,null,null,null,null,null,null,null,null,null,"Construcción",57,">400",2.4341203826681662E-4,2.9182424915102364E-4,3.5652157532226959E-4,1.2207726618860318E-3,1.1830954827609841E-3,2.5288837663844173E-3,3.8116508942605707E-3,4.8430658973135964E-3,3.2032343973321527E-5,3.2032343973321527E-5,3.2032343973321527E-5,3.2032343973321527E-5,1.808221780815688E-5,1.808221780815688E-5,1.808221780815688E-5,1.808221780815688E-5,2.5886455208872888E-4,2.5886455208872888E-4,2.5886455208872888E-4,2.5886455208872888E-4,3.2032343973321527E-5,3.2032343973321527E-5,3.2032343973321527E-5,3.2032343973321527E-5,1.9072530055383801E-5,1.9072530055383801E-5,1.9072530055383801E-5,1.9072530055383801E-5,6.3767316055212042E-8,6.3767316055212042E-8,6.3767316055212042E-8,6.3767316055212042E-8,2.4341203826681662E-4,2.9182424915102364E-4,3.5652157532226959E-4,1.2207726618860318E-3]
[null,"Pesca",58,">400",1.2770435258391497E-4,1.5165918356762541E-4,1.8957397945953175E-4,2.5177737457124193E-4,1.828982897879943E-6,2.1720642048543573E-6,2.7150802560679469E-6,3.6059578459655097E-6,5.9209382531013772E-6,5.9209382531013772E-6,5.9209382531013772E-6,5.9209382531013772E-6,5.9395523776623234E-7,5.9395523776623234E-7,5.9395523776623234E-7,5.9395523776623234E-7,2.7879066687439064E-5,2.7879066687439064E-5,2.7879066687439064E-5,2.7879066687439064E-5,2.2748308094336555E-5,2.2748308094336555E-5,2.2748308094336555E-5,2.2748308094336555E-5,5.5386354658440641E-6,5.5386354658440641E-6,5.5386354658440641E-6,5.5386354658440641E-6,4.1062763458500696E-6,4.1062763458500696E-6,4.1062763458500696E-6,4.1062763458500696E-6,1.2770435258391497E-4,1.5165918356762541E-4,1.8957397945953175E-4,2.5177737457124193E-4,null,1.2770435258391497E-4,1.5165918356762541E-4,1.8957397945953175E-4,2.5177737457124193E-4,1.828982897879943E-6,2.1720642048543573E-6,2.7150802560679469E-6,3.6059578459655097E-6,5.9209382531013772E-6,5.9209382531013772E-6,5.9209382531013772E-6,5.9209382531013772E-6,5.9395523776623234E-7,5.9395523776623234E-7,5.9395523776623234E-7,5.9395523776623234E-7,2.7879066687439064E-5,2.7879066687439064E-5,2.7879066687439064E-5,2.7879066687439064E-5,2.2748308094336555E-5,2.2748308094336555E-5,2.2748308094336555E-5,2.2748308094336555E-5,5.5386354658440641E-6,5.5386354658440641E-6,5.5386354658440641E-6,5.5386354658440641E-6,4.1062763458500696E-6,4.1062763458500696E-6,4.1062763458500696E-6,4.1062763458500696E-6,1.2770435258391497E-4,1.5165918356762541E-4,1.8957397945953175E-4,2.5177737457124193E-4,null,"Por cubrir gastos no reembolsables por ESSALUD",52,"1-50",0,0,0,0,0,0,0,0,0,null,"Por cubrir gastos no reembolsables por ESSALUD",52,"1-50",0,0,0,0,0,0,0,0,0,null,"Por cubrir gastos no reembolsables por ESSALUD",52,"1-50",0,0,0,0,0,0,0,0,0,null,"Por cubrir gastos no reembolsables por ESSALUD",52,"1-50",0,0,0,0,0,0,0,0,0,null,"Por cubrir gastos no reembolsables por ESSALUD",52,"1-50",0,0,0,0,0,0,0,0,0,null,null,null,null,null,null,null,null,null,null,null,null,null,null,null,null,null,null,null,null,null,null,null,null,null,null,null,null,null,null,null,null,null,null,null,null,null,"Pesca",58,">400",4.9446473563203046E-4,5.928088077932507E-4,7.2423429730128356E-4,2.4798651530316576E-3,3.5568432070940918E-5,7.6028039807942774E-5,1.1459298753660939E-4,1.4560131696360321E-4,3.2032343973321527E-5,3.2032343973321527E-5,3.2032343973321527E-5,3.2032343973321527E-5,1.808221780815688E-5,1.808221780815688E-5,1.808221780815688E-5,1.808221780815688E-5,2.5886455208872888E-4,2.5886455208872888E-4,2.5886455208872888E-4,2.5886455208872888E-4,3.2032343973321527E-5,3.2032343973321527E-5,3.2032343973321527E-5,3.2032343973321527E-5,1.9072530055383801E-5,1.9072530055383801E-5,1.9072530055383801E-5,1.9072530055383801E-5,6.3767316055212042E-8,6.3767316055212042E-8,6.3767316055212042E-8,6.3767316055212042E-8,4.9446473563203046E-4,5.928088077932507E-4,7.2423429730128356E-4,2.4798651530316576E-3]
[null,"Energia y Agua",59,">400",9.3503243629200312E-5,1.1104261759920168E-4,1.388032719990021E-4,1.8434768054899093E-4,1.4639736866455666E-4,1.7385864270778078E-4,2.1732330338472598E-4,2.8863186242833623E-4,5.9209382531013772E-6,5.9209382531013772E-6,5.9209382531013772E-6,5.9209382531013772E-6,5.9395523776623234E-7,5.9395523776623234E-7,5.9395523776623234E-7,5.9395523776623234E-7,2.7879066687439064E-5,2.7879066687439064E-5,2.7879066687439064E-5,2.7879066687439064E-5,2.2748308094336555E-5,2.2748308094336555E-5,2.2748308094336555E-5,2.2748308094336555E-5,5.5386354658440641E-6,5.5386354658440641E-6,5.5386354658440641E-6,5.5386354658440641E-6,4.1062763458500696E-6,4.1062763458500696E-6,4.1062763458500696E-6,4.1062763458500696E-6,9.3503243629200312E-5,1.1104261759920168E-4,1.388032719990021E-4,1.8434768054899093E-4,null,9.3503243629200312E-5,1.1104261759920168E-4,1.388032719990021E-4,1.8434768054899093E-4,1.4639736866455666E-4,1.7385864270778078E-4,2.1732330338472598E-4,2.8863186242833623E-4,5.9209382531013772E-6,5.9209382531013772E-6,5.9209382531013772E-6,5.9209382531013772E-6,5.9395523776623234E-7,5.9395523776623234E-7,5.9395523776623234E-7,5.9395523776623234E-7,2.7879066687439064E-5,2.7879066687439064E-5,2.7879066687439064E-5,2.7879066687439064E-5,2.2748308094336555E-5,2.2748308094336555E-5,2.2748308094336555E-5,2.2748308094336555E-5,5.5386354658440641E-6,5.5386354658440641E-6,5.5386354658440641E-6,5.5386354658440641E-6,4.1062763458500696E-6,4.1062763458500696E-6,4.1062763458500696E-6,4.1062763458500696E-6,9.3503243629200312E-5,1.1104261759920168E-4,1.388032719990021E-4,1.8434768054899093E-4,null,null,53,"50-400",0,0,0,0,0,0,0,0,0,null,null,53,"50-400",0,0,0,0,0,0,0,0,0,null,null,53,"50-400",0,0,0,0,0,0,0,0,0,null,null,53,"50-400",0,0,0,0,0,0,0,0,0,null,null,53,"50-400",0,0,0,0,0,0,0,0,0,null,null,null,null,null,null,null,null,null,null,null,null,null,null,null,null,null,null,null,null,null,null,null,null,null,null,null,null,null,null,null,null,null,null,null,null,null,"Energia y Agua",59,">400",1.1232118425343709E-4,1.3466074024894091E-4,1.6451497566526667E-4,5.6331902096377396E-4,1.4653911470353076E-5,3.1322948461377046E-5,4.721140057946684E-5,5.9986585984334513E-5,3.2032343973321527E-5,3.2032343973321527E-5,3.2032343973321527E-5,3.2032343973321527E-5,1.808221780815688E-5,1.808221780815688E-5,1.808221780815688E-5,1.808221780815688E-5,2.5886455208872888E-4,2.5886455208872888E-4,2.5886455208872888E-4,2.5886455208872888E-4,3.2032343973321527E-5,3.2032343973321527E-5,3.2032343973321527E-5,3.2032343973321527E-5,1.9072530055383801E-5,1.9072530055383801E-5,1.9072530055383801E-5,1.9072530055383801E-5,6.3767316055212042E-8,6.3767316055212042E-8,6.3767316055212042E-8,6.3767316055212042E-8,1.1232118425343709E-4,1.3466074024894091E-4,1.6451497566526667E-4,5.6331902096377396E-4]
[null,"Textiles",60,">400",1.2770435258391497E-4,1.5165918356762541E-4,1.8957397945953175E-4,2.5177737457124193E-4,1.828982897879943E-6,2.1720642048543573E-6,2.7150802560679469E-6,3.6059578459655097E-6,5.9209382531013772E-6,5.9209382531013772E-6,5.9209382531013772E-6,5.9209382531013772E-6,5.9395523776623234E-7,5.9395523776623234E-7,5.9395523776623234E-7,5.9395523776623234E-7,2.7879066687439064E-5,2.7879066687439064E-5,2.7879066687439064E-5,2.7879066687439064E-5,2.2748308094336555E-5,2.2748308094336555E-5,2.2748308094336555E-5,2.2748308094336555E-5,5.5386354658440641E-6,5.5386354658440641E-6,5.5386354658440641E-6,5.5386354658440641E-6,4.1062763458500696E-6,4.1062763458500696E-6,4.1062763458500696E-6,4.1062763458500696E-6,1.2770435258391497E-4,1.5165918356762541E-4,1.8957397945953175E-4,2.5177737457124193E-4,null,1.2770435258391497E-4,1.5165918356762541E-4,1.8957397945953175E-4,2.5177737457124193E-4,1.828982897879943E-6,2.1720642048543573E-6,2.7150802560679469E-6,3.6059578459655097E-6,5.9209382531013772E-6,5.9209382531013772E-6,5.9209382531013772E-6,5.9209382531013772E-6,5.9395523776623234E-7,5.9395523776623234E-7,5.9395523776623234E-7,5.9395523776623234E-7,2.7879066687439064E-5,2.7879066687439064E-5,2.7879066687439064E-5,2.7879066687439064E-5,2.2748308094336555E-5,2.2748308094336555E-5,2.2748308094336555E-5,2.2748308094336555E-5,5.5386354658440641E-6,5.5386354658440641E-6,5.5386354658440641E-6,5.5386354658440641E-6,4.1062763458500696E-6,4.1062763458500696E-6,4.1062763458500696E-6,4.1062763458500696E-6,1.2770435258391497E-4,1.5165918356762541E-4,1.8957397945953175E-4,2.5177737457124193E-4,null,null,54,">400",0,0,0,0,0,0,0,0,0,null,null,54,">400",0,0,0,0,0,0,0,0,0,null,null,54,">400",0,0,0,0,0,0,0,0,0,null,null,54,">400",0,0,0,0,0,0,0,0,0,null,null,54,">400",0,0,0,0,0,0,0,0,0,null,null,null,null,null,null,null,null,null,null,null,null,null,null,null,null,null,null,null,null,null,null,null,null,null,null,null,null,null,null,null,null,null,null,null,null,null,"Textiles",60,">400",4.9446473563203046E-4,5.928088077932507E-4,7.2423429730128356E-4,2.4798651530316576E-3,3.5568432070940918E-5,7.6028039807942774E-5,1.1459298753660939E-4,1.4560131696360321E-4,3.2032343973321527E-5,3.2032343973321527E-5,3.2032343973321527E-5,3.2032343973321527E-5,1.808221780815688E-5,1.808221780815688E-5,1.808221780815688E-5,1.808221780815688E-5,2.5886455208872888E-4,2.5886455208872888E-4,2.5886455208872888E-4,2.5886455208872888E-4,3.2032343973321527E-5,3.2032343973321527E-5,3.2032343973321527E-5,3.2032343973321527E-5,1.9072530055383801E-5,1.9072530055383801E-5,1.9072530055383801E-5,1.9072530055383801E-5,6.3767316055212042E-8,6.3767316055212042E-8,6.3767316055212042E-8,6.3767316055212042E-8,4.9446473563203046E-4,5.928088077932507E-4,7.2423429730128356E-4,2.4798651530316576E-3]
[null,"Transporte y Aviación",61,">400",7.0308604441910838E-6,8.3497119179494382E-6,1.0437139897436799E-5,1.3861795215257174E-5,1.4756801726501636E-5,1.7524888201754618E-5,2.1906110252193273E-5,2.9093987171075723E-5,5.9209382531013772E-6,5.9209382531013772E-6,5.9209382531013772E-6,5.9209382531013772E-6,5.9395523776623234E-7,5.9395523776623234E-7,5.9395523776623234E-7,5.9395523776623234E-7,2.7879066687439064E-5,2.7879066687439064E-5,2.7879066687439064E-5,2.7879066687439064E-5,2.2748308094336555E-5,2.2748308094336555E-5,2.2748308094336555E-5,2.2748308094336555E-5,5.5386354658440641E-6,5.5386354658440641E-6,5.5386354658440641E-6,5.5386354658440641E-6,4.1062763458500696E-6,4.1062763458500696E-6,4.1062763458500696E-6,4.1062763458500696E-6,7.0308604441910838E-6,8.3497119179494382E-6,1.0437139897436799E-5,1.3861795215257174E-5,null,7.0308604441910838E-6,8.3497119179494382E-6,1.0437139897436799E-5,1.3861795215257174E-5,1.4756801726501636E-5,1.7524888201754618E-5,2.1906110252193273E-5,2.9093987171075723E-5,5.9209382531013772E-6,5.9209382531013772E-6,5.9209382531013772E-6,5.9209382531013772E-6,5.9395523776623234E-7,5.9395523776623234E-7,5.9395523776623234E-7,5.9395523776623234E-7,2.7879066687439064E-5,2.7879066687439064E-5,2.7879066687439064E-5,2.7879066687439064E-5,2.2748308094336555E-5,2.2748308094336555E-5,2.2748308094336555E-5,2.2748308094336555E-5,5.5386354658440641E-6,5.5386354658440641E-6,5.5386354658440641E-6,5.5386354658440641E-6,4.1062763458500696E-6,4.1062763458500696E-6,4.1062763458500696E-6,4.1062763458500696E-6,7.0308604441910838E-6,8.3497119179494382E-6,1.0437139897436799E-5,1.3861795215257174E-5,null,null,null,null,null,null,null,null,null,null,null,null,null,null,null,null,null,null,null,null,null,null,null,null,null,null,null,null,null,null,null,null,null,null,null,null,null,null,null,null,null,null,null,null,null,null,null,null,null,null,null,null,null,null,null,null,null,null,null,null,null,null,null,null,null,null,null,null,null,null,null,null,null,null,null,null,null,null,null,null,null,null,null,null,null,null,null,null,null,null,null,null,null,null,null,null,null,null,null,null,null,null,"Transporte y Aviación",61,">400",1.8656608444968859E-3,2.2367220577602406E-3,2.7326024958880704E-3,9.3567588995597112E-3,8.863812216246378E-5,1.8946527265605216E-4,2.8557084574245536E-4,3.6284498833951729E-4,3.2032343973321527E-5,3.2032343973321527E-5,3.2032343973321527E-5,3.2032343973321527E-5,1.808221780815688E-5,1.808221780815688E-5,1.808221780815688E-5,1.808221780815688E-5,2.5886455208872888E-4,2.5886455208872888E-4,2.5886455208872888E-4,2.5886455208872888E-4,3.2032343973321527E-5,3.2032343973321527E-5,3.2032343973321527E-5,3.2032343973321527E-5,1.9072530055383801E-5,1.9072530055383801E-5,1.9072530055383801E-5,1.9072530055383801E-5,6.3767316055212042E-8,6.3767316055212042E-8,6.3767316055212042E-8,6.3767316055212042E-8,1.8656608444968859E-3,2.2367220577602406E-3,2.7326024958880704E-3,9.3567588995597112E-3]
[null,"Actividades Deportivas y de Esparcimiento",62,">400",4.1844075783742909E-5,4.9693203419470701E-5,6.2116504274338378E-5,8.2498296487334164E-5,6.7180374300313338E-7,7.9782094439248602E-7,9.9727618049060758E-7,1.3245044449782288E-6,5.9209382531013772E-6,5.9209382531013772E-6,5.9209382531013772E-6,5.9209382531013772E-6,5.9395523776623234E-7,5.9395523776623234E-7,5.9395523776623234E-7,5.9395523776623234E-7,2.7879066687439064E-5,2.7879066687439064E-5,2.7879066687439064E-5,2.7879066687439064E-5,2.2748308094336555E-5,2.2748308094336555E-5,2.2748308094336555E-5,2.2748308094336555E-5,5.5386354658440641E-6,5.5386354658440641E-6,5.5386354658440641E-6,5.5386354658440641E-6,4.1062763458500696E-6,4.1062763458500696E-6,4.1062763458500696E-6,4.1062763458500696E-6,4.1844075783742909E-5,4.9693203419470701E-5,6.2116504274338378E-5,8.2498296487334164E-5,null,4.1844075783742909E-5,4.9693203419470701E-5,6.2116504274338378E-5,8.2498296487334164E-5,6.7180374300313338E-7,7.9782094439248602E-7,9.9727618049060758E-7,1.3245044449782288E-6,5.9209382531013772E-6,5.9209382531013772E-6,5.9209382531013772E-6,5.9209382531013772E-6,5.9395523776623234E-7,5.9395523776623234E-7,5.9395523776623234E-7,5.9395523776623234E-7,2.7879066687439064E-5,2.7879066687439064E-5,2.7879066687439064E-5,2.7879066687439064E-5,2.2748308094336555E-5,2.2748308094336555E-5,2.2748308094336555E-5,2.2748308094336555E-5,5.5386354658440641E-6,5.5386354658440641E-6,5.5386354658440641E-6,5.5386354658440641E-6,4.1062763458500696E-6,4.1062763458500696E-6,4.1062763458500696E-6,4.1062763458500696E-6,4.1844075783742909E-5,4.9693203419470701E-5,6.2116504274338378E-5,8.2498296487334164E-5,null,null,null,null,null,null,null,null,null,null,null,null,null,null,null,null,null,null,null,null,null,null,null,null,null,null,null,null,null,null,null,null,null,null,null,null,null,null,null,null,null,null,null,null,null,null,null,null,null,null,null,null,null,null,null,null,null,null,null,null,null,null,null,null,null,null,null,null,null,null,null,null,null,null,null,null,null,null,null,null,null,null,null,null,null,null,null,null,null,null,null,null,null,null,null,null,null,null,null,null,null,null,"Actividades Deportivas y de Esparcimiento",62,">400",3.4637001270159876E-4,4.1525953114231938E-4,5.0732241286031402E-4,1.7371328279981513E-3,4.6425516388697858E-5,9.923521512177942E-5,1.4957191844442114E-4,1.9004538387938375E-4,3.2032343973321527E-5,3.2032343973321527E-5,3.2032343973321527E-5,3.2032343973321527E-5,1.808221780815688E-5,1.808221780815688E-5,1.808221780815688E-5,1.808221780815688E-5,2.5886455208872888E-4,2.5886455208872888E-4,2.5886455208872888E-4,2.5886455208872888E-4,3.2032343973321527E-5,3.2032343973321527E-5,3.2032343973321527E-5,3.2032343973321527E-5,1.9072530055383801E-5,1.9072530055383801E-5,1.9072530055383801E-5,1.9072530055383801E-5,6.3767316055212042E-8,6.3767316055212042E-8,6.3767316055212042E-8,6.3767316055212042E-8,3.4637001270159876E-4,4.1525953114231938E-4,5.0732241286031402E-4,1.7371328279981513E-3]
[null,"Estado",63,">400",1.9353348058586602E-4,2.2983656441440863E-4,2.8729570551801079E-4,3.8156374976745496E-4,4.0655344501028473E-6,4.8281489471042013E-6,6.0351861838802525E-6,8.0154636029591518E-6,5.9209382531013772E-6,5.9209382531013772E-6,5.9209382531013772E-6,5.9209382531013772E-6,5.9395523776623234E-7,5.9395523776623234E-7,5.9395523776623234E-7,5.9395523776623234E-7,2.7879066687439064E-5,2.7879066687439064E-5,2.7879066687439064E-5,2.7879066687439064E-5,2.2748308094336555E-5,2.2748308094336555E-5,2.2748308094336555E-5,2.2748308094336555E-5,5.5386354658440641E-6,5.5386354658440641E-6,5.5386354658440641E-6,5.5386354658440641E-6,4.1062763458500696E-6,4.1062763458500696E-6,4.1062763458500696E-6,4.1062763458500696E-6,1.9353348058586602E-4,2.2983656441440863E-4,2.8729570551801079E-4,3.8156374976745496E-4,null,1.9353348058586602E-4,2.2983656441440863E-4,2.8729570551801079E-4,3.8156374976745496E-4,4.0655344501028473E-6,4.8281489471042013E-6,6.0351861838802525E-6,8.0154636029591518E-6,5.9209382531013772E-6,5.9209382531013772E-6,5.9209382531013772E-6,5.9209382531013772E-6,5.9395523776623234E-7,5.9395523776623234E-7,5.9395523776623234E-7,5.9395523776623234E-7,2.7879066687439064E-5,2.7879066687439064E-5,2.7879066687439064E-5,2.7879066687439064E-5,2.2748308094336555E-5,2.2748308094336555E-5,2.2748308094336555E-5,2.2748308094336555E-5,5.5386354658440641E-6,5.5386354658440641E-6,5.5386354658440641E-6,5.5386354658440641E-6,4.1062763458500696E-6,4.1062763458500696E-6,4.1062763458500696E-6,4.1062763458500696E-6,1.9353348058586602E-4,2.2983656441440863E-4,2.8729570551801079E-4,3.8156374976745496E-4,null,null,null,null,null,null,null,null,null,null,null,null,null,null,null,null,null,null,null,null,null,null,null,null,null,null,null,null,null,null,null,null,null,null,null,null,null,null,null,null,null,null,null,null,null,null,null,null,null,null,null,null,null,null,null,null,null,null,null,null,null,null,null,null,null,null,null,null,null,null,null,null,null,null,null,null,null,null,null,null,null,null,null,null,null,null,null,null,null,null,null,null,null,null,null,null,null,null,null,null,null,null,"Estado",63,">400",2.1757577363838761E-4,2.6084941084909119E-4,3.1867962703015728E-4,1.0911972893275623E-3,5.4927924755136883E-6,1.1740923641284251E-5,1.7696464618747275E-5,2.2485045633933294E-5,3.2032343973321527E-5,3.2032343973321527E-5,3.2032343973321527E-5,3.2032343973321527E-5,1.808221780815688E-5,1.808221780815688E-5,1.808221780815688E-5,1.808221780815688E-5,2.5886455208872888E-4,2.5886455208872888E-4,2.5886455208872888E-4,2.5886455208872888E-4,3.2032343973321527E-5,3.2032343973321527E-5,3.2032343973321527E-5,3.2032343973321527E-5,1.9072530055383801E-5,1.9072530055383801E-5,1.9072530055383801E-5,1.9072530055383801E-5,6.3767316055212042E-8,6.3767316055212042E-8,6.3767316055212042E-8,6.3767316055212042E-8,2.1757577363838761E-4,2.6084941084909119E-4,3.1867962703015728E-4,1.0911972893275623E-3]
[]
[null,"CLAUSULAS ADICIONALES",null,null,null,null,null,null,null,null,null,null,null,null,null,null,null,null,null,null,null,null,null,null,null,null,null,null,null,null,null,null,null,null,null,null,null,null,null,null,null,null,null,null,null,null,null,null,null,null,null,null,null,null,null,null,null,null,null,null,null,null,null,null,null,null,null,null,null,null,null,null,null,null,null,null,null,null,null,null,null,null,null,null,null,null,null,null,null,null,null,null,null,null,null,null,null,null,null,null,null,null,null,null,null,null,null,null,null,null,null,null,null,null,null,null,null,null,null,null,null,null,null,null,null,null,null,null,null,null,null,null,null,null,null,null,null,null,null,null,null,null,null,null,null,null,null,null,null,null,null,null,null,null,null,null,null,null,null,null,null,null,null,null,null,null,null,null,null,null,null,null,null,null,null,null,null,null,null,"CLAUSULAS ADICIONALES"]
[null,"Descripcion Clausula","COD","RANGO","GASTOS DE CURACIÓN",null,null,null,"MUERTE ACCIDENTAL",null,null,null,"GASTOS DE SEPELIO",null,null,null,"INVALIDEZ PERMANENTE",null,null,null,"INCAPACIDAD TEMPORAL",null,null,null,"DESAMPARO SÚBITO FAMILIAR",null,null,null,"RENTA HOSPITALARIA DIARIA X ACC",null,null,null,"REPATRIACIÓN DE RESTOS MORTALES",null,null,null,"Límite agregado anual por GC x Acc",null,null,null,null,"GASTOS DE CURACIÓN",null,null,null,"MUERTE ACCIDENTAL",null,null,null,"GASTOS DE SEPELIO",null,null,null,"INVALIDEZ PERMANENTE",null,null,null,"INCAPACIDAD TEMPORAL",null,null,null,"DESAMPARO SÚBITO FAMILIAR",null,null,null,"RENTA HOSPITALARIA DIARIA X ACC",null,null,null,"REPATRIACIÓN DE RESTOS MORTALES",null,null,null,"Límite agregado anual por GC x Acc",null,null,null,null,null,null,null,null,null,null,null,null,null,null,null,null,null,null,null,null,null,null,null,null,null,null,null,null,null,null,null,null,null,null,null,null,null,null,null,null,null,null,null,null,null,null,null,null,null,null,null,null,null,null,null,null,null,null,null,null,null,null,null,null,null,null,null,null,null,null,null,null,null,null,null,null,null,null,null,null,null,null,null,null,null,null,null,null,null,null,null,null,null,null,null,null,null,null,null,null,null,null,null,null,null,"Descripcion Clausula","COD","RANGO","GASTOS DE CURACIÓN",null,null,null,"MUERTE ACCIDENTAL",null,null,null,"GASTOS DE SEPELIO",null,null,null,"INVALIDEZ PERMANENTE",null,null,null,"INCAPACIDAD TEMPORAL",null,null,null,"DESAMPARO SÚBITO FAMILIAR",null,null,null,"RENTA HOSPITALARIA DIARIA X ACC",null,null,null,"REPATRIACIÓN DE RESTOS MORTALES",null,null,null,"Límite agregado anual por GC x Acc"]
[null,"Cláusula por la cobertura de Terrorismo y otros riesgos. ",0,"ASEG","Grupo1","Grupo2","Grupo3","Grupo4","Grupo1","Grupo2","Grupo3","Grupo4","Grupo1","Grupo2","Grupo3","Grupo4","Grupo1","Grupo2","Grupo3","Grupo4","Grupo1","Grupo2","Grupo3","Grupo4","Grupo1","Grupo2","Grupo3","Grupo4","Grupo1","Grupo2","Grupo3","Grupo4","Grupo1","Grupo2","Grupo3","Grupo4","Grupo1","Grupo2","Grupo3","Grupo4",null,"Grupo1","Grupo2","Grupo3","Grupo4","Grupo1","Grupo2","Grupo3","Grupo4","Grupo1","Grupo2","Grupo3","Grupo4","Grupo1","Grupo2","Grupo3","Grupo4","Grupo1","Grupo2","Grupo3","Grupo4","Grupo1","Grupo2","Grupo3","Grupo4","Grupo1","Grupo2","Grupo3","Grupo4","Grupo1","Grupo2","Grupo3","Grupo4","Grupo1","Grupo2","Grupo3","Grupo4",null,null,null,null,null,null,null,null,null,null,null,null,null,null,null,null,null,null,null,null,null,null,null,null,null,null,null,null,null,null,null,null,null,null,null,null,null,null,null,null,null,null,null,null,null,null,null,null,null,null,null,null,null,null,null,null,null,null,null,null,null,null,null,null,null,null,null,null,null,null,null,null,null,null,null,null,null,null,null,null,null,null,null,null,null,null,null,null,null,null,null,null,null,null,null,null,null,null,null,null,null,null,"Cláusula por la cobertura de Terrorismo y otros riesgos. ",0,"ASEG","Grupo1","Grupo2","Grupo3","Grupo4","Grupo1","Grupo2","Grupo3","Grupo4","Grupo1","Grupo2","Grupo3","Grupo4","Grupo1","Grupo2","Grupo3","Grupo4","Grupo1","Grupo2","Grupo3","Grupo4","Grupo1","Grupo2","Grupo3","Grupo4","Grupo1","Grupo2","Grupo3","Grupo4","Grupo1","Grupo2","Grupo3","Grupo4","Grupo1","Grupo2","Grupo3","Grupo4"]
[null,"Editoriales",1,"1-50",3.3923163535415606E-4,4.0286483441756869E-4,5.0358104302196079E-4,6.688170668642993E-4,3.7749871796352718E-7,4.4831007092380739E-7,5.6038758865475937E-7,7.4426309040963811E-7,0,0,0,0,0,0,0,0,0,0,0,0,0,0,0,0,0,0,0,0,0,0,0,0,0,0,0,0,null,3.3923163535415606E-4,4.0286483441756869E-4,5.0358104302196079E-4,6.688170668642993E-4,3.7749871796352718E-7,4.4831007092380739E-7,5.6038758865475937E-7,7.4426309040963811E-7,0,0,0,0,0,0,0,0,0,0,0,0,0,0,0,0,0,0,0,0,0,0,0,0,0,0,0,0,null,null,null,null,null,null,null,null,null,null,null,null,null,null,null,null,null,null,null,null,null,null,null,null,null,null,null,null,null,null,null,null,null,null,null,null,null,null,null,null,null,null,null,null,null,null,null,null,null,null,null,null,null,null,null,null,null,null,null,null,null,null,null,null,null,null,null,null,null,null,null,null,null,null,null,null,null,null,null,null,null,null,null,null,null,null,null,null,null,null,null,null,null,null,null,null,null,null,null,null,null,null,"Editoriales",1,"1-50",8.8617991673441845E-5,1.6785432674310365E-4,2.3594819776299328E-4,3.7034407755173569E-4,1.2593045511968358E-5,2.3852912215005672E-5,3.3529380849044491E-5,5.2627685818958152E-5,1.2593045511968358E-5,2.3852912215005672E-5,3.3529380849044491E-5,5.2627685818958152E-5,7.2328578564688957E-6,1.3700000000000011E-5,1.9257712160737129E-5,3.0226887569147741E-5,7.2328578564688957E-6,1.3700000000000011E-5,1.9257712160737129E-5,3.0226887569147741E-5,1.2593045511968368E-5,2.3852912215005689E-5,3.3529380849044518E-5,5.2627685818958193E-5,8.8617991673441845E-5,1.6785432674310365E-4,2.3594819776299328E-4,3.7034407755173569E-4,1.2593045511968358E-5,2.3852912215005672E-5,3.3529380849044491E-5,5.2627685818958152E-5,4.4308995836720923E-5,8.3927163371551826E-5,1.1797409888149664E-4,1.8517203877586785E-4]
[null,"Alimentos y Bebidas",2,"1-50",3.3923163535415606E-4,4.0286483441756869E-4,5.0358104302196079E-4,6.688170668642993E-4,3.7749871796352718E-7,4.4831007092380739E-7,5.6038758865475937E-7,7.4426309040963811E-7,0,0,0,0,0,0,0,0,0,0,0,0,0,0,0,0,0,0,0,0,0,0,0,0,0,0,0,0,null,3.3923163535415606E-4,4.0286483441756869E-4,5.0358104302196079E-4,6.688170668642993E-4,3.7749871796352718E-7,4.4831007092380739E-7,5.6038758865475937E-7,7.4426309040963811E-7,0,0,0,0,0,0,0,0,0,0,0,0,0,0,0,0,0,0,0,0,0,0,0,0,0,0,0,0,null,null,null,null,null,null,null,null,null,null,null,null,null,null,null,null,null,null,null,null,null,null,null,null,null,null,null,null,null,null,null,null,null,null,null,null,null,null,null,null,null,null,null,null,null,null,null,null,null,null,null,null,null,null,null,null,null,null,null,null,null,null,null,null,null,null,null,null,null,null,null,null,null,null,null,null,null,null,null,null,null,null,null,null,null,null,null,null,null,null,null,null,null,null,null,null,null,null,null,null,null,null,"Alimentos y Bebidas",2,"1-50",8.8617991673441845E-5,1.6785432674310365E-4,2.3594819776299328E-4,3.7034407755173569E-4,1.2593045511968358E-5,2.3852912215005672E-5,3.3529380849044491E-5,5.2627685818958152E-5,1.2593045511968358E-5,2.3852912215005672E-5,3.3529380849044491E-5,5.2627685818958152E-5,7.2328578564688957E-6,1.3700000000000011E-5,1.9257712160737129E-5,3.0226887569147741E-5,7.2328578564688957E-6,1.3700000000000011E-5,1.9257712160737129E-5,3.0226887569147741E-5,1.2593045511968368E-5,2.3852912215005689E-5,3.3529380849044518E-5,5.2627685818958193E-5,8.8617991673441845E-5,1.6785432674310365E-4,2.3594819776299328E-4,3.7034407755173569E-4,1.2593045511968358E-5,2.3852912215005672E-5,3.3529380849044491E-5,5.2627685818958152E-5,4.4308995836720923E-5,8.3927163371551826E-5,1.1797409888149664E-4,1.8517203877586785E-4]
[null,"Hoteles",3,"1-50",3.3923163535415606E-4,4.0286483441756869E-4,5.0358104302196079E-4,6.688170668642993E-4,3.7749871796352718E-7,4.4831007092380739E-7,5.6038758865475937E-7,7.4426309040963811E-7,0,0,0,0,0,0,0,0,0,0,0,0,0,0,0,0,0,0,0,0,0,0,0,0,0,0,0,0,null,3.3923163535415606E-4,4.0286483441756869E-4,5.0358104302196079E-4,6.688170668642993E-4,3.7749871796352718E-7,4.4831007092380739E-7,5.6038758865475937E-7,7.4426309040963811E-7,0,0,0,0,0,0,0,0,0,0,0,0,0,0,0,0,0,0,0,0,0,0,0,0,0,0,0,0,null,null,null,null,null,null,null,null,null,null,null,null,null,null,null,null,null,null,null,null,null,null,null,null,null,null,null,null,null,null,null,null,null,null,null,null,null,null,null,null,null,null,null,null,null,null,null,null,null,null,null,null,null,null,null,null,null,null,null,null,null,null,null,null,null,null,null,null,null,null,null,null,null,null,null,null,null,null,null,null,null,null,null,null,null,null,null,null,null,null,null,null,null,null,null,null,null,null,null,null,null,null,"Hoteles",3,"1-50",3.0083899092010579E-5,5.6982927874343505E-5,8.0099330151835429E-5,1.257238360743526E-4,2.3852912215005672E-5,4.5180605485466559E-5,6.3509131072038739E-5,9.9683874621548391E-5,2.3852912215005672E-5,4.5180605485466559E-5,6.3509131072038739E-5,9.9683874621548391E-5,1.3700000000000011E-5,2.5949632043734297E-5,3.6476682085786345E-5,5.7253767171292519E-5,1.3700000000000011E-5,2.5949632043734297E-5,3.6476682085786345E-5,5.7253767171292519E-5,2.3852912215005689E-5,4.5180605485466593E-5,6.3509131072038793E-5,9.9683874621548445E-5,3.0083899092010579E-5,5.6982927874343505E-5,8.0099330151835429E-5,1.257238360743526E-4,2.3852912215005672E-5,4.5180605485466559E-5,6.3509131072038739E-5,9.9683874621548391E-5,1.504194954600529E-5,2.8491463937171753E-5,4.0049665075917715E-5,6.2861918037176301E-5]
[null,"Salud",4,"1-50",2.5616675614230444E-3,3.0421861359956688E-3,3.8027326699945864E-3,5.0504929557165868E-3,1.3865906127429998E-6,1.6466878067680197E-6,2.0583597584600248E-6,2.733752898924564E-6,0,0,0,0,0,0,0,0,0,0,0,0,0,0,0,0,0,0,0,0,0,0,0,0,0,0,0,0,null,2.5616675614230444E-3,3.0421861359956688E-3,3.8027326699945864E-3,5.0504929557165868E-3,1.3865906127429998E-6,1.6466878067680197E-6,2.0583597584600248E-6,2.733752898924564E-6,0,0,0,0,0,0,0,0,0,0,0,0,0,0,0,0,0,0,0,0,0,0,0,0,0,0,0,0,null,null,null,null,null,null,null,null,null,null,null,null,null,null,null,null,null,null,null,null,null,null,null,null,null,null,null,null,null,null,null,null,null,null,null,null,null,null,null,null,null,null,null,null,null,null,null,null,null,null,null,null,null,null,null,null,null,null,null,null,null,null,null,null,null,null,null,null,null,null,null,null,null,null,null,null,null,null,null,null,null,null,null,null,null,null,null,null,null,null,null,null,null,null,null,null,null,null,null,null,null,null,"Salud",4,"1-50",1.8576289780965037E-4,3.518597697473159E-4,4.9459957421438196E-4,7.7632304381447591E-4,8.9587341462976443E-6,1.6969040487157754E-5,2.3852912215005672E-5,3.7439509413257886E-5,8.9587341462976443E-6,1.6969040487157754E-5,2.3852912215005672E-5,3.7439509413257886E-5,5.1454789544341872E-6,9.7462252230909075E-6,1.3700000000000011E-5,2.1503507594303684E-5,5.1454789544341872E-6,9.7462252230909075E-6,1.3700000000000011E-5,2.1503507594303684E-5,8.9587341462976511E-6,1.6969040487157768E-5,2.3852912215005689E-5,3.743950941325792E-5,1.8576289780965037E-4,3.518597697473159E-4,4.9459957421438196E-4,7.7632304381447591E-4,8.9587341462976443E-6,1.6969040487157754E-5,2.3852912215005672E-5,3.7439509413257886E-5,9.2881448904825185E-5,1.7592988487365795E-4,2.4729978710719098E-4,3.8816152190723795E-4]
[null,"AgroIndustria",5,"1-50",3.3923163535415606E-4,4.0286483441756869E-4,5.0358104302196079E-4,6.688170668642993E-4,3.7749871796352718E-7,4.4831007092380739E-7,5.6038758865475937E-7,7.4426309040963811E-7,0,0,0,0,0,0,0,0,0,0,0,0,0,0,0,0,0,0,0,0,0,0,0,0,0,0,0,0,null,3.3923163535415606E-4,4.0286483441756869E-4,5.0358104302196079E-4,6.688170668642993E-4,3.7749871796352718E-7,4.4831007092380739E-7,5.6038758865475937E-7,7.4426309040963811E-7,0,0,0,0,0,0,0,0,0,0,0,0,0,0,0,0,0,0,0,0,0,0,0,0,0,0,0,0,null,null,null,null,null,null,null,null,null,null,null,null,null,null,null,null,null,null,null,null,null,null,null,null,null,null,null,null,null,null,null,null,null,null,null,null,null,null,null,null,null,null,null,null,null,null,null,null,null,null,null,null,null,null,null,null,null,null,null,null,null,null,null,null,null,null,null,null,null,null,null,null,null,null,null,null,null,null,null,null,null,null,null,null,null,null,null,null,null,null,null,null,null,null,null,null,null,null,null,null,null,null,"AgroIndustria",5,"1-50",8.8617991673441845E-5,1.6785432674310365E-4,2.3594819776299328E-4,3.7034407755173569E-4,1.2593045511968358E-5,2.3852912215005672E-5,3.3529380849044491E-5,5.2627685818958152E-5,1.2593045511968358E-5,2.3852912215005672E-5,3.3529380849044491E-5,5.2627685818958152E-5,7.2328578564688957E-6,1.3700000000000011E-5,1.9257712160737129E-5,3.0226887569147741E-5,7.2328578564688957E-6,1.3700000000000011E-5,1.9257712160737129E-5,3.0226887569147741E-5,1.2593045511968368E-5,2.3852912215005689E-5,3.3529380849044518E-5,5.2627685818958193E-5,8.8617991673441845E-5,1.6785432674310365E-4,2.3594819776299328E-4,3.7034407755173569E-4,1.2593045511968358E-5,2.3852912215005672E-5,3.3529380849044491E-5,5.2627685818958152E-5,4.4308995836720923E-5,8.3927163371551826E-5,1.1797409888149664E-4,1.8517203877586785E-4]
[null,"Mineras",6,"1-50",2.2641952743806528E-4,2.6889138843142038E-4,3.3611423553927552E-4,4.4640071396593689E-4,3.3079577669532448E-5,3.9284657418599518E-5,4.9105821773249395E-5,6.5218522697474643E-5,0,0,0,0,0,0,0,0,0,0,0,0,0,0,0,0,0,0,0,0,0,0,0,0,0,0,0,0,null,2.2641952743806528E-4,2.6889138843142038E-4,3.3611423553927552E-4,4.4640071396593689E-4,3.3079577669532448E-5,3.9284657418599518E-5,4.9105821773249395E-5,6.5218522697474643E-5,0,0,0,0,0,0,0,0,0,0,0,0,0,0,0,0,0,0,0,0,0,0,0,0,0,0,0,0,null,null,null,null,null,null,null,null,null,null,null,null,null,null,null,null,null,null,null,null,null,null,null,null,null,null,null,null,null,null,null,null,null,null,null,null,null,null,null,null,null,null,null,null,null,null,null,null,null,null,null,null,null,null,null,null,null,null,null,null,null,null,null,null,null,null,null,null,null,null,null,null,null,null,null,null,null,null,null,null,null,null,null,null,null,null,null,null,null,null,null,null,null,null,null,null,null,null,null,null,null,null,"Mineras",6,"1-50",9.3449011023395595E-5,1.770049234239404E-4,2.488109391482877E-4,3.9053342478255726E-4,2.3852912215005672E-5,4.5180605485466559E-5,6.3509131072038739E-5,9.9683874621548391E-5,2.3852912215005672E-5,4.5180605485466559E-5,6.3509131072038739E-5,9.9683874621548391E-5,1.3700000000000011E-5,2.5949632043734297E-5,3.6476682085786345E-5,5.7253767171292519E-5,1.3700000000000011E-5,2.5949632043734297E-5,3.6476682085786345E-5,5.7253767171292519E-5,2.3852912215005689E-5,4.5180605485466593E-5,6.3509131072038793E-5,9.9683874621548445E-5,9.3449011023395595E-5,1.770049234239404E-4,2.488109391482877E-4,3.9053342478255726E-4,2.3852912215005672E-5,4.5180605485466559E-5,6.3509131072038739E-5,9.9683874621548391E-5,4.6724505511697797E-5,8.8502461711970198E-5,1.2440546957414385E-4,1.9526671239127863E-4]
[null,"Hidrocarburos",7,"1-50",2.4838040055376234E-4,2.9497169047101065E-4,3.6871461308876332E-4,4.8969799291129679E-4,3.0216148575344227E-5,3.5884105206857065E-5,4.4855131508571336E-5,5.9573087400882986E-5,0,0,0,0,0,0,0,0,0,0,0,0,0,0,0,0,0,0,0,0,0,0,0,0,0,0,0,0,null,2.4838040055376234E-4,2.9497169047101065E-4,3.6871461308876332E-4,4.8969799291129679E-4,3.0216148575344227E-5,3.5884105206857065E-5,4.4855131508571336E-5,5.9573087400882986E-5,0,0,0,0,0,0,0,0,0,0,0,0,0,0,0,0,0,0,0,0,0,0,0,0,0,0,0,0,null,null,null,null,null,null,null,null,null,null,null,null,null,null,null,null,null,null,null,null,null,null,null,null,null,null,null,null,null,null,null,null,null,null,null,null,null,null,null,null,null,null,null,null,null,null,null,null,null,null,null,null,null,null,null,null,null,null,null,null,null,null,null,null,null,null,null,null,null,null,null,null,null,null,null,null,null,null,null,null,null,null,null,null,null,null,null,null,null,null,null,null,null,null,null,null,null,null,null,null,null,null,"Hidrocarburos",7,"1-50",1.220103261270426E-4,2.3110387361553094E-4,3.2485634141016354E-4,5.0989421931176341E-4,2.3852912215005672E-5,4.5180605485466559E-5,6.3509131072038739E-5,9.9683874621548391E-5,2.3852912215005672E-5,4.5180605485466559E-5,6.3509131072038739E-5,9.9683874621548391E-5,1.3700000000000011E-5,2.5949632043734297E-5,3.6476682085786345E-5,5.7253767171292519E-5,1.3700000000000011E-5,2.5949632043734297E-5,3.6476682085786345E-5,5.7253767171292519E-5,2.3852912215005689E-5,4.5180605485466593E-5,6.3509131072038793E-5,9.9683874621548445E-5,1.220103261270426E-4,2.3110387361553094E-4,3.2485634141016354E-4,5.0989421931176341E-4,2.3852912215005672E-5,4.5180605485466559E-5,6.3509131072038739E-5,9.9683874621548391E-5,6.10051630635213E-5,1.1555193680776547E-4,1.6242817070508177E-4,2.549471096558817E-4]
[null,"Telecomunicaciones",8,"1-50",3.3923163535415606E-4,4.0286483441756869E-4,5.0358104302196079E-4,6.688170668642993E-4,3.7749871796352718E-7,4.4831007092380739E-7,5.6038758865475937E-7,7.4426309040963811E-7,0,0,0,0,0,0,0,0,0,0,0,0,0,0,0,0,0,0,0,0,0,0,0,0,0,0,0,0,null,3.3923163535415606E-4,4.0286483441756869E-4,5.0358104302196079E-4,6.688170668642993E-4,3.7749871796352718E-7,4.4831007092380739E-7,5.6038758865475937E-7,7.4426309040963811E-7,0,0,0,0,0,0,0,0,0,0,0,0,0,0,0,0,0,0,0,0,0,0,0,0,0,0,0,0,null,null,null,null,null,null,null,null,null,null,null,null,null,null,null,null,null,null,null,null,null,null,null,null,null,null,null,null,null,null,null,null,null,null,null,null,null,null,null,null,null,null,null,null,null,null,null,null,null,null,null,null,null,null,null,null,null,null,null,null,null,null,null,null,null,null,null,null,null,null,null,null,null,null,null,null,null,null,null,null,null,null,null,null,null,null,null,null,null,null,null,null,null,null,null,null,null,null,null,null,null,null,"Telecomunicaciones",8,"1-50",8.8617991673441845E-5,1.6785432674310365E-4,2.3594819776299328E-4,3.7034407755173569E-4,1.2593045511968358E-5,2.3852912215005672E-5,3.3529380849044491E-5,5.2627685818958152E-5,1.2593045511968358E-5,2.3852912215005672E-5,3.3529380849044491E-5,5.2627685818958152E-5,7.2328578564688957E-6,1.3700000000000011E-5,1.9257712160737129E-5,3.0226887569147741E-5,7.2328578564688957E-6,1.3700000000000011E-5,1.9257712160737129E-5,3.0226887569147741E-5,1.2593045511968368E-5,2.3852912215005689E-5,3.3529380849044518E-5,5.2627685818958193E-5,8.8617991673441845E-5,1.6785432674310365E-4,2.3594819776299328E-4,3.7034407755173569E-4,1.2593045511968358E-5,2.3852912215005672E-5,3.3529380849044491E-5,5.2627685818958152E-5,4.4308995836720923E-5,8.3927163371551826E-5,1.1797409888149664E-4,1.8517203877586785E-4]
[null,"Plasticos y Cauchos",9,"1-50",3.3923163535415606E-4,4.0286483441756869E-4,5.0358104302196079E-4,6.688170668642993E-4,3.7749871796352718E-7,4.4831007092380739E-7,5.6038758865475937E-7,7.4426309040963811E-7,0,0,0,0,0,0,0,0,0,0,0,0,0,0,0,0,0,0,0,0,0,0,0,0,0,0,0,0,null,3.3923163535415606E-4,4.0286483441756869E-4,5.0358104302196079E-4,6.688170668642993E-4,3.7749871796352718E-7,4.4831007092380739E-7,5.6038758865475937E-7,7.4426309040963811E-7,0,0,0,0,0,0,0,0,0,0,0,0,0,0,0,0,0,0,0,0,0,0,0,0,0,0,0,0,null,null,null,null,null,null,null,null,null,null,null,null,null,null,null,null,null,null,null,null,null,null,null,null,null,null,null,null,null,null,null,null,null,null,null,null,null,null,null,null,null,null,null,null,null,null,null,null,null,null,null,null,null,null,null,null,null,null,null,null,null,null,null,null,null,null,null,null,null,null,null,null,null,null,null,null,null,null,null,null,null,null,null,null,null,null,null,null,null,null,null,null,null,null,null,null,null,null,null,null,null,null,"Plasticos y Cauchos",9,"1-50",8.8617991673441845E-5,1.6785432674310365E-4,2.3594819776299328E-4,3.7034407755173569E-4,1.2593045511968358E-5,2.3852912215005672E-5,3.3529380849044491E-5,5.2627685818958152E-5,1.2593045511968358E-5,2.3852912215005672E-5,3.3529380849044491E-5,5.2627685818958152E-5,7.2328578564688957E-6,1.3700000000000011E-5,1.9257712160737129E-5,3.0226887569147741E-5,7.2328578564688957E-6,1.3700000000000011E-5,1.9257712160737129E-5,3.0226887569147741E-5,1.2593045511968368E-5,2.3852912215005689E-5,3.3529380849044518E-5,5.2627685818958193E-5,8.8617991673441845E-5,1.6785432674310365E-4,2.3594819776299328E-4,3.7034407755173569E-4,1.2593045511968358E-5,2.3852912215005672E-5,3.3529380849044491E-5,5.2627685818958152E-5,4.4308995836720923E-5,8.3927163371551826E-5,1.1797409888149664E-4,1.8517203877586785E-4]
[null,"Instituciones Financieras",10,"1-50",6.151953448837082E-4,7.3059392144335215E-4,9.1324240180419027E-4,1.2128973339533557E-3,1.3964429129886273E-6,1.6583882052374695E-6,2.0729852565468375E-6,2.7531773448352987E-6,0,0,0,0,0,0,0,0,0,0,0,0,0,0,0,0,0,0,0,0,0,0,0,0,0,0,0,0,null,6.151953448837082E-4,7.3059392144335215E-4,9.1324240180419027E-4,1.2128973339533557E-3,1.3964429129886273E-6,1.6583882052374695E-6,2.0729852565468375E-6,2.7531773448352987E-6,0,0,0,0,0,0,0,0,0,0,0,0,0,0,0,0,0,0,0,0,0,0,0,0,0,0,0,0,null,null,null,null,null,null,null,null,null,null,null,null,null,null,null,null,null,null,null,null,null,null,null,null,null,null,null,null,null,null,null,null,null,null,null,null,null,null,null,null,null,null,null,null,null,null,null,null,null,null,null,null,null,null,null,null,null,null,null,null,null,null,null,null,null,null,null,null,null,null,null,null,null,null,null,null,null,null,null,null,null,null,null,null,null,null,null,null,null,null,null,null,null,null,null,null,null,null,null,null,null,null,"Instituciones Financieras",10,"1-50",6.8469277515940063E-5,1.2968996772547245E-4,1.823016108461622E-4,2.8614044330541917E-4,2.3852912215005672E-5,4.5180605485466559E-5,6.3509131072038739E-5,9.9683874621548391E-5,2.3852912215005672E-5,4.5180605485466559E-5,6.3509131072038739E-5,9.9683874621548391E-5,1.3700000000000011E-5,2.5949632043734297E-5,3.6476682085786345E-5,5.7253767171292519E-5,1.3700000000000011E-5,2.5949632043734297E-5,3.6476682085786345E-5,5.7253767171292519E-5,2.3852912215005689E-5,4.5180605485466593E-5,6.3509131072038793E-5,9.9683874621548445E-5,6.8469277515940063E-5,1.2968996772547245E-4,1.823016108461622E-4,2.8614044330541917E-4,2.3852912215005672E-5,4.5180605485466559E-5,6.3509131072038739E-5,9.9683874621548391E-5,3.4234638757970031E-5,6.4844983862736227E-5,9.1150805423081101E-5,1.4307022165270958E-4]
[null,"Quimicas",11,"1-50",3.3923163535415606E-4,4.0286483441756869E-4,5.0358104302196079E-4,6.688170668642993E-4,3.7749871796352718E-7,4.4831007092380739E-7,5.6038758865475937E-7,7.4426309040963811E-7,0,0,0,0,0,0,0,0,0,0,0,0,0,0,0,0,0,0,0,0,0,0,0,0,0,0,0,0,null,3.3923163535415606E-4,4.0286483441756869E-4,5.0358104302196079E-4,6.688170668642993E-4,3.7749871796352718E-7,4.4831007092380739E-7,5.6038758865475937E-7,7.4426309040963811E-7,0,0,0,0,0,0,0,0,0,0,0,0,0,0,0,0,0,0,0,0,0,0,0,0,0,0,0,0,null,null,null,null,null,null,null,null,null,null,null,null,null,null,null,null,null,null,null,null,null,null,null,null,null,null,null,null,null,null,null,null,null,null,null,null,null,null,null,null,null,null,null,null,null,null,null,null,null,null,null,null,null,null,null,null,null,null,null,null,null,null,null,null,null,null,null,null,null,null,null,null,null,null,null,null,null,null,null,null,null,null,null,null,null,null,null,null,null,null,null,null,null,null,null,null,null,null,null,null,null,null,"Quimicas",11,"1-50",8.8617991673441845E-5,1.6785432674310365E-4,2.3594819776299328E-4,3.7034407755173569E-4,1.2593045511968358E-5,2.3852912215005672E-5,3.3529380849044491E-5,5.2627685818958152E-5,1.2593045511968358E-5,2.3852912215005672E-5,3.3529380849044491E-5,5.2627685818958152E-5,7.2328578564688957E-6,1.3700000000000011E-5,1.9257712160737129E-5,3.0226887569147741E-5,7.2328578564688957E-6,1.3700000000000011E-5,1.9257712160737129E-5,3.0226887569147741E-5,1.2593045511968368E-5,2.3852912215005689E-5,3.3529380849044518E-5,5.2627685818958193E-5,8.8617991673441845E-5,1.6785432674310365E-4,2.3594819776299328E-4,3.7034407755173569E-4,1.2593045511968358E-5,2.3852912215005672E-5,3.3529380849044491E-5,5.2627685818958152E-5,4.4308995836720923E-5,8.3927163371551826E-5,1.1797409888149664E-4,1.8517203877586785E-4]
[null,"Comercio",12,"1-50",1.0182821053196682E-4,1.2092918495697001E-4,1.5116148119621251E-4,2.0076089018328057E-4,3.81176501430688E-6,4.5267773441124889E-6,5.6584716801406107E-6,7.5151407791998795E-6,0,0,0,0,0,0,0,0,0,0,0,0,0,0,0,0,0,0,0,0,0,0,0,0,0,0,0,0,null,1.0182821053196682E-4,1.2092918495697001E-4,1.5116148119621251E-4,2.0076089018328057E-4,3.81176501430688E-6,4.5267773441124889E-6,5.6584716801406107E-6,7.5151407791998795E-6,0,0,0,0,0,0,0,0,0,0,0,0,0,0,0,0,0,0,0,0,0,0,0,0,0,0,0,0,null,null,null,null,null,null,null,null,null,null,null,null,null,null,null,null,null,null,null,null,null,null,null,null,null,null,null,null,null,null,null,null,null,null,null,null,null,null,null,null,null,null,null,null,null,null,null,null,null,null,null,null,null,null,null,null,null,null,null,null,null,null,null,null,null,null,null,null,null,null,null,null,null,null,null,null,null,null,null,null,null,null,null,null,null,null,null,null,null,null,null,null,null,null,null,null,null,null,null,null,null,null,"Comercio",12,"1-50",7.8222302821457062E-5,1.4816350188542833E-4,2.0826934832382448E-4,3.2689938053591508E-4,2.3852912215005672E-5,4.5180605485466559E-5,6.3509131072038752E-5,9.9683874621548391E-5,2.3852912215005672E-5,4.5180605485466559E-5,6.3509131072038752E-5,9.9683874621548391E-5,1.3700000000000011E-5,2.5949632043734297E-5,3.6476682085786352E-5,5.7253767171292519E-5,1.3700000000000011E-5,2.5949632043734297E-5,3.6476682085786352E-5,5.7253767171292519E-5,2.3852912215005689E-5,4.5180605485466599E-5,6.3509131072038807E-5,9.9683874621548445E-5,7.8222302821457062E-5,1.4816350188542833E-4,2.0826934832382448E-4,3.2689938053591508E-4,2.3852912215005672E-5,4.5180605485466559E-5,6.3509131072038752E-5,9.9683874621548391E-5,3.9111151410728531E-5,7.4081750942714164E-5,1.0413467416191224E-4,1.6344969026795754E-4]
[null,"Educación",13,"1-50",4.1870387340105453E-4,4.9724450507573773E-4,6.2155563134467238E-4,8.2550171419141908E-4,1.409623162791238E-6,1.6740408113063802E-6,2.0925510141329753E-6,2.7791630581203168E-6,0,0,0,0,0,0,0,0,0,0,0,0,0,0,0,0,0,0,0,0,0,0,0,0,0,0,0,0,null,4.1870387340105453E-4,4.9724450507573773E-4,6.2155563134467238E-4,8.2550171419141908E-4,1.409623162791238E-6,1.6740408113063802E-6,2.0925510141329753E-6,2.7791630581203168E-6,0,0,0,0,0,0,0,0,0,0,0,0,0,0,0,0,0,0,0,0,0,0,0,0,0,0,0,0,null,null,null,null,null,null,null,null,null,null,null,null,null,null,null,null,null,null,null,null,null,null,null,null,null,null,null,null,null,null,null,null,null,null,null,null,null,null,null,null,null,null,null,null,null,null,null,null,null,null,null,null,null,null,null,null,null,null,null,null,null,null,null,null,null,null,null,null,null,null,null,null,null,null,null,null,null,null,null,null,null,null,null,null,null,null,null,null,null,null,null,null,null,null,null,null,null,null,null,null,null,null,"Educación",13,"1-50",1.7971892700732584E-4,3.4041168081276184E-4,4.7850731133174335E-4,7.5106464256583579E-4,1.2593045511968358E-5,2.3852912215005672E-5,3.3529380849044491E-5,5.2627685818958152E-5,1.2593045511968358E-5,2.3852912215005672E-5,3.3529380849044491E-5,5.2627685818958152E-5,7.2328578564688957E-6,1.3700000000000011E-5,1.9257712160737129E-5,3.0226887569147741E-5,7.2328578564688957E-6,1.3700000000000011E-5,1.9257712160737129E-5,3.0226887569147741E-5,1.2593045511968368E-5,2.3852912215005689E-5,3.3529380849044518E-5,5.2627685818958193E-5,1.7971892700732584E-4,3.4041168081276184E-4,4.7850731133174335E-4,7.5106464256583579E-4,1.2593045511968358E-5,2.3852912215005672E-5,3.3529380849044491E-5,5.2627685818958152E-5,8.9859463503662922E-5,1.7020584040638092E-4,2.3925365566587167E-4,3.7553232128291789E-4]
[null,"Industria",14,"1-50",3.3923163535415606E-4,4.0286483441756869E-4,5.0358104302196079E-4,6.688170668642993E-4,3.7749871796352718E-7,4.4831007092380739E-7,5.6038758865475937E-7,7.4426309040963811E-7,0,0,0,0,0,0,0,0,0,0,0,0,0,0,0,0,0,0,0,0,0,0,0,0,0,0,0,0,null,3.3923163535415606E-4,4.0286483441756869E-4,5.0358104302196079E-4,6.688170668642993E-4,3.7749871796352718E-7,4.4831007092380739E-7,5.6038758865475937E-7,7.4426309040963811E-7,0,0,0,0,0,0,0,0,0,0,0,0,0,0,0,0,0,0,0,0,0,0,0,0,0,0,0,0,null,null,null,null,null,null,null,null,null,null,null,null,null,null,null,null,null,null,null,null,null,null,null,null,null,null,null,null,null,null,null,null,null,null,null,null,null,null,null,null,null,null,null,null,null,null,null,null,null,null,null,null,null,null,null,null,null,null,null,null,null,null,null,null,null,null,null,null,null,null,null,null,null,null,null,null,null,null,null,null,null,null,null,null,null,null,null,null,null,null,null,null,null,null,null,null,null,null,null,null,null,null,"Industria",14,"1-50",8.8617991673441845E-5,1.6785432674310365E-4,2.3594819776299328E-4,3.7034407755173569E-4,1.2593045511968358E-5,2.3852912215005672E-5,3.3529380849044491E-5,5.2627685818958152E-5,1.2593045511968358E-5,2.3852912215005672E-5,3.3529380849044491E-5,5.2627685818958152E-5,7.2328578564688957E-6,1.3700000000000011E-5,1.9257712160737129E-5,3.0226887569147741E-5,7.2328578564688957E-6,1.3700000000000011E-5,1.9257712160737129E-5,3.0226887569147741E-5,1.2593045511968368E-5,2.3852912215005689E-5,3.3529380849044518E-5,5.2627685818958193E-5,8.8617991673441845E-5,1.6785432674310365E-4,2.3594819776299328E-4,3.7034407755173569E-4,1.2593045511968358E-5,2.3852912215005672E-5,3.3529380849044491E-5,5.2627685818958152E-5,4.4308995836720923E-5,8.3927163371551826E-5,1.1797409888149664E-4,1.8517203877586785E-4]
[null,"Construcción",15,"1-50",1.8676656184154243E-5,2.2180030448068228E-5,2.7725038060085292E-5,3.6822233265120464E-5,5.0378376262221778E-6,5.982837122462759E-6,7.47854640307845E-6,9.9324220778846119E-6,0,0,0,0,0,0,0,0,0,0,0,0,0,0,0,0,0,0,0,0,0,0,0,0,0,0,0,0,null,1.8676656184154243E-5,2.2180030448068228E-5,2.7725038060085292E-5,3.6822233265120464E-5,5.0378376262221778E-6,5.982837122462759E-6,7.47854640307845E-6,9.9324220778846119E-6,0,0,0,0,0,0,0,0,0,0,0,0,0,0,0,0,0,0,0,0,0,0,0,0,0,0,0,0,null,null,null,null,null,null,null,null,null,null,null,null,null,null,null,null,null,null,null,null,null,null,null,null,null,null,null,null,null,null,null,null,null,null,null,null,null,null,null,null,null,null,null,null,null,null,null,null,null,null,null,null,null,null,null,null,null,null,null,null,null,null,null,null,null,null,null,null,null,null,null,null,null,null,null,null,null,null,null,null,null,null,null,null,null,null,null,null,null,null,null,null,null,null,null,null,null,null,null,null,null,null,"Construcción",15,"1-50",1.3763171954117312E-5,2.6069288172553827E-5,3.6644879406010764E-5,5.7517769532809842E-5,2.3852912215005672E-5,4.5180605485466559E-5,6.3509131072038739E-5,9.9683874621548391E-5,2.3852912215005672E-5,4.5180605485466559E-5,6.3509131072038739E-5,9.9683874621548391E-5,1.3700000000000011E-5,2.5949632043734297E-5,3.6476682085786345E-5,5.7253767171292519E-5,1.3700000000000011E-5,2.5949632043734297E-5,3.6476682085786345E-5,5.7253767171292519E-5,2.3852912215005689E-5,4.5180605485466593E-5,6.3509131072038793E-5,9.9683874621548445E-5,1.3763171954117312E-5,2.6069288172553827E-5,3.6644879406010764E-5,5.7517769532809842E-5,2.3852912215005672E-5,4.5180605485466559E-5,6.3509131072038739E-5,9.9683874621548391E-5,6.8815859770586559E-6,1.3034644086276913E-5,1.8322439703005382E-5,2.8758884766404921E-5]
[null,"Pesca",16,"1-50",3.3923163535415606E-4,4.0286483441756869E-4,5.0358104302196079E-4,6.688170668642993E-4,3.7749871796352718E-7,4.4831007092380739E-7,5.6038758865475937E-7,7.4426309040963811E-7,0,0,0,0,0,0,0,0,0,0,0,0,0,0,0,0,0,0,0,0,0,0,0,0,0,0,0,0,null,3.3923163535415606E-4,4.0286483441756869E-4,5.0358104302196079E-4,6.688170668642993E-4,3.7749871796352718E-7,4.4831007092380739E-7,5.6038758865475937E-7,7.4426309040963811E-7,0,0,0,0,0,0,0,0,0,0,0,0,0,0,0,0,0,0,0,0,0,0,0,0,0,0,0,0,null,null,null,null,null,null,null,null,null,null,null,null,null,null,null,null,null,null,null,null,null,null,null,null,null,null,null,null,null,null,null,null,null,null,null,null,null,null,null,null,null,null,null,null,null,null,null,null,null,null,null,null,null,null,null,null,null,null,null,null,null,null,null,null,null,null,null,null,null,null,null,null,null,null,null,null,null,null,null,null,null,null,null,null,null,null,null,null,null,null,null,null,null,null,null,null,null,null,null,null,null,null,"Pesca",16,"1-50",8.8617991673441845E-5,1.6785432674310365E-4,2.3594819776299328E-4,3.7034407755173569E-4,1.2593045511968358E-5,2.3852912215005672E-5,3.3529380849044491E-5,5.2627685818958152E-5,1.2593045511968358E-5,2.3852912215005672E-5,3.3529380849044491E-5,5.2627685818958152E-5,7.2328578564688957E-6,1.3700000000000011E-5,1.9257712160737129E-5,3.0226887569147741E-5,7.2328578564688957E-6,1.3700000000000011E-5,1.9257712160737129E-5,3.0226887569147741E-5,1.2593045511968368E-5,2.3852912215005689E-5,3.3529380849044518E-5,5.2627685818958193E-5,8.8617991673441845E-5,1.6785432674310365E-4,2.3594819776299328E-4,3.7034407755173569E-4,1.2593045511968358E-5,2.3852912215005672E-5,3.3529380849044491E-5,5.2627685818958152E-5,4.4308995836720923E-5,8.3927163371551826E-5,1.1797409888149664E-4,1.8517203877586785E-4]
[null,"Energia y Agua",17,"1-50",2.4838040055376234E-4,2.9497169047101065E-4,3.6871461308876332E-4,4.8969799291129679E-4,3.0216148575344227E-5,3.5884105206857065E-5,4.4855131508571336E-5,5.9573087400882986E-5,0,0,0,0,0,0,0,0,0,0,0,0,0,0,0,0,0,0,0,0,0,0,0,0,0,0,0,0,null,2.4838040055376234E-4,2.9497169047101065E-4,3.6871461308876332E-4,4.8969799291129679E-4,3.0216148575344227E-5,3.5884105206857065E-5,4.4855131508571336E-5,5.9573087400882986E-5,0,0,0,0,0,0,0,0,0,0,0,0,0,0,0,0,0,0,0,0,0,0,0,0,0,0,0,0,null,null,null,null,null,null,null,null,null,null,null,null,null,null,null,null,null,null,null,null,null,null,null,null,null,null,null,null,null,null,null,null,null,null,null,null,null,null,null,null,null,null,null,null,null,null,null,null,null,null,null,null,null,null,null,null,null,null,null,null,null,null,null,null,null,null,null,null,null,null,null,null,null,null,null,null,null,null,null,null,null,null,null,null,null,null,null,null,null,null,null,null,null,null,null,null,null,null,null,null,null,null,"Energia y Agua",17,"1-50",1.220103261270426E-4,2.3110387361553094E-4,3.2485634141016354E-4,5.0989421931176341E-4,2.3852912215005672E-5,4.5180605485466559E-5,6.3509131072038739E-5,9.9683874621548391E-5,2.3852912215005672E-5,4.5180605485466559E-5,6.3509131072038739E-5,9.9683874621548391E-5,1.3700000000000011E-5,2.5949632043734297E-5,3.6476682085786345E-5,5.7253767171292519E-5,1.3700000000000011E-5,2.5949632043734297E-5,3.6476682085786345E-5,5.7253767171292519E-5,2.3852912215005689E-5,4.5180605485466593E-5,6.3509131072038793E-5,9.9683874621548445E-5,1.220103261270426E-4,2.3110387361553094E-4,3.2485634141016354E-4,5.0989421931176341E-4,2.3852912215005672E-5,4.5180605485466559E-5,6.3509131072038739E-5,9.9683874621548391E-5,6.10051630635213E-5,1.1555193680776547E-4,1.6242817070508177E-4,2.549471096558817E-4]
[null,"Textiles",18,"1-50",3.3923163535415606E-4,4.0286483441756869E-4,5.0358104302196079E-4,6.688170668642993E-4,3.7749871796352718E-7,4.4831007092380739E-7,5.6038758865475937E-7,7.4426309040963811E-7,0,0,0,0,0,0,0,0,0,0,0,0,0,0,0,0,0,0,0,0,0,0,0,0,0,0,0,0,null,3.3923163535415606E-4,4.0286483441756869E-4,5.0358104302196079E-4,6.688170668642993E-4,3.7749871796352718E-7,4.4831007092380739E-7,5.6038758865475937E-7,7.4426309040963811E-7,0,0,0,0,0,0,0,0,0,0,0,0,0,0,0,0,0,0,0,0,0,0,0,0,0,0,0,0,null,null,null,null,null,null,null,null,null,null,null,null,null,null,null,null,null,null,null,null,null,null,null,null,null,null,null,null,null,null,null,null,null,null,null,null,null,null,null,null,null,null,null,null,null,null,null,null,null,null,null,null,null,null,null,null,null,null,null,null,null,null,null,null,null,null,null,null,null,null,null,null,null,null,null,null,null,null,null,null,null,null,null,null,null,null,null,null,null,null,null,null,null,null,null,null,null,null,null,null,null,null,"Textiles",18,"1-50",8.8617991673441845E-5,1.6785432674310365E-4,2.3594819776299328E-4,3.7034407755173569E-4,1.2593045511968358E-5,2.3852912215005672E-5,3.3529380849044491E-5,5.2627685818958152E-5,1.2593045511968358E-5,2.3852912215005672E-5,3.3529380849044491E-5,5.2627685818958152E-5,7.2328578564688957E-6,1.3700000000000011E-5,1.9257712160737129E-5,3.0226887569147741E-5,7.2328578564688957E-6,1.3700000000000011E-5,1.9257712160737129E-5,3.0226887569147741E-5,1.2593045511968368E-5,2.3852912215005689E-5,3.3529380849044518E-5,5.2627685818958193E-5,8.8617991673441845E-5,1.6785432674310365E-4,2.3594819776299328E-4,3.7034407755173569E-4,1.2593045511968358E-5,2.3852912215005672E-5,3.3529380849044491E-5,5.2627685818958152E-5,4.4308995836720923E-5,8.3927163371551826E-5,1.1797409888149664E-4,1.8517203877586785E-4]
[null,"Transporte y Aviación",19,"1-50",1.8676656184154243E-5,2.2180030448068228E-5,2.7725038060085292E-5,3.6822233265120464E-5,3.0457768300914971E-6,3.6171048052362765E-6,4.5213810065453456E-6,6.0049456286656483E-6,0,0,0,0,0,0,0,0,0,0,0,0,0,0,0,0,0,0,0,0,0,0,0,0,0,0,0,0,null,1.8676656184154243E-5,2.2180030448068228E-5,2.7725038060085292E-5,3.6822233265120464E-5,3.0457768300914971E-6,3.6171048052362765E-6,4.5213810065453456E-6,6.0049456286656483E-6,0,0,0,0,0,0,0,0,0,0,0,0,0,0,0,0,0,0,0,0,0,0,0,0,0,0,0,0,null,null,null,null,null,null,null,null,null,null,null,null,null,null,null,null,null,null,null,null,null,null,null,null,null,null,null,null,null,null,null,null,null,null,null,null,null,null,null,null,null,null,null,null,null,null,null,null,null,null,null,null,null,null,null,null,null,null,null,null,null,null,null,null,null,null,null,null,null,null,null,null,null,null,null,null,null,null,null,null,null,null,null,null,null,null,null,null,null,null,null,null,null,null,null,null,null,null,null,null,null,null,"Transporte y Aviación",19,"1-50",8.0817685335850579E-5,1.5307950343734463E-4,2.1517963612444787E-4,3.3774576201033328E-4,2.3852912215005672E-5,4.5180605485466559E-5,6.3509131072038739E-5,9.9683874621548391E-5,2.3852912215005672E-5,4.5180605485466559E-5,6.3509131072038739E-5,9.9683874621548391E-5,1.3700000000000011E-5,2.5949632043734297E-5,3.6476682085786345E-5,5.7253767171292519E-5,1.3700000000000011E-5,2.5949632043734297E-5,3.6476682085786345E-5,5.7253767171292519E-5,2.3852912215005689E-5,4.5180605485466593E-5,6.3509131072038793E-5,9.9683874621548445E-5,8.0817685335850579E-5,1.5307950343734463E-4,2.1517963612444787E-4,3.3774576201033328E-4,2.3852912215005672E-5,4.5180605485466559E-5,6.3509131072038739E-5,9.9683874621548391E-5,4.0408842667925289E-5,7.6539751718672315E-5,1.0758981806222394E-4,1.6887288100516664E-4]
[null,"Actividades Deportivas y de Esparcimiento",20,"1-50",1.1115387980746287E-4,1.3200416681879859E-4,1.6500520852349824E-4,2.1914704914181119E-4,1.3865906127429998E-7,1.6466878067680196E-7,2.0583597584600246E-7,2.7337528989245645E-7,0,0,0,0,0,0,0,0,0,0,0,0,0,0,0,0,0,0,0,0,0,0,0,0,0,0,0,0,null,1.1115387980746287E-4,1.3200416681879859E-4,1.6500520852349824E-4,2.1914704914181119E-4,1.3865906127429998E-7,1.6466878067680196E-7,2.0583597584600246E-7,2.7337528989245645E-7,0,0,0,0,0,0,0,0,0,0,0,0,0,0,0,0,0,0,0,0,0,0,0,0,0,0,0,0,null,null,null,null,null,null,null,null,null,null,null,null,null,null,null,null,null,null,null,null,null,null,null,null,null,null,null,null,null,null,null,null,null,null,null,null,null,null,null,null,null,null,null,null,null,null,null,null,null,null,null,null,null,null,null,null,null,null,null,null,null,null,null,null,null,null,null,null,null,null,null,null,null,null,null,null,null,null,null,null,null,null,null,null,null,null,null,null,null,null,null,null,null,null,null,null,null,null,null,null,null,null,"Actividades Deportivas y de Esparcimiento",20,"1-50",1.5212330629321198E-4,2.8814188493322127E-4,4.0503310083913935E-4,6.3573958830939986E-4,1.2593045511968358E-5,2.3852912215005672E-5,3.3529380849044491E-5,5.2627685818958152E-5,1.2593045511968358E-5,2.3852912215005672E-5,3.3529380849044491E-5,5.2627685818958152E-5,7.2328578564688957E-6,1.3700000000000011E-5,1.9257712160737129E-5,3.0226887569147741E-5,7.2328578564688957E-6,1.3700000000000011E-5,1.9257712160737129E-5,3.0226887569147741E-5,1.2593045511968368E-5,2.3852912215005689E-5,3.3529380849044518E-5,5.2627685818958193E-5,1.5212330629321198E-4,2.8814188493322127E-4,4.0503310083913935E-4,6.3573958830939986E-4,1.2593045511968358E-5,2.3852912215005672E-5,3.3529380849044491E-5,5.2627685818958152E-5,7.6061653146605989E-5,1.4407094246661063E-4,2.0251655041956967E-4,3.1786979415469993E-4]
[null,"Estado",21,"1-50",5.1409899339010026E-4,6.1053387792125351E-4,7.6316734740156697E-4,1.0135793511064806E-3,8.3911885919182644E-7,9.9652109365345699E-7,1.2456513670668214E-6,1.6543769969132942E-6,0,0,0,0,0,0,0,0,0,0,0,0,0,0,0,0,0,0,0,0,0,0,0,0,0,0,0,0,null,5.1409899339010026E-4,6.1053387792125351E-4,7.6316734740156697E-4,1.0135793511064806E-3,8.3911885919182644E-7,9.9652109365345699E-7,1.2456513670668214E-6,1.6543769969132942E-6,0,0,0,0,0,0,0,0,0,0,0,0,0,0,0,0,0,0,0,0,0,0,0,0,0,0,0,0,null,null,null,null,null,null,null,null,null,null,null,null,null,null,null,null,null,null,null,null,null,null,null,null,null,null,null,null,null,null,null,null,null,null,null,null,null,null,null,null,null,null,null,null,null,null,null,null,null,null,null,null,null,null,null,null,null,null,null,null,null,null,null,null,null,null,null,null,null,null,null,null,null,null,null,null,null,null,null,null,null,null,null,null,null,null,null,null,null,null,null,null,null,null,null,null,null,null,null,null,null,null,"Estado",21,"1-50",1.1435848559955937E-4,2.1661026440782818E-4,3.0448307467351204E-4,4.7791635829042201E-4,1.2593045511968358E-5,2.3852912215005672E-5,3.3529380849044491E-5,5.2627685818958152E-5,1.2593045511968358E-5,2.3852912215005672E-5,3.3529380849044491E-5,5.2627685818958152E-5,7.2328578564688957E-6,1.3700000000000011E-5,1.9257712160737129E-5,3.0226887569147741E-5,7.2328578564688957E-6,1.3700000000000011E-5,1.9257712160737129E-5,3.0226887569147741E-5,1.2593045511968368E-5,2.3852912215005689E-5,3.3529380849044518E-5,5.2627685818958193E-5,1.1435848559955937E-4,2.1661026440782818E-4,3.0448307467351204E-4,4.7791635829042201E-4,1.2593045511968358E-5,2.3852912215005672E-5,3.3529380849044491E-5,5.2627685818958152E-5,5.7179242799779687E-5,1.0830513220391409E-4,1.5224153733675602E-4,2.3895817914521101E-4]
[null,"Editoriales",22,"50-400",5.9547335554909404E-5,7.0717247385524765E-5,8.839655923190594E-5,1.1740141589047345E-4,7.3372075563994556E-8,8.71352373787384E-8,1.08919046723423E-7,1.4465778322008545E-7,0,0,0,0,0,0,0,0,0,0,0,0,0,0,0,0,0,0,0,0,0,0,0,0,0,0,0,0,null,5.9547335554909404E-5,7.0717247385524765E-5,8.839655923190594E-5,1.1740141589047345E-4,7.3372075563994556E-8,8.71352373787384E-8,1.08919046723423E-7,1.4465778322008545E-7,0,0,0,0,0,0,0,0,0,0,0,0,0,0,0,0,0,0,0,0,0,0,0,0,0,0,0,0,null,null,null,null,null,null,null,null,null,null,null,null,null,null,null,null,null,null,null,null,null,null,null,null,null,null,null,null,null,null,null,null,null,null,null,null,null,null,null,null,null,null,null,null,null,null,null,null,null,null,null,null,null,null,null,null,null,null,null,null,null,null,null,null,null,null,null,null,null,null,null,null,null,null,null,null,null,null,null,null,null,null,null,null,null,null,null,null,null,null,null,null,null,null,null,null,null,null,null,null,null,null,"Editoriales",22,"50-400",1.5856686426009724E-5,2.9964106620261776E-5,4.2071120457997483E-5,6.6033215768568942E-5,1.2622707365642715E-5,2.3852912215005672E-5,3.3490694576322259E-5,5.2565708664817274E-5,1.2622707365642715E-5,2.3852912215005672E-5,3.3490694576322259E-5,5.2565708664817274E-5,7.2498942414467866E-6,1.3700000000000011E-5,1.9235492570461644E-5,3.0191290783142054E-5,7.2498942414467866E-6,1.3700000000000011E-5,1.9235492570461644E-5,3.0191290783142054E-5,1.2622707365642725E-5,2.3852912215005689E-5,3.3490694576322286E-5,5.2565708664817315E-5,1.5856686426009724E-5,2.9964106620261776E-5,4.2071120457997483E-5,6.6033215768568942E-5,1.2622707365642715E-5,2.3852912215005672E-5,3.3490694576322259E-5,5.2565708664817274E-5,7.9283432130048619E-6,1.4982053310130888E-5,2.1035560228998742E-5,3.3016607884284471E-5]
[null,"Alimentos y Bebidas",23,"50-400",5.9547335554909404E-5,7.0717247385524765E-5,8.839655923190594E-5,1.1740141589047345E-4,7.3372075563994556E-8,8.71352373787384E-8,1.08919046723423E-7,1.4465778322008545E-7,0,0,0,0,0,0,0,0,0,0,0,0,0,0,0,0,0,0,0,0,0,0,0,0,0,0,0,0,null,5.9547335554909404E-5,7.0717247385524765E-5,8.839655923190594E-5,1.1740141589047345E-4,7.3372075563994556E-8,8.71352373787384E-8,1.08919046723423E-7,1.4465778322008545E-7,0,0,0,0,0,0,0,0,0,0,0,0,0,0,0,0,0,0,0,0,0,0,0,0,0,0,0,0,null,null,null,null,null,null,null,null,null,null,null,null,null,null,null,null,null,null,null,null,null,null,null,null,null,null,null,null,null,null,null,null,null,null,null,null,null,null,null,null,null,null,null,null,null,null,null,null,null,null,null,null,null,null,null,null,null,null,null,null,null,null,null,null,null,null,null,null,null,null,null,null,null,null,null,null,null,null,null,null,null,null,null,null,null,null,null,null,null,null,null,null,null,null,null,null,null,null,null,null,null,null,"Alimentos y Bebidas",23,"50-400",1.5856686426009724E-5,2.9964106620261776E-5,4.2071120457997483E-5,6.6033215768568942E-5,1.2622707365642715E-5,2.3852912215005672E-5,3.3490694576322259E-5,5.2565708664817274E-5,1.2622707365642715E-5,2.3852912215005672E-5,3.3490694576322259E-5,5.2565708664817274E-5,7.2498942414467866E-6,1.3700000000000011E-5,1.9235492570461644E-5,3.0191290783142054E-5,7.2498942414467866E-6,1.3700000000000011E-5,1.9235492570461644E-5,3.0191290783142054E-5,1.2622707365642725E-5,2.3852912215005689E-5,3.3490694576322286E-5,5.2565708664817315E-5,1.5856686426009724E-5,2.9964106620261776E-5,4.2071120457997483E-5,6.6033215768568942E-5,1.2622707365642715E-5,2.3852912215005672E-5,3.3490694576322259E-5,5.2565708664817274E-5,7.9283432130048619E-6,1.4982053310130888E-5,2.1035560228998742E-5,3.3016607884284471E-5]
[null,"Hoteles",24,"50-400",5.9547335554909404E-5,7.0717247385524765E-5,8.839655923190594E-5,1.1740141589047345E-4,7.3372075563994556E-8,8.71352373787384E-8,1.08919046723423E-7,1.4465778322008545E-7,0,0,0,0,0,0,0,0,0,0,0,0,0,0,0,0,0,0,0,0,0,0,0,0,0,0,0,0,null,5.9547335554909404E-5,7.0717247385524765E-5,8.839655923190594E-5,1.1740141589047345E-4,7.3372075563994556E-8,8.71352373787384E-8,1.08919046723423E-7,1.4465778322008545E-7,0,0,0,0,0,0,0,0,0,0,0,0,0,0,0,0,0,0,0,0,0,0,0,0,0,0,0,0,null,null,null,null,null,null,null,null,null,null,null,null,null,null,null,null,null,null,null,null,null,null,null,null,null,null,null,null,null,null,null,null,null,null,null,null,null,null,null,null,null,null,null,null,null,null,null,null,null,null,null,null,null,null,null,null,null,null,null,null,null,null,null,null,null,null,null,null,null,null,null,null,null,null,null,null,null,null,null,null,null,null,null,null,null,null,null,null,null,null,null,null,null,null,null,null,null,null,null,null,null,null,"Hoteles",24,"50-400",1.5531087692971548E-5,2.9348828314942275E-5,4.1207238613417952E-5,6.4677299985469683E-5,1.2622707365642715E-5,2.3852912215005672E-5,3.3490694576322259E-5,5.2565708664817274E-5,1.2622707365642715E-5,2.3852912215005672E-5,3.3490694576322259E-5,5.2565708664817274E-5,7.2498942414467866E-6,1.3700000000000011E-5,1.9235492570461644E-5,3.0191290783142054E-5,7.2498942414467866E-6,1.3700000000000011E-5,1.9235492570461644E-5,3.0191290783142054E-5,1.2622707365642725E-5,2.3852912215005689E-5,3.3490694576322286E-5,5.2565708664817315E-5,1.5531087692971548E-5,2.9348828314942275E-5,4.1207238613417952E-5,6.4677299985469683E-5,1.2622707365642715E-5,2.3852912215005672E-5,3.3490694576322259E-5,5.2565708664817274E-5,7.7655438464857739E-6,1.4674414157471138E-5,2.0603619306708976E-5,3.2338649992734842E-5]
[null,"Salud",25,"50-400",4.4966465966811463E-4,5.3401292739547557E-4,6.6751615924434443E-4,8.8654290286867645E-4,2.6950298470771085E-7,3.2005645698686843E-7,4.0007057123358555E-7,5.3134253105612368E-7,0,0,0,0,0,0,0,0,0,0,0,0,0,0,0,0,0,0,0,0,0,0,0,0,0,0,0,0,null,4.4966465966811463E-4,5.3401292739547557E-4,6.6751615924434443E-4,8.8654290286867645E-4,2.6950298470771085E-7,3.2005645698686843E-7,4.0007057123358555E-7,5.3134253105612368E-7,0,0,0,0,0,0,0,0,0,0,0,0,0,0,0,0,0,0,0,0,0,0,0,0,0,0,0,0,null,null,null,null,null,null,null,null,null,null,null,null,null,null,null,null,null,null,null,null,null,null,null,null,null,null,null,null,null,null,null,null,null,null,null,null,null,null,null,null,null,null,null,null,null,null,null,null,null,null,null,null,null,null,null,null,null,null,null,null,null,null,null,null,null,null,null,null,null,null,null,null,null,null,null,null,null,null,null,null,null,null,null,null,null,null,null,null,null,null,null,null,null,null,null,null,null,null,null,null,null,null,"Salud",25,"50-400",3.7452045167908184E-5,7.0772483254590295E-5,9.9368144221663584E-5,1.5596442491856843E-4,8.9902086092071844E-6,1.6988642019357207E-5,2.3852912215005672E-5,3.7438615417307972E-5,8.9902086092071844E-6,1.6988642019357207E-5,2.3852912215005672E-5,3.7438615417307972E-5,5.1635564175956638E-6,9.7574834287436117E-6,1.3700000000000011E-5,2.150299412473638E-5,5.1635564175956638E-6,9.7574834287436117E-6,1.3700000000000011E-5,2.150299412473638E-5,8.9902086092071912E-6,1.698864201935722E-5,2.3852912215005689E-5,3.7438615417307999E-5,3.7452045167908184E-5,7.0772483254590295E-5,9.9368144221663584E-5,1.5596442491856843E-4,8.9902086092071844E-6,1.6988642019357207E-5,2.3852912215005672E-5,3.7438615417307972E-5,1.8726022583954092E-5,3.5386241627295147E-5,4.9684072110831792E-5,7.7982212459284215E-5]
[null,"AgroIndustria",26,"50-400",5.9547335554909404E-5,7.0717247385524765E-5,8.839655923190594E-5,1.1740141589047345E-4,7.3372075563994556E-8,8.71352373787384E-8,1.08919046723423E-7,1.4465778322008545E-7,0,0,0,0,0,0,0,0,0,0,0,0,0,0,0,0,0,0,0,0,0,0,0,0,0,0,0,0,null,5.9547335554909404E-5,7.0717247385524765E-5,8.839655923190594E-5,1.1740141589047345E-4,7.3372075563994556E-8,8.71352373787384E-8,1.08919046723423E-7,1.4465778322008545E-7,0,0,0,0,0,0,0,0,0,0,0,0,0,0,0,0,0,0,0,0,0,0,0,0,0,0,0,0,null,null,null,null,null,null,null,null,null,null,null,null,null,null,null,null,null,null,null,null,null,null,null,null,null,null,null,null,null,null,null,null,null,null,null,null,null,null,null,null,null,null,null,null,null,null,null,null,null,null,null,null,null,null,null,null,null,null,null,null,null,null,null,null,null,null,null,null,null,null,null,null,null,null,null,null,null,null,null,null,null,null,null,null,null,null,null,null,null,null,null,null,null,null,null,null,null,null,null,null,null,null,"AgroIndustria",26,"50-400",1.5856686426009724E-5,2.9964106620261776E-5,4.2071120457997483E-5,6.6033215768568942E-5,1.2622707365642715E-5,2.3852912215005672E-5,3.3490694576322259E-5,5.2565708664817274E-5,1.2622707365642715E-5,2.3852912215005672E-5,3.3490694576322259E-5,5.2565708664817274E-5,7.2498942414467866E-6,1.3700000000000011E-5,1.9235492570461644E-5,3.0191290783142054E-5,7.2498942414467866E-6,1.3700000000000011E-5,1.9235492570461644E-5,3.0191290783142054E-5,1.2622707365642725E-5,2.3852912215005689E-5,3.3490694576322286E-5,5.2565708664817315E-5,1.5856686426009724E-5,2.9964106620261776E-5,4.2071120457997483E-5,6.6033215768568942E-5,1.2622707365642715E-5,2.3852912215005672E-5,3.3490694576322259E-5,5.2565708664817274E-5,7.9283432130048619E-6,1.4982053310130888E-5,2.1035560228998742E-5,3.3016607884284471E-5]
[null,"Mineras",27,"50-400",3.9744758953458589E-5,4.720009594044812E-5,5.9000119925560155E-5,7.8359357843289979E-5,6.4294715634728649E-6,7.635514282466018E-6,9.5443928530825237E-6,1.2676118216628056E-5,0,0,0,0,0,0,0,0,0,0,0,0,0,0,0,0,0,0,0,0,0,0,0,0,0,0,0,0,null,3.9744758953458589E-5,4.720009594044812E-5,5.9000119925560155E-5,7.8359357843289979E-5,6.4294715634728649E-6,7.635514282466018E-6,9.5443928530825237E-6,1.2676118216628056E-5,0,0,0,0,0,0,0,0,0,0,0,0,0,0,0,0,0,0,0,0,0,0,0,0,0,0,0,0,null,null,null,null,null,null,null,null,null,null,null,null,null,null,null,null,null,null,null,null,null,null,null,null,null,null,null,null,null,null,null,null,null,null,null,null,null,null,null,null,null,null,null,null,null,null,null,null,null,null,null,null,null,null,null,null,null,null,null,null,null,null,null,null,null,null,null,null,null,null,null,null,null,null,null,null,null,null,null,null,null,null,null,null,null,null,null,null,null,null,null,null,null,null,null,null,null,null,null,null,null,null,"Mineras",27,"50-400",2.1718132222370866E-6,4.1040379561054734E-6,5.762276760113822E-6,9.0442484173600182E-6,1.2622707365642715E-5,2.3852912215005672E-5,3.3490694576322259E-5,5.2565708664817274E-5,1.2622707365642715E-5,2.3852912215005672E-5,3.3490694576322259E-5,5.2565708664817274E-5,7.2498942414467866E-6,1.3700000000000011E-5,1.9235492570461644E-5,3.0191290783142054E-5,7.2498942414467866E-6,1.3700000000000011E-5,1.9235492570461644E-5,3.0191290783142054E-5,1.2622707365642725E-5,2.3852912215005689E-5,3.3490694576322286E-5,5.2565708664817315E-5,2.1718132222370866E-6,4.1040379561054734E-6,5.762276760113822E-6,9.0442484173600182E-6,1.2622707365642715E-5,2.3852912215005672E-5,3.3490694576322259E-5,5.2565708664817274E-5,1.0859066111185433E-6,2.0520189780527367E-6,2.881138380056911E-6,4.5221242086800091E-6]
[null,"Hidrocarburos",28,"50-400",4.3599680913003885E-5,5.177812562598593E-5,6.4722657032482425E-5,8.5959585325854214E-5,5.872924677686575E-6,6.9745701203632426E-6,8.7182126504540526E-6,1.1578850105605795E-5,0,0,0,0,0,0,0,0,0,0,0,0,0,0,0,0,0,0,0,0,0,0,0,0,0,0,0,0,null,4.3599680913003885E-5,5.177812562598593E-5,6.4722657032482425E-5,8.5959585325854214E-5,5.872924677686575E-6,6.9745701203632426E-6,8.7182126504540526E-6,1.1578850105605795E-5,0,0,0,0,0,0,0,0,0,0,0,0,0,0,0,0,0,0,0,0,0,0,0,0,0,0,0,0,null,null,null,null,null,null,null,null,null,null,null,null,null,null,null,null,null,null,null,null,null,null,null,null,null,null,null,null,null,null,null,null,null,null,null,null,null,null,null,null,null,null,null,null,null,null,null,null,null,null,null,null,null,null,null,null,null,null,null,null,null,null,null,null,null,null,null,null,null,null,null,null,null,null,null,null,null,null,null,null,null,null,null,null,null,null,null,null,null,null,null,null,null,null,null,null,null,null,null,null,null,null,"Hidrocarburos",28,"50-400",4.6629889066511353E-5,8.811569644134858E-5,1.2371889228019069E-4,1.9418442436641082E-4,1.2622707365642715E-5,2.3852912215005672E-5,3.3490694576322259E-5,5.2565708664817274E-5,1.2622707365642715E-5,2.3852912215005672E-5,3.3490694576322259E-5,5.2565708664817274E-5,7.2498942414467866E-6,1.3700000000000011E-5,1.9235492570461644E-5,3.0191290783142054E-5,7.2498942414467866E-6,1.3700000000000011E-5,1.9235492570461644E-5,3.0191290783142054E-5,1.2622707365642725E-5,2.3852912215005689E-5,3.3490694576322286E-5,5.2565708664817315E-5,4.6629889066511353E-5,8.811569644134858E-5,1.2371889228019069E-4,1.9418442436641082E-4,1.2622707365642715E-5,2.3852912215005672E-5,3.3490694576322259E-5,5.2565708664817274E-5,2.3314944533255677E-5,4.405784822067429E-5,6.1859446140095345E-5,9.7092212183205411E-5]
[null,"Telecomunicaciones",29,"50-400",5.9547335554909404E-5,7.0717247385524765E-5,8.839655923190594E-5,1.1740141589047345E-4,7.3372075563994556E-8,8.71352373787384E-8,1.08919046723423E-7,1.4465778322008545E-7,0,0,0,0,0,0,0,0,0,0,0,0,0,0,0,0,0,0,0,0,0,0,0,0,0,0,0,0,null,5.9547335554909404E-5,7.0717247385524765E-5,8.839655923190594E-5,1.1740141589047345E-4,7.3372075563994556E-8,8.71352373787384E-8,1.08919046723423E-7,1.4465778322008545E-7,0,0,0,0,0,0,0,0,0,0,0,0,0,0,0,0,0,0,0,0,0,0,0,0,0,0,0,0,null,null,null,null,null,null,null,null,null,null,null,null,null,null,null,null,null,null,null,null,null,null,null,null,null,null,null,null,null,null,null,null,null,null,null,null,null,null,null,null,null,null,null,null,null,null,null,null,null,null,null,null,null,null,null,null,null,null,null,null,null,null,null,null,null,null,null,null,null,null,null,null,null,null,null,null,null,null,null,null,null,null,null,null,null,null,null,null,null,null,null,null,null,null,null,null,null,null,null,null,null,null,"Telecomunicaciones",29,"50-400",1.5856686426009724E-5,2.9964106620261776E-5,4.2071120457997483E-5,6.6033215768568942E-5,1.2622707365642715E-5,2.3852912215005672E-5,3.3490694576322259E-5,5.2565708664817274E-5,1.2622707365642715E-5,2.3852912215005672E-5,3.3490694576322259E-5,5.2565708664817274E-5,7.2498942414467866E-6,1.3700000000000011E-5,1.9235492570461644E-5,3.0191290783142054E-5,7.2498942414467866E-6,1.3700000000000011E-5,1.9235492570461644E-5,3.0191290783142054E-5,1.2622707365642725E-5,2.3852912215005689E-5,3.3490694576322286E-5,5.2565708664817315E-5,1.5856686426009724E-5,2.9964106620261776E-5,4.2071120457997483E-5,6.6033215768568942E-5,1.2622707365642715E-5,2.3852912215005672E-5,3.3490694576322259E-5,5.2565708664817274E-5,7.9283432130048619E-6,1.4982053310130888E-5,2.1035560228998742E-5,3.3016607884284471E-5]
[null,"Plasticos y Cauchos",30,"50-400",5.9547335554909404E-5,7.0717247385524765E-5,8.839655923190594E-5,1.1740141589047345E-4,7.3372075563994556E-8,8.71352373787384E-8,1.08919046723423E-7,1.4465778322008545E-7,0,0,0,0,0,0,0,0,0,0,0,0,0,0,0,0,0,0,0,0,0,0,0,0,0,0,0,0,null,5.9547335554909404E-5,7.0717247385524765E-5,8.839655923190594E-5,1.1740141589047345E-4,7.3372075563994556E-8,8.71352373787384E-8,1.08919046723423E-7,1.4465778322008545E-7,0,0,0,0,0,0,0,0,0,0,0,0,0,0,0,0,0,0,0,0,0,0,0,0,0,0,0,0,null,null,null,null,null,null,null,null,null,null,null,null,null,null,null,null,null,null,null,null,null,null,null,null,null,null,null,null,null,null,null,null,null,null,null,null,null,null,null,null,null,null,null,null,null,null,null,null,null,null,null,null,null,null,null,null,null,null,null,null,null,null,null,null,null,null,null,null,null,null,null,null,null,null,null,null,null,null,null,null,null,null,null,null,null,null,null,null,null,null,null,null,null,null,null,null,null,null,null,null,null,null,"Plasticos y Cauchos",30,"50-400",1.5856686426009724E-5,2.9964106620261776E-5,4.2071120457997483E-5,6.6033215768568942E-5,1.2622707365642715E-5,2.3852912215005672E-5,3.3490694576322259E-5,5.2565708664817274E-5,1.2622707365642715E-5,2.3852912215005672E-5,3.3490694576322259E-5,5.2565708664817274E-5,7.2498942414467866E-6,1.3700000000000011E-5,1.9235492570461644E-5,3.0191290783142054E-5,7.2498942414467866E-6,1.3700000000000011E-5,1.9235492570461644E-5,3.0191290783142054E-5,1.2622707365642725E-5,2.3852912215005689E-5,3.3490694576322286E-5,5.2565708664817315E-5,1.5856686426009724E-5,2.9964106620261776E-5,4.2071120457997483E-5,6.6033215768568942E-5,1.2622707365642715E-5,2.3852912215005672E-5,3.3490694576322259E-5,5.2565708664817274E-5,7.9283432130048619E-6,1.4982053310130888E-5,2.1035560228998742E-5,3.3016607884284471E-5]
[null,"Instituciones Financieras",31,"50-400",1.0798887785145237E-4,1.2824547259321939E-4,1.6030684074152426E-4,2.1290704348128731E-4,2.714179149676095E-7,3.2233059059256792E-7,4.0291323824070997E-7,5.3511793967430306E-7,0,0,0,0,0,0,0,0,0,0,0,0,0,0,0,0,0,0,0,0,0,0,0,0,0,0,0,0,null,1.0798887785145237E-4,1.2824547259321939E-4,1.6030684074152426E-4,2.1290704348128731E-4,2.714179149676095E-7,3.2233059059256792E-7,4.0291323824070997E-7,5.3511793967430306E-7,0,0,0,0,0,0,0,0,0,0,0,0,0,0,0,0,0,0,0,0,0,0,0,0,0,0,0,0,null,null,null,null,null,null,null,null,null,null,null,null,null,null,null,null,null,null,null,null,null,null,null,null,null,null,null,null,null,null,null,null,null,null,null,null,null,null,null,null,null,null,null,null,null,null,null,null,null,null,null,null,null,null,null,null,null,null,null,null,null,null,null,null,null,null,null,null,null,null,null,null,null,null,null,null,null,null,null,null,null,null,null,null,null,null,null,null,null,null,null,null,null,null,null,null,null,null,null,null,null,null,"Instituciones Financieras",31,"50-400",8.0066679056613463E-6,1.5130062129798814E-5,2.1243372094041454E-5,3.3342781410785491E-5,1.2622707365642715E-5,2.3852912215005672E-5,3.3490694576322259E-5,5.2565708664817274E-5,1.2622707365642715E-5,2.3852912215005672E-5,3.3490694576322259E-5,5.2565708664817274E-5,7.2498942414467866E-6,1.3700000000000011E-5,1.9235492570461644E-5,3.0191290783142054E-5,7.2498942414467866E-6,1.3700000000000011E-5,1.9235492570461644E-5,3.0191290783142054E-5,1.2622707365642725E-5,2.3852912215005689E-5,3.3490694576322286E-5,5.2565708664817315E-5,8.0066679056613463E-6,1.5130062129798814E-5,2.1243372094041454E-5,3.3342781410785491E-5,1.2622707365642715E-5,2.3852912215005672E-5,3.3490694576322259E-5,5.2565708664817274E-5,4.0033339528306731E-6,7.5650310648994071E-6,1.0621686047020727E-5,1.6671390705392745E-5]
[null,"Quimicas",32,"50-400",5.9547335554909404E-5,7.0717247385524765E-5,8.839655923190594E-5,1.1740141589047345E-4,7.3372075563994556E-8,8.71352373787384E-8,1.08919046723423E-7,1.4465778322008545E-7,0,0,0,0,0,0,0,0,0,0,0,0,0,0,0,0,0,0,0,0,0,0,0,0,0,0,0,0,null,5.9547335554909404E-5,7.0717247385524765E-5,8.839655923190594E-5,1.1740141589047345E-4,7.3372075563994556E-8,8.71352373787384E-8,1.08919046723423E-7,1.4465778322008545E-7,0,0,0,0,0,0,0,0,0,0,0,0,0,0,0,0,0,0,0,0,0,0,0,0,0,0,0,0,null,null,null,null,null,null,null,null,null,null,null,null,null,null,null,null,null,null,null,null,null,null,null,null,null,null,null,null,null,null,null,null,null,null,null,null,null,null,null,null,null,null,null,null,null,null,null,null,null,null,null,null,null,null,null,null,null,null,null,null,null,null,null,null,null,null,null,null,null,null,null,null,null,null,null,null,null,null,null,null,null,null,null,null,null,null,null,null,null,null,null,null,null,null,null,null,null,null,null,null,null,null,"Quimicas",32,"50-400",1.5856686426009724E-5,2.9964106620261776E-5,4.2071120457997483E-5,6.6033215768568942E-5,1.2622707365642715E-5,2.3852912215005672E-5,3.3490694576322259E-5,5.2565708664817274E-5,1.2622707365642715E-5,2.3852912215005672E-5,3.3490694576322259E-5,5.2565708664817274E-5,7.2498942414467866E-6,1.3700000000000011E-5,1.9235492570461644E-5,3.0191290783142054E-5,7.2498942414467866E-6,1.3700000000000011E-5,1.9235492570461644E-5,3.0191290783142054E-5,1.2622707365642725E-5,2.3852912215005689E-5,3.3490694576322286E-5,5.2565708664817315E-5,1.5856686426009724E-5,2.9964106620261776E-5,4.2071120457997483E-5,6.6033215768568942E-5,1.2622707365642715E-5,2.3852912215005672E-5,3.3490694576322259E-5,5.2565708664817274E-5,7.9283432130048619E-6,1.4982053310130888E-5,2.1035560228998742E-5,3.3016607884284471E-5]
[null,"Comercio",33,"50-400",1.7874508122370791E-5,2.1227415148049437E-5,2.6534268935061799E-5,3.5240746581802146E-5,7.4086903439215601E-7,8.7984152938418832E-7,1.0998019117302355E-6,1.4606711251898485E-6,0,0,0,0,0,0,0,0,0,0,0,0,0,0,0,0,0,0,0,0,0,0,0,0,0,0,0,0,null,1.7874508122370791E-5,2.1227415148049437E-5,2.6534268935061799E-5,3.5240746581802146E-5,7.4086903439215601E-7,8.7984152938418832E-7,1.0998019117302355E-6,1.4606711251898485E-6,0,0,0,0,0,0,0,0,0,0,0,0,0,0,0,0,0,0,0,0,0,0,0,0,0,0,0,0,null,null,null,null,null,null,null,null,null,null,null,null,null,null,null,null,null,null,null,null,null,null,null,null,null,null,null,null,null,null,null,null,null,null,null,null,null,null,null,null,null,null,null,null,null,null,null,null,null,null,null,null,null,null,null,null,null,null,null,null,null,null,null,null,null,null,null,null,null,null,null,null,null,null,null,null,null,null,null,null,null,null,null,null,null,null,null,null,null,null,null,null,null,null,null,null,null,null,null,null,null,null,"Comercio",33,"50-400",1.3094980116519453E-5,2.4745357879939972E-5,3.4743733405328421E-5,5.4532430312860044E-5,1.2622707365642715E-5,2.3852912215005672E-5,3.3490694576322259E-5,5.2565708664817274E-5,1.2622707365642715E-5,2.3852912215005672E-5,3.3490694576322259E-5,5.2565708664817274E-5,7.2498942414467866E-6,1.3700000000000011E-5,1.9235492570461644E-5,3.0191290783142054E-5,7.2498942414467866E-6,1.3700000000000011E-5,1.9235492570461644E-5,3.0191290783142054E-5,1.2622707365642725E-5,2.3852912215005689E-5,3.3490694576322286E-5,5.2565708664817315E-5,1.3094980116519453E-5,2.4745357879939972E-5,3.4743733405328421E-5,5.4532430312860044E-5,1.2622707365642715E-5,2.3852912215005672E-5,3.3490694576322259E-5,5.2565708664817274E-5,6.5474900582597263E-6,1.2372678939969986E-5,1.737186670266421E-5,2.7266215156430022E-5]
[null,"Educación",34,"50-400",7.3497567588362721E-5,8.7284269244722884E-5,1.0910533655590362E-4,1.4490519884677118E-4,2.7397967806361802E-7,3.2537289018356285E-7,4.0671611272945367E-7,5.4016862098262166E-7,0,0,0,0,0,0,0,0,0,0,0,0,0,0,0,0,0,0,0,0,0,0,0,0,0,0,0,0,null,7.3497567588362721E-5,8.7284269244722884E-5,1.0910533655590362E-4,1.4490519884677118E-4,2.7397967806361802E-7,3.2537289018356285E-7,4.0671611272945367E-7,5.4016862098262166E-7,0,0,0,0,0,0,0,0,0,0,0,0,0,0,0,0,0,0,0,0,0,0,0,0,0,0,0,0,null,null,null,null,null,null,null,null,null,null,null,null,null,null,null,null,null,null,null,null,null,null,null,null,null,null,null,null,null,null,null,null,null,null,null,null,null,null,null,null,null,null,null,null,null,null,null,null,null,null,null,null,null,null,null,null,null,null,null,null,null,null,null,null,null,null,null,null,null,null,null,null,null,null,null,null,null,null,null,null,null,null,null,null,null,null,null,null,null,null,null,null,null,null,null,null,null,null,null,null,null,null,"Educación",34,"50-400",4.6595322530823742E-5,8.8050376655549211E-5,1.236271799988441E-4,1.9404047628999047E-4,8.9902086092071844E-6,1.6988642019357207E-5,2.3852912215005672E-5,3.7438615417307972E-5,8.9902086092071844E-6,1.6988642019357207E-5,2.3852912215005672E-5,3.7438615417307972E-5,5.1635564175956638E-6,9.7574834287436117E-6,1.3700000000000011E-5,2.150299412473638E-5,5.1635564175956638E-6,9.7574834287436117E-6,1.3700000000000011E-5,2.150299412473638E-5,8.9902086092071912E-6,1.698864201935722E-5,2.3852912215005689E-5,3.7438615417307999E-5,4.6595322530823742E-5,8.8050376655549211E-5,1.236271799988441E-4,1.9404047628999047E-4,8.9902086092071844E-6,1.6988642019357207E-5,2.3852912215005672E-5,3.7438615417307972E-5,2.3297661265411871E-5,4.4025188327774605E-5,6.1813589999422052E-5,9.7020238144995236E-5]
[null,"Industria",35,"50-400",5.9547335554909404E-5,7.0717247385524765E-5,8.839655923190594E-5,1.1740141589047345E-4,7.3372075563994556E-8,8.71352373787384E-8,1.08919046723423E-7,1.4465778322008545E-7,0,0,0,0,0,0,0,0,0,0,0,0,0,0,0,0,0,0,0,0,0,0,0,0,0,0,0,0,null,5.9547335554909404E-5,7.0717247385524765E-5,8.839655923190594E-5,1.1740141589047345E-4,7.3372075563994556E-8,8.71352373787384E-8,1.08919046723423E-7,1.4465778322008545E-7,0,0,0,0,0,0,0,0,0,0,0,0,0,0,0,0,0,0,0,0,0,0,0,0,0,0,0,0,null,null,null,null,null,null,null,null,null,null,null,null,null,null,null,null,null,null,null,null,null,null,null,null,null,null,null,null,null,null,null,null,null,null,null,null,null,null,null,null,null,null,null,null,null,null,null,null,null,null,null,null,null,null,null,null,null,null,null,null,null,null,null,null,null,null,null,null,null,null,null,null,null,null,null,null,null,null,null,null,null,null,null,null,null,null,null,null,null,null,null,null,null,null,null,null,null,null,null,null,null,null,"Industria",35,"50-400",1.5856686426009724E-5,2.9964106620261776E-5,4.2071120457997483E-5,6.6033215768568942E-5,1.2622707365642715E-5,2.3852912215005672E-5,3.3490694576322259E-5,5.2565708664817274E-5,1.2622707365642715E-5,2.3852912215005672E-5,3.3490694576322259E-5,5.2565708664817274E-5,7.2498942414467866E-6,1.3700000000000011E-5,1.9235492570461644E-5,3.0191290783142054E-5,7.2498942414467866E-6,1.3700000000000011E-5,1.9235492570461644E-5,3.0191290783142054E-5,1.2622707365642725E-5,2.3852912215005689E-5,3.3490694576322286E-5,5.2565708664817315E-5,1.5856686426009724E-5,2.9964106620261776E-5,4.2071120457997483E-5,6.6033215768568942E-5,1.2622707365642715E-5,2.3852912215005672E-5,3.3490694576322259E-5,5.2565708664817274E-5,7.9283432130048619E-6,1.4982053310130888E-5,2.1035560228998742E-5,3.3016607884284471E-5]
[null,"Construcción",36,"50-400",3.2784239349624128E-6,3.893391942441801E-6,4.8667399280522521E-6,6.4636244135372109E-6,9.791731346383588E-7,1.1628468033070822E-6,1.4535585041338528E-6,1.9305030416088684E-6,0,0,0,0,0,0,0,0,0,0,0,0,0,0,0,0,0,0,0,0,0,0,0,0,0,0,0,0,null,3.2784239349624128E-6,3.893391942441801E-6,4.8667399280522521E-6,6.4636244135372109E-6,9.791731346383588E-7,1.1628468033070822E-6,1.4535585041338528E-6,1.9305030416088684E-6,0,0,0,0,0,0,0,0,0,0,0,0,0,0,0,0,0,0,0,0,0,0,0,0,0,0,0,0,null,null,null,null,null,null,null,null,null,null,null,null,null,null,null,null,null,null,null,null,null,null,null,null,null,null,null,null,null,null,null,null,null,null,null,null,null,null,null,null,null,null,null,null,null,null,null,null,null,null,null,null,null,null,null,null,null,null,null,null,null,null,null,null,null,null,null,null,null,null,null,null,null,null,null,null,null,null,null,null,null,null,null,null,null,null,null,null,null,null,null,null,null,null,null,null,null,null,null,null,null,null,"Construcción",36,"50-400",2.8180361491326218E-6,5.3251942659252549E-6,7.4768419517131454E-6,1.1735364128413863E-5,1.2622707365642715E-5,2.3852912215005672E-5,3.3490694576322259E-5,5.2565708664817274E-5,1.2622707365642715E-5,2.3852912215005672E-5,3.3490694576322259E-5,5.2565708664817274E-5,7.2498942414467866E-6,1.3700000000000011E-5,1.9235492570461644E-5,3.0191290783142054E-5,7.2498942414467866E-6,1.3700000000000011E-5,1.9235492570461644E-5,3.0191290783142054E-5,1.2622707365642725E-5,2.3852912215005689E-5,3.3490694576322286E-5,5.2565708664817315E-5,2.8180361491326218E-6,5.3251942659252549E-6,7.4768419517131454E-6,1.1735364128413863E-5,1.2622707365642715E-5,2.3852912215005672E-5,3.3490694576322259E-5,5.2565708664817274E-5,1.4090180745663109E-6,2.6625971329626274E-6,3.7384209758565727E-6,5.8676820642069317E-6]
[null,"Pesca",37,"50-400",5.9547335554909404E-5,7.0717247385524765E-5,8.839655923190594E-5,1.1740141589047345E-4,7.3372075563994556E-8,8.71352373787384E-8,1.08919046723423E-7,1.4465778322008545E-7,0,0,0,0,0,0,0,0,0,0,0,0,0,0,0,0,0,0,0,0,0,0,0,0,0,0,0,0,null,5.9547335554909404E-5,7.0717247385524765E-5,8.839655923190594E-5,1.1740141589047345E-4,7.3372075563994556E-8,8.71352373787384E-8,1.08919046723423E-7,1.4465778322008545E-7,0,0,0,0,0,0,0,0,0,0,0,0,0,0,0,0,0,0,0,0,0,0,0,0,0,0,0,0,null,null,null,null,null,null,null,null,null,null,null,null,null,null,null,null,null,null,null,null,null,null,null,null,null,null,null,null,null,null,null,null,null,null,null,null,null,null,null,null,null,null,null,null,null,null,null,null,null,null,null,null,null,null,null,null,null,null,null,null,null,null,null,null,null,null,null,null,null,null,null,null,null,null,null,null,null,null,null,null,null,null,null,null,null,null,null,null,null,null,null,null,null,null,null,null,null,null,null,null,null,null,"Pesca",37,"50-400",1.5856686426009724E-5,2.9964106620261776E-5,4.2071120457997483E-5,6.6033215768568942E-5,1.2622707365642715E-5,2.3852912215005672E-5,3.3490694576322259E-5,5.2565708664817274E-5,1.2622707365642715E-5,2.3852912215005672E-5,3.3490694576322259E-5,5.2565708664817274E-5,7.2498942414467866E-6,1.3700000000000011E-5,1.9235492570461644E-5,3.0191290783142054E-5,7.2498942414467866E-6,1.3700000000000011E-5,1.9235492570461644E-5,3.0191290783142054E-5,1.2622707365642725E-5,2.3852912215005689E-5,3.3490694576322286E-5,5.2565708664817315E-5,1.5856686426009724E-5,2.9964106620261776E-5,4.2071120457997483E-5,6.6033215768568942E-5,1.2622707365642715E-5,2.3852912215005672E-5,3.3490694576322259E-5,5.2565708664817274E-5,7.9283432130048619E-6,1.4982053310130888E-5,2.1035560228998742E-5,3.3016607884284471E-5]
[null,"Energia y Agua",38,"50-400",4.3599680913003885E-5,5.177812562598593E-5,6.4722657032482425E-5,8.5959585325854214E-5,5.872924677686575E-6,6.9745701203632426E-6,8.7182126504540526E-6,1.1578850105605795E-5,0,0,0,0,0,0,0,0,0,0,0,0,0,0,0,0,0,0,0,0,0,0,0,0,0,0,0,0,null,4.3599680913003885E-5,5.177812562598593E-5,6.4722657032482425E-5,8.5959585325854214E-5,5.872924677686575E-6,6.9745701203632426E-6,8.7182126504540526E-6,1.1578850105605795E-5,0,0,0,0,0,0,0,0,0,0,0,0,0,0,0,0,0,0,0,0,0,0,0,0,0,0,0,0,null,null,null,null,null,null,null,null,null,null,null,null,null,null,null,null,null,null,null,null,null,null,null,null,null,null,null,null,null,null,null,null,null,null,null,null,null,null,null,null,null,null,null,null,null,null,null,null,null,null,null,null,null,null,null,null,null,null,null,null,null,null,null,null,null,null,null,null,null,null,null,null,null,null,null,null,null,null,null,null,null,null,null,null,null,null,null,null,null,null,null,null,null,null,null,null,null,null,null,null,null,null,"Energia y Agua",38,"50-400",4.6629889066511353E-5,8.811569644134858E-5,1.2371889228019069E-4,1.9418442436641082E-4,1.2622707365642715E-5,2.3852912215005672E-5,3.3490694576322259E-5,5.2565708664817274E-5,1.2622707365642715E-5,2.3852912215005672E-5,3.3490694576322259E-5,5.2565708664817274E-5,7.2498942414467866E-6,1.3700000000000011E-5,1.9235492570461644E-5,3.0191290783142054E-5,7.2498942414467866E-6,1.3700000000000011E-5,1.9235492570461644E-5,3.0191290783142054E-5,1.2622707365642725E-5,2.3852912215005689E-5,3.3490694576322286E-5,5.2565708664817315E-5,4.6629889066511353E-5,8.811569644134858E-5,1.2371889228019069E-4,1.9418442436641082E-4,1.2622707365642715E-5,2.3852912215005672E-5,3.3490694576322259E-5,5.2565708664817274E-5,2.3314944533255677E-5,4.405784822067429E-5,6.1859446140095345E-5,9.7092212183205411E-5]
[null,"Textiles",39,"50-400",5.9547335554909404E-5,7.0717247385524765E-5,8.839655923190594E-5,1.1740141589047345E-4,7.3372075563994556E-8,8.71352373787384E-8,1.08919046723423E-7,1.4465778322008545E-7,0,0,0,0,0,0,0,0,0,0,0,0,0,0,0,0,0,0,0,0,0,0,0,0,0,0,0,0,null,5.9547335554909404E-5,7.0717247385524765E-5,8.839655923190594E-5,1.1740141589047345E-4,7.3372075563994556E-8,8.71352373787384E-8,1.08919046723423E-7,1.4465778322008545E-7,0,0,0,0,0,0,0,0,0,0,0,0,0,0,0,0,0,0,0,0,0,0,0,0,0,0,0,0,null,null,null,null,null,null,null,null,null,null,null,null,null,null,null,null,null,null,null,null,null,null,null,null,null,null,null,null,null,null,null,null,null,null,null,null,null,null,null,null,null,null,null,null,null,null,null,null,null,null,null,null,null,null,null,null,null,null,null,null,null,null,null,null,null,null,null,null,null,null,null,null,null,null,null,null,null,null,null,null,null,null,null,null,null,null,null,null,null,null,null,null,null,null,null,null,null,null,null,null,null,null,"Textiles",39,"50-400",1.5856686426009724E-5,2.9964106620261776E-5,4.2071120457997483E-5,6.6033215768568942E-5,1.2622707365642715E-5,2.3852912215005672E-5,3.3490694576322259E-5,5.2565708664817274E-5,1.2622707365642715E-5,2.3852912215005672E-5,3.3490694576322259E-5,5.2565708664817274E-5,7.2498942414467866E-6,1.3700000000000011E-5,1.9235492570461644E-5,3.0191290783142054E-5,7.2498942414467866E-6,1.3700000000000011E-5,1.9235492570461644E-5,3.0191290783142054E-5,1.2622707365642725E-5,2.3852912215005689E-5,3.3490694576322286E-5,5.2565708664817315E-5,1.5856686426009724E-5,2.9964106620261776E-5,4.2071120457997483E-5,6.6033215768568942E-5,1.2622707365642715E-5,2.3852912215005672E-5,3.3490694576322259E-5,5.2565708664817274E-5,7.9283432130048619E-6,1.4982053310130888E-5,2.1035560228998742E-5,3.3016607884284471E-5]
[null,"Transporte y Aviación",40,"50-400",3.2784239349624128E-6,3.893391942441801E-6,4.8667399280522521E-6,6.4636244135372109E-6,5.9198867994600347E-7,7.0303414147839717E-7,8.7879267684799652E-7,1.1671438960137177E-6,0,0,0,0,0,0,0,0,0,0,0,0,0,0,0,0,0,0,0,0,0,0,0,0,0,0,0,0,null,3.2784239349624128E-6,3.893391942441801E-6,4.8667399280522521E-6,6.4636244135372109E-6,5.9198867994600347E-7,7.0303414147839717E-7,8.7879267684799652E-7,1.1671438960137177E-6,0,0,0,0,0,0,0,0,0,0,0,0,0,0,0,0,0,0,0,0,0,0,0,0,0,0,0,0,null,null,null,null,null,null,null,null,null,null,null,null,null,null,null,null,null,null,null,null,null,null,null,null,null,null,null,null,null,null,null,null,null,null,null,null,null,null,null,null,null,null,null,null,null,null,null,null,null,null,null,null,null,null,null,null,null,null,null,null,null,null,null,null,null,null,null,null,null,null,null,null,null,null,null,null,null,null,null,null,null,null,null,null,null,null,null,null,null,null,null,null,null,null,null,null,null,null,null,null,null,null,"Transporte y Aviación",40,"50-400",4.0608032845732652E-5,7.673629869054706E-5,1.0774164258005417E-4,1.6910714652469688E-4,1.2622707365642715E-5,2.3852912215005672E-5,3.3490694576322252E-5,5.2565708664817274E-5,1.2622707365642715E-5,2.3852912215005672E-5,3.3490694576322252E-5,5.2565708664817274E-5,7.2498942414467866E-6,1.3700000000000011E-5,1.923549257046164E-5,3.0191290783142054E-5,7.2498942414467866E-6,1.3700000000000011E-5,1.923549257046164E-5,3.0191290783142054E-5,1.2622707365642725E-5,2.3852912215005689E-5,3.3490694576322279E-5,5.2565708664817315E-5,4.0608032845732652E-5,7.673629869054706E-5,1.0774164258005417E-4,1.6910714652469688E-4,1.2622707365642715E-5,2.3852912215005672E-5,3.3490694576322252E-5,5.2565708664817274E-5,2.0304016422866326E-5,3.836814934527353E-5,5.3870821290027086E-5,8.4553573262348441E-5]
[null,"Actividades Deportivas y de Esparcimiento",41,"50-400",1.9511498012898905E-5,2.3171472224278028E-5,2.8964340280347532E-5,3.8468177820420299E-5,2.6950298470771084E-8,3.2005645698686844E-8,4.0007057123358554E-8,5.3134253105612372E-8,0,0,0,0,0,0,0,0,0,0,0,0,0,0,0,0,0,0,0,0,0,0,0,0,0,0,0,0,null,1.9511498012898905E-5,2.3171472224278028E-5,2.8964340280347532E-5,3.8468177820420299E-5,2.6950298470771084E-8,3.2005645698686844E-8,4.0007057123358554E-8,5.3134253105612372E-8,0,0,0,0,0,0,0,0,0,0,0,0,0,0,0,0,0,0,0,0,0,0,0,0,0,0,0,0,null,null,null,null,null,null,null,null,null,null,null,null,null,null,null,null,null,null,null,null,null,null,null,null,null,null,null,null,null,null,null,null,null,null,null,null,null,null,null,null,null,null,null,null,null,null,null,null,null,null,null,null,null,null,null,null,null,null,null,null,null,null,null,null,null,null,null,null,null,null,null,null,null,null,null,null,null,null,null,null,null,null,null,null,null,null,null,null,null,null,null,null,null,null,null,null,null,null,null,null,null,null,"Actividades Deportivas y de Esparcimiento",41,"50-400",8.24935980973369E-5,1.5588672831563712E-4,2.1887284703277427E-4,3.4353441925620928E-4,5.7278468864227792E-6,1.0823813386873964E-5,1.5197181166954541E-5,2.3852912215005672E-5,5.7278468864227792E-6,1.0823813386873964E-5,1.5197181166954541E-5,2.3852912215005672E-5,3.2898080383923249E-6,6.2166934613077474E-6,8.7285518896220814E-6,1.3700000000000011E-5,3.2898080383923249E-6,6.2166934613077474E-6,8.7285518896220814E-6,1.3700000000000011E-5,5.7278468864227834E-6,1.0823813386873973E-5,1.5197181166954553E-5,2.3852912215005689E-5,8.24935980973369E-5,1.5588672831563712E-4,2.1887284703277427E-4,3.4353441925620928E-4,5.7278468864227792E-6,1.0823813386873964E-5,1.5197181166954541E-5,2.3852912215005672E-5,4.124679904866845E-5,7.794336415781856E-5,1.0943642351638714E-4,1.7176720962810464E-4]
[null,"Estado",42,"50-400",9.0242837275130339E-5,1.0717062298232257E-4,1.3396327872790322E-4,1.7791957895923723E-4,1.6309430844145041E-7,1.9368760079264767E-7,2.4210950099080962E-7,3.2155095700373875E-7,0,0,0,0,0,0,0,0,0,0,0,0,0,0,0,0,0,0,0,0,0,0,0,0,0,0,0,0,null,9.0242837275130339E-5,1.0717062298232257E-4,1.3396327872790322E-4,1.7791957895923723E-4,1.6309430844145041E-7,1.9368760079264767E-7,2.4210950099080962E-7,3.2155095700373875E-7,0,0,0,0,0,0,0,0,0,0,0,0,0,0,0,0,0,0,0,0,0,0,0,0,0,0,0,0,null,null,null,null,null,null,null,null,null,null,null,null,null,null,null,null,null,null,null,null,null,null,null,null,null,null,null,null,null,null,null,null,null,null,null,null,null,null,null,null,null,null,null,null,null,null,null,null,null,null,null,null,null,null,null,null,null,null,null,null,null,null,null,null,null,null,null,null,null,null,null,null,null,null,null,null,null,null,null,null,null,null,null,null,null,null,null,null,null,null,null,null,null,null,null,null,null,null,null,null,null,null,"Estado",42,"50-400",1.7128125716098572E-5,3.2366723499089681E-5,4.5444516014374107E-5,7.132796794588122E-5,1.2622707365642715E-5,2.3852912215005672E-5,3.3490694576322259E-5,5.2565708664817274E-5,1.2622707365642715E-5,2.3852912215005672E-5,3.3490694576322259E-5,5.2565708664817274E-5,7.2498942414467866E-6,1.3700000000000011E-5,1.9235492570461644E-5,3.0191290783142054E-5,7.2498942414467866E-6,1.3700000000000011E-5,1.9235492570461644E-5,3.0191290783142054E-5,1.2622707365642725E-5,2.3852912215005689E-5,3.3490694576322286E-5,5.2565708664817315E-5,1.7128125716098572E-5,3.2366723499089681E-5,4.5444516014374107E-5,7.132796794588122E-5,1.2622707365642715E-5,2.3852912215005672E-5,3.3490694576322259E-5,5.2565708664817274E-5,8.5640628580492859E-6,1.618336174954484E-5,2.2722258007187054E-5,3.566398397294061E-5]
[null,"Editoriales",43,">400",1.2388848359370894E-5,1.4712753242225514E-5,1.8390941552781893E-5,2.4425414253864085E-5,2.0645682115787316E-8,2.4518407012161688E-8,3.0648008765202113E-8,4.0704294992057329E-8,0,0,0,0,0,0,0,0,0,0,0,0,0,0,0,0,0,0,0,0,0,0,0,0,0,0,0,0,null,1.2388848359370894E-5,1.4712753242225514E-5,1.8390941552781893E-5,2.4425414253864085E-5,2.0645682115787316E-8,2.4518407012161688E-8,3.0648008765202113E-8,4.0704294992057329E-8,0,0,0,0,0,0,0,0,0,0,0,0,0,0,0,0,0,0,0,0,0,0,0,0,0,0,0,0,null,null,null,null,null,null,null,null,null,null,null,null,null,null,null,null,null,null,null,null,null,null,null,null,null,null,null,null,null,null,null,null,null,null,null,null,null,null,null,null,null,null,null,null,null,null,null,null,null,null,null,null,null,null,null,null,null,null,null,null,null,null,null,null,null,null,null,null,null,null,null,null,null,null,null,null,null,null,null,null,null,null,null,null,null,null,null,null,null,null,null,null,null,null,null,null,null,null,null,null,null,null,"Editoriales",43,">400",5.0132721043597878E-6,9.415912465884408E-6,1.3235769373083222E-5,2.0732180536193136E-5,1.2699899223627592E-5,2.3852912215005672E-5,3.3529585804678668E-5,5.2519910751848208E-5,1.2699899223627592E-5,2.3852912215005672E-5,3.3529585804678668E-5,5.2519910751848208E-5,7.2942296435503322E-6,1.3700000000000011E-5,1.9257829877691894E-5,3.0164986598478114E-5,7.2942296435503322E-6,1.3700000000000011E-5,1.9257829877691894E-5,3.0164986598478114E-5,1.2699899223627602E-5,2.3852912215005689E-5,3.3529585804678688E-5,5.2519910751848249E-5,5.0132721043597878E-6,9.415912465884408E-6,1.3235769373083222E-5,2.0732180536193136E-5,1.2699899223627592E-5,2.3852912215005672E-5,3.3529585804678668E-5,5.2519910751848208E-5,2.5066360521798939E-6,4.707956232942204E-6,6.617884686541611E-6,1.0366090268096568E-5]
[null,"Alimentos y Bebidas",44,">400",1.2388848359370894E-5,1.4712753242225514E-5,1.8390941552781893E-5,2.4425414253864085E-5,2.0645682115787316E-8,2.4518407012161688E-8,3.0648008765202113E-8,4.0704294992057329E-8,0,0,0,0,0,0,0,0,0,0,0,0,0,0,0,0,0,0,0,0,0,0,0,0,0,0,0,0,null,1.2388848359370894E-5,1.4712753242225514E-5,1.8390941552781893E-5,2.4425414253864085E-5,2.0645682115787316E-8,2.4518407012161688E-8,3.0648008765202113E-8,4.0704294992057329E-8,0,0,0,0,0,0,0,0,0,0,0,0,0,0,0,0,0,0,0,0,0,0,0,0,0,0,0,0,null,null,null,null,null,null,null,null,null,null,null,null,null,null,null,null,null,null,null,null,null,null,null,null,null,null,null,null,null,null,null,null,null,null,null,null,null,null,null,null,null,null,null,null,null,null,null,null,null,null,null,null,null,null,null,null,null,null,null,null,null,null,null,null,null,null,null,null,null,null,null,null,null,null,null,null,null,null,null,null,null,null,null,null,null,null,null,null,null,null,null,null,null,null,null,null,null,null,null,null,null,null,"Alimentos y Bebidas",44,">400",5.0132721043597878E-6,9.415912465884408E-6,1.3235769373083222E-5,2.0732180536193136E-5,1.2699899223627592E-5,2.3852912215005672E-5,3.3529585804678668E-5,5.2519910751848208E-5,1.2699899223627592E-5,2.3852912215005672E-5,3.3529585804678668E-5,5.2519910751848208E-5,7.2942296435503322E-6,1.3700000000000011E-5,1.9257829877691894E-5,3.0164986598478114E-5,7.2942296435503322E-6,1.3700000000000011E-5,1.9257829877691894E-5,3.0164986598478114E-5,1.2699899223627602E-5,2.3852912215005689E-5,3.3529585804678688E-5,5.2519910751848249E-5,5.0132721043597878E-6,9.415912465884408E-6,1.3235769373083222E-5,2.0732180536193136E-5,1.2699899223627592E-5,2.3852912215005672E-5,3.3529585804678668E-5,5.2519910751848208E-5,2.5066360521798939E-6,4.707956232942204E-6,6.617884686541611E-6,1.0366090268096568E-5]
[null,"Hoteles",45,">400",1.2388848359370894E-5,1.4712753242225514E-5,1.8390941552781893E-5,2.4425414253864085E-5,2.0645682115787316E-8,2.4518407012161688E-8,3.0648008765202113E-8,4.0704294992057329E-8,0,0,0,0,0,0,0,0,0,0,0,0,0,0,0,0,0,0,0,0,0,0,0,0,0,0,0,0,null,1.2388848359370894E-5,1.4712753242225514E-5,1.8390941552781893E-5,2.4425414253864085E-5,2.0645682115787316E-8,2.4518407012161688E-8,3.0648008765202113E-8,4.0704294992057329E-8,0,0,0,0,0,0,0,0,0,0,0,0,0,0,0,0,0,0,0,0,0,0,0,0,0,0,0,0,null,null,null,null,null,null,null,null,null,null,null,null,null,null,null,null,null,null,null,null,null,null,null,null,null,null,null,null,null,null,null,null,null,null,null,null,null,null,null,null,null,null,null,null,null,null,null,null,null,null,null,null,null,null,null,null,null,null,null,null,null,null,null,null,null,null,null,null,null,null,null,null,null,null,null,null,null,null,null,null,null,null,null,null,null,null,null,null,null,null,null,null,null,null,null,null,null,null,null,null,null,null,"Hoteles",45,">400",5.7655492471091128E-6,1.082883711444941E-5,1.5221890724328651E-5,2.3843191710545153E-5,1.2699899223627592E-5,2.3852912215005672E-5,3.3529585804678668E-5,5.2519910751848208E-5,1.2699899223627592E-5,2.3852912215005672E-5,3.3529585804678668E-5,5.2519910751848208E-5,7.2942296435503322E-6,1.3700000000000011E-5,1.9257829877691894E-5,3.0164986598478114E-5,7.2942296435503322E-6,1.3700000000000011E-5,1.9257829877691894E-5,3.0164986598478114E-5,1.2699899223627602E-5,2.3852912215005689E-5,3.3529585804678688E-5,5.2519910751848249E-5,5.7655492471091128E-6,1.082883711444941E-5,1.5221890724328651E-5,2.3843191710545153E-5,1.2699899223627592E-5,2.3852912215005672E-5,3.3529585804678668E-5,5.2519910751848208E-5,2.8827746235545564E-6,5.4144185572247048E-6,7.6109453621643255E-6,1.1921595855272576E-5]
[null,"Salud",46,">400",9.3552922717414575E-5,1.1110161550966057E-4,1.3887701938707574E-4,1.8444562607824343E-4,7.5833658905810092E-8,9.0058565459181838E-8,1.125732068239773E-7,1.4951095367630277E-7,0,0,0,0,0,0,0,0,0,0,0,0,0,0,0,0,0,0,0,0,0,0,0,0,0,0,0,0,null,9.3552922717414575E-5,1.1110161550966057E-4,1.3887701938707574E-4,1.8444562607824343E-4,7.5833658905810092E-8,9.0058565459181838E-8,1.125732068239773E-7,1.4951095367630277E-7,0,0,0,0,0,0,0,0,0,0,0,0,0,0,0,0,0,0,0,0,0,0,0,0,0,0,0,0,null,null,null,null,null,null,null,null,null,null,null,null,null,null,null,null,null,null,null,null,null,null,null,null,null,null,null,null,null,null,null,null,null,null,null,null,null,null,null,null,null,null,null,null,null,null,null,null,null,null,null,null,null,null,null,null,null,null,null,null,null,null,null,null,null,null,null,null,null,null,null,null,null,null,null,null,null,null,null,null,null,null,null,null,null,null,null,null,null,null,null,null,null,null,null,null,null,null,null,null,null,null,"Salud",46,">400",1.4882936680825348E-5,2.795308654802167E-5,3.9293123014466985E-5,6.1547772343588971E-5,9.0346950029528108E-6,1.6968936760840506E-5,2.3852912215005672E-5,3.7362609487676948E-5,9.0346950029528108E-6,1.6968936760840506E-5,2.3852912215005672E-5,3.7362609487676948E-5,5.1891073268021153E-6,9.7461656475332754E-6,1.3700000000000011E-5,2.1459339864553847E-5,5.1891073268021153E-6,9.7461656475332754E-6,1.3700000000000011E-5,2.1459339864553847E-5,9.0346950029528176E-6,1.6968936760840519E-5,2.3852912215005689E-5,3.7362609487676975E-5,1.4882936680825348E-5,2.795308654802167E-5,3.9293123014466985E-5,6.1547772343588971E-5,9.0346950029528108E-6,1.6968936760840506E-5,2.3852912215005672E-5,3.7362609487676948E-5,7.4414683404126742E-6,1.3976543274010835E-5,1.9646561507233493E-5,3.0773886171794486E-5]
[null,"AgroIndustria",47,">400",1.2388848359370894E-5,1.4712753242225514E-5,1.8390941552781893E-5,2.4425414253864085E-5,2.0645682115787316E-8,2.4518407012161688E-8,3.0648008765202113E-8,4.0704294992057329E-8,0,0,0,0,0,0,0,0,0,0,0,0,0,0,0,0,0,0,0,0,0,0,0,0,0,0,0,0,null,1.2388848359370894E-5,1.4712753242225514E-5,1.8390941552781893E-5,2.4425414253864085E-5,2.0645682115787316E-8,2.4518407012161688E-8,3.0648008765202113E-8,4.0704294992057329E-8,0,0,0,0,0,0,0,0,0,0,0,0,0,0,0,0,0,0,0,0,0,0,0,0,0,0,0,0,null,null,null,null,null,null,null,null,null,null,null,null,null,null,null,null,null,null,null,null,null,null,null,null,null,null,null,null,null,null,null,null,null,null,null,null,null,null,null,null,null,null,null,null,null,null,null,null,null,null,null,null,null,null,null,null,null,null,null,null,null,null,null,null,null,null,null,null,null,null,null,null,null,null,null,null,null,null,null,null,null,null,null,null,null,null,null,null,null,null,null,null,null,null,null,null,null,null,null,null,null,null,"AgroIndustria",47,">400",5.0132721043597878E-6,9.415912465884408E-6,1.3235769373083222E-5,2.0732180536193136E-5,1.2699899223627592E-5,2.3852912215005672E-5,3.3529585804678668E-5,5.2519910751848208E-5,1.2699899223627592E-5,2.3852912215005672E-5,3.3529585804678668E-5,5.2519910751848208E-5,7.2942296435503322E-6,1.3700000000000011E-5,1.9257829877691894E-5,3.0164986598478114E-5,7.2942296435503322E-6,1.3700000000000011E-5,1.9257829877691894E-5,3.0164986598478114E-5,1.2699899223627602E-5,2.3852912215005689E-5,3.3529585804678688E-5,5.2519910751848249E-5,5.0132721043597878E-6,9.415912465884408E-6,1.3235769373083222E-5,2.0732180536193136E-5,1.2699899223627592E-5,2.3852912215005672E-5,3.3529585804678668E-5,5.2519910751848208E-5,2.5066360521798939E-6,4.707956232942204E-6,6.617884686541611E-6,1.0366090268096568E-5]
[null,"Mineras",48,">400",8.2689139180728893E-6,9.8199999329064703E-6,1.227499991613309E-5,1.6302697556686286E-5,1.8091463959770269E-6,2.1485067643868753E-6,2.6856334554835941E-6,3.5668489019965734E-6,0,0,0,0,0,0,0,0,0,0,0,0,0,0,0,0,0,0,0,0,0,0,0,0,0,0,0,0,null,8.2689139180728893E-6,9.8199999329064703E-6,1.227499991613309E-5,1.6302697556686286E-5,1.8091463959770269E-6,2.1485067643868753E-6,2.6856334554835941E-6,3.5668489019965734E-6,0,0,0,0,0,0,0,0,0,0,0,0,0,0,0,0,0,0,0,0,0,0,0,0,0,0,0,0,null,null,null,null,null,null,null,null,null,null,null,null,null,null,null,null,null,null,null,null,null,null,null,null,null,null,null,null,null,null,null,null,null,null,null,null,null,null,null,null,null,null,null,null,null,null,null,null,null,null,null,null,null,null,null,null,null,null,null,null,null,null,null,null,null,null,null,null,null,null,null,null,null,null,null,null,null,null,null,null,null,null,null,null,null,null,null,null,null,null,null,null,null,null,null,null,null,null,null,null,null,null,"Mineras",48,">400",4.1759383859795441E-7,7.8432348148657575E-7,1.1025086259523715E-6,1.7269421392638129E-6,1.2699899223627592E-5,2.3852912215005672E-5,3.3529585804678668E-5,5.2519910751848208E-5,1.2699899223627592E-5,2.3852912215005672E-5,3.3529585804678668E-5,5.2519910751848208E-5,7.2942296435503322E-6,1.3700000000000011E-5,1.9257829877691894E-5,3.0164986598478114E-5,7.2942296435503322E-6,1.3700000000000011E-5,1.9257829877691894E-5,3.0164986598478114E-5,1.2699899223627602E-5,2.3852912215005689E-5,3.3529585804678688E-5,5.2519910751848249E-5,4.1759383859795441E-7,7.8432348148657575E-7,1.1025086259523715E-6,1.7269421392638129E-6,1.2699899223627592E-5,2.3852912215005672E-5,3.3529585804678668E-5,5.2519910751848208E-5,2.087969192989772E-7,3.9216174074328787E-7,5.5125431297618577E-7,8.6347106963190643E-7]
[null,"Educación",55,">400",1.5291200036905229E-5,1.8159529150288236E-5,2.2699411437860301E-5,3.0147587936016855E-5,7.7093325982766432E-8,9.1554521365091024E-8,1.144431517063638E-7,1.5199446863137445E-7,0,0,0,0,0,0,0,0,0,0,0,0,0,0,0,0,0,0,0,0,0,0,0,0,0,0,0,0,null,1.5291200036905229E-5,1.8159529150288236E-5,2.2699411437860301E-5,3.0147587936016855E-5,7.7093325982766432E-8,9.1554521365091024E-8,1.144431517063638E-7,1.5199446863137445E-7,0,0,0,0,0,0,0,0,0,0,0,0,0,0,0,0,0,0,0,0,0,0,0,0,0,0,0,0,null,null,null,null,null,null,null,null,null,null,null,null,null,null,null,null,null,null,null,null,null,null,null,null,null,null,null,null,null,null,null,null,null,null,null,null,null,null,null,null,null,null,null,null,null,null,null,null,null,null,null,null,null,null,null,null,null,null,null,null,null,null,null,null,null,null,null,null,null,null,null,null,null,null,null,null,null,null,null,null,null,null,null,null,null,null,null,null,null,null,null,null,null,null,null,null,null,null,null,null,null,null,"Educación",55,">400",4.0308875373542602E-5,7.5708007507801226E-5,1.0642130868352211E-4,1.6669569575695578E-4,9.0346950029528108E-6,1.6968936760840506E-5,2.3852912215005672E-5,3.7362609487676948E-5,9.0346950029528108E-6,1.6968936760840506E-5,2.3852912215005672E-5,3.7362609487676948E-5,5.1891073268021153E-6,9.7461656475332754E-6,1.3700000000000011E-5,2.1459339864553847E-5,5.1891073268021153E-6,9.7461656475332754E-6,1.3700000000000011E-5,2.1459339864553847E-5,9.0346950029528176E-6,1.6968936760840519E-5,2.3852912215005689E-5,3.7362609487676975E-5,4.0308875373542602E-5,7.5708007507801226E-5,1.0642130868352211E-4,1.6669569575695578E-4,9.0346950029528108E-6,1.6968936760840506E-5,2.3852912215005672E-5,3.7362609487676948E-5,2.0154437686771301E-5,3.7854003753900613E-5,5.3210654341761053E-5,8.334784787847789E-5]
[null,"Actividades Deportivas y de Esparcimiento",62,">400",4.0593754177812563E-6,4.8208346011593728E-6,6.0260432514492162E-6,8.0033206731650351E-6,7.5833658905810085E-9,9.0058565459181841E-9,1.125732068239773E-8,1.4951095367630279E-8,0,0,0,0,0,0,0,0,0,0,0,0,0,0,0,0,0,0,0,0,0,0,0,0,0,0,0,0,null,4.0593754177812563E-6,4.8208346011593728E-6,6.0260432514492162E-6,8.0033206731650351E-6,7.5833658905810085E-9,9.0058565459181841E-9,1.125732068239773E-8,1.4951095367630279E-8,0,0,0,0,0,0,0,0,0,0,0,0,0,0,0,0,0,0,0,0,0,0,0,0,0,0,0,0,null,null,null,null,null,null,null,null,null,null,null,null,null,null,null,null,null,null,null,null,null,null,null,null,null,null,null,null,null,null,null,null,null,null,null,null,null,null,null,null,null,null,null,null,null,null,null,null,null,null,null,null,null,null,null,null,null,null,null,null,null,null,null,null,null,null,null,null,null,null,null,null,null,null,null,null,null,null,null,null,null,null,null,null,null,null,null,null,null,null,null,null,null,null,null,null,null,null,null,null,null,null,"Actividades Deportivas y de Esparcimiento",62,">400",6.865470954652179E-6,1.2894706730532061E-5,1.8125844418928092E-5,2.8391872680131737E-5,1.2699899223627592E-5,2.3852912215005672E-5,3.3529585804678668E-5,5.2519910751848208E-5,1.2699899223627592E-5,2.3852912215005672E-5,3.3529585804678668E-5,5.2519910751848208E-5,7.2942296435503322E-6,1.3700000000000011E-5,1.9257829877691894E-5,3.0164986598478114E-5,7.2942296435503322E-6,1.3700000000000011E-5,1.9257829877691894E-5,3.0164986598478114E-5,1.2699899223627602E-5,2.3852912215005689E-5,3.3529585804678688E-5,5.2519910751848249E-5,6.865470954652179E-6,1.2894706730532061E-5,1.8125844418928092E-5,2.8391872680131737E-5,1.2699899223627592E-5,2.3852912215005672E-5,3.3529585804678668E-5,5.2519910751848208E-5,3.4327354773260895E-6,6.4473533652660306E-6,9.0629222094640458E-6,1.4195936340065869E-5]
[null,"Instituciones Financieras",74,"1-50",6.3414387642882601E-6,7.5309682573590258E-6,9.4137103216987834E-6,1.25025558704246E-5,1.2370965470637196E-7,1.4691515874427878E-7,1.8364394843034851E-7,2.4390156984366078E-7,9.7262083426120214E-9,9.7262083426120214E-9,9.7262083426120214E-9,9.7262083426120214E-9,0,0,0,0,0,0,0,0,0,0,0,0,0,0,0,0,0,0,0,0,0,0,0,0,null,6.3414387642882601E-6,7.5309682573590258E-6,9.4137103216987834E-6,1.25025558704246E-5,1.2370965470637196E-7,1.4691515874427878E-7,1.8364394843034851E-7,2.4390156984366078E-7,9.7262083426120214E-9,9.7262083426120214E-9,9.7262083426120214E-9,9.7262083426120214E-9,0,0,0,0,0,0,0,0,0,0,0,0,0,0,0,0,0,0,0,0,0,0,0,0,null,null,null,null,null,null,null,null,null,null,null,null,null,null,null,null,null,null,null,null,null,null,null,null,null,null,null,null,null,null,null,null,null,null,null,null,null,null,null,null,null,null,null,null,null,null,null,null,null,null,null,null,null,null,null,null,null,null,null,null,null,null,null,null,null,null,null,null,null,null,null,null,null,null,null,null,null,null,null,null,null,null,null,null,null,null,null,null,null,null,null,null,null,null,null,null,null,null,null,null,null,null,"Instituciones Financieras",74,"1-50",9.1748831871359582E-4,1.7378455675213292E-3,2.4428415853385709E-3,3.834281940292613E-3,1.812821328340429E-4,3.433726016895454E-4,4.826693961474939E-4,7.5759744712376688E-4,1.812821328340429E-4,3.433726016895454E-4,4.826693961474939E-4,7.5759744712376688E-4,1.37E-4,2.5949632043734274E-4,3.6476682085786311E-4,5.7253767171292467E-4,1.37E-4,2.5949632043734274E-4,3.6476682085786311E-4,5.7253767171292467E-4,0,0,0,0,9.1748831871359582E-4,1.7378455675213292E-3,2.4428415853385709E-3,3.834281940292613E-3,1.812821328340429E-4,3.433726016895454E-4,4.826693961474939E-4,7.5759744712376688E-4,4.5874415935679791E-4,8.689227837606646E-4,1.2214207926692854E-3,1.9171409701463065E-3]
[null,"Energia y Agua",81,"1-50",2.5603072478690753E-6,3.0405706543083452E-6,3.8007133178854317E-6,5.0478110097352473E-6,2.6768221400560107E-6,3.1789414542458742E-6,3.9736768178073425E-6,5.2775276408422516E-6,9.7262083426120214E-9,9.7262083426120214E-9,9.7262083426120214E-9,9.7262083426120214E-9,0,0,0,0,0,0,0,0,0,0,0,0,0,0,0,0,0,0,0,0,0,0,0,0,null,2.5603072478690753E-6,3.0405706543083452E-6,3.8007133178854317E-6,5.0478110097352473E-6,2.6768221400560107E-6,3.1789414542458742E-6,3.9736768178073425E-6,5.2775276408422516E-6,9.7262083426120214E-9,9.7262083426120214E-9,9.7262083426120214E-9,9.7262083426120214E-9,0,0,0,0,0,0,0,0,0,0,0,0,0,0,0,0,0,0,0,0,0,0,0,0,null,null,null,null,null,null,null,null,null,null,null,null,null,null,null,null,null,null,null,null,null,null,null,null,null,null,null,null,null,null,null,null,null,null,null,null,null,null,null,null,null,null,null,null,null,null,null,null,null,null,null,null,null,null,null,null,null,null,null,null,null,null,null,null,null,null,null,null,null,null,null,null,null,null,null,null,null,null,null,null,null,null,null,null,null,null,null,null,null,null,null,null,null,null,null,null,null,null,null,null,null,null,"Energia y Agua",81,"1-50",1.6349383701023692E-3,3.0967919064481117E-3,4.3530749748961865E-3,6.8325825387776234E-3,1.812821328340429E-4,3.433726016895454E-4,4.826693961474939E-4,7.5759744712376688E-4,1.812821328340429E-4,3.433726016895454E-4,4.826693961474939E-4,7.5759744712376688E-4,1.37E-4,2.5949632043734274E-4,3.6476682085786311E-4,5.7253767171292467E-4,1.37E-4,2.5949632043734274E-4,3.6476682085786311E-4,5.7253767171292467E-4,0,0,0,0,1.6349383701023692E-3,3.0967919064481117E-3,4.3530749748961865E-3,6.8325825387776234E-3,1.812821328340429E-4,3.433726016895454E-4,4.826693961474939E-4,7.5759744712376688E-4,8.1746918505118458E-4,1.5483959532240558E-3,2.1765374874480933E-3,3.4162912693888117E-3]
[null,"Telecomunicaciones",93,"50-400",6.1381443331526609E-7,7.2895397795817304E-7,9.1119247244771617E-7,1.2101747776568585E-6,6.4999679175467449E-9,7.7192343694247888E-9,9.6490429617809864E-9,1.2815106329299492E-8,7.4774602619116655E-9,7.4774602619116655E-9,7.4774602619116655E-9,7.4774602619116655E-9,0,0,0,0,0,0,0,0,0,0,0,0,0,0,0,0,0,0,0,0,0,0,0,0,null,6.1381443331526609E-7,7.2895397795817304E-7,9.1119247244771617E-7,1.2101747776568585E-6,6.4999679175467449E-9,7.7192343694247888E-9,9.6490429617809864E-9,1.2815106329299492E-8,7.4774602619116655E-9,7.4774602619116655E-9,7.4774602619116655E-9,7.4774602619116655E-9,0,0,0,0,0,0,0,0,0,0,0,0,0,0,0,0,0,0,0,0,0,0,0,0,null,null,null,null,null,null,null,null,null,null,null,null,null,null,null,null,null,null,null,null,null,null,null,null,null,null,null,null,null,null,null,null,null,null,null,null,null,null,null,null,null,null,null,null,null,null,null,null,null,null,null,null,null,null,null,null,null,null,null,null,null,null,null,null,null,null,null,null,null,null,null,null,null,null,null,null,null,null,null,null,null,null,null,null,null,null,null,null,null,null,null,null,null,null,null,null,null,null,null,null,null,null,"Telecomunicaciones",93,"50-400",2.1247959810853008E-4,4.0151902871150743E-4,5.6375301413716568E-4,8.8484509129882298E-4,9.5932575978884517E-5,1.812821328340429E-4,2.5452927878004888E-4,3.9949938585261081E-4,9.5932575978884517E-5,1.812821328340429E-4,2.5452927878004888E-4,3.9949938585261081E-4,7.2498942414467803E-5,1.37E-4,1.9235492570461626E-4,3.0191290783142027E-4,7.2498942414467803E-5,1.37E-4,1.9235492570461626E-4,3.0191290783142027E-4,0,0,0,0,2.1247959810853008E-4,4.0151902871150743E-4,5.6375301413716568E-4,8.8484509129882298E-4,9.5932575978884517E-5,1.812821328340429E-4,2.5452927878004888E-4,3.9949938585261081E-4,1.0623979905426504E-4,2.0075951435575372E-4,2.8187650706858284E-4,4.4242254564941149E-4]
[null,"Quimicas",96,"50-400",6.1381443331526609E-7,7.2895397795817304E-7,9.1119247244771617E-7,1.2101747776568585E-6,6.4999679175467449E-9,7.7192343694247888E-9,9.6490429617809864E-9,1.2815106329299492E-8,7.4774602619116655E-9,7.4774602619116655E-9,7.4774602619116655E-9,7.4774602619116655E-9,0,0,0,0,0,0,0,0,0,0,0,0,0,0,0,0,0,0,0,0,0,0,0,0,null,6.1381443331526609E-7,7.2895397795817304E-7,9.1119247244771617E-7,1.2101747776568585E-6,6.4999679175467449E-9,7.7192343694247888E-9,9.6490429617809864E-9,1.2815106329299492E-8,7.4774602619116655E-9,7.4774602619116655E-9,7.4774602619116655E-9,7.4774602619116655E-9,0,0,0,0,0,0,0,0,0,0,0,0,0,0,0,0,0,0,0,0,0,0,0,0,null,null,null,null,null,null,null,null,null,null,null,null,null,null,null,null,null,null,null,null,null,null,null,null,null,null,null,null,null,null,null,null,null,null,null,null,null,null,null,null,null,null,null,null,null,null,null,null,null,null,null,null,null,null,null,null,null,null,null,null,null,null,null,null,null,null,null,null,null,null,null,null,null,null,null,null,null,null,null,null,null,null,null,null,null,null,null,null,null,null,null,null,null,null,null,null,null,null,null,null,null,null,"Quimicas",96,"50-400",2.1247959810853008E-4,4.0151902871150743E-4,5.6375301413716568E-4,8.8484509129882298E-4,9.5932575978884517E-5,1.812821328340429E-4,2.5452927878004888E-4,3.9949938585261081E-4,9.5932575978884517E-5,1.812821328340429E-4,2.5452927878004888E-4,3.9949938585261081E-4,7.2498942414467803E-5,1.37E-4,1.9235492570461626E-4,3.0191290783142027E-4,7.2498942414467803E-5,1.37E-4,1.9235492570461626E-4,3.0191290783142027E-4,0,0,0,0,2.1247959810853008E-4,4.0151902871150743E-4,5.6375301413716568E-4,8.8484509129882298E-4,9.5932575978884517E-5,1.812821328340429E-4,2.5452927878004888E-4,3.9949938585261081E-4,1.0623979905426504E-4,2.0075951435575372E-4,2.8187650706858284E-4,4.4242254564941149E-4]
[null,"Textiles",103,"50-400",6.1381443331526609E-7,7.2895397795817304E-7,9.1119247244771617E-7,1.2101747776568585E-6,6.4999679175467449E-9,7.7192343694247888E-9,9.6490429617809864E-9,1.2815106329299492E-8,7.4774602619116655E-9,7.4774602619116655E-9,7.4774602619116655E-9,7.4774602619116655E-9,0,0,0,0,0,0,0,0,0,0,0,0,0,0,0,0,0,0,0,0,0,0,0,0,null,6.1381443331526609E-7,7.2895397795817304E-7,9.1119247244771617E-7,1.2101747776568585E-6,6.4999679175467449E-9,7.7192343694247888E-9,9.6490429617809864E-9,1.2815106329299492E-8,7.4774602619116655E-9,7.4774602619116655E-9,7.4774602619116655E-9,7.4774602619116655E-9,0,0,0,0,0,0,0,0,0,0,0,0,0,0,0,0,0,0,0,0,0,0,0,0,null,null,null,null,null,null,null,null,null,null,null,null,null,null,null,null,null,null,null,null,null,null,null,null,null,null,null,null,null,null,null,null,null,null,null,null,null,null,null,null,null,null,null,null,null,null,null,null,null,null,null,null,null,null,null,null,null,null,null,null,null,null,null,null,null,null,null,null,null,null,null,null,null,null,null,null,null,null,null,null,null,null,null,null,null,null,null,null,null,null,null,null,null,null,null,null,null,null,null,null,null,null,"Textiles",103,"50-400",2.1247959810853008E-4,4.0151902871150743E-4,5.6375301413716568E-4,8.8484509129882298E-4,9.5932575978884517E-5,1.812821328340429E-4,2.5452927878004888E-4,3.9949938585261081E-4,9.5932575978884517E-5,1.812821328340429E-4,2.5452927878004888E-4,3.9949938585261081E-4,7.2498942414467803E-5,1.37E-4,1.9235492570461626E-4,3.0191290783142027E-4,7.2498942414467803E-5,1.37E-4,1.9235492570461626E-4,3.0191290783142027E-4,0,0,0,0,2.1247959810853008E-4,4.0151902871150743E-4,5.6375301413716568E-4,8.8484509129882298E-4,9.5932575978884517E-5,1.812821328340429E-4,2.5452927878004888E-4,3.9949938585261081E-4,1.0623979905426504E-4,2.0075951435575372E-4,2.8187650706858284E-4,4.4242254564941149E-4]
[null,"Plasticos y Cauchos",115,">400",1.2770435258390091E-7,1.5165918356760871E-7,1.8957397945951088E-7,2.5177737457121419E-7,1.8289828978797416E-9,2.1720642048541181E-9,2.7150802560676479E-9,3.6059578459651126E-9,5.9209382531007253E-9,5.9209382531007253E-9,5.9209382531007253E-9,5.9209382531007253E-9,0,0,0,0,0,0,0,0,0,0,0,0,0,0,0,0,0,0,0,0,0,0,0,0,null,1.2770435258390091E-7,1.5165918356760871E-7,1.8957397945951088E-7,2.5177737457121419E-7,1.8289828978797416E-9,2.1720642048541181E-9,2.7150802560676479E-9,3.6059578459651126E-9,5.9209382531007253E-9,5.9209382531007253E-9,5.9209382531007253E-9,5.9209382531007253E-9,0,0,0,0,0,0,0,0,0,0,0,0,0,0,0,0,0,0,0,0,0,0,0,0,null,null,null,null,null,null,null,null,null,null,null,null,null,null,null,null,null,null,null,null,null,null,null,null,null,null,null,null,null,null,null,null,null,null,null,null,null,null,null,null,null,null,null,null,null,null,null,null,null,null,null,null,null,null,null,null,null,null,null,null,null,null,null,null,null,null,null,null,null,null,null,null,null,null,null,null,null,null,null,null,null,null,null,null,null,null,null,null,null,null,null,null,null,null,null,null,null,null,null,null,null,null,"Plasticos y Cauchos",115,">400",6.7177846198421091E-5,1.2617322704285095E-4,1.77359309599315E-4,2.7781121918498775E-4,9.6519234099569579E-5,1.812821328340429E-4,2.548248521155576E-4,3.9915132171404591E-4,9.6519234099569579E-5,1.812821328340429E-4,2.548248521155576E-4,3.9915132171404591E-4,7.2942296435503254E-5,1.37E-4,1.9257829877691876E-4,3.0164986598478087E-4,7.2942296435503254E-5,1.37E-4,1.9257829877691876E-4,3.0164986598478087E-4,0,0,0,0,6.7177846198421091E-5,1.2617322704285095E-4,1.77359309599315E-4,2.7781121918498775E-4,9.6519234099569579E-5,1.812821328340429E-4,2.548248521155576E-4,3.9915132171404591E-4,3.3588923099210546E-5,6.3086613521425475E-5,8.8679654799657498E-5,1.3890560959249387E-4]
[null,"Pesca",122,">400",1.2770435258390091E-7,1.5165918356760871E-7,1.8957397945951088E-7,2.5177737457121419E-7,1.8289828978797416E-9,2.1720642048541181E-9,2.7150802560676479E-9,3.6059578459651126E-9,5.9209382531007253E-9,5.9209382531007253E-9,5.9209382531007253E-9,5.9209382531007253E-9,0,0,0,0,0,0,0,0,0,0,0,0,0,0,0,0,0,0,0,0,0,0,0,0,null,1.2770435258390091E-7,1.5165918356760871E-7,1.8957397945951088E-7,2.5177737457121419E-7,1.8289828978797416E-9,2.1720642048541181E-9,2.7150802560676479E-9,3.6059578459651126E-9,5.9209382531007253E-9,5.9209382531007253E-9,5.9209382531007253E-9,5.9209382531007253E-9,0,0,0,0,0,0,0,0,0,0,0,0,0,0,0,0,0,0,0,0,0,0,0,0,null,null,null,null,null,null,null,null,null,null,null,null,null,null,null,null,null,null,null,null,null,null,null,null,null,null,null,null,null,null,null,null,null,null,null,null,null,null,null,null,null,null,null,null,null,null,null,null,null,null,null,null,null,null,null,null,null,null,null,null,null,null,null,null,null,null,null,null,null,null,null,null,null,null,null,null,null,null,null,null,null,null,null,null,null,null,null,null,null,null,null,null,null,null,null,null,null,null,null,null,null,null,"Pesca",122,">400",6.7177846198421091E-5,1.2617322704285095E-4,1.77359309599315E-4,2.7781121918498775E-4,9.6519234099569579E-5,1.812821328340429E-4,2.548248521155576E-4,3.9915132171404591E-4,9.6519234099569579E-5,1.812821328340429E-4,2.548248521155576E-4,3.9915132171404591E-4,7.2942296435503254E-5,1.37E-4,1.9257829877691876E-4,3.0164986598478087E-4,7.2942296435503254E-5,1.37E-4,1.9257829877691876E-4,3.0164986598478087E-4,0,0,0,0,6.7177846198421091E-5,1.2617322704285095E-4,1.77359309599315E-4,2.7781121918498775E-4,9.6519234099569579E-5,1.812821328340429E-4,2.548248521155576E-4,3.9915132171404591E-4,3.3588923099210546E-5,6.3086613521425475E-5,8.8679654799657498E-5,1.3890560959249387E-4]
[null,"Mineras",134,"1-50",1.5691434684366674E-7,1.8634839965004544E-7,2.3293549956255682E-7,3.0936676379060116E-7,0,0,0,0,0,0,0,0,0,0,0,0,0,0,0,0,0,0,0,0,0,0,0,0,0,0,0,0,0,0,0,0,null,1.5691434684366674E-7,1.8634839965004544E-7,2.3293549956255682E-7,3.0936676379060116E-7,0,0,0,0,0,0,0,0,0,0,0,0,0,0,0,0,0,0,0,0,0,0,0,0,0,0,0,0,0,0,0,0,null,null,null,null,null,null,null,null,null,null,null,null,null,null,null,null,null,null,null,null,null,null,null,null,null,null,null,null,null,null,null,null,null,null,null,null,null,null,null,null,null,null,null,null,null,null,null,null,null,null,null,null,null,null,null,null,null,null,null,null,null,null,null,null,null,null,null,null,null,null,null,null,null,null,null,null,null,null,null,null,null,null,null,null,null,null,null,null,null,null,null,null,null,null,null,null,null,null,null,null,null,null,"Mineras",134,"1-50",1.5138739785790073E-3,2.8674797594678324E-3,4.0307372142022579E-3,6.3266414814774222E-3,3.8641717788309157E-4,7.319258088645576E-4,1.0288479233670268E-3,1.6148787688690825E-3,3.8641717788309157E-4,7.319258088645576E-4,1.0288479233670268E-3,1.6148787688690825E-3,2.2194000000000001E-4,4.2038403910849524E-4,5.9092224978973828E-4,9.2751102817493808E-4,4.1100000000000002E-4,7.7848896131202817E-4,1.0943004625735893E-3,1.7176130151387741E-3,0,0,0,0,1.5138739785790073E-3,2.8674797594678324E-3,4.0307372142022579E-3,6.3266414814774222E-3,3.8641717788309157E-4,7.319258088645576E-4,1.0288479233670268E-3,1.6148787688690825E-3,7.5693698928950366E-4,1.4337398797339162E-3,2.0153686071011289E-3,3.1633207407387111E-3]
[null,"Textiles",146,"1-50",2.3509593493373455E-7,2.7919531974205107E-7,3.489941496775638E-7,4.63506811414999E-7,0,0,0,0,0,0,0,0,0,0,0,0,0,0,0,0,0,0,0,0,0,0,0,0,0,0,0,0,0,0,0,0,null,2.3509593493373455E-7,2.7919531974205107E-7,3.489941496775638E-7,4.63506811414999E-7,0,0,0,0,0,0,0,0,0,0,0,0,0,0,0,0,0,0,0,0,0,0,0,0,0,0,0,0,0,0,0,0,null,null,null,null,null,null,null,null,null,null,null,null,null,null,null,null,null,null,null,null,null,null,null,null,null,null,null,null,null,null,null,null,null,null,null,null,null,null,null,null,null,null,null,null,null,null,null,null,null,null,null,null,null,null,null,null,null,null,null,null,null,null,null,null,null,null,null,null,null,null,null,null,null,null,null,null,null,null,null,null,null,null,null,null,null,null,null,null,null,null,null,null,null,null,null,null,null,null,null,null,null,null,"Textiles",146,"1-50",1.4356114651097565E-3,2.7192400932382768E-3,3.8223608037604878E-3,5.9995740563381136E-3,2.0400733729388721E-4,3.8641717788309157E-4,5.431759697545203E-4,8.5256851026712136E-4,2.0400733729388721E-4,3.8641717788309157E-4,5.431759697545203E-4,8.5256851026712136E-4,1.1717229727479602E-4,2.2194000000000001E-4,3.1197493700394125E-4,4.8967557862019295E-4,2.1698573569406667E-4,4.1100000000000002E-4,5.7773136482211344E-4,9.0680662707443146E-4,0,0,0,0,1.4356114651097565E-3,2.7192400932382768E-3,3.8223608037604878E-3,5.9995740563381136E-3,2.0400733729388721E-4,3.8641717788309157E-4,5.431759697545203E-4,8.5256851026712136E-4,7.1780573255487827E-4,1.3596200466191384E-3,1.9111804018802439E-3,2.9997870281690568E-3]
[null,"Actividades Deportivas y de Esparcimiento",148,"1-50",7.703239489314125E-8,9.1482160798520918E-8,1.1435270099815114E-7,1.5187433905501165E-7,0,0,0,0,0,0,0,0,0,0,0,0,0,0,0,0,0,0,0,0,0,0,0,0,0,0,0,0,0,0,0,0,null,7.703239489314125E-8,9.1482160798520918E-8,1.1435270099815114E-7,1.5187433905501165E-7,0,0,0,0,0,0,0,0,0,0,0,0,0,0,0,0,0,0,0,0,0,0,0,0,0,0,0,0,0,0,0,0,null,null,null,null,null,null,null,null,null,null,null,null,null,null,null,null,null,null,null,null,null,null,null,null,null,null,null,null,null,null,null,null,null,null,null,null,null,null,null,null,null,null,null,null,null,null,null,null,null,null,null,null,null,null,null,null,null,null,null,null,null,null,null,null,null,null,null,null,null,null,null,null,null,null,null,null,null,null,null,null,null,null,null,null,null,null,null,null,null,null,null,null,null,null,null,null,null,null,null,null,null,null,"Actividades Deportivas y de Esparcimiento",148,"1-50",2.4643975619500318E-3,4.6678985359181807E-3,6.5615362335940518E-3,1.0298981330612269E-2,2.0400733729388721E-4,3.8641717788309157E-4,5.431759697545203E-4,8.5256851026712136E-4,2.0400733729388721E-4,3.8641717788309157E-4,5.431759697545203E-4,8.5256851026712136E-4,1.1717229727479602E-4,2.2194000000000001E-4,3.1197493700394125E-4,4.8967557862019295E-4,2.1698573569406667E-4,4.1100000000000002E-4,5.7773136482211344E-4,9.0680662707443146E-4,0,0,0,0,2.4643975619500318E-3,4.6678985359181807E-3,6.5615362335940518E-3,1.0298981330612269E-2,2.0400733729388721E-4,3.8641717788309157E-4,5.431759697545203E-4,8.5256851026712136E-4,1.2321987809750159E-3,2.3339492679590903E-3,3.2807681167970259E-3,5.1494906653061345E-3]
[null,"Energia y Agua",166,"50-400",3.0215659976269877E-8,3.5883524956182684E-8,4.4854406195228359E-8,5.9572124096268317E-8,0,0,0,0,0,0,0,0,0,0,0,0,0,0,0,0,0,0,0,0,0,0,0,0,0,0,0,0,0,0,0,0,null,3.0215659976269877E-8,3.5883524956182684E-8,4.4854406195228359E-8,5.9572124096268317E-8,0,0,0,0,0,0,0,0,0,0,0,0,0,0,0,0,0,0,0,0,0,0,0,0,0,0,0,0,0,0,0,0,null,null,null,null,null,null,null,null,null,null,null,null,null,null,null,null,null,null,null,null,null,null,null,null,null,null,null,null,null,null,null,null,null,null,null,null,null,null,null,null,null,null,null,null,null,null,null,null,null,null,null,null,null,null,null,null,null,null,null,null,null,null,null,null,null,null,null,null,null,null,null,null,null,null,null,null,null,null,null,null,null,null,null,null,null,null,null,null,null,null,null,null,null,null,null,null,null,null,null,null,null,null,"Energia y Agua",166,"50-400",7.5540420287748336E-4,1.4274742823498457E-3,2.0042460549390875E-3,3.1457876747358528E-3,2.0448785932341182E-4,3.8641717788309157E-4,5.4254925213642017E-4,8.5156448037003918E-4,2.0448785932341182E-4,3.8641717788309157E-4,5.4254925213642017E-4,8.5156448037003918E-4,1.1744828671143785E-4,2.2194000000000001E-4,3.1161497964147833E-4,4.8909891068690088E-4,2.1749682724340341E-4,4.1100000000000002E-4,5.7706477711384871E-4,9.0573872349426082E-4,0,0,0,0,7.5540420287748336E-4,1.4274742823498457E-3,2.0042460549390875E-3,3.1457876747358528E-3,2.0448785932341182E-4,3.8641717788309157E-4,5.4254925213642017E-4,8.5156448037003918E-4,3.7770210143874168E-4,7.1373714117492287E-4,1.0021230274695437E-3,1.5728938373679264E-3]
[null,"Actividades Deportivas y de Esparcimiento",169,"50-400",1.3521951932670698E-8,1.6058404814369756E-8,2.0073006017962193E-8,2.665940109166786E-8,0,0,0,0,0,0,0,0,0,0,0,0,0,0,0,0,0,0,0,0,0,0,0,0,0,0,0,0,0,0,0,0,null,1.3521951932670698E-8,1.6058404814369756E-8,2.0073006017962193E-8,2.665940109166786E-8,0,0,0,0,0,0,0,0,0,0,0,0,0,0,0,0,0,0,0,0,0,0,0,0,0,0,0,0,0,0,0,0,null,null,null,null,null,null,null,null,null,null,null,null,null,null,null,null,null,null,null,null,null,null,null,null,null,null,null,null,null,null,null,null,null,null,null,null,null,null,null,null,null,null,null,null,null,null,null,null,null,null,null,null,null,null,null,null,null,null,null,null,null,null,null,null,null,null,null,null,null,null,null,null,null,null,null,null,null,null,null,null,null,null,null,null,null,null,null,null,null,null,null,null,null,null,null,null,null,null,null,null,null,null,"Actividades Deportivas y de Esparcimiento",169,"50-400",1.3363962891768566E-3,2.5253649987133191E-3,3.5457401219309401E-3,5.5652575919505863E-3,9.2791119560048941E-5,1.7534577686735808E-4,2.4619433490466339E-4,3.8641717788309157E-4,9.2791119560048941E-5,1.7534577686735808E-4,2.4619433490466339E-4,3.8641717788309157E-4,5.3294890221955622E-5,1.0071043407318541E-4,1.4140254061187761E-4,2.2194000000000001E-4,9.8694241151769669E-5,1.8650080383923224E-4,2.6185655668866222E-4,4.1100000000000002E-4,0,0,0,0,1.3363962891768566E-3,2.5253649987133191E-3,3.5457401219309401E-3,5.5652575919505863E-3,9.2791119560048941E-5,1.7534577686735808E-4,2.4619433490466339E-4,3.8641717788309157E-4,6.6819814458842831E-4,1.2626824993566595E-3,1.77287006096547E-3,2.7826287959752932E-3]
[null,"Mineras",176,">400",5.730562382327352E-9,6.8055034515446857E-9,8.5068793144308582E-9,1.1298173650667208E-8,0,0,0,0,0,0,0,0,0,0,0,0,0,0,0,0,0,0,0,0,0,0,0,0,0,0,0,0,0,0,0,0,null,5.730562382327352E-9,6.8055034515446857E-9,8.5068793144308582E-9,1.1298173650667208E-8,0,0,0,0,0,0,0,0,0,0,0,0,0,0,0,0,0,0,0,0,0,0,0,0,0,0,0,0,0,0,0,0,null,null,null,null,null,null,null,null,null,null,null,null,null,null,null,null,null,null,null,null,null,null,null,null,null,null,null,null,null,null,null,null,null,null,null,null,null,null,null,null,null,null,null,null,null,null,null,null,null,null,null,null,null,null,null,null,null,null,null,null,null,null,null,null,null,null,null,null,null,null,null,null,null,null,null,null,null,null,null,null,null,null,null,null,null,null,null,null,null,null,null,null,null,null,null,null,null,null,null,null,null,null,"Mineras",176,">400",6.7650201852868556E-6,1.2706040400082517E-5,1.7860639740428406E-5,2.7976462656073745E-5,2.0573836742276681E-4,3.8641717788309157E-4,5.4317929003579396E-4,8.5082255417994021E-4,2.0573836742276681E-4,3.8641717788309157E-4,5.4317929003579396E-4,8.5082255417994021E-4,1.1816652022551527E-4,2.2194000000000001E-4,3.1197684401860842E-4,4.8867278289534502E-4,2.1882688930650976E-4,4.1100000000000002E-4,5.7773489633075625E-4,9.0494959795434267E-4,0,0,0,0,6.7650201852868556E-6,1.2706040400082517E-5,1.7860639740428406E-5,2.7976462656073745E-5,2.0573836742276681E-4,3.8641717788309157E-4,5.4317929003579396E-4,8.5082255417994021E-4,3.3825100926434278E-6,6.3530202000412585E-6,8.9303198702142029E-6,1.3988231328036873E-5]
[null,"Textiles",188,">400",8.5857791085959838E-9,1.0196302816272603E-8,1.2745378520340751E-8,1.6927417733788289E-8,0,0,0,0,0,0,0,0,0,0,0,0,0,0,0,0,0,0,0,0,0,0,0,0,0,0,0,0,0,0,0,0,null,8.5857791085959838E-9,1.0196302816272603E-8,1.2745378520340751E-8,1.6927417733788289E-8,0,0,0,0,0,0,0,0,0,0,0,0,0,0,0,0,0,0,0,0,0,0,0,0,0,0,0,0,0,0,0,0,null,null,null,null,null,null,null,null,null,null,null,null,null,null,null,null,null,null,null,null,null,null,null,null,null,null,null,null,null,null,null,null,null,null,null,null,null,null,null,null,null,null,null,null,null,null,null,null,null,null,null,null,null,null,null,null,null,null,null,null,null,null,null,null,null,null,null,null,null,null,null,null,null,null,null,null,null,null,null,null,null,null,null,null,null,null,null,null,null,null,null,null,null,null,null,null,null,null,null,null,null,null,"Textiles",188,">400",8.1215008090628496E-5,1.5253778194732729E-4,2.1441946384394801E-4,3.3586132468632851E-4,2.0573836742276681E-4,3.8641717788309157E-4,5.4317929003579396E-4,8.5082255417994021E-4,2.0573836742276681E-4,3.8641717788309157E-4,5.4317929003579396E-4,8.5082255417994021E-4,1.1816652022551527E-4,2.2194000000000001E-4,3.1197684401860842E-4,4.8867278289534502E-4,2.1882688930650976E-4,4.1100000000000002E-4,5.7773489633075625E-4,9.0494959795434267E-4,0,0,0,0,8.1215008090628496E-5,1.5253778194732729E-4,2.1441946384394801E-4,3.3586132468632851E-4,2.0573836742276681E-4,3.8641717788309157E-4,5.4317929003579396E-4,8.5082255417994021E-4,4.0607504045314248E-5,7.6268890973663645E-5,1.0720973192197401E-4,1.6793066234316426E-4]
[null,"Hoteles",195,"1-50",-2.1941189674587413E-5,-2.6056926371117802E-5,-3.2571157963897249E-5,-4.325847177062527E-5,-1.9855093963391491E-6,-2.3579520033726074E-6,-2.9474400042157598E-6,-3.9145599416301197E-6,0,0,0,0,0,0,0,0,-4.5131185533884038E-7,-4.5131185533884038E-7,-4.5131185533884038E-7,-4.5131185533884038E-7,0,0,0,0,0,0,0,0,0,0,0,0,0,0,0,0,null,-2.1941189674587413E-5,-2.6056926371117802E-5,-3.2571157963897249E-5,-4.325847177062527E-5,-1.9855093963391491E-6,-2.3579520033726074E-6,-2.9474400042157598E-6,-3.9145599416301197E-6,0,0,0,0,0,0,0,0,-4.5131185533884038E-7,-4.5131185533884038E-7,-4.5131185533884038E-7,-4.5131185533884038E-7,0,0,0,0,0,0,0,0,0,0,0,0,0,0,0,0,null,null,null,null,null,null,null,null,null,null,null,null,null,null,null,null,null,null,null,null,null,null,null,null,null,null,null,null,null,null,null,null,null,null,null,null,null,null,null,null,null,null,null,null,null,null,null,null,null,null,null,null,null,null,null,null,null,null,null,null,null,null,null,null,null,null,null,null,null,null,null,null,null,null,null,null,null,null,null,null,null,null,null,null,null,null,null,null,null,null,null,null,null,null,null,null,null,null,null,null,null,null,"Hoteles",195,"1-50",-1.8050339455206335E-4,-3.418975672460608E-4,-4.8059598091101219E-4,-7.5434301644611496E-4,-1.4311747329003393E-4,-2.7108363291279914E-4,-3.8105478643223219E-4,-5.9810324772928988E-4,-1.4311747329003393E-4,-2.7108363291279914E-4,-3.8105478643223219E-4,-5.9810324772928988E-4,-8.2200000000000006E-5,-1.5569779226240566E-4,-2.1886009251471789E-4,-3.4352260302775487E-4,-8.2200000000000006E-5,-1.5569779226240566E-4,-2.1886009251471789E-4,-3.4352260302775487E-4,-1.4311747329003404E-4,-2.7108363291279935E-4,-3.8105478643223251E-4,-5.9810324772929021E-4,-1.8050339455206335E-4,-3.418975672460608E-4,-4.8059598091101219E-4,-7.5434301644611496E-4,-1.4311747329003393E-4,-2.7108363291279914E-4,-3.8105478643223219E-4,-5.9810324772928988E-4,-9.0251697276031673E-5,-1.709487836230304E-4,-2.402979904555061E-4,-3.7717150822305748E-4]
[null,"Construcción",207,"1-50",-1.2079889170588932E-6,-1.4345839371411293E-6,-1.7932299214264119E-6,-2.3816281269535558E-6,-2.6497239508668944E-5,-3.1467601764316974E-5,-3.9334502205396219E-5,-5.224101811638917E-5,0,0,0,0,0,0,0,0,-4.5131185533884038E-7,-4.5131185533884038E-7,-4.5131185533884038E-7,-4.5131185533884038E-7,0,0,0,0,0,0,0,0,0,0,0,0,0,0,0,0,null,-1.2079889170588932E-6,-1.4345839371411293E-6,-1.7932299214264119E-6,-2.3816281269535558E-6,-2.6497239508668944E-5,-3.1467601764316974E-5,-3.9334502205396219E-5,-5.224101811638917E-5,0,0,0,0,0,0,0,0,-4.5131185533884038E-7,-4.5131185533884038E-7,-4.5131185533884038E-7,-4.5131185533884038E-7,0,0,0,0,0,0,0,0,0,0,0,0,0,0,0,0,null,null,null,null,null,null,null,null,null,null,null,null,null,null,null,null,null,null,null,null,null,null,null,null,null,null,null,null,null,null,null,null,null,null,null,null,null,null,null,null,null,null,null,null,null,null,null,null,null,null,null,null,null,null,null,null,null,null,null,null,null,null,null,null,null,null,null,null,null,null,null,null,null,null,null,null,null,null,null,null,null,null,null,null,null,null,null,null,null,null,null,null,null,null,null,null,null,null,null,null,null,null,"Construcción",207,"1-50",-8.2579031724703807E-5,-1.5641572903532286E-4,-2.1986927643606445E-4,-3.4510661719685881E-4,-1.4311747329003393E-4,-2.7108363291279914E-4,-3.8105478643223219E-4,-5.9810324772928988E-4,-1.4311747329003393E-4,-2.7108363291279914E-4,-3.8105478643223219E-4,-5.9810324772928988E-4,-8.2200000000000006E-5,-1.5569779226240566E-4,-2.1886009251471789E-4,-3.4352260302775487E-4,-8.2200000000000006E-5,-1.5569779226240566E-4,-2.1886009251471789E-4,-3.4352260302775487E-4,-1.4311747329003404E-4,-2.7108363291279935E-4,-3.8105478643223251E-4,-5.9810324772929021E-4,-8.2579031724703807E-5,-1.5641572903532286E-4,-2.1986927643606445E-4,-3.4510661719685881E-4,-1.4311747329003393E-4,-2.7108363291279914E-4,-3.8105478643223219E-4,-5.9810324772928988E-4,-4.1289515862351903E-5,-7.820786451766143E-5,-1.0993463821803222E-4,-1.725533085984294E-4]
[null,"Mineras",219,"50-400",-2.5706543962451453E-6,-3.0528587247085822E-6,-3.8160734058857286E-6,-5.068211080678124E-6,-3.3816740548517897E-5,-4.0160097590537527E-5,-5.0200121988171911E-5,-6.6671886898043897E-5,0,0,0,0,0,0,0,0,-2.7336655962622151E-8,-2.7336655962622151E-8,-2.7336655962622151E-8,-2.7336655962622151E-8,0,0,0,0,0,0,0,0,0,0,0,0,0,0,0,0,null,-2.5706543962451453E-6,-3.0528587247085822E-6,-3.8160734058857286E-6,-5.068211080678124E-6,-3.3816740548517897E-5,-4.0160097590537527E-5,-5.0200121988171911E-5,-6.6671886898043897E-5,0,0,0,0,0,0,0,0,-2.7336655962622151E-8,-2.7336655962622151E-8,-2.7336655962622151E-8,-2.7336655962622151E-8,0,0,0,0,0,0,0,0,0,0,0,0,0,0,0,0,null,null,null,null,null,null,null,null,null,null,null,null,null,null,null,null,null,null,null,null,null,null,null,null,null,null,null,null,null,null,null,null,null,null,null,null,null,null,null,null,null,null,null,null,null,null,null,null,null,null,null,null,null,null,null,null,null,null,null,null,null,null,null,null,null,null,null,null,null,null,null,null,null,null,null,null,null,null,null,null,null,null,null,null,null,null,null,null,null,null,null,null,null,null,null,null,null,null,null,null,null,null,"Mineras",219,"50-400",-1.3030879333422511E-5,-2.4624227736632822E-5,-3.4573660560682903E-5,-5.4265490504160065E-5,-7.5736244193856238E-5,-1.4311747329003393E-4,-2.0094416745793339E-4,-3.1539425198890341E-4,-7.5736244193856238E-5,-1.4311747329003393E-4,-2.0094416745793339E-4,-3.1539425198890341E-4,-4.3499365448680687E-5,-8.2200000000000006E-5,-1.1541295542276977E-4,-1.8114774469885219E-4,-4.3499365448680687E-5,-8.2200000000000006E-5,-1.1541295542276977E-4,-1.8114774469885219E-4,-7.5736244193856292E-5,-1.4311747329003404E-4,-2.0094416745793355E-4,-3.1539425198890368E-4,-1.3030879333422511E-5,-2.4624227736632822E-5,-3.4573660560682903E-5,-5.4265490504160065E-5,-7.5736244193856238E-5,-1.4311747329003393E-4,-2.0094416745793339E-4,-3.1539425198890341E-4,-6.5154396667112553E-6,-1.2312113868316411E-5,-1.7286830280341452E-5,-2.7132745252080032E-5]
[null,"Educación",226,"50-400",-4.7537549656697076E-6,-5.6454661284960813E-6,-7.056832660620102E-6,-9.3723347747669318E-6,-1.4410359540713651E-6,-1.7113460259112925E-6,-2.1391825323891159E-6,-2.841095403858241E-6,0,0,0,0,0,0,0,0,-2.7336655962622151E-8,-2.7336655962622151E-8,-2.7336655962622151E-8,-2.7336655962622151E-8,0,0,0,0,0,0,0,0,0,0,0,0,0,0,0,0,null,-4.7537549656697076E-6,-5.6454661284960813E-6,-7.056832660620102E-6,-9.3723347747669318E-6,-1.4410359540713651E-6,-1.7113460259112925E-6,-2.1391825323891159E-6,-2.841095403858241E-6,0,0,0,0,0,0,0,0,-2.7336655962622151E-8,-2.7336655962622151E-8,-2.7336655962622151E-8,-2.7336655962622151E-8,0,0,0,0,0,0,0,0,0,0,0,0,0,0,0,0,null,null,null,null,null,null,null,null,null,null,null,null,null,null,null,null,null,null,null,null,null,null,null,null,null,null,null,null,null,null,null,null,null,null,null,null,null,null,null,null,null,null,null,null,null,null,null,null,null,null,null,null,null,null,null,null,null,null,null,null,null,null,null,null,null,null,null,null,null,null,null,null,null,null,null,null,null,null,null,null,null,null,null,null,null,null,null,null,null,null,null,null,null,null,null,null,null,null,null,null,null,null,"Educación",226,"50-400",-2.7957193518494223E-4,-5.2830225993329486E-4,-7.4176307999306414E-4,-1.164242857739942E-3,-5.3941251655243069E-5,-1.0193185211614317E-4,-1.4311747329003393E-4,-2.2463169250384765E-4,-5.3941251655243069E-5,-1.0193185211614317E-4,-1.4311747329003393E-4,-2.2463169250384765E-4,-3.0981338505573961E-5,-5.854490057246163E-5,-8.2200000000000006E-5,-1.2901796474841819E-4,-3.0981338505573961E-5,-5.854490057246163E-5,-8.2200000000000006E-5,-1.2901796474841819E-4,-5.394125165524311E-5,-1.0193185211614325E-4,-1.4311747329003404E-4,-2.2463169250384782E-4,-2.7957193518494223E-4,-5.2830225993329486E-4,-7.4176307999306414E-4,-1.164242857739942E-3,-5.3941251655243069E-5,-1.0193185211614317E-4,-1.4311747329003393E-4,-2.2463169250384765E-4,-1.3978596759247112E-4,-2.6415112996664743E-4,-3.7088153999653207E-4,-5.8212142886997101E-4]
[null,"Salud",238,">400",-6.0509168604273668E-6,-7.1859501443773005E-6,-8.982437680471628E-6,-1.1929773183464345E-5,-3.9885815540918308E-7,-4.7367611976183233E-7,-5.9209514970229036E-7,-7.863746001081987E-7,0,0,0,0,0,0,0,0,-1.0268238126583669E-8,-1.0268238126583669E-8,-1.0268238126583669E-8,-1.0268238126583669E-8,0,0,0,0,0,0,0,0,0,0,0,0,0,0,0,0,null,-6.0509168604273668E-6,-7.1859501443773005E-6,-8.982437680471628E-6,-1.1929773183464345E-5,-3.9885815540918308E-7,-4.7367611976183233E-7,-5.9209514970229036E-7,-7.863746001081987E-7,0,0,0,0,0,0,0,0,-1.0268238126583669E-8,-1.0268238126583669E-8,-1.0268238126583669E-8,-1.0268238126583669E-8,0,0,0,0,0,0,0,0,0,0,0,0,0,0,0,0,null,null,null,null,null,null,null,null,null,null,null,null,null,null,null,null,null,null,null,null,null,null,null,null,null,null,null,null,null,null,null,null,null,null,null,null,null,null,null,null,null,null,null,null,null,null,null,null,null,null,null,null,null,null,null,null,null,null,null,null,null,null,null,null,null,null,null,null,null,null,null,null,null,null,null,null,null,null,null,null,null,null,null,null,null,null,null,null,null,null,null,null,null,null,null,null,null,null,null,null,null,null,"Salud",238,">400",-8.9297620084952023E-5,-1.6771851928812991E-4,-2.3575873808680172E-4,-3.692866340615335E-4,-5.4208170017716817E-5,-1.0181362056504295E-4,-1.4311747329003393E-4,-2.2417565692606152E-4,-5.4208170017716817E-5,-1.0181362056504295E-4,-1.4311747329003393E-4,-2.2417565692606152E-4,-3.113464396081267E-5,-5.8476993885199605E-5,-8.2200000000000006E-5,-1.2875603918732298E-4,-3.113464396081267E-5,-5.8476993885199605E-5,-8.2200000000000006E-5,-1.2875603918732298E-4,-5.4208170017716858E-5,-1.0181362056504303E-4,-1.4311747329003404E-4,-2.2417565692606169E-4,-8.9297620084952023E-5,-1.6771851928812991E-4,-2.3575873808680172E-4,-3.692866340615335E-4,-5.4208170017716817E-5,-1.0181362056504295E-4,-1.4311747329003393E-4,-2.2417565692606152E-4,-4.4648810042476011E-5,-8.3859259644064954E-5,-1.1787936904340086E-4,-1.8464331703076675E-4]
[null,"Quimicas",245,">400",-8.0129929927930483E-7,-9.5160732632159578E-7,-1.1895091579019947E-6,-1.5798132932528611E-6,-1.0858896701918701E-7,-1.2895812671506391E-7,-1.6119765839382989E-7,-2.1409015801187135E-7,0,0,0,0,0,0,0,0,-1.0268238126583669E-8,-1.0268238126583669E-8,-1.0268238126583669E-8,-1.0268238126583669E-8,0,0,0,0,0,0,0,0,0,0,0,0,0,0,0,0,null,-8.0129929927930483E-7,-9.5160732632159578E-7,-1.1895091579019947E-6,-1.5798132932528611E-6,-1.0858896701918701E-7,-1.2895812671506391E-7,-1.6119765839382989E-7,-2.1409015801187135E-7,0,0,0,0,0,0,0,0,-1.0268238126583669E-8,-1.0268238126583669E-8,-1.0268238126583669E-8,-1.0268238126583669E-8,0,0,0,0,0,0,0,0,0,0,0,0,0,0,0,0,null,null,null,null,null,null,null,null,null,null,null,null,null,null,null,null,null,null,null,null,null,null,null,null,null,null,null,null,null,null,null,null,null,null,null,null,null,null,null,null,null,null,null,null,null,null,null,null,null,null,null,null,null,null,null,null,null,null,null,null,null,null,null,null,null,null,null,null,null,null,null,null,null,null,null,null,null,null,null,null,null,null,null,null,null,null,null,null,null,null,null,null,null,null,null,null,null,null,null,null,null,null,"Quimicas",245,">400",-3.0079632626158705E-5,-5.6495474795306411E-5,-7.9414616238499271E-5,-1.2439308321715871E-4,-7.6199395341765489E-5,-1.4311747329003393E-4,-2.0117751482807186E-4,-3.1511946451108898E-4,-7.6199395341765489E-5,-1.4311747329003393E-4,-2.0117751482807186E-4,-3.1511946451108898E-4,-4.3765377861301959E-5,-8.2200000000000006E-5,-1.1554697926615128E-4,-1.8098991959086854E-4,-4.3765377861301959E-5,-8.2200000000000006E-5,-1.1554697926615128E-4,-1.8098991959086854E-4,-7.6199395341765557E-5,-1.4311747329003404E-4,-2.0117751482807199E-4,-3.1511946451108925E-4,-3.0079632626158705E-5,-5.6495474795306411E-5,-7.9414616238499271E-5,-1.2439308321715871E-4,-7.6199395341765489E-5,-1.4311747329003393E-4,-2.0117751482807186E-4,-3.1511946451108898E-4,-1.5039816313079352E-5,-2.8247737397653205E-5,-3.9707308119249635E-5,-6.2196541608579354E-5]
[null,"Editoriales",257,"1-50",2.0034672326193557E-3,2.3792783774060034E-3,2.9740979717575037E-3,3.9499649750540169E-3,0,0,0,0,3.1303612480848351E-8,3.1303612480848351E-8,3.1303612480848351E-8,3.1303612480848351E-8,0,0,0,0,2.6451520591478983E-4,2.6451520591478983E-4,2.6451520591478983E-4,2.6451520591478983E-4,0,0,0,0,0,0,0,0,0,0,0,0,0,0,0,0,null,2.0034672326193557E-3,2.3792783774060034E-3,2.9740979717575037E-3,3.9499649750540169E-3,0,0,0,0,3.1303612480848351E-8,3.1303612480848351E-8,3.1303612480848351E-8,3.1303612480848351E-8,0,0,0,0,2.6451520591478983E-4,2.6451520591478983E-4,2.6451520591478983E-4,2.6451520591478983E-4,0,0,0,0,0,0,0,0,0,0,0,0,0,0,0,0,null,null,null,null,null,null,null,null,null,null,null,null,null,null,null,null,null,null,null,null,null,null,null,null,null,null,null,null,null,null,null,null,null,null,null,null,null,null,null,null,null,null,null,null,null,null,null,null,null,null,null,null,null,null,null,null,null,null,null,null,null,null,null,null,null,null,null,null,null,null,null,null,null,null,null,null,null,null,null,null,null,null,null,null,null,null,null,null,null,null,null,null,null,null,null,null,null,null,null,null,null,null,"Editoriales",257,"1-50",6.0260234337940416E-4,1.141409421853104E-3,1.6044477447883531E-3,2.5183397273518008E-3,4.5334963843086029E-5,8.5870483974020314E-5,1.2070577105656004E-4,1.8945966894824912E-4,4.5334963843086029E-5,8.5870483974020314E-5,1.2070577105656004E-4,1.8945966894824912E-4,2.3145145140700432E-5,4.383999999999998E-5,6.1624678914358724E-5,9.6726040221272637E-5,3.4717717711050665E-5,6.5759999999999994E-5,9.2437018371538133E-5,1.4508906033190903E-4,0,0,0,0,6.0260234337940416E-4,1.141409421853104E-3,1.6044477447883531E-3,2.5183397273518008E-3,4.5334963843086029E-5,8.5870483974020314E-5,1.2070577105656004E-4,1.8945966894824912E-4,3.0130117168970208E-4,5.7070471092655201E-4,8.0222387239417656E-4,1.2591698636759004E-3]
[null,"AgroIndustria",261,"1-50",2.0034672326193557E-3,2.3792783774060034E-3,2.9740979717575037E-3,3.9499649750540169E-3,0,0,0,0,3.1303612480848351E-8,3.1303612480848351E-8,3.1303612480848351E-8,3.1303612480848351E-8,0,0,0,0,2.6451520591478983E-4,2.6451520591478983E-4,2.6451520591478983E-4,2.6451520591478983E-4,0,0,0,0,0,0,0,0,0,0,0,0,0,0,0,0,null,2.0034672326193557E-3,2.3792783774060034E-3,2.9740979717575037E-3,3.9499649750540169E-3,0,0,0,0,3.1303612480848351E-8,3.1303612480848351E-8,3.1303612480848351E-8,3.1303612480848351E-8,0,0,0,0,2.6451520591478983E-4,2.6451520591478983E-4,2.6451520591478983E-4,2.6451520591478983E-4,0,0,0,0,0,0,0,0,0,0,0,0,0,0,0,0,null,null,null,null,null,null,null,null,null,null,null,null,null,null,null,null,null,null,null,null,null,null,null,null,null,null,null,null,null,null,null,null,null,null,null,null,null,null,null,null,null,null,null,null,null,null,null,null,null,null,null,null,null,null,null,null,null,null,null,null,null,null,null,null,null,null,null,null,null,null,null,null,null,null,null,null,null,null,null,null,null,null,null,null,null,null,null,null,null,null,null,null,null,null,null,null,null,null,null,null,null,null,"AgroIndustria",261,"1-50",6.0260234337940416E-4,1.141409421853104E-3,1.6044477447883531E-3,2.5183397273518008E-3,4.5334963843086029E-5,8.5870483974020314E-5,1.2070577105656004E-4,1.8945966894824912E-4,4.5334963843086029E-5,8.5870483974020314E-5,1.2070577105656004E-4,1.8945966894824912E-4,2.3145145140700432E-5,4.383999999999998E-5,6.1624678914358724E-5,9.6726040221272637E-5,3.4717717711050665E-5,6.5759999999999994E-5,9.2437018371538133E-5,1.4508906033190903E-4,0,0,0,0,6.0260234337940416E-4,1.141409421853104E-3,1.6044477447883531E-3,2.5183397273518008E-3,4.5334963843086029E-5,8.5870483974020314E-5,1.2070577105656004E-4,1.8945966894824912E-4,3.0130117168970208E-4,5.7070471092655201E-4,8.0222387239417656E-4,1.2591698636759004E-3]
[null,"Comercio",268,"1-50",6.01386963642338E-4,7.1419535880171765E-4,8.9274419850214712E-4,1.1856732189902696E-3,0,0,0,0,3.1303612480848351E-8,3.1303612480848351E-8,3.1303612480848351E-8,3.1303612480848351E-8,0,0,0,0,2.6451520591478983E-4,2.6451520591478983E-4,2.6451520591478983E-4,2.6451520591478983E-4,0,0,0,0,0,0,0,0,0,0,0,0,0,0,0,0,null,6.01386963642338E-4,7.1419535880171765E-4,8.9274419850214712E-4,1.1856732189902696E-3,0,0,0,0,3.1303612480848351E-8,3.1303612480848351E-8,3.1303612480848351E-8,3.1303612480848351E-8,0,0,0,0,2.6451520591478983E-4,2.6451520591478983E-4,2.6451520591478983E-4,2.6451520591478983E-4,0,0,0,0,0,0,0,0,0,0,0,0,0,0,0,0,null,null,null,null,null,null,null,null,null,null,null,null,null,null,null,null,null,null,null,null,null,null,null,null,null,null,null,null,null,null,null,null,null,null,null,null,null,null,null,null,null,null,null,null,null,null,null,null,null,null,null,null,null,null,null,null,null,null,null,null,null,null,null,null,null,null,null,null,null,null,null,null,null,null,null,null,null,null,null,null,null,null,null,null,null,null,null,null,null,null,null,null,null,null,null,null,null,null,null,null,null,null,"Comercio",268,"1-50",5.3191165918590772E-4,1.0075118128209121E-3,1.4162315686020055E-3,2.2229157876442209E-3,8.5870483974020314E-5,1.6265017974767941E-4,2.2863287185933924E-4,3.5886194863757375E-4,8.5870483974020314E-5,1.6265017974767941E-4,2.2863287185933924E-4,3.5886194863757375E-4,4.383999999999998E-5,8.3038822539949631E-5,1.1672538267451616E-4,1.8321205494813581E-4,6.5759999999999994E-5,1.245582338099245E-4,1.750880740117743E-4,2.7481808242220385E-4,0,0,0,0,5.3191165918590772E-4,1.0075118128209121E-3,1.4162315686020055E-3,2.2229157876442209E-3,8.5870483974020314E-5,1.6265017974767941E-4,2.2863287185933924E-4,3.5886194863757375E-4,2.6595582959295386E-4,5.0375590641045607E-4,7.0811578430100277E-4,1.1114578938221104E-3]
[null,"Hoteles",280,"50-400",3.5168045412244868E-4,4.176488073408095E-4,5.2206100917601193E-4,6.9336071665050648E-4,0,0,0,0,2.4066060497010132E-8,2.4066060497010132E-8,2.4066060497010132E-8,2.4066060497010132E-8,0,0,0,0,1.6022094468459805E-5,1.6022094468459805E-5,1.6022094468459805E-5,1.6022094468459805E-5,0,0,0,0,0,0,0,0,0,0,0,0,0,0,0,0,null,3.5168045412244868E-4,4.176488073408095E-4,5.2206100917601193E-4,6.9336071665050648E-4,0,0,0,0,2.4066060497010132E-8,2.4066060497010132E-8,2.4066060497010132E-8,2.4066060497010132E-8,0,0,0,0,1.6022094468459805E-5,1.6022094468459805E-5,1.6022094468459805E-5,1.6022094468459805E-5,0,0,0,0,0,0,0,0,0,0,0,0,0,0,0,0,null,null,null,null,null,null,null,null,null,null,null,null,null,null,null,null,null,null,null,null,null,null,null,null,null,null,null,null,null,null,null,null,null,null,null,null,null,null,null,null,null,null,null,null,null,null,null,null,null,null,null,null,null,null,null,null,null,null,null,null,null,null,null,null,null,null,null,null,null,null,null,null,null,null,null,null,null,null,null,null,null,null,null,null,null,null,null,null,null,null,null,null,null,null,null,null,null,null,null,null,null,null,"Hoteles",280,"50-400",1.0561139631220646E-4,1.9957203254160734E-4,2.8020922257124189E-4,4.3980563990119354E-4,4.5441746516313719E-5,8.5870483974020314E-5,1.2056650047475998E-4,1.8923655119334196E-4,4.5441746516313719E-5,8.5870483974020314E-5,1.2056650047475998E-4,1.8923655119334196E-4,2.3199661572629686E-5,4.383999999999998E-5,6.1553576225477176E-5,9.6612130506054439E-5,3.4799492358944546E-5,6.5759999999999994E-5,9.2330364338215798E-5,1.4491819575908173E-4,0,0,0,0,1.0561139631220646E-4,1.9957203254160734E-4,2.8020922257124189E-4,4.3980563990119354E-4,4.5441746516313719E-5,8.5870483974020314E-5,1.2056650047475998E-4,1.8923655119334196E-4,5.2805698156103228E-5,9.978601627080367E-5,1.4010461128562094E-4,2.1990281995059677E-4]
[null,"Construcción",292,"50-400",1.9362035387634241E-5,2.2993973342972331E-5,2.8742466678715417E-5,3.8173502606739277E-5,0,0,0,0,2.4066060497010132E-8,2.4066060497010132E-8,2.4066060497010132E-8,2.4066060497010132E-8,0,0,0,0,1.6022094468459805E-5,1.6022094468459805E-5,1.6022094468459805E-5,1.6022094468459805E-5,0,0,0,0,0,0,0,0,0,0,0,0,0,0,0,0,null,1.9362035387634241E-5,2.2993973342972331E-5,2.8742466678715417E-5,3.8173502606739277E-5,0,0,0,0,2.4066060497010132E-8,2.4066060497010132E-8,2.4066060497010132E-8,2.4066060497010132E-8,0,0,0,0,1.6022094468459805E-5,1.6022094468459805E-5,1.6022094468459805E-5,1.6022094468459805E-5,0,0,0,0,0,0,0,0,0,0,0,0,0,0,0,0,null,null,null,null,null,null,null,null,null,null,null,null,null,null,null,null,null,null,null,null,null,null,null,null,null,null,null,null,null,null,null,null,null,null,null,null,null,null,null,null,null,null,null,null,null,null,null,null,null,null,null,null,null,null,null,null,null,null,null,null,null,null,null,null,null,null,null,null,null,null,null,null,null,null,null,null,null,null,null,null,null,null,null,null,null,null,null,null,null,null,null,null,null,null,null,null,null,null,null,null,null,null,"Construcción",292,"50-400",1.9162645814101816E-5,3.6211321008291708E-5,5.0842525271649356E-5,7.9800476073214218E-5,4.5441746516313719E-5,8.5870483974020314E-5,1.2056650047475998E-4,1.8923655119334196E-4,4.5441746516313719E-5,8.5870483974020314E-5,1.2056650047475998E-4,1.8923655119334196E-4,2.3199661572629686E-5,4.383999999999998E-5,6.1553576225477176E-5,9.6612130506054439E-5,3.4799492358944546E-5,6.5759999999999994E-5,9.2330364338215798E-5,1.4491819575908173E-4,0,0,0,0,1.9162645814101816E-5,3.6211321008291708E-5,5.0842525271649356E-5,7.9800476073214218E-5,4.5441746516313719E-5,8.5870483974020314E-5,1.2056650047475998E-4,1.8923655119334196E-4,9.5813229070509078E-6,1.8105660504145854E-5,2.5421262635824678E-5,3.9900238036607109E-5]
[null,"Editoriales",299,">400",7.3167267292087958E-5,8.6892011093363025E-5,1.0861501386670377E-4,1.4425399049142933E-4,0,0,0,0,1.9056424669217036E-8,1.9056424669217036E-8,1.9056424669217036E-8,1.9056424669217036E-8,0,0,0,0,6.0182445692594331E-6,6.0182445692594331E-6,6.0182445692594331E-6,6.0182445692594331E-6,0,0,0,0,0,0,0,0,0,0,0,0,0,0,0,0,null,7.3167267292087958E-5,8.6892011093363025E-5,1.0861501386670377E-4,1.4425399049142933E-4,0,0,0,0,1.9056424669217036E-8,1.9056424669217036E-8,1.9056424669217036E-8,1.9056424669217036E-8,0,0,0,0,6.0182445692594331E-6,6.0182445692594331E-6,6.0182445692594331E-6,6.0182445692594331E-6,0,0,0,0,0,0,0,0,0,0,0,0,0,0,0,0,null,null,null,null,null,null,null,null,null,null,null,null,null,null,null,null,null,null,null,null,null,null,null,null,null,null,null,null,null,null,null,null,null,null,null,null,null,null,null,null,null,null,null,null,null,null,null,null,null,null,null,null,null,null,null,null,null,null,null,null,null,null,null,null,null,null,null,null,null,null,null,null,null,null,null,null,null,null,null,null,null,null,null,null,null,null,null,null,null,null,null,null,null,null,null,null,null,null,null,null,null,null,"Editoriales",299,">400",3.4090250309646539E-5,6.4028204768013937E-5,9.0003231736965851E-5,1.4097882764611323E-4,4.5719637205059273E-5,8.5870483974020314E-5,1.2070650889684306E-4,1.8907167870665332E-4,4.5719637205059273E-5,8.5870483974020314E-5,1.2070650889684306E-4,1.8907167870665332E-4,2.334153485936103E-5,4.383999999999998E-5,6.1625055608613966E-5,9.6527957115129833E-5,3.5012302289041559E-5,6.5759999999999994E-5,9.2437583412920997E-5,1.447919356726948E-4,0,0,0,0,3.4090250309646539E-5,6.4028204768013937E-5,9.0003231736965851E-5,1.4097882764611323E-4,4.5719637205059273E-5,8.5870483974020314E-5,1.2070650889684306E-4,1.8907167870665332E-4,1.7045125154823269E-5,3.2014102384006969E-5,4.5001615868482926E-5,7.0489413823056614E-5]
[null,"Educación",311,">400",9.0308258513049038E-5,1.0724831596090929E-4,1.3406039495113663E-4,1.780485611528046E-4,0,0,0,0,1.9056424669217036E-8,1.9056424669217036E-8,1.9056424669217036E-8,1.9056424669217036E-8,0,0,0,0,6.0182445692594331E-6,6.0182445692594331E-6,6.0182445692594331E-6,6.0182445692594331E-6,0,0,0,0,0,0,0,0,0,0,0,0,0,0,0,0,null,9.0308258513049038E-5,1.0724831596090929E-4,1.3406039495113663E-4,1.780485611528046E-4,0,0,0,0,1.9056424669217036E-8,1.9056424669217036E-8,1.9056424669217036E-8,1.9056424669217036E-8,0,0,0,0,6.0182445692594331E-6,6.0182445692594331E-6,6.0182445692594331E-6,6.0182445692594331E-6,0,0,0,0,0,0,0,0,0,0,0,0,0,0,0,0,null,null,null,null,null,null,null,null,null,null,null,null,null,null,null,null,null,null,null,null,null,null,null,null,null,null,null,null,null,null,null,null,null,null,null,null,null,null,null,null,null,null,null,null,null,null,null,null,null,null,null,null,null,null,null,null,null,null,null,null,null,null,null,null,null,null,null,null,null,null,null,null,null,null,null,null,null,null,null,null,null,null,null,null,null,null,null,null,null,null,null,null,null,null,null,null,null,null,null,null,null,null,"Educación",311,">400",2.7410035254008951E-4,5.1481445105304793E-4,7.2366489904794986E-4,1.1335307311472987E-3,3.2524902010630077E-5,6.1088172339025736E-5,8.5870483974020314E-5,1.3450539415563685E-4,3.2524902010630077E-5,6.1088172339025736E-5,8.5870483974020314E-5,1.3450539415563685E-4,1.6605143445766747E-5,3.1187730072106439E-5,4.383999999999998E-5,6.8669887566572216E-5,2.4907715168650131E-5,4.6781595108159676E-5,6.5759999999999994E-5,1.0300483134985837E-4,0,0,0,0,2.7410035254008951E-4,5.1481445105304793E-4,7.2366489904794986E-4,1.1335307311472987E-3,3.2524902010630077E-5,6.1088172339025736E-5,8.5870483974020314E-5,1.3450539415563685E-4,1.3705017627004475E-4,2.5740722552652397E-4,3.6183244952397493E-4,5.6676536557364937E-4]
[null,"Actividades Deportivas y de Esparcimiento",318,">400",2.3974254718120932E-5,2.8471354528056037E-5,3.5589193160070046E-5,4.7266790740466803E-5,0,0,0,0,1.9056424669217036E-8,1.9056424669217036E-8,1.9056424669217036E-8,1.9056424669217036E-8,0,0,0,0,6.0182445692594331E-6,6.0182445692594331E-6,6.0182445692594331E-6,6.0182445692594331E-6,0,0,0,0,0,0,0,0,0,0,0,0,0,0,0,0,null,2.3974254718120932E-5,2.8471354528056037E-5,3.5589193160070046E-5,4.7266790740466803E-5,0,0,0,0,1.9056424669217036E-8,1.9056424669217036E-8,1.9056424669217036E-8,1.9056424669217036E-8,0,0,0,0,6.0182445692594331E-6,6.0182445692594331E-6,6.0182445692594331E-6,6.0182445692594331E-6,0,0,0,0,0,0,0,0,0,0,0,0,0,0,0,0,null,null,null,null,null,null,null,null,null,null,null,null,null,null,null,null,null,null,null,null,null,null,null,null,null,null,null,null,null,null,null,null,null,null,null,null,null,null,null,null,null,null,null,null,null,null,null,null,null,null,null,null,null,null,null,null,null,null,null,null,null,null,null,null,null,null,null,null,null,null,null,null,null,null,null,null,null,null,null,null,null,null,null,null,null,null,null,null,null,null,null,null,null,null,null,null,null,null,null,null,null,null,"Actividades Deportivas y de Esparcimiento",318,">400",4.6685202491634786E-5,8.768400576761796E-5,1.2325574204871096E-4,1.9306473422489571E-4,4.5719637205059273E-5,8.5870483974020314E-5,1.2070650889684306E-4,1.8907167870665332E-4,4.5719637205059273E-5,8.5870483974020314E-5,1.2070650889684306E-4,1.8907167870665332E-4,2.334153485936103E-5,4.383999999999998E-5,6.1625055608613966E-5,9.6527957115129833E-5,3.5012302289041559E-5,6.5759999999999994E-5,9.2437583412920997E-5,1.447919356726948E-4,0,0,0,0,4.6685202491634786E-5,8.768400576761796E-5,1.2325574204871096E-4,1.9306473422489571E-4,4.5719637205059273E-5,8.5870483974020314E-5,1.2070650889684306E-4,1.8907167870665332E-4,2.3342601245817393E-5,4.384200288380898E-5,6.1627871024355478E-5,9.6532367112447853E-5]
[null,"Editoriales",321,"1-50",3.8775337838810688E-4,4.604883044474694E-4,5.756103805593367E-4,7.644808153859558E-4,1.9834693101434137E-6,2.3555292370330692E-6,2.9444115462913373E-6,3.9105377800054891E-6,0,0,0,0,0,0,0,0,1.7101643097248566E-4,1.7101643097248566E-4,1.7101643097248566E-4,1.7101643097248566E-4,0,0,0,0,0,0,0,0,0,0,0,0,0,0,0,0,null,3.8775337838810688E-4,4.604883044474694E-4,5.756103805593367E-4,7.644808153859558E-4,1.9834693101434137E-6,2.3555292370330692E-6,2.9444115462913373E-6,3.9105377800054891E-6,0,0,0,0,0,0,0,0,1.7101643097248566E-4,1.7101643097248566E-4,1.7101643097248566E-4,1.7101643097248566E-4,0,0,0,0,0,0,0,0,0,0,0,0,0,0,0,0,null,null,null,null,null,null,null,null,null,null,null,null,null,null,null,null,null,null,null,null,null,null,null,null,null,null,null,null,null,null,null,null,null,null,null,null,null,null,null,null,null,null,null,null,null,null,null,null,null,null,null,null,null,null,null,null,null,null,null,null,null,null,null,null,null,null,null,null,null,null,null,null,null,null,null,null,null,null,null,null,null,null,null,null,null,null,null,null,null,null,null,null,null,null,null,null,null,null,null,null,null,null,"Editoriales",321,"1-50",6.0260234337940416E-4,1.141409421853104E-3,1.6044477447883531E-3,2.5183397273518008E-3,4.7853572945479699E-5,9.0641066417021448E-5,1.2741164722636893E-4,1.9998520611204073E-4,4.7853572945479699E-5,9.0641066417021448E-5,1.2741164722636893E-4,1.9998520611204073E-4,2.4591716711994212E-5,4.6579999999999978E-5,6.5476221346506155E-5,1.0277141773510219E-4,3.6164289282344445E-5,6.8499999999999998E-5,9.6288560803685564E-5,1.5113443784573857E-4,0,0,0,0,6.0260234337940416E-4,1.141409421853104E-3,1.6044477447883531E-3,2.5183397273518008E-3,4.7853572945479699E-5,9.0641066417021448E-5,1.2741164722636893E-4,1.9998520611204073E-4,3.0130117168970208E-4,5.7070471092655201E-4,8.0222387239417656E-4,1.2591698636759004E-3]
[null,"Educación",333,"1-50",4.7859286851578139E-4,5.6836750065113683E-4,7.1045937581392109E-4,9.4357673395856125E-4,7.4065000732899155E-6,8.7958141714128798E-6,1.0994767714266101E-5,1.4602392991963895E-5,0,0,0,0,0,0,0,0,1.7101643097248566E-4,1.7101643097248566E-4,1.7101643097248566E-4,1.7101643097248566E-4,0,0,0,0,0,0,0,0,0,0,0,0,0,0,0,0,null,4.7859286851578139E-4,5.6836750065113683E-4,7.1045937581392109E-4,9.4357673395856125E-4,7.4065000732899155E-6,8.7958141714128798E-6,1.0994767714266101E-5,1.4602392991963895E-5,0,0,0,0,0,0,0,0,1.7101643097248566E-4,1.7101643097248566E-4,1.7101643097248566E-4,1.7101643097248566E-4,0,0,0,0,0,0,0,0,0,0,0,0,0,0,0,0,null,null,null,null,null,null,null,null,null,null,null,null,null,null,null,null,null,null,null,null,null,null,null,null,null,null,null,null,null,null,null,null,null,null,null,null,null,null,null,null,null,null,null,null,null,null,null,null,null,null,null,null,null,null,null,null,null,null,null,null,null,null,null,null,null,null,null,null,null,null,null,null,null,null,null,null,null,null,null,null,null,null,null,null,null,null,null,null,null,null,null,null,null,null,null,null,null,null,null,null,null,null,"Educación",333,"1-50",1.2220887036498149E-3,2.3147994295267789E-3,3.2538497170558527E-3,5.1072395694476795E-3,4.7853572945479699E-5,9.0641066417021448E-5,1.2741164722636893E-4,1.9998520611204073E-4,4.7853572945479699E-5,9.0641066417021448E-5,1.2741164722636893E-4,1.9998520611204073E-4,2.4591716711994212E-5,4.6579999999999978E-5,6.5476221346506155E-5,1.0277141773510219E-4,3.6164289282344445E-5,6.8499999999999998E-5,9.6288560803685564E-5,1.5113443784573857E-4,0,0,0,0,1.2220887036498149E-3,2.3147994295267789E-3,3.2538497170558527E-3,5.1072395694476795E-3,4.7853572945479699E-5,9.0641066417021448E-5,1.2741164722636893E-4,1.9998520611204073E-4,6.1104435182490746E-4,1.1573997147633895E-3,1.6269248585279263E-3,2.5536197847238398E-3]
[null,"Actividades Deportivas y de Esparcimiento",340,"1-50",1.2705269180244002E-4,1.5088528400913865E-4,1.886066050114233E-4,2.5049258327516623E-4,7.285481500295884E-7,8.6520948885111194E-7,1.0815118610638899E-6,1.4363797063428309E-6,0,0,0,0,0,0,0,0,1.7101643097248566E-4,1.7101643097248566E-4,1.7101643097248566E-4,1.7101643097248566E-4,0,0,0,0,0,0,0,0,0,0,0,0,0,0,0,0,null,1.2705269180244002E-4,1.5088528400913865E-4,1.886066050114233E-4,2.5049258327516623E-4,7.285481500295884E-7,8.6520948885111194E-7,1.0815118610638899E-6,1.4363797063428309E-6,0,0,0,0,0,0,0,0,1.7101643097248566E-4,1.7101643097248566E-4,1.7101643097248566E-4,1.7101643097248566E-4,0,0,0,0,0,0,0,0,0,0,0,0,0,0,0,0,null,null,null,null,null,null,null,null,null,null,null,null,null,null,null,null,null,null,null,null,null,null,null,null,null,null,null,null,null,null,null,null,null,null,null,null,null,null,null,null,null,null,null,null,null,null,null,null,null,null,null,null,null,null,null,null,null,null,null,null,null,null,null,null,null,null,null,null,null,null,null,null,null,null,null,null,null,null,null,null,null,null,null,null,null,null,null,null,null,null,null,null,null,null,null,null,null,null,null,null,null,null,"Actividades Deportivas y de Esparcimiento",340,"1-50",1.0344384827938407E-3,1.9593648175459033E-3,2.7542250857061456E-3,4.3230292005039164E-3,4.7853572945479699E-5,9.0641066417021448E-5,1.2741164722636893E-4,1.9998520611204073E-4,4.7853572945479699E-5,9.0641066417021448E-5,1.2741164722636893E-4,1.9998520611204073E-4,2.4591716711994212E-5,4.6579999999999978E-5,6.5476221346506155E-5,1.0277141773510219E-4,3.6164289282344445E-5,6.8499999999999998E-5,9.6288560803685564E-5,1.5113443784573857E-4,0,0,0,0,1.0344384827938407E-3,1.9593648175459033E-3,2.7542250857061456E-3,4.3230292005039164E-3,4.7853572945479699E-5,9.0641066417021448E-5,1.2741164722636893E-4,1.9998520611204073E-4,5.1721924139692033E-4,9.7968240877295163E-4,1.3771125428530728E-3,2.1615146002519582E-3]
[null,"Quimicas",352,"50-400",6.8064644122358604E-5,8.0832235930524345E-5,1.0104029491315541E-4,1.3419383953254446E-4,3.8551458105022626E-7,4.5782955265423489E-7,5.7228694081779354E-7,7.6006688191757011E-7,0,0,0,0,0,0,0,0,1.0358729295822295E-5,1.0358729295822295E-5,1.0358729295822295E-5,1.0358729295822295E-5,0,0,0,0,0,0,0,0,0,0,0,0,0,0,0,0,null,6.8064644122358604E-5,8.0832235930524345E-5,1.0104029491315541E-4,1.3419383953254446E-4,3.8551458105022626E-7,4.5782955265423489E-7,5.7228694081779354E-7,7.6006688191757011E-7,0,0,0,0,0,0,0,0,1.0358729295822295E-5,1.0358729295822295E-5,1.0358729295822295E-5,1.0358729295822295E-5,0,0,0,0,0,0,0,0,0,0,0,0,0,0,0,0,null,null,null,null,null,null,null,null,null,null,null,null,null,null,null,null,null,null,null,null,null,null,null,null,null,null,null,null,null,null,null,null,null,null,null,null,null,null,null,null,null,null,null,null,null,null,null,null,null,null,null,null,null,null,null,null,null,null,null,null,null,null,null,null,null,null,null,null,null,null,null,null,null,null,null,null,null,null,null,null,null,null,null,null,null,null,null,null,null,null,null,null,null,null,null,null,null,null,null,null,null,null,"Quimicas",352,"50-400",1.0782546769686605E-4,2.0375592501777995E-4,2.8608361911438266E-4,4.4902586722626853E-4,4.7966287989442258E-5,9.0641066417021448E-5,1.2726463939002444E-4,1.9974969292630541E-4,4.7966287989442258E-5,9.0641066417021448E-5,1.2726463939002444E-4,1.9974969292630541E-4,2.4649640420919042E-5,4.6579999999999978E-5,6.5400674739569506E-5,1.0265038866268285E-4,3.6249471207233902E-5,6.8499999999999998E-5,9.6177462852308128E-5,1.5095645391571014E-4,0,0,0,0,1.0782546769686605E-4,2.0375592501777995E-4,2.8608361911438266E-4,4.4902586722626853E-4,4.7966287989442258E-5,9.0641066417021448E-5,1.2726463939002444E-4,1.9974969292630541E-4,5.3912733848433025E-5,1.0187796250888997E-4,1.4304180955719133E-4,2.2451293361313427E-4]
[null,"Transporte y Aviación",360,"50-400",3.7473508484636458E-6,4.450280344563821E-6,5.5628504307047777E-6,7.3881440932368933E-6,3.1104513015555629E-6,3.693910938633044E-6,4.6173886732913047E-6,6.132455523963111E-6,0,0,0,0,0,0,0,0,1.0358729295822295E-5,1.0358729295822295E-5,1.0358729295822295E-5,1.0358729295822295E-5,0,0,0,0,0,0,0,0,0,0,0,0,0,0,0,0,null,3.7473508484636458E-6,4.450280344563821E-6,5.5628504307047777E-6,7.3881440932368933E-6,3.1104513015555629E-6,3.693910938633044E-6,4.6173886732913047E-6,6.132455523963111E-6,0,0,0,0,0,0,0,0,1.0358729295822295E-5,1.0358729295822295E-5,1.0358729295822295E-5,1.0358729295822295E-5,0,0,0,0,0,0,0,0,0,0,0,0,0,0,0,0,null,null,null,null,null,null,null,null,null,null,null,null,null,null,null,null,null,null,null,null,null,null,null,null,null,null,null,null,null,null,null,null,null,null,null,null,null,null,null,null,null,null,null,null,null,null,null,null,null,null,null,null,null,null,null,null,null,null,null,null,null,null,null,null,null,null,null,null,null,null,null,null,null,null,null,null,null,null,null,null,null,null,null,null,null,null,null,null,null,null,null,null,null,null,null,null,null,null,null,null,null,null,"Transporte y Aviación",360,"50-400",2.7613462335098182E-4,5.2180683109571968E-4,7.3264316954436786E-4,1.149928596367938E-3,4.7966287989442258E-5,9.0641066417021448E-5,1.2726463939002441E-4,1.9974969292630541E-4,4.7966287989442258E-5,9.0641066417021448E-5,1.2726463939002441E-4,1.9974969292630541E-4,2.4649640420919042E-5,4.6579999999999978E-5,6.5400674739569492E-5,1.0265038866268285E-4,3.6249471207233902E-5,6.8499999999999998E-5,9.6177462852308114E-5,1.5095645391571014E-4,0,0,0,0,2.7613462335098182E-4,5.2180683109571968E-4,7.3264316954436786E-4,1.149928596367938E-3,4.7966287989442258E-5,9.0641066417021448E-5,1.2726463939002441E-4,1.9974969292630541E-4,1.3806731167549091E-4,2.6090341554785984E-4,3.6632158477218393E-4,5.7496429818396902E-4]
[null,"Instituciones Financieras",372,">400",2.5680701101679325E-5,3.0497896772670099E-5,3.8122370965837623E-5,5.0631159938584793E-5,4.0127947395554194E-7,4.7655163016118714E-7,5.9568953770148402E-7,7.9114838592103769E-7,0,0,0,0,0,0,0,0,3.8909623490070433E-6,3.8909623490070433E-6,3.8909623490070433E-6,3.8909623490070433E-6,0,0,0,0,0,0,0,0,0,0,0,0,0,0,0,0,null,2.5680701101679325E-5,3.0497896772670099E-5,3.8122370965837623E-5,5.0631159938584793E-5,4.0127947395554194E-7,4.7655163016118714E-7,5.9568953770148402E-7,7.9114838592103769E-7,0,0,0,0,0,0,0,0,3.8909623490070433E-6,3.8909623490070433E-6,3.8909623490070433E-6,3.8909623490070433E-6,0,0,0,0,0,0,0,0,0,0,0,0,0,0,0,0,null,null,null,null,null,null,null,null,null,null,null,null,null,null,null,null,null,null,null,null,null,null,null,null,null,null,null,null,null,null,null,null,null,null,null,null,null,null,null,null,null,null,null,null,null,null,null,null,null,null,null,null,null,null,null,null,null,null,null,null,null,null,null,null,null,null,null,null,null,null,null,null,null,null,null,null,null,null,null,null,null,null,null,null,null,null,null,null,null,null,null,null,null,null,null,null,null,null,null,null,null,null,"Instituciones Financieras",372,">400",7.6192057326173544E-5,1.4310369105139837E-4,2.0115814139690566E-4,3.1508911844950227E-4,4.8259617049784789E-5,9.0641066417021448E-5,1.2741242605777883E-4,1.9957566085702295E-4,4.8259617049784789E-5,9.0641066417021448E-5,1.2741242605777883E-4,1.9957566085702295E-4,2.4800380788071095E-5,4.6579999999999978E-5,6.5476621584152362E-5,1.0256095443482545E-4,3.6471148217751627E-5,6.8499999999999998E-5,9.6289149388459393E-5,1.5082493299239044E-4,0,0,0,0,7.6192057326173544E-5,1.4310369105139837E-4,2.0115814139690566E-4,3.1508911844950227E-4,4.8259617049784789E-5,9.0641066417021448E-5,1.2741242605777883E-4,1.9957566085702295E-4,3.8096028663086772E-5,7.1551845525699186E-5,1.0057907069845283E-4,1.5754455922475114E-4]
[null,"Cláusula por la práctica no profesional de deportes y/o actividades de riesgo. Nivel 3 (Pesca submarina, karate, judo, boxeo, pesas, andinismo y caminatas en alta montaña).",384,null,null,null,null,null,null,null,null,null,null,null,null,null,null,null,null,null,null,null,null,null,null,null,null,null,null,null,null,null,null,null,null,null,null,null,null,null,null,null,null,null,null,null,null,null,null,null,null,null,null,null,null,null,null,null,null,null,null,null,null,null,null,null,null,null,null,null,null,null,null,null,null,null,null,null,null,null,null,null,null,null,null,null,null,null,null,null,null,null,null,null,null,null,null,null,null,null,null,null,null,null,null,null,null,null,null,null,null,null,null,null,null,null,null,null,null,null,null,null,null,null,null,null,null,null,null,null,null,null,null,null,null,null,null,null,null,null,null,null,null,null,null,null,null,null,null,null,null,null,null,null,null,null,null,null,null,null,null,null,null,null,null,null,null,null,null,null,null,null,null,null,null,null,null,null,null,"Cláusula por la práctica no profesional de deportes y/o actividades de riesgo. Nivel 3 (Pesca submarina, karate, judo, boxeo, pesas, andinismo y caminatas en alta montaña).",384]
[null,"Hidrocarburos",391,"1-50",1.8695056002956927E-5,2.2201881711873617E-5,2.7752352139842023E-5,3.6858509695617864E-5,0,0,0,0,0,0,0,0,0,0,0,0,0,0,0,0,0,0,0,0,0,0,0,0,0,0,0,0,0,0,0,0,null,1.8695056002956927E-5,2.2201881711873617E-5,2.7752352139842023E-5,3.6858509695617864E-5,0,0,0,0,0,0,0,0,0,0,0,0,0,0,0,0,0,0,0,0,0,0,0,0,0,0,0,0,0,0,0,0,null,null,null,null,null,null,null,null,null,null,null,null,null,null,null,null,null,null,null,null,null,null,null,null,null,null,null,null,null,null,null,null,null,null,null,null,null,null,null,null,null,null,null,null,null,null,null,null,null,null,null,null,null,null,null,null,null,null,null,null,null,null,null,null,null,null,null,null,null,null,null,null,null,null,null,null,null,null,null,null,null,null,null,null,null,null,null,null,null,null,null,null,null,null,null,null,null,null,null,null,null,null,"Hidrocarburos",391,"1-50",1.6349383701023692E-3,3.0967919064481117E-3,4.3530749748961865E-3,6.8325825387776234E-3,1.812821328340429E-4,3.433726016895454E-4,4.826693961474939E-4,7.5759744712376688E-4,1.812821328340429E-4,3.433726016895454E-4,4.826693961474939E-4,7.5759744712376688E-4,9.3160000000000023E-5,1.7645749789739311E-4,2.4804143818334698E-4,3.8932561676478886E-4,1.37E-4,2.5949632043734274E-4,3.6476682085786311E-4,5.7253767171292467E-4,0,0,0,0,1.6349383701023692E-3,3.0967919064481117E-3,4.3530749748961865E-3,6.8325825387776234E-3,1.812821328340429E-4,3.433726016895454E-4,4.826693961474939E-4,7.5759744712376688E-4,8.1746918505118458E-4,1.5483959532240558E-3,2.1765374874480933E-3,3.4162912693888117E-3]
[null,"Instituciones Financieras",394,"1-50",4.6304424180481548E-5,5.4990225663344877E-5,6.8737782079181096E-5,9.1292161271746777E-5,0,0,0,0,0,0,0,0,0,0,0,0,0,0,0,0,0,0,0,0,0,0,0,0,0,0,0,0,0,0,0,0,null,4.6304424180481548E-5,5.4990225663344877E-5,6.8737782079181096E-5,9.1292161271746777E-5,0,0,0,0,0,0,0,0,0,0,0,0,0,0,0,0,0,0,0,0,0,0,0,0,0,0,0,0,0,0,0,0,null,null,null,null,null,null,null,null,null,null,null,null,null,null,null,null,null,null,null,null,null,null,null,null,null,null,null,null,null,null,null,null,null,null,null,null,null,null,null,null,null,null,null,null,null,null,null,null,null,null,null,null,null,null,null,null,null,null,null,null,null,null,null,null,null,null,null,null,null,null,null,null,null,null,null,null,null,null,null,null,null,null,null,null,null,null,null,null,null,null,null,null,null,null,null,null,null,null,null,null,null,null,"Instituciones Financieras",394,"1-50",9.1748831871359582E-4,1.7378455675213292E-3,2.4428415853385709E-3,3.834281940292613E-3,1.812821328340429E-4,3.433726016895454E-4,4.826693961474939E-4,7.5759744712376688E-4,1.812821328340429E-4,3.433726016895454E-4,4.826693961474939E-4,7.5759744712376688E-4,9.3160000000000023E-5,1.7645749789739311E-4,2.4804143818334698E-4,3.8932561676478886E-4,1.37E-4,2.5949632043734274E-4,3.6476682085786311E-4,5.7253767171292467E-4,0,0,0,0,9.1748831871359582E-4,1.7378455675213292E-3,2.4428415853385709E-3,3.834281940292613E-3,1.812821328340429E-4,3.433726016895454E-4,4.826693961474939E-4,7.5759744712376688E-4,4.5874415935679791E-4,8.689227837606646E-4,1.2214207926692854E-3,1.9171409701463065E-3]
[null,"Editoriales",406,"50-400",4.4819992662220405E-6,5.322734391682334E-6,6.6534179896029168E-6,8.8365508711858471E-6,0,0,0,0,0,0,0,0,0,0,0,0,0,0,0,0,0,0,0,0,0,0,0,0,0,0,0,0,0,0,0,0,null,4.4819992662220405E-6,5.322734391682334E-6,6.6534179896029168E-6,8.8365508711858471E-6,0,0,0,0,0,0,0,0,0,0,0,0,0,0,0,0,0,0,0,0,0,0,0,0,0,0,0,0,0,0,0,0,null,null,null,null,null,null,null,null,null,null,null,null,null,null,null,null,null,null,null,null,null,null,null,null,null,null,null,null,null,null,null,null,null,null,null,null,null,null,null,null,null,null,null,null,null,null,null,null,null,null,null,null,null,null,null,null,null,null,null,null,null,null,null,null,null,null,null,null,null,null,null,null,null,null,null,null,null,null,null,null,null,null,null,null,null,null,null,null,null,null,null,null,null,null,null,null,null,null,null,null,null,null,"Editoriales",406,"50-400",2.1247959810853008E-4,4.0151902871150743E-4,5.6375301413716568E-4,8.8484509129882298E-4,9.5932575978884517E-5,1.812821328340429E-4,2.5452927878004888E-4,3.9949938585261081E-4,9.5932575978884517E-5,1.812821328340429E-4,2.5452927878004888E-4,3.9949938585261081E-4,4.9299280841838117E-5,9.3160000000000023E-5,1.3080134947913909E-4,2.0530077732536583E-4,7.2498942414467803E-5,1.37E-4,1.9235492570461626E-4,3.0191290783142027E-4,0,0,0,0,2.1247959810853008E-4,4.0151902871150743E-4,5.6375301413716568E-4,8.8484509129882298E-4,9.5932575978884517E-5,1.812821328340429E-4,2.5452927878004888E-4,3.9949938585261081E-4,1.0623979905426504E-4,2.0075951435575372E-4,2.8187650706858284E-4,4.4242254564941149E-4]
[null,"Telecomunicaciones",413,"50-400",4.4819992662220405E-6,5.322734391682334E-6,6.6534179896029168E-6,8.8365508711858471E-6,0,0,0,0,0,0,0,0,0,0,0,0,0,0,0,0,0,0,0,0,0,0,0,0,0,0,0,0,0,0,0,0,null,4.4819992662220405E-6,5.322734391682334E-6,6.6534179896029168E-6,8.8365508711858471E-6,0,0,0,0,0,0,0,0,0,0,0,0,0,0,0,0,0,0,0,0,0,0,0,0,0,0,0,0,0,0,0,0,null,null,null,null,null,null,null,null,null,null,null,null,null,null,null,null,null,null,null,null,null,null,null,null,null,null,null,null,null,null,null,null,null,null,null,null,null,null,null,null,null,null,null,null,null,null,null,null,null,null,null,null,null,null,null,null,null,null,null,null,null,null,null,null,null,null,null,null,null,null,null,null,null,null,null,null,null,null,null,null,null,null,null,null,null,null,null,null,null,null,null,null,null,null,null,null,null,null,null,null,null,null,"Telecomunicaciones",413,"50-400",2.1247959810853008E-4,4.0151902871150743E-4,5.6375301413716568E-4,8.8484509129882298E-4,9.5932575978884517E-5,1.812821328340429E-4,2.5452927878004888E-4,3.9949938585261081E-4,9.5932575978884517E-5,1.812821328340429E-4,2.5452927878004888E-4,3.9949938585261081E-4,4.9299280841838117E-5,9.3160000000000023E-5,1.3080134947913909E-4,2.0530077732536583E-4,7.2498942414467803E-5,1.37E-4,1.9235492570461626E-4,3.0191290783142027E-4,0,0,0,0,2.1247959810853008E-4,4.0151902871150743E-4,5.6375301413716568E-4,8.8484509129882298E-4,9.5932575978884517E-5,1.812821328340429E-4,2.5452927878004888E-4,3.9949938585261081E-4,1.0623979905426504E-4,2.0075951435575372E-4,2.8187650706858284E-4,4.4242254564941149E-4]
[null,"Actividades Deportivas y de Esparcimiento",425,"50-400",1.4685882913445622E-6,1.7440666410797316E-6,2.1800833013496641E-6,2.8954166153250833E-6,0,0,0,0,0,0,0,0,0,0,0,0,0,0,0,0,0,0,0,0,0,0,0,0,0,0,0,0,0,0,0,0,null,1.4685882913445622E-6,1.7440666410797316E-6,2.1800833013496641E-6,2.8954166153250833E-6,0,0,0,0,0,0,0,0,0,0,0,0,0,0,0,0,0,0,0,0,0,0,0,0,0,0,0,0,0,0,0,0,null,null,null,null,null,null,null,null,null,null,null,null,null,null,null,null,null,null,null,null,null,null,null,null,null,null,null,null,null,null,null,null,null,null,null,null,null,null,null,null,null,null,null,null,null,null,null,null,null,null,null,null,null,null,null,null,null,null,null,null,null,null,null,null,null,null,null,null,null,null,null,null,null,null,null,null,null,null,null,null,null,null,null,null,null,null,null,null,null,null,null,null,null,null,null,null,null,null,null,null,null,null,"Actividades Deportivas y de Esparcimiento",425,"50-400",1.1054142145043133E-3,2.0888821594295354E-3,2.9328961502391722E-3,4.6033612180332003E-3,4.353163633681307E-5,8.2260981740242027E-5,1.1549857686885439E-4,1.812821328340429E-4,4.353163633681307E-5,8.2260981740242027E-5,1.1549857686885439E-4,1.812821328340429E-4,2.2370694661067795E-5,4.2273515536892649E-5,5.9354152849430115E-5,9.3160000000000023E-5,3.2898080383923221E-5,6.2166934613077415E-5,8.7285518896220739E-5,1.37E-4,0,0,0,0,1.1054142145043133E-3,2.0888821594295354E-3,2.9328961502391722E-3,4.6033612180332003E-3,4.353163633681307E-5,8.2260981740242027E-5,1.1549857686885439E-4,1.812821328340429E-4,5.5270710725215664E-4,1.0444410797147677E-3,1.4664480751195861E-3,2.3016806090166001E-3]
[null,"Mineras",432,">400",6.2238328160092433E-7,7.3913017406130774E-7,9.2391271757663486E-7,1.2270688151803229E-6,0,0,0,0,0,0,0,0,0,0,0,0,0,0,0,0,0,0,0,0,0,0,0,0,0,0,0,0,0,0,0,0,null,6.2238328160092433E-7,7.3913017406130774E-7,9.2391271757663486E-7,1.2270688151803229E-6,0,0,0,0,0,0,0,0,0,0,0,0,0,0,0,0,0,0,0,0,0,0,0,0,0,0,0,0,0,0,0,0,null,null,null,null,null,null,null,null,null,null,null,null,null,null,null,null,null,null,null,null,null,null,null,null,null,null,null,null,null,null,null,null,null,null,null,null,null,null,null,null,null,null,null,null,null,null,null,null,null,null,null,null,null,null,null,null,null,null,null,null,null,null,null,null,null,null,null,null,null,null,null,null,null,null,null,null,null,null,null,null,null,null,null,null,null,null,null,null,null,null,null,null,null,null,null,null,null,null,null,null,null,null,"Mineras",432,">400",5.5957574372125836E-6,1.0509934651920104E-5,1.4773615587761764E-5,2.3141024666135068E-5,9.6519234099569579E-5,1.812821328340429E-4,2.548248521155576E-4,3.9915132171404591E-4,9.6519234099569579E-5,1.812821328340429E-4,2.548248521155576E-4,3.9915132171404591E-4,4.9600761576142223E-5,9.3160000000000023E-5,1.3095324316830478E-4,2.0512190886965104E-4,7.2942296435503254E-5,1.37E-4,1.9257829877691876E-4,3.0164986598478087E-4,0,0,0,0,5.5957574372125836E-6,1.0509934651920104E-5,1.4773615587761764E-5,2.3141024666135068E-5,9.6519234099569579E-5,1.812821328340429E-4,2.548248521155576E-4,3.9915132171404591E-4,2.7978787186062918E-6,5.2549673259600522E-6,7.386807793880882E-6,1.1570512333067534E-5]
[null,"Textiles",444,">400",9.3248184387418063E-7,1.1073971424792667E-6,1.3842464280990833E-6,1.8384481478947134E-6,0,0,0,0,0,0,0,0,0,0,0,0,0,0,0,0,0,0,0,0,0,0,0,0,0,0,0,0,0,0,0,0,null,9.3248184387418063E-7,1.1073971424792667E-6,1.3842464280990833E-6,1.8384481478947134E-6,0,0,0,0,0,0,0,0,0,0,0,0,0,0,0,0,0,0,0,0,0,0,0,0,0,0,0,0,0,0,0,0,null,null,null,null,null,null,null,null,null,null,null,null,null,null,null,null,null,null,null,null,null,null,null,null,null,null,null,null,null,null,null,null,null,null,null,null,null,null,null,null,null,null,null,null,null,null,null,null,null,null,null,null,null,null,null,null,null,null,null,null,null,null,null,null,null,null,null,null,null,null,null,null,null,null,null,null,null,null,null,null,null,null,null,null,null,null,null,null,null,null,null,null,null,null,null,null,null,null,null,null,null,null,"Textiles",444,">400",6.7177846198421091E-5,1.2617322704285095E-4,1.77359309599315E-4,2.7781121918498775E-4,9.6519234099569579E-5,1.812821328340429E-4,2.548248521155576E-4,3.9915132171404591E-4,9.6519234099569579E-5,1.812821328340429E-4,2.548248521155576E-4,3.9915132171404591E-4,4.9600761576142223E-5,9.3160000000000023E-5,1.3095324316830478E-4,2.0512190886965104E-4,7.2942296435503254E-5,1.37E-4,1.9257829877691876E-4,3.0164986598478087E-4,0,0,0,0,6.7177846198421091E-5,1.2617322704285095E-4,1.77359309599315E-4,2.7781121918498775E-4,9.6519234099569579E-5,1.812821328340429E-4,2.548248521155576E-4,3.9915132171404591E-4,3.3588923099210546E-5,6.3086613521425475E-5,8.8679654799657498E-5,1.3890560959249387E-4]
[null,"Telecomunicaciones",456,"1-50",2.2299440151715428E-4,2.6482377608876088E-4,3.3102972011095106E-4,4.3964785711733239E-4,2.3036900473731719E-6,2.7358171018321677E-6,3.4197713772902101E-6,4.5418736340438047E-6,0,0,0,0,0,0,0,0,0,0,0,0,0,0,0,0,0,0,0,0,0,0,0,0,0,0,0,0,null,2.2299440151715428E-4,2.6482377608876088E-4,3.3102972011095106E-4,4.3964785711733239E-4,2.3036900473731719E-6,2.7358171018321677E-6,3.4197713772902101E-6,4.5418736340438047E-6,0,0,0,0,0,0,0,0,0,0,0,0,0,0,0,0,0,0,0,0,0,0,0,0,0,0,0,0,null,null,null,null,null,null,null,null,null,null,null,null,null,null,null,null,null,null,null,null,null,null,null,null,null,null,null,null,null,null,null,null,null,null,null,null,null,null,null,null,null,null,null,null,null,null,null,null,null,null,null,null,null,null,null,null,null,null,null,null,null,null,null,null,null,null,null,null,null,null,null,null,null,null,null,null,null,null,null,null,null,null,null,null,null,null,null,null,null,null,null,null,null,null,null,null,null,null,null,null,null,null,"Telecomunicaciones",456,"1-50",1.4887822601138217E-3,2.819952689284139E-3,3.9639297224182838E-3,6.2217805028691548E-3,1.4607932793883282E-4,2.766937816940656E-4,3.8894081784891581E-4,6.1048115549991412E-4,1.4607932793883282E-4,2.766937816940656E-4,3.8894081784891581E-4,6.1048115549991412E-4,4.9183433423988458E-5,9.3160000000000023E-5,1.3095244269301239E-4,2.0554283547020451E-4,4.9183433423988458E-5,9.3160000000000023E-5,1.3095244269301239E-4,2.0554283547020451E-4,0,0,0,0,1.4887822601138217E-3,2.819952689284139E-3,3.9639297224182838E-3,6.2217805028691548E-3,1.4607932793883282E-4,2.766937816940656E-4,3.8894081784891581E-4,6.1048115549991412E-4,7.4439113005691083E-4,1.4099763446420695E-3,1.9819648612091419E-3,3.1108902514345774E-3]
[null,"Energia y Agua",465,"1-50",1.6327321215856859E-4,1.9390006333700401E-4,2.4237507917125502E-4,3.219036772304628E-4,1.8439437653850502E-4,2.1898314375710107E-4,2.7372892969637635E-4,3.6354541619917696E-4,0,0,0,0,0,0,0,0,0,0,0,0,0,0,0,0,0,0,0,0,0,0,0,0,0,0,0,0,null,1.6327321215856859E-4,1.9390006333700401E-4,2.4237507917125502E-4,3.219036772304628E-4,1.8439437653850502E-4,2.1898314375710107E-4,2.7372892969637635E-4,3.6354541619917696E-4,0,0,0,0,0,0,0,0,0,0,0,0,0,0,0,0,0,0,0,0,0,0,0,0,0,0,0,0,null,null,null,null,null,null,null,null,null,null,null,null,null,null,null,null,null,null,null,null,null,null,null,null,null,null,null,null,null,null,null,null,null,null,null,null,null,null,null,null,null,null,null,null,null,null,null,null,null,null,null,null,null,null,null,null,null,null,null,null,null,null,null,null,null,null,null,null,null,null,null,null,null,null,null,null,null,null,null,null,null,null,null,null,null,null,null,null,null,null,null,null,null,null,null,null,null,null,null,null,null,null,"Energia y Agua",465,"1-50",2.049773478934314E-3,3.8825450767409168E-3,5.457586535690743E-3,8.5662228844376187E-3,2.766937816940656E-4,5.2409502363141164E-4,7.3670592043564886E-4,1.1563329456099603E-3,2.766937816940656E-4,5.2409502363141164E-4,7.3670592043564886E-4,1.1563329456099603E-3,9.3160000000000023E-5,1.7645749789739311E-4,2.4804143818334698E-4,3.8932561676478886E-4,9.3160000000000023E-5,1.7645749789739311E-4,2.4804143818334698E-4,3.8932561676478886E-4,0,0,0,0,2.049773478934314E-3,3.8825450767409168E-3,5.457586535690743E-3,8.5662228844376187E-3,2.766937816940656E-4,5.2409502363141164E-4,7.3670592043564886E-4,1.1563329456099603E-3,1.024886739467157E-3,1.9412725383704584E-3,2.7287932678453715E-3,4.2831114422188094E-3]
[null,"Transporte y Aviación",467,"1-50",1.2277126700695575E-5,1.4580074792363079E-5,1.8225093490453852E-5,2.4205147792033572E-5,1.8586886355146524E-5,2.2073421560423854E-5,2.7591776950529816E-5,3.6645246252493608E-5,0,0,0,0,0,0,0,0,0,0,0,0,0,0,0,0,0,0,0,0,0,0,0,0,0,0,0,0,null,1.2277126700695575E-5,1.4580074792363079E-5,1.8225093490453852E-5,2.4205147792033572E-5,1.8586886355146524E-5,2.2073421560423854E-5,2.7591776950529816E-5,3.6645246252493608E-5,0,0,0,0,0,0,0,0,0,0,0,0,0,0,0,0,0,0,0,0,0,0,0,0,0,0,0,0,null,null,null,null,null,null,null,null,null,null,null,null,null,null,null,null,null,null,null,null,null,null,null,null,null,null,null,null,null,null,null,null,null,null,null,null,null,null,null,null,null,null,null,null,null,null,null,null,null,null,null,null,null,null,null,null,null,null,null,null,null,null,null,null,null,null,null,null,null,null,null,null,null,null,null,null,null,null,null,null,null,null,null,null,null,null,null,null,null,null,null,null,null,null,null,null,null,null,null,null,null,null,"Transporte y Aviación",467,"1-50",1.3577371136422886E-3,2.5717356577473877E-3,3.6150178868907213E-3,5.6741288017735942E-3,2.766937816940656E-4,5.2409502363141164E-4,7.3670592043564886E-4,1.1563329456099603E-3,2.766937816940656E-4,5.2409502363141164E-4,7.3670592043564886E-4,1.1563329456099603E-3,9.3160000000000023E-5,1.7645749789739311E-4,2.4804143818334698E-4,3.8932561676478886E-4,9.3160000000000023E-5,1.7645749789739311E-4,2.4804143818334698E-4,3.8932561676478886E-4,0,0,0,0,1.3577371136422886E-3,2.5717356577473877E-3,3.6150178868907213E-3,5.6741288017735942E-3,2.766937816940656E-4,5.2409502363141164E-4,7.3670592043564886E-4,1.1563329456099603E-3,6.7886855682114432E-4,1.2858678288736939E-3,1.8075089434453607E-3,2.8370644008867971E-3]
[null,"Instituciones Financieras",479,"50-400",7.0986643571297099E-5,8.4302345146417096E-5,1.053779314330214E-4,1.3995475006430515E-4,1.6563307890493838E-6,1.9670259478437704E-6,2.4587824348047132E-6,3.2655630685284431E-6,0,0,0,0,0,0,0,0,0,0,0,0,0,0,0,0,0,0,0,0,0,0,0,0,0,0,0,0,null,7.0986643571297099E-5,8.4302345146417096E-5,1.053779314330214E-4,1.3995475006430515E-4,1.6563307890493838E-6,1.9670259478437704E-6,2.4587824348047132E-6,3.2655630685284431E-6,0,0,0,0,0,0,0,0,0,0,0,0,0,0,0,0,0,0,0,0,0,0,0,0,0,0,0,0,null,null,null,null,null,null,null,null,null,null,null,null,null,null,null,null,null,null,null,null,null,null,null,null,null,null,null,null,null,null,null,null,null,null,null,null,null,null,null,null,null,null,null,null,null,null,null,null,null,null,null,null,null,null,null,null,null,null,null,null,null,null,null,null,null,null,null,null,null,null,null,null,null,null,null,null,null,null,null,null,null,null,null,null,null,null,null,null,null,null,null,null,null,null,null,null,null,null,null,null,null,null,"Instituciones Financieras",479,"50-400",1.345120208151105E-4,2.541850437806199E-4,3.5688865117989611E-4,5.601587277011958E-4,1.4642340544145538E-4,2.766937816940656E-4,3.8849205708533791E-4,6.0976222051187994E-4,1.4642340544145538E-4,2.766937816940656E-4,3.8849205708533791E-4,6.0976222051187994E-4,4.9299280841838117E-5,9.3160000000000023E-5,1.3080134947913909E-4,2.0530077732536583E-4,4.9299280841838117E-5,9.3160000000000023E-5,1.3080134947913909E-4,2.0530077732536583E-4,0,0,0,0,1.345120208151105E-4,2.541850437806199E-4,3.5688865117989611E-4,5.601587277011958E-4,1.4642340544145538E-4,2.766937816940656E-4,3.8849205708533791E-4,6.0976222051187994E-4,6.7256010407555251E-5,1.2709252189030995E-4,1.7844432558994806E-4,2.800793638505979E-4]
[null,"Energia y Agua",486,"50-400",2.8660312713417705E-5,3.4036425062752646E-5,4.2545531328440813E-5,5.6505656568231907E-5,3.5839586957924519E-5,4.2562390298076393E-5,5.3202987872595483E-5,7.0660059171080515E-5,0,0,0,0,0,0,0,0,0,0,0,0,0,0,0,0,0,0,0,0,0,0,0,0,0,0,0,0,null,2.8660312713417705E-5,3.4036425062752646E-5,4.2545531328440813E-5,5.6505656568231907E-5,3.5839586957924519E-5,4.2562390298076393E-5,5.3202987872595483E-5,7.0660059171080515E-5,0,0,0,0,0,0,0,0,0,0,0,0,0,0,0,0,0,0,0,0,0,0,0,0,0,0,0,0,null,null,null,null,null,null,null,null,null,null,null,null,null,null,null,null,null,null,null,null,null,null,null,null,null,null,null,null,null,null,null,null,null,null,null,null,null,null,null,null,null,null,null,null,null,null,null,null,null,null,null,null,null,null,null,null,null,null,null,null,null,null,null,null,null,null,null,null,null,null,null,null,null,null,null,null,null,null,null,null,null,null,null,null,null,null,null,null,null,null,null,null,null,null,null,null,null,null,null,null,null,null,"Energia y Agua",486,"50-400",7.833821363173901E-4,1.4803437002146548E-3,2.0784773903072019E-3,3.2622983293556992E-3,1.4642340544145538E-4,2.766937816940656E-4,3.8849205708533791E-4,6.0976222051187994E-4,1.4642340544145538E-4,2.766937816940656E-4,3.8849205708533791E-4,6.0976222051187994E-4,4.9299280841838117E-5,9.3160000000000023E-5,1.3080134947913909E-4,2.0530077732536583E-4,4.9299280841838117E-5,9.3160000000000023E-5,1.3080134947913909E-4,2.0530077732536583E-4,0,0,0,0,7.833821363173901E-4,1.4803437002146548E-3,2.0784773903072019E-3,3.2622983293556992E-3,1.4642340544145538E-4,2.766937816940656E-4,3.8849205708533791E-4,6.0976222051187994E-4,3.9169106815869505E-4,7.4017185010732739E-4,1.039238695153601E-3,1.6311491646778496E-3]
[null,"Telecomunicaciones",498,">400",8.1438272185331591E-6,9.6714494227357305E-6,1.2089311778419661E-5,1.605608105406394E-5,1.2599050049214935E-7,1.4962384644924453E-7,1.8702980806155568E-7,2.4839840454134708E-7,0,0,0,0,0,0,0,0,0,0,0,0,0,0,0,0,0,0,0,0,0,0,0,0,0,0,0,0,null,8.1438272185331591E-6,9.6714494227357305E-6,1.2089311778419661E-5,1.605608105406394E-5,1.2599050049214935E-7,1.4962384644924453E-7,1.8702980806155568E-7,2.4839840454134708E-7,0,0,0,0,0,0,0,0,0,0,0,0,0,0,0,0,0,0,0,0,0,0,0,0,0,0,0,0,null,null,null,null,null,null,null,null,null,null,null,null,null,null,null,null,null,null,null,null,null,null,null,null,null,null,null,null,null,null,null,null,null,null,null,null,null,null,null,null,null,null,null,null,null,null,null,null,null,null,null,null,null,null,null,null,null,null,null,null,null,null,null,null,null,null,null,null,null,null,null,null,null,null,null,null,null,null,null,null,null,null,null,null,null,null,null,null,null,null,null,null,null,null,null,null,null,null,null,null,null,null,"Telecomunicaciones",498,">400",8.4222971353244374E-5,1.5818732942685793E-4,2.2236092546779797E-4,3.4830063300804443E-4,1.4731883099407996E-4,2.766937816940656E-4,3.8894319533427224E-4,6.0923096472143869E-4,1.4731883099407996E-4,2.766937816940656E-4,3.8894319533427224E-4,6.0923096472143869E-4,4.9600761576142223E-5,9.3160000000000023E-5,1.3095324316830478E-4,2.0512190886965104E-4,4.9600761576142223E-5,9.3160000000000023E-5,1.3095324316830478E-4,2.0512190886965104E-4,0,0,0,0,8.4222971353244374E-5,1.5818732942685793E-4,2.2236092546779797E-4,3.4830063300804443E-4,1.4731883099407996E-4,2.766937816940656E-4,3.8894319533427224E-4,6.0923096472143869E-4,4.2111485676622187E-5,7.9093664713428963E-5,1.1118046273389898E-4,1.7415031650402221E-4]
[null,"Construcción",505,">400",4.4836461323811952E-7,5.3246901776214101E-7,6.6558627220267635E-7,8.8397977741255877E-7,1.6813823563428326E-6,1.9967766976493991E-6,2.4959708720617488E-6,3.3149538505528424E-6,0,0,0,0,0,0,0,0,0,0,0,0,0,0,0,0,0,0,0,0,0,0,0,0,0,0,0,0,null,4.4836461323811952E-7,5.3246901776214101E-7,6.6558627220267635E-7,8.8397977741255877E-7,1.6813823563428326E-6,1.9967766976493991E-6,2.4959708720617488E-6,3.3149538505528424E-6,0,0,0,0,0,0,0,0,0,0,0,0,0,0,0,0,0,0,0,0,0,0,0,0,0,0,0,0,null,null,null,null,null,null,null,null,null,null,null,null,null,null,null,null,null,null,null,null,null,null,null,null,null,null,null,null,null,null,null,null,null,null,null,null,null,null,null,null,null,null,null,null,null,null,null,null,null,null,null,null,null,null,null,null,null,null,null,null,null,null,null,null,null,null,null,null,null,null,null,null,null,null,null,null,null,null,null,null,null,null,null,null,null,null,null,null,null,null,null,null,null,null,null,null,null,null,null,null,null,null,"Construcción",505,">400",9.8114710746820735E-5,1.8427875223533469E-4,2.5903714311105159E-4,4.0574934974913396E-4,1.4731883099407996E-4,2.766937816940656E-4,3.8894319533427224E-4,6.0923096472143869E-4,1.4731883099407996E-4,2.766937816940656E-4,3.8894319533427224E-4,6.0923096472143869E-4,4.9600761576142223E-5,9.3160000000000023E-5,1.3095324316830478E-4,2.0512190886965104E-4,4.9600761576142223E-5,9.3160000000000023E-5,1.3095324316830478E-4,2.0512190886965104E-4,0,0,0,0,9.8114710746820735E-5,1.8427875223533469E-4,2.5903714311105159E-4,4.0574934974913396E-4,1.4731883099407996E-4,2.766937816940656E-4,3.8894319533427224E-4,6.0923096472143869E-4,4.9057355373410368E-5,9.2139376117667346E-5,1.295185715555258E-4,2.0287467487456698E-4]
[null,"AgroIndustria",517,"1-50",3.2420634513061008E-5,3.85021094544472E-5,4.8127636818058994E-5,6.3919373729008213E-5,0,0,0,0,0,0,0,0,0,0,0,0,0,0,0,0,0,0,0,0,0,0,0,0,0,0,0,0,0,0,0,0,null,3.2420634513061008E-5,3.85021094544472E-5,4.8127636818058994E-5,6.3919373729008213E-5,0,0,0,0,0,0,0,0,0,0,0,0,0,0,0,0,0,0,0,0,0,0,0,0,0,0,0,0,0,0,0,0,null,null,null,null,null,null,null,null,null,null,null,null,null,null,null,null,null,null,null,null,null,null,null,null,null,null,null,null,null,null,null,null,null,null,null,null,null,null,null,null,null,null,null,null,null,null,null,null,null,null,null,null,null,null,null,null,null,null,null,null,null,null,null,null,null,null,null,null,null,null,null,null,null,null,null,null,null,null,null,null,null,null,null,null,null,null,null,null,null,null,null,null,null,null,null,null,null,null,null,null,null,null,"AgroIndustria",517,"1-50",1.4356114651097565E-3,2.7192400932382768E-3,3.8223608037604878E-3,5.9995740563381136E-3,2.0400733729388721E-4,3.8641717788309157E-4,5.431759697545203E-4,8.5256851026712136E-4,2.0400733729388721E-4,3.8641717788309157E-4,5.431759697545203E-4,8.5256851026712136E-4,1.1717229727479602E-4,2.2194000000000001E-4,3.1197493700394125E-4,4.8967557862019295E-4,2.1698573569406667E-4,4.1100000000000002E-4,5.7773136482211344E-4,9.0680662707443146E-4,0,0,0,0,1.4356114651097565E-3,2.7192400932382768E-3,3.8223608037604878E-3,5.9995740563381136E-3,2.0400733729388721E-4,3.8641717788309157E-4,5.431759697545203E-4,8.5256851026712136E-4,7.1780573255487827E-4,1.3596200466191384E-3,1.9111804018802439E-3,2.9997870281690568E-3]
[null,"Energia y Agua",529,"1-50",2.3737910463905589E-5,2.8190676728827187E-5,3.5238345911033985E-5,4.6800822787007769E-5,0,0,0,0,0,0,0,0,0,0,0,0,0,0,0,0,0,0,0,0,0,0,0,0,0,0,0,0,0,0,0,0,null,2.3737910463905589E-5,2.8190676728827187E-5,3.5238345911033985E-5,4.6800822787007769E-5,0,0,0,0,0,0,0,0,0,0,0,0,0,0,0,0,0,0,0,0,0,0,0,0,0,0,0,0,0,0,0,0,null,null,null,null,null,null,null,null,null,null,null,null,null,null,null,null,null,null,null,null,null,null,null,null,null,null,null,null,null,null,null,null,null,null,null,null,null,null,null,null,null,null,null,null,null,null,null,null,null,null,null,null,null,null,null,null,null,null,null,null,null,null,null,null,null,null,null,null,null,null,null,null,null,null,null,null,null,null,null,null,null,null,null,null,null,null,null,null,null,null,null,null,null,null,null,null,null,null,null,null,null,null,"Energia y Agua",529,"1-50",1.9765672832580887E-3,3.7438827525715979E-3,5.2626727308446447E-3,8.2602863528505616E-3,3.8641717788309157E-4,7.319258088645576E-4,1.0288479233670268E-3,1.6148787688690825E-3,3.8641717788309157E-4,7.319258088645576E-4,1.0288479233670268E-3,1.6148787688690825E-3,2.2194000000000001E-4,4.2038403910849524E-4,5.9092224978973828E-4,9.2751102817493808E-4,4.1100000000000002E-4,7.7848896131202817E-4,1.0943004625735893E-3,1.7176130151387741E-3,0,0,0,0,1.9765672832580887E-3,3.7438827525715979E-3,5.2626727308446447E-3,8.2602863528505616E-3,3.8641717788309157E-4,7.319258088645576E-4,1.0288479233670268E-3,1.6148787688690825E-3,9.8828364162904434E-4,1.871941376285799E-3,2.6313363654223224E-3,4.1301431764252808E-3]
[null,"Hoteles",536,"50-400",5.6909857485338118E-6,6.7585030177455381E-6,8.4481287721819209E-6,1.1220145762429351E-5,0,0,0,0,0,0,0,0,0,0,0,0,0,0,0,0,0,0,0,0,0,0,0,0,0,0,0,0,0,0,0,0,null,5.6909857485338118E-6,6.7585030177455381E-6,8.4481287721819209E-6,1.1220145762429351E-5,0,0,0,0,0,0,0,0,0,0,0,0,0,0,0,0,0,0,0,0,0,0,0,0,0,0,0,0,0,0,0,0,null,null,null,null,null,null,null,null,null,null,null,null,null,null,null,null,null,null,null,null,null,null,null,null,null,null,null,null,null,null,null,null,null,null,null,null,null,null,null,null,null,null,null,null,null,null,null,null,null,null,null,null,null,null,null,null,null,null,null,null,null,null,null,null,null,null,null,null,null,null,null,null,null,null,null,null,null,null,null,null,null,null,null,null,null,null,null,null,null,null,null,null,null,null,null,null,null,null,null,null,null,null,"Hoteles",536,"50-400",2.516036206261389E-4,4.7545101870206447E-4,6.6755726553737024E-4,1.047772259764608E-3,2.0448785932341182E-4,3.8641717788309157E-4,5.4254925213642017E-4,8.5156448037003918E-4,2.0448785932341182E-4,3.8641717788309157E-4,5.4254925213642017E-4,8.5156448037003918E-4,1.1744828671143785E-4,2.2194000000000001E-4,3.1161497964147833E-4,4.8909891068690088E-4,2.1749682724340341E-4,4.1100000000000002E-4,5.7706477711384871E-4,9.0573872349426082E-4,0,0,0,0,2.516036206261389E-4,4.7545101870206447E-4,6.6755726553737024E-4,1.047772259764608E-3,2.0448785932341182E-4,3.8641717788309157E-4,5.4254925213642017E-4,8.5156448037003918E-4,1.2580181031306945E-4,2.3772550935103224E-4,3.3377863276868512E-4,5.2388612988230401E-4]
[null,"Mineras",539,"50-400",3.7984379095261863E-6,4.5109503359529032E-6,5.6386879199411305E-6,7.4888655318459267E-6,0,0,0,0,0,0,0,0,0,0,0,0,0,0,0,0,0,0,0,0,0,0,0,0,0,0,0,0,0,0,0,0,null,3.7984379095261863E-6,4.5109503359529032E-6,5.6386879199411305E-6,7.4888655318459267E-6,0,0,0,0,0,0,0,0,0,0,0,0,0,0,0,0,0,0,0,0,0,0,0,0,0,0,0,0,0,0,0,0,null,null,null,null,null,null,null,null,null,null,null,null,null,null,null,null,null,null,null,null,null,null,null,null,null,null,null,null,null,null,null,null,null,null,null,null,null,null,null,null,null,null,null,null,null,null,null,null,null,null,null,null,null,null,null,null,null,null,null,null,null,null,null,null,null,null,null,null,null,null,null,null,null,null,null,null,null,null,null,null,null,null,null,null,null,null,null,null,null,null,null,null,null,null,null,null,null,null,null,null,null,null,"Mineras",539,"50-400",3.5183374200240772E-5,6.6485414888908613E-5,9.3348883513843833E-5,1.4651682436123215E-4,2.0448785932341182E-4,3.8641717788309157E-4,5.4254925213642017E-4,8.5156448037003918E-4,2.0448785932341182E-4,3.8641717788309157E-4,5.4254925213642017E-4,8.5156448037003918E-4,1.1744828671143785E-4,2.2194000000000001E-4,3.1161497964147833E-4,4.8909891068690088E-4,2.1749682724340341E-4,4.1100000000000002E-4,5.7706477711384871E-4,9.0573872349426082E-4,0,0,0,0,3.5183374200240772E-5,6.6485414888908613E-5,9.3348883513843833E-5,1.4651682436123215E-4,2.0448785932341182E-4,3.8641717788309157E-4,5.4254925213642017E-4,8.5156448037003918E-4,1.7591687100120386E-5,3.3242707444454307E-5,4.6674441756921917E-5,7.3258412180616077E-5]
[null,"Editoriales",555,">400",1.1840119930960279E-6,1.4061094126703857E-6,1.7576367658379819E-6,2.3343560736247726E-6,0,0,0,0,0,0,0,0,0,0,0,0,0,0,0,0,0,0,0,0,0,0,0,0,0,0,0,0,0,0,0,0,null,1.1840119930960279E-6,1.4061094126703857E-6,1.7576367658379819E-6,2.3343560736247726E-6,0,0,0,0,0,0,0,0,0,0,0,0,0,0,0,0,0,0,0,0,0,0,0,0,0,0,0,0,0,0,0,0,null,null,null,null,null,null,null,null,null,null,null,null,null,null,null,null,null,null,null,null,null,null,null,null,null,null,null,null,null,null,null,null,null,null,null,null,null,null,null,null,null,null,null,null,null,null,null,null,null,null,null,null,null,null,null,null,null,null,null,null,null,null,null,null,null,null,null,null,null,null,null,null,null,null,null,null,null,null,null,null,null,null,null,null,null,null,null,null,null,null,null,null,null,null,null,null,null,null,null,null,null,null,"Editoriales",555,">400",8.1215008090628496E-5,1.5253778194732729E-4,2.1441946384394801E-4,3.3586132468632851E-4,2.0573836742276681E-4,3.8641717788309157E-4,5.4317929003579396E-4,8.5082255417994021E-4,2.0573836742276681E-4,3.8641717788309157E-4,5.4317929003579396E-4,8.5082255417994021E-4,1.1816652022551527E-4,2.2194000000000001E-4,3.1197684401860842E-4,4.8867278289534502E-4,2.1882688930650976E-4,4.1100000000000002E-4,5.7773489633075625E-4,9.0494959795434267E-4,0,0,0,0,8.1215008090628496E-5,1.5253778194732729E-4,2.1441946384394801E-4,3.3586132468632851E-4,2.0573836742276681E-4,3.8641717788309157E-4,5.4317929003579396E-4,8.5082255417994021E-4,4.0607504045314248E-5,7.6268890973663645E-5,1.0720973192197401E-4,1.6793066234316426E-4]
[null,"Instituciones Financieras",564,">400",2.1472014709910921E-6,2.5499743388286812E-6,3.1874679235358514E-6,4.2333463042021605E-6,0,0,0,0,0,0,0,0,0,0,0,0,0,0,0,0,0,0,0,0,0,0,0,0,0,0,0,0,0,0,0,0,null,2.1472014709910921E-6,2.5499743388286812E-6,3.1874679235358514E-6,4.2333463042021605E-6,0,0,0,0,0,0,0,0,0,0,0,0,0,0,0,0,0,0,0,0,0,0,0,0,0,0,0,0,0,0,0,0,null,null,null,null,null,null,null,null,null,null,null,null,null,null,null,null,null,null,null,null,null,null,null,null,null,null,null,null,null,null,null,null,null,null,null,null,null,null,null,null,null,null,null,null,null,null,null,null,null,null,null,null,null,null,null,null,null,null,null,null,null,null,null,null,null,null,null,null,null,null,null,null,null,null,null,null,null,null,null,null,null,null,null,null,null,null,null,null,null,null,null,null,null,null,null,null,null,null,null,null,null,null,"Instituciones Financieras",564,">400",1.8151637186529575E-4,3.4092349926950787E-4,4.7922968979851048E-4,7.5065348807087299E-4,2.0573836742276681E-4,3.8641717788309157E-4,5.4317929003579407E-4,8.5082255417994021E-4,2.0573836742276681E-4,3.8641717788309157E-4,5.4317929003579407E-4,8.5082255417994021E-4,1.1816652022551527E-4,2.2194000000000001E-4,3.1197684401860847E-4,4.8867278289534502E-4,2.1882688930650976E-4,4.1100000000000002E-4,5.7773489633075636E-4,9.0494959795434267E-4,0,0,0,0,1.8151637186529575E-4,3.4092349926950787E-4,4.7922968979851048E-4,7.5065348807087299E-4,2.0573836742276681E-4,3.8641717788309157E-4,5.4317929003579407E-4,8.5082255417994021E-4,9.0758185932647873E-5,1.7046174963475394E-4,2.3961484489925524E-4,3.753267440354365E-4]
[null,"Energia y Agua",571,">400",8.6691612000934504E-7,1.0295325752177291E-6,1.2869157190221614E-6,1.7091810909578413E-6,0,0,0,0,0,0,0,0,0,0,0,0,0,0,0,0,0,0,0,0,0,0,0,0,0,0,0,0,0,0,0,0,null,8.6691612000934504E-7,1.0295325752177291E-6,1.2869157190221614E-6,1.7091810909578413E-6,0,0,0,0,0,0,0,0,0,0,0,0,0,0,0,0,0,0,0,0,0,0,0,0,0,0,0,0,0,0,0,0,null,null,null,null,null,null,null,null,null,null,null,null,null,null,null,null,null,null,null,null,null,null,null,null,null,null,null,null,null,null,null,null,null,null,null,null,null,null,null,null,null,null,null,null,null,null,null,null,null,null,null,null,null,null,null,null,null,null,null,null,null,null,null,null,null,null,null,null,null,null,null,null,null,null,null,null,null,null,null,null,null,null,null,null,null,null,null,null,null,null,null,null,null,null,null,null,null,null,null,null,null,null,"Energia y Agua",571,">400",1.9701682911231892E-4,3.7003641107260545E-4,5.2015315715240012E-4,8.1475499131051328E-4,1.4636205904783539E-4,2.7489677552561595E-4,3.8641717788309157E-4,6.0527427370036602E-4,1.4636205904783539E-4,2.7489677552561595E-4,3.8641717788309157E-4,6.0527427370036602E-4,8.4063538694194203E-5,1.5788788349003894E-4,2.2194000000000001E-4,3.4764130580577202E-4,1.5567321980406332E-4,2.92384969425998E-4,4.1100000000000002E-4,6.4378019593661485E-4,0,0,0,0,1.9701682911231892E-4,3.7003641107260545E-4,5.2015315715240012E-4,8.1475499131051328E-4,1.4636205904783539E-4,2.7489677552561595E-4,3.8641717788309157E-4,6.0527427370036602E-4,9.850841455615946E-5,1.8501820553630272E-4,2.6007657857620006E-4,4.0737749565525664E-4]
[null,"Alimentos y Bebidas",578,"1-50",1.0748394204629964E-5,1.2764582073786696E-5,1.5955727592233369E-5,2.1191152994728429E-5,0,0,0,0,0,0,0,0,0,0,0,0,0,0,0,0,0,0,0,0,0,0,0,0,0,0,0,0,0,0,0,0,null,1.0748394204629964E-5,1.2764582073786696E-5,1.5955727592233369E-5,2.1191152994728429E-5,0,0,0,0,0,0,0,0,0,0,0,0,0,0,0,0,0,0,0,0,0,0,0,0,0,0,0,0,0,0,0,0,null,null,null,null,null,null,null,null,null,null,null,null,null,null,null,null,null,null,null,null,null,null,null,null,null,null,null,null,null,null,null,null,null,null,null,null,null,null,null,null,null,null,null,null,null,null,null,null,null,null,null,null,null,null,null,null,null,null,null,null,null,null,null,null,null,null,null,null,null,null,null,null,null,null,null,null,null,null,null,null,null,null,null,null,null,null,null,null,null,null,null,null,null,null,null,null,null,null,null,null,null,null,"Alimentos y Bebidas",578,"1-50",1.7723598334688369E-4,3.357086534862073E-4,4.7189639552598655E-4,7.4068815510347139E-4,2.5186091023936715E-5,4.7705824430011345E-5,6.7058761698088982E-5,1.052553716379163E-4,2.5186091023936715E-5,4.7705824430011345E-5,6.7058761698088982E-5,1.052553716379163E-4,1.4465715712937791E-5,2.7400000000000022E-5,3.8515424321474258E-5,6.0453775138295481E-5,1.4465715712937791E-5,2.7400000000000022E-5,3.8515424321474258E-5,6.0453775138295481E-5,2.5186091023936736E-5,4.7705824430011379E-5,6.7058761698089036E-5,1.0525537163791639E-4,1.7723598334688369E-4,3.357086534862073E-4,4.7189639552598655E-4,7.4068815510347139E-4,2.5186091023936715E-5,4.7705824430011345E-5,6.7058761698088982E-5,1.052553716379163E-4,8.8617991673441845E-5,1.6785432674310365E-4,2.3594819776299328E-4,3.7034407755173569E-4]
[null,"Industria",590,"1-50",1.0748394204629964E-5,1.2764582073786696E-5,1.5955727592233369E-5,2.1191152994728429E-5,0,0,0,0,0,0,0,0,0,0,0,0,0,0,0,0,0,0,0,0,0,0,0,0,0,0,0,0,0,0,0,0,null,1.0748394204629964E-5,1.2764582073786696E-5,1.5955727592233369E-5,2.1191152994728429E-5,0,0,0,0,0,0,0,0,0,0,0,0,0,0,0,0,0,0,0,0,0,0,0,0,0,0,0,0,0,0,0,0,null,null,null,null,null,null,null,null,null,null,null,null,null,null,null,null,null,null,null,null,null,null,null,null,null,null,null,null,null,null,null,null,null,null,null,null,null,null,null,null,null,null,null,null,null,null,null,null,null,null,null,null,null,null,null,null,null,null,null,null,null,null,null,null,null,null,null,null,null,null,null,null,null,null,null,null,null,null,null,null,null,null,null,null,null,null,null,null,null,null,null,null,null,null,null,null,null,null,null,null,null,null,"Industria",590,"1-50",1.7723598334688369E-4,3.357086534862073E-4,4.7189639552598655E-4,7.4068815510347139E-4,2.5186091023936715E-5,4.7705824430011345E-5,6.7058761698088982E-5,1.052553716379163E-4,2.5186091023936715E-5,4.7705824430011345E-5,6.7058761698088982E-5,1.052553716379163E-4,1.4465715712937791E-5,2.7400000000000022E-5,3.8515424321474258E-5,6.0453775138295481E-5,1.4465715712937791E-5,2.7400000000000022E-5,3.8515424321474258E-5,6.0453775138295481E-5,2.5186091023936736E-5,4.7705824430011379E-5,6.7058761698089036E-5,1.0525537163791639E-4,1.7723598334688369E-4,3.357086534862073E-4,4.7189639552598655E-4,7.4068815510347139E-4,2.5186091023936715E-5,4.7705824430011345E-5,6.7058761698088982E-5,1.052553716379163E-4,8.8617991673441845E-5,1.6785432674310365E-4,2.3594819776299328E-4,3.7034407755173569E-4]
[null,"AgroIndustria",602,"50-400",1.8867292129501645E-6,2.2406425956483116E-6,2.8008032445603896E-6,3.7198084337126295E-6,0,0,0,0,0,0,0,0,0,0,0,0,0,0,0,0,0,0,0,0,0,0,0,0,0,0,0,0,0,0,0,0,null,1.8867292129501645E-6,2.2406425956483116E-6,2.8008032445603896E-6,3.7198084337126295E-6,0,0,0,0,0,0,0,0,0,0,0,0,0,0,0,0,0,0,0,0,0,0,0,0,0,0,0,0,0,0,0,0,null,null,null,null,null,null,null,null,null,null,null,null,null,null,null,null,null,null,null,null,null,null,null,null,null,null,null,null,null,null,null,null,null,null,null,null,null,null,null,null,null,null,null,null,null,null,null,null,null,null,null,null,null,null,null,null,null,null,null,null,null,null,null,null,null,null,null,null,null,null,null,null,null,null,null,null,null,null,null,null,null,null,null,null,null,null,null,null,null,null,null,null,null,null,null,null,null,null,null,null,null,null,"AgroIndustria",602,"50-400",3.1713372852019448E-5,5.9928213240523552E-5,8.4142240915994966E-5,1.3206643153713788E-4,2.524541473128543E-5,4.7705824430011345E-5,6.6981389152644518E-5,1.0513141732963455E-4,2.524541473128543E-5,4.7705824430011345E-5,6.6981389152644518E-5,1.0513141732963455E-4,1.4499788482893573E-5,2.7400000000000022E-5,3.8470985140923288E-5,6.0382581566284109E-5,1.4499788482893573E-5,2.7400000000000022E-5,3.8470985140923288E-5,6.0382581566284109E-5,2.524541473128545E-5,4.7705824430011379E-5,6.6981389152644572E-5,1.0513141732963463E-4,3.1713372852019448E-5,5.9928213240523552E-5,8.4142240915994966E-5,1.3206643153713788E-4,2.524541473128543E-5,4.7705824430011345E-5,6.6981389152644518E-5,1.0513141732963455E-4,1.5856686426009724E-5,2.9964106620261776E-5,4.2071120457997483E-5,6.6033215768568942E-5]
[null,"Comercio",609,"50-400",5.663453507587132E-7,6.7258062685801806E-7,8.4072578357252269E-7,1.1165864172167479E-6,0,0,0,0,0,0,0,0,0,0,0,0,0,0,0,0,0,0,0,0,0,0,0,0,0,0,0,0,0,0,0,0,null,5.663453507587132E-7,6.7258062685801806E-7,8.4072578357252269E-7,1.1165864172167479E-6,0,0,0,0,0,0,0,0,0,0,0,0,0,0,0,0,0,0,0,0,0,0,0,0,0,0,0,0,0,0,0,0,null,null,null,null,null,null,null,null,null,null,null,null,null,null,null,null,null,null,null,null,null,null,null,null,null,null,null,null,null,null,null,null,null,null,null,null,null,null,null,null,null,null,null,null,null,null,null,null,null,null,null,null,null,null,null,null,null,null,null,null,null,null,null,null,null,null,null,null,null,null,null,null,null,null,null,null,null,null,null,null,null,null,null,null,null,null,null,null,null,null,null,null,null,null,null,null,null,null,null,null,null,null,"Comercio",609,"50-400",2.6189960233038905E-5,4.9490715759879943E-5,6.9487466810656842E-5,1.0906486062572009E-4,2.524541473128543E-5,4.7705824430011345E-5,6.6981389152644518E-5,1.0513141732963455E-4,2.524541473128543E-5,4.7705824430011345E-5,6.6981389152644518E-5,1.0513141732963455E-4,1.4499788482893573E-5,2.7400000000000022E-5,3.8470985140923288E-5,6.0382581566284109E-5,1.4499788482893573E-5,2.7400000000000022E-5,3.8470985140923288E-5,6.0382581566284109E-5,2.524541473128545E-5,4.7705824430011379E-5,6.6981389152644572E-5,1.0513141732963463E-4,2.6189960233038905E-5,4.9490715759879943E-5,6.9487466810656842E-5,1.0906486062572009E-4,2.524541473128543E-5,4.7705824430011345E-5,6.6981389152644518E-5,1.0513141732963455E-4,1.3094980116519453E-5,2.4745357879939972E-5,3.4743733405328421E-5,5.4532430312860044E-5]
[null,"Construcción",612,"50-400",1.0387531453569209E-7,1.2336028550758734E-7,1.5420035688448423E-7,2.0479688786937002E-7,0,0,0,0,0,0,0,0,0,0,0,0,0,0,0,0,0,0,0,0,0,0,0,0,0,0,0,0,0,0,0,0,null,1.0387531453569209E-7,1.2336028550758734E-7,1.5420035688448423E-7,2.0479688786937002E-7,0,0,0,0,0,0,0,0,0,0,0,0,0,0,0,0,0,0,0,0,0,0,0,0,0,0,0,0,0,0,0,0,null,null,null,null,null,null,null,null,null,null,null,null,null,null,null,null,null,null,null,null,null,null,null,null,null,null,null,null,null,null,null,null,null,null,null,null,null,null,null,null,null,null,null,null,null,null,null,null,null,null,null,null,null,null,null,null,null,null,null,null,null,null,null,null,null,null,null,null,null,null,null,null,null,null,null,null,null,null,null,null,null,null,null,null,null,null,null,null,null,null,null,null,null,null,null,null,null,null,null,null,null,null,"Construcción",612,"50-400",5.6360722982652435E-6,1.065038853185051E-5,1.4953683903426291E-5,2.3470728256827727E-5,2.524541473128543E-5,4.7705824430011345E-5,6.6981389152644518E-5,1.0513141732963455E-4,2.524541473128543E-5,4.7705824430011345E-5,6.6981389152644518E-5,1.0513141732963455E-4,1.4499788482893573E-5,2.7400000000000022E-5,3.8470985140923288E-5,6.0382581566284109E-5,1.4499788482893573E-5,2.7400000000000022E-5,3.8470985140923288E-5,6.0382581566284109E-5,2.524541473128545E-5,4.7705824430011379E-5,6.6981389152644572E-5,1.0513141732963463E-4,5.6360722982652435E-6,1.065038853185051E-5,1.4953683903426291E-5,2.3470728256827727E-5,2.524541473128543E-5,4.7705824430011345E-5,6.6981389152644518E-5,1.0513141732963455E-4,2.8180361491326218E-6,5.3251942659252549E-6,7.4768419517131454E-6,1.1735364128413863E-5]
[null,"Instituciones Financieras",628,">400",7.1186046151181812E-7,8.4539151738007017E-7,1.0567393967250877E-6,1.4034788512219686E-6,0,0,0,0,0,0,0,0,0,0,0,0,0,0,0,0,0,0,0,0,0,0,0,0,0,0,0,0,0,0,0,0,null,7.1186046151181812E-7,8.4539151738007017E-7,1.0567393967250877E-6,1.4034788512219686E-6,0,0,0,0,0,0,0,0,0,0,0,0,0,0,0,0,0,0,0,0,0,0,0,0,0,0,0,0,0,0,0,0,null,null,null,null,null,null,null,null,null,null,null,null,null,null,null,null,null,null,null,null,null,null,null,null,null,null,null,null,null,null,null,null,null,null,null,null,null,null,null,null,null,null,null,null,null,null,null,null,null,null,null,null,null,null,null,null,null,null,null,null,null,null,null,null,null,null,null,null,null,null,null,null,null,null,null,null,null,null,null,null,null,null,null,null,null,null,null,null,null,null,null,null,null,null,null,null,null,null,null,null,null,null,"Instituciones Financieras",628,">400",2.2409428625345173E-5,4.2089320897470139E-5,5.9164159234384059E-5,9.2673270132206614E-5,2.5399798447255183E-5,4.7705824430011345E-5,6.7059171609357349E-5,1.0503982150369642E-4,2.5399798447255183E-5,4.7705824430011345E-5,6.7059171609357349E-5,1.0503982150369642E-4,1.4588459287100664E-5,2.7400000000000022E-5,3.8515659755383788E-5,6.0329973196956227E-5,1.4588459287100664E-5,2.7400000000000022E-5,3.8515659755383788E-5,6.0329973196956227E-5,2.5399798447255204E-5,4.7705824430011379E-5,6.705917160935739E-5,1.050398215036965E-4,2.2409428625345173E-5,4.2089320897470139E-5,5.9164159234384059E-5,9.2673270132206614E-5,2.5399798447255183E-5,4.7705824430011345E-5,6.7059171609357349E-5,1.0503982150369642E-4,1.1204714312672586E-5,2.104466044873507E-5,2.9582079617192029E-5,4.6336635066103307E-5]
[null,"Educación",631,">400",4.8449445372900735E-7,5.7537610746118664E-7,7.1922013432648346E-7,9.5521209016005132E-7,0,0,0,0,0,0,0,0,0,0,0,0,0,0,0,0,0,0,0,0,0,0,0,0,0,0,0,0,0,0,0,0,null,4.8449445372900735E-7,5.7537610746118664E-7,7.1922013432648346E-7,9.5521209016005132E-7,0,0,0,0,0,0,0,0,0,0,0,0,0,0,0,0,0,0,0,0,0,0,0,0,0,0,0,0,0,0,0,0,null,null,null,null,null,null,null,null,null,null,null,null,null,null,null,null,null,null,null,null,null,null,null,null,null,null,null,null,null,null,null,null,null,null,null,null,null,null,null,null,null,null,null,null,null,null,null,null,null,null,null,null,null,null,null,null,null,null,null,null,null,null,null,null,null,null,null,null,null,null,null,null,null,null,null,null,null,null,null,null,null,null,null,null,null,null,null,null,null,null,null,null,null,null,null,null,null,null,null,null,null,null,"Educación",631,">400",8.0617750747085203E-5,1.5141601501560245E-4,2.1284261736704421E-4,3.3339139151391156E-4,1.8069390005905622E-5,3.3937873521681011E-5,4.7705824430011345E-5,7.4725218975353895E-5,1.8069390005905622E-5,3.3937873521681011E-5,4.7705824430011345E-5,7.4725218975353895E-5,1.0378214653604231E-5,1.9492331295066551E-5,2.7400000000000022E-5,4.2918679729107694E-5,1.0378214653604231E-5,1.9492331295066551E-5,2.7400000000000022E-5,4.2918679729107694E-5,1.8069390005905635E-5,3.3937873521681038E-5,4.7705824430011379E-5,7.4725218975353949E-5,8.0617750747085203E-5,1.5141601501560245E-4,2.1284261736704421E-4,3.3339139151391156E-4,1.8069390005905622E-5,3.3937873521681011E-5,4.7705824430011345E-5,7.4725218975353895E-5,4.0308875373542602E-5,7.5708007507801226E-5,1.0642130868352211E-4,1.6669569575695578E-4]
[null,"Hoteles",643,"1-50",1.1587037678203249E-7,1.3760538608806646E-7,1.7200673261008304E-7,2.2844592738208122E-7,0,0,0,0,0,0,0,0,0,0,0,0,0,0,0,0,0,0,0,0,0,0,0,0,0,0,0,0,0,0,0,0,null,1.1587037678203249E-7,1.3760538608806646E-7,1.7200673261008304E-7,2.2844592738208122E-7,0,0,0,0,0,0,0,0,0,0,0,0,0,0,0,0,0,0,0,0,0,0,0,0,0,0,0,0,0,0,0,0,null,null,null,null,null,null,null,null,null,null,null,null,null,null,null,null,null,null,null,null,null,null,null,null,null,null,null,null,null,null,null,null,null,null,null,null,null,null,null,null,null,null,null,null,null,null,null,null,null,null,null,null,null,null,null,null,null,null,null,null,null,null,null,null,null,null,null,null,null,null,null,null,null,null,null,null,null,null,null,null,null,null,null,null,null,null,null,null,null,null,null,null,null,null,null,null,null,null,null,null,null,null,"Hoteles",643,"1-50",1.0228525691283583E-4,1.9374195477276767E-4,2.7233772251624008E-4,4.2746104265279825E-4,2.2898795726405423E-4,4.3373381266047852E-4,6.0968765829157135E-4,9.5696519636686358E-4,2.2898795726405423E-4,4.3373381266047852E-4,6.0968765829157135E-4,9.5696519636686358E-4,9.3160000000000023E-5,1.7645749789739311E-4,2.4804143818334698E-4,3.8932561676478886E-4,9.3160000000000023E-5,1.7645749789739311E-4,2.4804143818334698E-4,3.8932561676478886E-4,0,0,0,0,1.0228525691283583E-4,1.9374195477276767E-4,2.7233772251624008E-4,4.2746104265279825E-4,2.2898795726405423E-4,4.3373381266047852E-4,6.0968765829157135E-4,9.5696519636686358E-4,5.1142628456417914E-5,9.6870977386383835E-5,1.3616886125812004E-4,2.1373052132639913E-4]
[null,"Instituciones Financieras",650,"1-50",2.1013050959061853E-7,2.4954687042653126E-7,3.1193358803316405E-7,4.1428586380623435E-7,0,0,0,0,0,0,0,0,0,0,0,0,0,0,0,0,0,0,0,0,0,0,0,0,0,0,0,0,0,0,0,0,null,2.1013050959061853E-7,2.4954687042653126E-7,3.1193358803316405E-7,4.1428586380623435E-7,0,0,0,0,0,0,0,0,0,0,0,0,0,0,0,0,0,0,0,0,0,0,0,0,0,0,0,0,0,0,0,0,null,null,null,null,null,null,null,null,null,null,null,null,null,null,null,null,null,null,null,null,null,null,null,null,null,null,null,null,null,null,null,null,null,null,null,null,null,null,null,null,null,null,null,null,null,null,null,null,null,null,null,null,null,null,null,null,null,null,null,null,null,null,null,null,null,null,null,null,null,null,null,null,null,null,null,null,null,null,null,null,null,null,null,null,null,null,null,null,null,null,null,null,null,null,null,null,null,null,null,null,null,null,"Instituciones Financieras",650,"1-50",2.327955435541959E-4,4.4094589026660581E-4,6.1982547687695064E-4,9.7287750723842382E-4,2.2898795726405423E-4,4.3373381266047852E-4,6.0968765829157135E-4,9.5696519636686358E-4,2.2898795726405423E-4,4.3373381266047852E-4,6.0968765829157135E-4,9.5696519636686358E-4,9.3160000000000023E-5,1.7645749789739311E-4,2.4804143818334698E-4,3.8932561676478886E-4,9.3160000000000023E-5,1.7645749789739311E-4,2.4804143818334698E-4,3.8932561676478886E-4,0,0,0,0,2.327955435541959E-4,4.4094589026660581E-4,6.1982547687695064E-4,9.7287750723842382E-4,2.2898795726405423E-4,4.3373381266047852E-4,6.0968765829157135E-4,9.5696519636686358E-4,1.1639777177709795E-4,2.2047294513330291E-4,3.0991273843847532E-4,4.8643875361921191E-4]
[null,"Editoriales",662,"50-400",2.0339412625565261E-8,2.4154687374585296E-8,3.0193359218231616E-8,4.0100464922062574E-8,0,0,0,0,0,0,0,0,0,0,0,0,0,0,0,0,0,0,0,0,0,0,0,0,0,0,0,0,0,0,0,0,null,2.0339412625565261E-8,2.4154687374585296E-8,3.0193359218231616E-8,4.0100464922062574E-8,0,0,0,0,0,0,0,0,0,0,0,0,0,0,0,0,0,0,0,0,0,0,0,0,0,0,0,0,0,0,0,0,null,null,null,null,null,null,null,null,null,null,null,null,null,null,null,null,null,null,null,null,null,null,null,null,null,null,null,null,null,null,null,null,null,null,null,null,null,null,null,null,null,null,null,null,null,null,null,null,null,null,null,null,null,null,null,null,null,null,null,null,null,null,null,null,null,null,null,null,null,null,null,null,null,null,null,null,null,null,null,null,null,null,null,null,null,null,null,null,null,null,null,null,null,null,null,null,null,null,null,null,null,null,"Editoriales",662,"50-400",5.3912733848432991E-5,1.0187796250888991E-4,1.4304180955719125E-4,2.245129336131341E-4,1.2117799071016996E-4,2.2898795726405423E-4,3.2151066793269337E-4,5.0463080318224537E-4,1.2117799071016996E-4,2.2898795726405423E-4,3.2151066793269337E-4,5.0463080318224537E-4,4.9299280841838117E-5,9.3160000000000023E-5,1.3080134947913909E-4,2.0530077732536583E-4,4.9299280841838117E-5,9.3160000000000023E-5,1.3080134947913909E-4,2.0530077732536583E-4,0,0,0,0,5.3912733848432991E-5,1.0187796250888991E-4,1.4304180955719125E-4,2.245129336131341E-4,1.2117799071016996E-4,2.2898795726405423E-4,3.2151066793269337E-4,5.0463080318224537E-4,2.6956366924216496E-5,5.0938981254444953E-5,7.1520904778595625E-5,1.1225646680656705E-4]
[null,"Mineras",667,"50-400",1.3575503328987756E-8,1.6122001401956812E-8,2.0152501752446017E-8,2.6764981126306644E-8,0,0,0,0,0,0,0,0,0,0,0,0,0,0,0,0,0,0,0,0,0,0,0,0,0,0,0,0,0,0,0,0,null,1.3575503328987756E-8,1.6122001401956812E-8,2.0152501752446017E-8,2.6764981126306644E-8,0,0,0,0,0,0,0,0,0,0,0,0,0,0,0,0,0,0,0,0,0,0,0,0,0,0,0,0,0,0,0,0,null,null,null,null,null,null,null,null,null,null,null,null,null,null,null,null,null,null,null,null,null,null,null,null,null,null,null,null,null,null,null,null,null,null,null,null,null,null,null,null,null,null,null,null,null,null,null,null,null,null,null,null,null,null,null,null,null,null,null,null,null,null,null,null,null,null,null,null,null,null,null,null,null,null,null,null,null,null,null,null,null,null,null,null,null,null,null,null,null,null,null,null,null,null,null,null,null,null,null,null,null,null,"Mineras",667,"50-400",7.3841649556060847E-6,1.3953729050758593E-5,1.959174098438697E-5,3.0750444619024021E-5,1.2117799071016996E-4,2.2898795726405423E-4,3.2151066793269337E-4,5.0463080318224537E-4,1.2117799071016996E-4,2.2898795726405423E-4,3.2151066793269337E-4,5.0463080318224537E-4,4.9299280841838117E-5,9.3160000000000023E-5,1.3080134947913909E-4,2.0530077732536583E-4,4.9299280841838117E-5,9.3160000000000023E-5,1.3080134947913909E-4,2.0530077732536583E-4,0,0,0,0,7.3841649556060847E-6,1.3953729050758593E-5,1.959174098438697E-5,3.0750444619024021E-5,1.2117799071016996E-4,2.2898795726405423E-4,3.2151066793269337E-4,5.0463080318224537E-4,3.6920824778030423E-6,6.9768645253792963E-6,9.795870492193485E-6,1.537522230951201E-5]
[null,"Estado",682,"50-400",3.0823987114387185E-8,3.6605962330024575E-8,4.5757452912530712E-8,6.0771480317231642E-8,0,0,0,0,0,0,0,0,0,0,0,0,0,0,0,0,0,0,0,0,0,0,0,0,0,0,0,0,0,0,0,0,null,3.0823987114387185E-8,3.6605962330024575E-8,4.5757452912530712E-8,6.0771480317231642E-8,0,0,0,0,0,0,0,0,0,0,0,0,0,0,0,0,0,0,0,0,0,0,0,0,0,0,0,0,0,0,0,0,null,null,null,null,null,null,null,null,null,null,null,null,null,null,null,null,null,null,null,null,null,null,null,null,null,null,null,null,null,null,null,null,null,null,null,null,null,null,null,null,null,null,null,null,null,null,null,null,null,null,null,null,null,null,null,null,null,null,null,null,null,null,null,null,null,null,null,null,null,null,null,null,null,null,null,null,null,null,null,null,null,null,null,null,null,null,null,null,null,null,null,null,null,null,null,null,null,null,null,null,null,null,"Estado",682,"50-400",5.8235627434735075E-5,1.1004685989690476E-4,1.5451135444887175E-4,2.4251509101599585E-4,1.2117799071016996E-4,2.2898795726405423E-4,3.2151066793269337E-4,5.0463080318224537E-4,1.2117799071016996E-4,2.2898795726405423E-4,3.2151066793269337E-4,5.0463080318224537E-4,4.9299280841838117E-5,9.3160000000000023E-5,1.3080134947913909E-4,2.0530077732536583E-4,4.9299280841838117E-5,9.3160000000000023E-5,1.3080134947913909E-4,2.0530077732536583E-4,0,0,0,0,5.8235627434735075E-5,1.1004685989690476E-4,1.5451135444887175E-4,2.4251509101599585E-4,1.2117799071016996E-4,2.2898795726405423E-4,3.2151066793269337E-4,5.0463080318224537E-4,2.9117813717367538E-5,5.5023429948452381E-5,7.7255677224435877E-5,1.2125754550799793E-4]
[null,"Hoteles",685,">400",4.2316234032746254E-9,5.0253929292236184E-9,6.2817411615295228E-9,8.342918695356239E-9,0,0,0,0,0,0,0,0,0,0,0,0,0,0,0,0,0,0,0,0,0,0,0,0,0,0,0,0,0,0,0,0,null,4.2316234032746254E-9,5.0253929292236184E-9,6.2817411615295228E-9,8.342918695356239E-9,0,0,0,0,0,0,0,0,0,0,0,0,0,0,0,0,0,0,0,0,0,0,0,0,0,0,0,0,0,0,0,0,null,null,null,null,null,null,null,null,null,null,null,null,null,null,null,null,null,null,null,null,null,null,null,null,null,null,null,null,null,null,null,null,null,null,null,null,null,null,null,null,null,null,null,null,null,null,null,null,null,null,null,null,null,null,null,null,null,null,null,null,null,null,null,null,null,null,null,null,null,null,null,null,null,null,null,null,null,null,null,null,null,null,null,null,null,null,null,null,null,null,null,null,null,null,null,null,null,null,null,null,null,null,"Hoteles",685,">400",1.9602867440170959E-5,3.681804618912794E-5,5.1754428462717345E-5,8.1066851815853408E-5,1.2191903254682477E-4,2.2898795726405423E-4,3.2188402372491492E-4,5.0419114321774232E-4,1.2191903254682477E-4,2.2898795726405423E-4,3.2188402372491492E-4,5.0419114321774232E-4,4.9600761576142223E-5,9.3160000000000023E-5,1.3095324316830478E-4,2.0512190886965104E-4,4.9600761576142223E-5,9.3160000000000023E-5,1.3095324316830478E-4,2.0512190886965104E-4,0,0,0,0,1.9602867440170959E-5,3.681804618912794E-5,5.1754428462717345E-5,8.1066851815853408E-5,1.2191903254682477E-4,2.2898795726405423E-4,3.2188402372491492E-4,5.0419114321774232E-4,9.8014337200854794E-6,1.840902309456397E-5,2.5877214231358673E-5,4.0533425907926704E-5]
[null,"Transporte y Aviación",701,">400",2.3297525102949569E-10,2.7667683714522239E-10,3.4584604643152803E-10,4.5932574620538617E-10,0,0,0,0,0,0,0,0,0,0,0,0,0,0,0,0,0,0,0,0,0,0,0,0,0,0,0,0,0,0,0,0,null,2.3297525102949569E-10,2.7667683714522239E-10,3.4584604643152803E-10,4.5932574620538617E-10,0,0,0,0,0,0,0,0,0,0,0,0,0,0,0,0,0,0,0,0,0,0,0,0,0,0,0,0,0,0,0,0,null,null,null,null,null,null,null,null,null,null,null,null,null,null,null,null,null,null,null,null,null,null,null,null,null,null,null,null,null,null,null,null,null,null,null,null,null,null,null,null,null,null,null,null,null,null,null,null,null,null,null,null,null,null,null,null,null,null,null,null,null,null,null,null,null,null,null,null,null,null,null,null,null,null,null,null,null,null,null,null,null,null,null,null,null,null,null,null,null,null,null,null,null,null,null,null,null,null,null,null,null,null,"Transporte y Aviación",701,">400",4.3947605095368164E-5,8.2542258638499896E-5,1.160280857358156E-4,1.8174351282032567E-4,1.2191903254682477E-4,2.2898795726405423E-4,3.2188402372491492E-4,5.0419114321774232E-4,1.2191903254682477E-4,2.2898795726405423E-4,3.2188402372491492E-4,5.0419114321774232E-4,4.9600761576142223E-5,9.3160000000000023E-5,1.3095324316830478E-4,2.0512190886965104E-4,4.9600761576142223E-5,9.3160000000000023E-5,1.3095324316830478E-4,2.0512190886965104E-4,0,0,0,0,4.3947605095368164E-5,8.2542258638499896E-5,1.160280857358156E-4,1.8174351282032567E-4,1.2191903254682477E-4,2.2898795726405423E-4,3.2188402372491492E-4,5.0419114321774232E-4,2.1973802547684082E-5,4.1271129319249948E-5,5.8014042867907802E-5,9.0871756410162836E-5]
[null,"Cláusula para pasajeros de aviones y/o helicópteros particulares y/o de la FAP por viajes eventuales. Nivel 2 (Otros excepto helicópteros).",704,null,null,null,null,null,null,null,null,null,null,null,null,null,null,null,null,null,null,null,null,null,null,null,null,null,null,null,null,null,null,null,null,null,null,null,null,null,null,null,null,null,null,null,null,null,null,null,null,null,null,null,null,null,null,null,null,null,null,null,null,null,null,null,null,null,null,null,null,null,null,null,null,null,null,null,null,null,null,null,null,null,null,null,null,null,null,null,null,null,null,null,null,null,null,null,null,null,null,null,null,null,null,null,null,null,null,null,null,null,null,null,null,null,null,null,null,null,null,null,null,null,null,null,null,null,null,null,null,null,null,null,null,null,null,null,null,null,null,null,null,null,null,null,null,null,null,null,null,null,null,null,null,null,null,null,null,null,null,null,null,null,null,null,null,null,null,null,null,null,null,null,null,null,null,null,null,"Cláusula para pasajeros de aviones y/o helicópteros particulares y/o de la FAP por viajes eventuales. Nivel 2 (Otros excepto helicópteros).",704]
[null,"Comercio",716,"1-50",0,0,0,0,1.7381648465239437E-5,2.0642104689153027E-5,2.5802630861441284E-5,3.4269041953151578E-5,0,0,0,0,0,0,0,0,0,0,0,0,0,0,0,0,0,0,0,0,0,0,0,0,0,0,0,0,null,0,0,0,0,1.7381648465239437E-5,2.0642104689153027E-5,2.5802630861441284E-5,3.4269041953151578E-5,0,0,0,0,0,0,0,0,0,0,0,0,0,0,0,0,0,0,0,0,0,0,0,0,0,0,0,0,null,null,null,null,null,null,null,null,null,null,null,null,null,null,null,null,null,null,null,null,null,null,null,null,null,null,null,null,null,null,null,null,null,null,null,null,null,null,null,null,null,null,null,null,null,null,null,null,null,null,null,null,null,null,null,null,null,null,null,null,null,null,null,null,null,null,null,null,null,null,null,null,null,null,null,null,null,null,null,null,null,null,null,null,null,null,null,null,null,null,null,null,null,null,null,null,null,null,null,null,null,null,"Comercio",716,"1-50",3.4417813241441076E-4,6.5191940829588402E-4,9.1638513262482673E-4,1.4383572743580249E-3,3.0531727635207229E-4,5.7831175021397143E-4,8.1291687772209521E-4,1.2759535951558181E-3,3.0531727635207229E-4,5.7831175021397143E-4,8.1291687772209521E-4,1.2759535951558181E-3,1.2055999999999998E-4,2.2835676198486158E-4,3.2099480235491955E-4,5.0383315110737366E-4,1.2055999999999998E-4,2.2835676198486158E-4,3.2099480235491955E-4,5.0383315110737366E-4,0,0,0,0,3.4417813241441076E-4,6.5191940829588402E-4,9.1638513262482673E-4,1.4383572743580249E-3,3.0531727635207229E-4,5.7831175021397143E-4,8.1291687772209521E-4,1.2759535951558181E-3,1.7208906620720538E-4,3.2595970414794201E-4,4.5819256631241337E-4,7.1917863717901247E-4]
[null,"Transporte y Aviación",723,"1-50",0,0,0,0,1.3888742345217278E-5,1.6493997911877483E-5,2.0617497389846852E-5,2.7382552066715459E-5,0,0,0,0,0,0,0,0,0,0,0,0,0,0,0,0,0,0,0,0,0,0,0,0,0,0,0,0,null,0,0,0,0,1.3888742345217278E-5,1.6493997911877483E-5,2.0617497389846852E-5,2.7382552066715459E-5,0,0,0,0,0,0,0,0,0,0,0,0,0,0,0,0,0,0,0,0,0,0,0,0,0,0,0,0,null,null,null,null,null,null,null,null,null,null,null,null,null,null,null,null,null,null,null,null,null,null,null,null,null,null,null,null,null,null,null,null,null,null,null,null,null,null,null,null,null,null,null,null,null,null,null,null,null,null,null,null,null,null,null,null,null,null,null,null,null,null,null,null,null,null,null,null,null,null,null,null,null,null,null,null,null,null,null,null,null,null,null,null,null,null,null,null,null,null,null,null,null,null,null,null,null,null,null,null,null,null,"Transporte y Aviación",723,"1-50",3.5559781547774217E-4,6.7354981512431577E-4,9.4679039894756962E-4,1.4860813528454649E-3,3.0531727635207229E-4,5.7831175021397132E-4,8.129168777220951E-4,1.2759535951558181E-3,3.0531727635207229E-4,5.7831175021397132E-4,8.129168777220951E-4,1.2759535951558181E-3,1.2055999999999998E-4,2.2835676198486158E-4,3.2099480235491949E-4,5.0383315110737366E-4,1.2055999999999998E-4,2.2835676198486158E-4,3.2099480235491949E-4,5.0383315110737366E-4,0,0,0,0,3.5559781547774217E-4,6.7354981512431577E-4,9.4679039894756962E-4,1.4860813528454649E-3,3.0531727635207229E-4,5.7831175021397132E-4,8.129168777220951E-4,1.2759535951558181E-3,1.7779890773887108E-4,3.3677490756215788E-4,4.7339519947378481E-4,7.4304067642273243E-4]
[null,"Instituciones Financieras",735,"50-400",0,0,0,0,1.2376656922523041E-6,1.4698274931021151E-6,1.8372843663776444E-6,2.4401378049148308E-6,0,0,0,0,0,0,0,0,0,0,0,0,0,0,0,0,0,0,0,0,0,0,0,0,0,0,0,0,null,0,0,0,0,1.2376656922523041E-6,1.4698274931021151E-6,1.8372843663776444E-6,2.4401378049148308E-6,0,0,0,0,0,0,0,0,0,0,0,0,0,0,0,0,0,0,0,0,0,0,0,0,0,0,0,0,null,null,null,null,null,null,null,null,null,null,null,null,null,null,null,null,null,null,null,null,null,null,null,null,null,null,null,null,null,null,null,null,null,null,null,null,null,null,null,null,null,null,null,null,null,null,null,null,null,null,null,null,null,null,null,null,null,null,null,null,null,null,null,null,null,null,null,null,null,null,null,null,null,null,null,null,null,null,null,null,null,null,null,null,null,null,null,null,null,null,null,null,null,null,null,null,null,null,null,null,null,null,"Instituciones Financieras",735,"50-400",3.5229338784909886E-5,6.6572273371114712E-5,9.3470837213782294E-5,1.4670823820745602E-4,1.6157065428022658E-4,3.0531727635207229E-4,4.2868089057692446E-4,6.7284107090966039E-4,1.6157065428022658E-4,3.0531727635207229E-4,4.2868089057692446E-4,6.7284107090966039E-4,6.3799069324731655E-5,1.2055999999999998E-4,1.6927233462006228E-4,2.6568335889164981E-4,6.3799069324731655E-5,1.2055999999999998E-4,1.6927233462006228E-4,2.6568335889164981E-4,0,0,0,0,3.5229338784909886E-5,6.6572273371114712E-5,9.3470837213782294E-5,1.4670823820745602E-4,1.6157065428022658E-4,3.0531727635207229E-4,4.2868089057692446E-4,6.7284107090966039E-4,1.7614669392454943E-5,3.3286136685557356E-5,4.6735418606891147E-5,7.3354119103728009E-5]
[null,"Energia y Agua",742,"50-400",0,0,0,0,2.6780536530250883E-5,3.1804039748856505E-5,3.9755049686070628E-5,5.279955648156262E-5,0,0,0,0,0,0,0,0,0,0,0,0,0,0,0,0,0,0,0,0,0,0,0,0,0,0,0,0,null,0,0,0,0,2.6780536530250883E-5,3.1804039748856505E-5,3.9755049686070628E-5,5.279955648156262E-5,0,0,0,0,0,0,0,0,0,0,0,0,0,0,0,0,0,0,0,0,0,0,0,0,0,0,0,0,null,null,null,null,null,null,null,null,null,null,null,null,null,null,null,null,null,null,null,null,null,null,null,null,null,null,null,null,null,null,null,null,null,null,null,null,null,null,null,null,null,null,null,null,null,null,null,null,null,null,null,null,null,null,null,null,null,null,null,null,null,null,null,null,null,null,null,null,null,null,null,null,null,null,null,null,null,null,null,null,null,null,null,null,null,null,null,null,null,null,null,null,null,null,null,null,null,null,null,null,null,null,"Energia y Agua",742,"50-400",2.0517151189264975E-4,3.8770906434193334E-4,5.4436312603283854E-4,8.5441146721220676E-4,1.6157065428022658E-4,3.0531727635207229E-4,4.2868089057692446E-4,6.7284107090966039E-4,1.6157065428022658E-4,3.0531727635207229E-4,4.2868089057692446E-4,6.7284107090966039E-4,6.3799069324731655E-5,1.2055999999999998E-4,1.6927233462006228E-4,2.6568335889164981E-4,6.3799069324731655E-5,1.2055999999999998E-4,1.6927233462006228E-4,2.6568335889164981E-4,0,0,0,0,2.0517151189264975E-4,3.8770906434193334E-4,5.4436312603283854E-4,8.5441146721220676E-4,1.6157065428022658E-4,3.0531727635207229E-4,4.2868089057692446E-4,6.7284107090966039E-4,1.0258575594632487E-4,1.9385453217096667E-4,2.7218156301641927E-4,4.2720573360610338E-4]
[null,"Telecomunicaciones",754,">400",0,0,0,0,9.414431044799051E-8,1.1180393597545772E-7,1.3975491996932216E-7,1.8561158516378214E-7,0,0,0,0,0,0,0,0,0,0,0,0,0,0,0,0,0,0,0,0,0,0,0,0,0,0,0,0,null,0,0,0,0,9.414431044799051E-8,1.1180393597545772E-7,1.3975491996932216E-7,1.8561158516378214E-7,0,0,0,0,0,0,0,0,0,0,0,0,0,0,0,0,0,0,0,0,0,0,0,0,0,0,0,0,null,null,null,null,null,null,null,null,null,null,null,null,null,null,null,null,null,null,null,null,null,null,null,null,null,null,null,null,null,null,null,null,null,null,null,null,null,null,null,null,null,null,null,null,null,null,null,null,null,null,null,null,null,null,null,null,null,null,null,null,null,null,null,null,null,null,null,null,null,null,null,null,null,null,null,null,null,null,null,null,null,null,null,null,null,null,null,null,null,null,null,null,null,null,null,null,null,null,null,null,null,null,"Telecomunicaciones",754,">400",2.2058397259183046E-5,4.1430014849891358E-5,5.8237385241566117E-5,9.122159435924971E-5,1.6255871006243299E-4,3.0531727635207229E-4,4.291786982998865E-4,6.7225485762365629E-4,1.6255871006243299E-4,3.0531727635207229E-4,4.291786982998865E-4,6.7225485762365629E-4,6.4189220863242861E-5,1.2055999999999998E-4,1.6946890292368849E-4,2.6545188206660714E-4,6.4189220863242861E-5,1.2055999999999998E-4,1.6946890292368849E-4,2.6545188206660714E-4,0,0,0,0,2.2058397259183046E-5,4.1430014849891358E-5,5.8237385241566117E-5,9.122159435924971E-5,1.6255871006243299E-4,3.0531727635207229E-4,4.291786982998865E-4,6.7225485762365629E-4,1.1029198629591523E-5,2.0715007424945679E-5,2.9118692620783059E-5,4.5610797179624855E-5]
[null,"Quimicas",757,">400",0,0,0,0,9.414431044799051E-8,1.1180393597545772E-7,1.3975491996932216E-7,1.8561158516378214E-7,0,0,0,0,0,0,0,0,0,0,0,0,0,0,0,0,0,0,0,0,0,0,0,0,0,0,0,0,null,0,0,0,0,9.414431044799051E-8,1.1180393597545772E-7,1.3975491996932216E-7,1.8561158516378214E-7,0,0,0,0,0,0,0,0,0,0,0,0,0,0,0,0,0,0,0,0,0,0,0,0,0,0,0,0,null,null,null,null,null,null,null,null,null,null,null,null,null,null,null,null,null,null,null,null,null,null,null,null,null,null,null,null,null,null,null,null,null,null,null,null,null,null,null,null,null,null,null,null,null,null,null,null,null,null,null,null,null,null,null,null,null,null,null,null,null,null,null,null,null,null,null,null,null,null,null,null,null,null,null,null,null,null,null,null,null,null,null,null,null,null,null,null,null,null,null,null,null,null,null,null,null,null,null,null,null,null,"Quimicas",757,">400",2.2058397259183046E-5,4.1430014849891358E-5,5.8237385241566117E-5,9.122159435924971E-5,1.6255871006243299E-4,3.0531727635207229E-4,4.291786982998865E-4,6.7225485762365629E-4,1.6255871006243299E-4,3.0531727635207229E-4,4.291786982998865E-4,6.7225485762365629E-4,6.4189220863242861E-5,1.2055999999999998E-4,1.6946890292368849E-4,2.6545188206660714E-4,6.4189220863242861E-5,1.2055999999999998E-4,1.6946890292368849E-4,2.6545188206660714E-4,0,0,0,0,2.2058397259183046E-5,4.1430014849891358E-5,5.8237385241566117E-5,9.122159435924971E-5,1.6255871006243299E-4,3.0531727635207229E-4,4.291786982998865E-4,6.7225485762365629E-4,1.1029198629591523E-5,2.0715007424945679E-5,2.9118692620783059E-5,4.5610797179624855E-5]
[null,"Salud",772,"1-50",0,0,0,0,5.8565361389868986E-6,6.955107413346845E-6,8.6938842666835575E-6,1.1546539043661743E-5,0,0,0,0,0,0,0,0,0,0,0,0,0,0,0,0,0,0,0,0,0,0,0,0,0,0,0,0,null,0,0,0,0,5.8565361389868986E-6,6.955107413346845E-6,8.6938842666835575E-6,1.1546539043661743E-5,0,0,0,0,0,0,0,0,0,0,0,0,0,0,0,0,0,0,0,0,0,0,0,0,0,0,0,0,null,null,null,null,null,null,null,null,null,null,null,null,null,null,null,null,null,null,null,null,null,null,null,null,null,null,null,null,null,null,null,null,null,null,null,null,null,null,null,null,null,null,null,null,null,null,null,null,null,null,null,null,null,null,null,null,null,null,null,null,null,null,null,null,null,null,null,null,null,null,null,null,null,null,null,null,null,null,null,null,null,null,null,null,null,null,null,null,null,null,null,null,null,null,null,null,null,null,null,null,null,null,"Salud",772,"1-50",9.659670686101811E-4,1.8296708026860412E-3,2.5719177859147837E-3,4.0368798278352718E-3,1.379645058529836E-4,2.6132322350222919E-4,3.6733484811108703E-4,5.7656844496417094E-4,1.379645058529836E-4,2.6132322350222919E-4,3.6733484811108703E-4,5.7656844496417094E-4,5.5571172707889176E-5,1.052592324093817E-4,1.4796000000000001E-4,2.3223788201847959E-4,5.3512981126115497E-5,1.0136074232014534E-4,1.4248E-4,2.2363647898075812E-4,0,0,0,0,9.659670686101811E-4,1.8296708026860412E-3,2.5719177859147837E-3,4.0368798278352718E-3,1.379645058529836E-4,2.6132322350222919E-4,3.6733484811108703E-4,5.7656844496417094E-4,4.8298353430509055E-4,9.1483540134302058E-4,1.2859588929573919E-3,2.0184399139176359E-3]
[null,"Plasticos y Cauchos",777,"1-50",0,0,0,0,1.5944395294881396E-6,1.8935251022961411E-6,2.3669063778701767E-6,3.1435404551566871E-6,0,0,0,0,0,0,0,0,0,0,0,0,0,0,0,0,0,0,0,0,0,0,0,0,0,0,0,0,null,0,0,0,0,1.5944395294881396E-6,1.8935251022961411E-6,2.3669063778701767E-6,3.1435404551566871E-6,0,0,0,0,0,0,0,0,0,0,0,0,0,0,0,0,0,0,0,0,0,0,0,0,0,0,0,0,null,null,null,null,null,null,null,null,null,null,null,null,null,null,null,null,null,null,null,null,null,null,null,null,null,null,null,null,null,null,null,null,null,null,null,null,null,null,null,null,null,null,null,null,null,null,null,null,null,null,null,null,null,null,null,null,null,null,null,null,null,null,null,null,null,null,null,null,null,null,null,null,null,null,null,null,null,null,null,null,null,null,null,null,null,null,null,null,null,null,null,null,null,null,null,null,null,null,null,null,null,null,"Plasticos y Cauchos",777,"1-50",4.6081355670189717E-4,8.7284249906413819E-4,1.2269306283675639E-3,1.925789203269024E-3,1.9393290088431253E-4,3.6733484811108703E-4,5.1635246507528479E-4,8.1046636161195482E-4,1.9393290088431253E-4,3.6733484811108703E-4,5.1635246507528479E-4,8.1046636161195482E-4,7.8114864849864011E-5,1.4796000000000001E-4,2.0798329133596083E-4,3.2645038574679534E-4,7.5221721707276451E-5,1.4248E-4,2.0028020647166599E-4,3.1435963071913621E-4,0,0,0,0,4.6081355670189717E-4,8.7284249906413819E-4,1.2269306283675639E-3,1.925789203269024E-3,1.9393290088431253E-4,3.6733484811108703E-4,5.1635246507528479E-4,8.1046636161195482E-4,2.3040677835094858E-4,4.3642124953206909E-4,6.1346531418378196E-4,9.6289460163451201E-4]
[null,"Estado",789,"1-50",0,0,0,0,3.5441823120673655E-6,4.2090013769088831E-6,5.2612517211361051E-6,6.9875842089860845E-6,0,0,0,0,0,0,0,0,0,0,0,0,0,0,0,0,0,0,0,0,0,0,0,0,0,0,0,0,null,0,0,0,0,3.5441823120673655E-6,4.2090013769088831E-6,5.2612517211361051E-6,6.9875842089860845E-6,0,0,0,0,0,0,0,0,0,0,0,0,0,0,0,0,0,0,0,0,0,0,0,0,0,0,0,0,null,null,null,null,null,null,null,null,null,null,null,null,null,null,null,null,null,null,null,null,null,null,null,null,null,null,null,null,null,null,null,null,null,null,null,null,null,null,null,null,null,null,null,null,null,null,null,null,null,null,null,null,null,null,null,null,null,null,null,null,null,null,null,null,null,null,null,null,null,null,null,null,null,null,null,null,null,null,null,null,null,null,null,null,null,null,null,null,null,null,null,null,null,null,null,null,null,null,null,null,null,null,"Estado",789,"1-50",5.9466412511770825E-4,1.1263733749207056E-3,1.5833119883022612E-3,2.4851650631101921E-3,1.9393290088431253E-4,3.6733484811108703E-4,5.1635246507528479E-4,8.1046636161195482E-4,1.9393290088431253E-4,3.6733484811108703E-4,5.1635246507528479E-4,8.1046636161195482E-4,7.8114864849864011E-5,1.4796000000000001E-4,2.0798329133596083E-4,3.2645038574679534E-4,7.5221721707276451E-5,1.4248E-4,2.0028020647166599E-4,3.1435963071913621E-4,0,0,0,0,5.9466412511770825E-4,1.1263733749207056E-3,1.5833119883022612E-3,2.4851650631101921E-3,1.9393290088431253E-4,3.6733484811108703E-4,5.1635246507528479E-4,8.1046636161195482E-4,2.9733206255885413E-4,5.6318668746035278E-4,7.9165599415113061E-4,1.2425825315550961E-3]
[null,"Hidrocarburos",796,"50-400",0,0,0,0,2.4805443870976511E-5,2.9458458458045512E-5,3.6823073072556892E-5,4.890553380946719E-5,0,0,0,0,0,0,0,0,0,0,0,0,0,0,0,0,0,0,0,0,0,0,0,0,0,0,0,0,null,0,0,0,0,2.4805443870976511E-5,2.9458458458045512E-5,3.6823073072556892E-5,4.890553380946719E-5,0,0,0,0,0,0,0,0,0,0,0,0,0,0,0,0,0,0,0,0,0,0,0,0,0,0,0,0,null,null,null,null,null,null,null,null,null,null,null,null,null,null,null,null,null,null,null,null,null,null,null,null,null,null,null,null,null,null,null,null,null,null,null,null,null,null,null,null,null,null,null,null,null,null,null,null,null,null,null,null,null,null,null,null,null,null,null,null,null,null,null,null,null,null,null,null,null,null,null,null,null,null,null,null,null,null,null,null,null,null,null,null,null,null,null,null,null,null,null,null,null,null,null,null,null,null,null,null,null,null,"Hidrocarburos",796,"50-400",2.4247542314585885E-4,4.5820162149501218E-4,6.4333823985699107E-4,1.0097590067053353E-3,1.9438969343089763E-4,3.6733484811108703E-4,5.1575669647536233E-4,8.0951191343818529E-4,1.9438969343089763E-4,3.6733484811108703E-4,5.1575669647536233E-4,8.0951191343818529E-4,7.8298857807625226E-5,1.4796000000000001E-4,2.0774331976098557E-4,3.2606594045793392E-4,7.5398900111046515E-5,1.4248E-4,2.0004912273280091E-4,3.139894241446771E-4,0,0,0,0,2.4247542314585885E-4,4.5820162149501218E-4,6.4333823985699107E-4,1.0097590067053353E-3,1.9438969343089763E-4,3.6733484811108703E-4,5.1575669647536233E-4,8.0951191343818529E-4,1.2123771157292942E-4,2.2910081074750609E-4,3.2166911992849553E-4,5.0487950335266767E-4]
[null,"Transporte y Aviación",808,"50-400",0,0,0,0,2.5003797560091489E-6,2.9694019407536536E-6,3.711752425942067E-6,4.9296600911499381E-6,0,0,0,0,0,0,0,0,0,0,0,0,0,0,0,0,0,0,0,0,0,0,0,0,0,0,0,0,null,0,0,0,0,2.5003797560091489E-6,2.9694019407536536E-6,3.711752425942067E-6,4.9296600911499381E-6,0,0,0,0,0,0,0,0,0,0,0,0,0,0,0,0,0,0,0,0,0,0,0,0,0,0,0,0,null,null,null,null,null,null,null,null,null,null,null,null,null,null,null,null,null,null,null,null,null,null,null,null,null,null,null,null,null,null,null,null,null,null,null,null,null,null,null,null,null,null,null,null,null,null,null,null,null,null,null,null,null,null,null,null,null,null,null,null,null,null,null,null,null,null,null,null,null,null,null,null,null,null,null,null,null,null,null,null,null,null,null,null,null,null,null,null,null,null,null,null,null,null,null,null,null,null,null,null,null,null,"Transporte y Aviación",808,"50-400",2.1116177079780961E-4,3.9902875319084439E-4,5.6025654141628124E-4,8.7935716192842313E-4,1.9438969343089763E-4,3.6733484811108703E-4,5.1575669647536222E-4,8.0951191343818529E-4,1.9438969343089763E-4,3.6733484811108703E-4,5.1575669647536222E-4,8.0951191343818529E-4,7.8298857807625226E-5,1.4796000000000001E-4,2.0774331976098555E-4,3.2606594045793392E-4,7.5398900111046515E-5,1.4248E-4,2.0004912273280089E-4,3.139894241446771E-4,0,0,0,0,2.1116177079780961E-4,3.9902875319084439E-4,5.6025654141628124E-4,8.7935716192842313E-4,1.9438969343089763E-4,3.6733484811108703E-4,5.1575669647536222E-4,8.0951191343818529E-4,1.055808853989048E-4,1.9951437659542219E-4,2.8012827070814062E-4,4.3967858096421157E-4]
[null,"AgroIndustria",815,">400",0,0,0,0,8.72010688042604E-8,1.0355827842585374E-7,1.2944784803231718E-7,1.7192253606952071E-7,0,0,0,0,0,0,0,0,0,0,0,0,0,0,0,0,0,0,0,0,0,0,0,0,0,0,0,0,null,0,0,0,0,8.72010688042604E-8,1.0355827842585374E-7,1.2944784803231718E-7,1.7192253606952071E-7,0,0,0,0,0,0,0,0,0,0,0,0,0,0,0,0,0,0,0,0,0,0,0,0,0,0,0,0,null,null,null,null,null,null,null,null,null,null,null,null,null,null,null,null,null,null,null,null,null,null,null,null,null,null,null,null,null,null,null,null,null,null,null,null,null,null,null,null,null,null,null,null,null,null,null,null,null,null,null,null,null,null,null,null,null,null,null,null,null,null,null,null,null,null,null,null,null,null,null,null,null,null,null,null,null,null,null,null,null,null,null,null,null,null,null,null,null,null,null,null,null,null,null,null,null,null,null,null,null,null,"AgroIndustria",815,">400",2.6069014942670874E-5,4.8962744822598884E-5,6.8826000740032691E-5,1.0780733878820422E-4,1.9557844804386475E-4,3.6733484811108703E-4,5.1635562139205101E-4,8.0880662557846167E-4,1.9557844804386475E-4,3.6733484811108703E-4,5.1635562139205101E-4,8.0880662557846167E-4,7.8777680150343525E-5,1.4796000000000001E-4,2.0798456267907226E-4,3.2578185526356334E-4,7.5859988292923389E-5,1.4248E-4,2.0028143072799552E-4,3.1371586062417213E-4,0,0,0,0,2.6069014942670874E-5,4.8962744822598884E-5,6.8826000740032691E-5,1.0780733878820422E-4,1.9557844804386475E-4,3.6733484811108703E-4,5.1635562139205101E-4,8.0880662557846167E-4,1.3034507471335437E-5,2.4481372411299442E-5,3.4413000370016345E-5,5.3903669394102108E-5]
[null,"Energia y Agua",827,">400",0,0,0,0,6.9798394684162092E-6,8.2891204081513956E-6,1.0361400510189246E-5,1.3761204068058649E-5,0,0,0,0,0,0,0,0,0,0,0,0,0,0,0,0,0,0,0,0,0,0,0,0,0,0,0,0,null,0,0,0,0,6.9798394684162092E-6,8.2891204081513956E-6,1.0361400510189246E-5,1.3761204068058649E-5,0,0,0,0,0,0,0,0,0,0,0,0,0,0,0,0,0,0,0,0,0,0,0,0,0,0,0,0,null,null,null,null,null,null,null,null,null,null,null,null,null,null,null,null,null,null,null,null,null,null,null,null,null,null,null,null,null,null,null,null,null,null,null,null,null,null,null,null,null,null,null,null,null,null,null,null,null,null,null,null,null,null,null,null,null,null,null,null,null,null,null,null,null,null,null,null,null,null,null,null,null,null,null,null,null,null,null,null,null,null,null,null,null,null,null,null,null,null,null,null,null,null,null,null,null,null,null,null,null,null,"Energia y Agua",827,">400",6.3239969838522122E-5,1.1877711960355235E-4,1.6696274180200499E-4,2.6152629350707833E-4,1.3913430304547314E-4,2.6132162611694352E-4,3.6733484811108703E-4,5.7538418611022453E-4,1.3913430304547314E-4,2.6132162611694352E-4,3.6733484811108703E-4,5.7538418611022453E-4,5.6042359129462798E-5,1.0525858899335928E-4,1.4796000000000001E-4,2.3176087053718134E-4,5.3966716198741953E-5,1.0136012273434598E-4,1.4248E-4,2.2317713459135981E-4,0,0,0,0,6.3239969838522122E-5,1.1877711960355235E-4,1.6696274180200499E-4,2.6152629350707833E-4,1.3913430304547314E-4,2.6132162611694352E-4,3.6733484811108703E-4,5.7538418611022453E-4,3.1619984919261061E-5,5.9388559801776177E-5,8.3481370901002493E-5,1.3076314675353917E-4]
[null,"Actividades Deportivas y de Esparcimiento",830,">400",0,0,0,0,3.2029826240847281E-8,3.8037993218029484E-8,4.7547491522536852E-8,6.3148869993248416E-8,0,0,0,0,0,0,0,0,0,0,0,0,0,0,0,0,0,0,0,0,0,0,0,0,0,0,0,0,null,0,0,0,0,3.2029826240847281E-8,3.8037993218029484E-8,4.7547491522536852E-8,6.3148869993248416E-8,0,0,0,0,0,0,0,0,0,0,0,0,0,0,0,0,0,0,0,0,0,0,0,0,0,0,0,0,null,null,null,null,null,null,null,null,null,null,null,null,null,null,null,null,null,null,null,null,null,null,null,null,null,null,null,null,null,null,null,null,null,null,null,null,null,null,null,null,null,null,null,null,null,null,null,null,null,null,null,null,null,null,null,null,null,null,null,null,null,null,null,null,null,null,null,null,null,null,null,null,null,null,null,null,null,null,null,null,null,null,null,null,null,null,null,null,null,null,null,null,null,null,null,null,null,null,null,null,null,null,"Actividades Deportivas y de Esparcimiento",830,">400",3.5700448964191298E-5,6.7052474998766659E-5,9.4254390978426009E-5,1.4763773793668493E-4,1.9557844804386475E-4,3.6733484811108703E-4,5.1635562139205101E-4,8.0880662557846167E-4,1.9557844804386475E-4,3.6733484811108703E-4,5.1635562139205101E-4,8.0880662557846167E-4,7.8777680150343525E-5,1.4796000000000001E-4,2.0798456267907226E-4,3.2578185526356334E-4,7.5859988292923389E-5,1.4248E-4,2.0028143072799552E-4,3.1371586062417213E-4,0,0,0,0,3.5700448964191298E-5,6.7052474998766659E-5,9.4254390978426009E-5,1.4763773793668493E-4,1.9557844804386475E-4,3.6733484811108703E-4,5.1635562139205101E-4,8.0880662557846167E-4,1.7850224482095649E-5,3.352623749938333E-5,4.7127195489213004E-5,7.3818868968342463E-5]
[null,"Industria",846,"1-50",2.0733010707490033E-4,2.4622116734279747E-4,3.0777645917849682E-4,4.0876468947752904E-4,0,0,0,0,0,0,0,0,3.2956311112398059E-7,3.2956311112398059E-7,3.2956311112398059E-7,3.2956311112398059E-7,2.8293374285194846E-3,2.8293374285194846E-3,2.8293374285194846E-3,2.8293374285194846E-3,0,0,0,0,0,0,0,0,0,0,0,0,0,0,0,0,null,2.0733010707490033E-4,2.4622116734279747E-4,3.0777645917849682E-4,4.0876468947752904E-4,0,0,0,0,0,0,0,0,3.2956311112398059E-7,3.2956311112398059E-7,3.2956311112398059E-7,3.2956311112398059E-7,2.8293374285194846E-3,2.8293374285194846E-3,2.8293374285194846E-3,2.8293374285194846E-3,0,0,0,0,0,0,0,0,0,0,0,0,0,0,0,0,null,null,null,null,null,null,null,null,null,null,null,null,null,null,null,null,null,null,null,null,null,null,null,null,null,null,null,null,null,null,null,null,null,null,null,null,null,null,null,null,null,null,null,null,null,null,null,null,null,null,null,null,null,null,null,null,null,null,null,null,null,null,null,null,null,null,null,null,null,null,null,null,null,null,null,null,null,null,null,null,null,null,null,null,null,null,null,null,null,null,null,null,null,null,null,null,null,null,null,null,null,null,"Industria",846,"1-50",1.7723598334688369E-4,3.357086534862073E-4,4.7189639552598655E-4,7.4068815510347139E-4,2.5186091023936715E-5,4.7705824430011345E-5,6.7058761698088982E-5,1.052553716379163E-4,2.5186091023936715E-5,4.7705824430011345E-5,6.7058761698088982E-5,1.052553716379163E-4,1.4465715712937791E-5,2.7400000000000022E-5,3.8515424321474258E-5,6.0453775138295481E-5,1.4465715712937791E-5,2.7400000000000022E-5,3.8515424321474258E-5,6.0453775138295481E-5,2.5186091023936736E-5,4.7705824430011379E-5,6.7058761698089036E-5,1.0525537163791639E-4,1.7723598334688369E-4,3.357086534862073E-4,4.7189639552598655E-4,7.4068815510347139E-4,2.5186091023936715E-5,4.7705824430011345E-5,6.7058761698088982E-5,1.052553716379163E-4,8.8617991673441845E-5,1.6785432674310365E-4,2.3594819776299328E-4,3.7034407755173569E-4]
[null,"Energia y Agua",849,"1-50",1.5180404677870289E-4,1.8027950755704702E-4,2.2534938444630881E-4,2.9929147733720967E-4,0,0,0,0,0,0,0,0,3.2956311112398059E-7,3.2956311112398059E-7,3.2956311112398059E-7,3.2956311112398059E-7,2.8293374285194846E-3,2.8293374285194846E-3,2.8293374285194846E-3,2.8293374285194846E-3,0,0,0,0,0,0,0,0,0,0,0,0,0,0,0,0,null,1.5180404677870289E-4,1.8027950755704702E-4,2.2534938444630881E-4,2.9929147733720967E-4,0,0,0,0,0,0,0,0,3.2956311112398059E-7,3.2956311112398059E-7,3.2956311112398059E-7,3.2956311112398059E-7,2.8293374285194846E-3,2.8293374285194846E-3,2.8293374285194846E-3,2.8293374285194846E-3,0,0,0,0,0,0,0,0,0,0,0,0,0,0,0,0,null,null,null,null,null,null,null,null,null,null,null,null,null,null,null,null,null,null,null,null,null,null,null,null,null,null,null,null,null,null,null,null,null,null,null,null,null,null,null,null,null,null,null,null,null,null,null,null,null,null,null,null,null,null,null,null,null,null,null,null,null,null,null,null,null,null,null,null,null,null,null,null,null,null,null,null,null,null,null,null,null,null,null,null,null,null,null,null,null,null,null,null,null,null,null,null,null,null,null,null,null,null,"Energia y Agua",849,"1-50",2.440206522540852E-4,4.6220774723106187E-4,6.4971268282032707E-4,1.0197884386235268E-3,4.7705824430011345E-5,9.0361210970933117E-5,1.2701826214407748E-4,1.9936774924309678E-4,4.7705824430011345E-5,9.0361210970933117E-5,1.2701826214407748E-4,1.9936774924309678E-4,2.7400000000000022E-5,5.1899264087468594E-5,7.295336417157269E-5,1.1450753434258504E-4,2.7400000000000022E-5,5.1899264087468594E-5,7.295336417157269E-5,1.1450753434258504E-4,4.7705824430011379E-5,9.0361210970933185E-5,1.2701826214407759E-4,1.9936774924309689E-4,2.440206522540852E-4,4.6220774723106187E-4,6.4971268282032707E-4,1.0197884386235268E-3,4.7705824430011345E-5,9.0361210970933117E-5,1.2701826214407748E-4,1.9936774924309678E-4,1.220103261270426E-4,2.3110387361553094E-4,3.2485634141016354E-4,5.0989421931176341E-4]
[null,"Telecomunicaciones",861,"50-400",3.6393880080598244E-5,4.3220657935325541E-5,5.4025822419156924E-5,7.1752883842643537E-5,0,0,0,0,0,0,0,0,2.6756007537012878E-7,2.6756007537012878E-7,2.6756007537012878E-7,2.6756007537012878E-7,1.7137733691382346E-4,1.7137733691382346E-4,1.7137733691382346E-4,1.7137733691382346E-4,0,0,0,0,0,0,0,0,0,0,0,0,0,0,0,0,null,3.6393880080598244E-5,4.3220657935325541E-5,5.4025822419156924E-5,7.1752883842643537E-5,0,0,0,0,0,0,0,0,2.6756007537012878E-7,2.6756007537012878E-7,2.6756007537012878E-7,2.6756007537012878E-7,1.7137733691382346E-4,1.7137733691382346E-4,1.7137733691382346E-4,1.7137733691382346E-4,0,0,0,0,0,0,0,0,0,0,0,0,0,0,0,0,null,null,null,null,null,null,null,null,null,null,null,null,null,null,null,null,null,null,null,null,null,null,null,null,null,null,null,null,null,null,null,null,null,null,null,null,null,null,null,null,null,null,null,null,null,null,null,null,null,null,null,null,null,null,null,null,null,null,null,null,null,null,null,null,null,null,null,null,null,null,null,null,null,null,null,null,null,null,null,null,null,null,null,null,null,null,null,null,null,null,null,null,null,null,null,null,null,null,null,null,null,null,"Telecomunicaciones",861,"50-400",3.1713372852019448E-5,5.9928213240523552E-5,8.4142240915994966E-5,1.3206643153713788E-4,2.524541473128543E-5,4.7705824430011345E-5,6.6981389152644518E-5,1.0513141732963455E-4,2.524541473128543E-5,4.7705824430011345E-5,6.6981389152644518E-5,1.0513141732963455E-4,1.4499788482893573E-5,2.7400000000000022E-5,3.8470985140923288E-5,6.0382581566284109E-5,1.4499788482893573E-5,2.7400000000000022E-5,3.8470985140923288E-5,6.0382581566284109E-5,2.524541473128545E-5,4.7705824430011379E-5,6.6981389152644572E-5,1.0513141732963463E-4,3.1713372852019448E-5,5.9928213240523552E-5,8.4142240915994966E-5,1.3206643153713788E-4,2.524541473128543E-5,4.7705824430011345E-5,6.6981389152644518E-5,1.0513141732963455E-4,1.5856686426009724E-5,2.9964106620261776E-5,4.2071120457997483E-5,6.6033215768568942E-5]
[null,"Textiles",871,"50-400",3.6393880080598244E-5,4.3220657935325541E-5,5.4025822419156924E-5,7.1752883842643537E-5,0,0,0,0,0,0,0,0,2.6756007537012878E-7,2.6756007537012878E-7,2.6756007537012878E-7,2.6756007537012878E-7,1.7137733691382346E-4,1.7137733691382346E-4,1.7137733691382346E-4,1.7137733691382346E-4,0,0,0,0,0,0,0,0,0,0,0,0,0,0,0,0,null,3.6393880080598244E-5,4.3220657935325541E-5,5.4025822419156924E-5,7.1752883842643537E-5,0,0,0,0,0,0,0,0,2.6756007537012878E-7,2.6756007537012878E-7,2.6756007537012878E-7,2.6756007537012878E-7,1.7137733691382346E-4,1.7137733691382346E-4,1.7137733691382346E-4,1.7137733691382346E-4,0,0,0,0,0,0,0,0,0,0,0,0,0,0,0,0,null,null,null,null,null,null,null,null,null,null,null,null,null,null,null,null,null,null,null,null,null,null,null,null,null,null,null,null,null,null,null,null,null,null,null,null,null,null,null,null,null,null,null,null,null,null,null,null,null,null,null,null,null,null,null,null,null,null,null,null,null,null,null,null,null,null,null,null,null,null,null,null,null,null,null,null,null,null,null,null,null,null,null,null,null,null,null,null,null,null,null,null,null,null,null,null,null,null,null,null,null,null,"Textiles",871,"50-400",3.1713372852019448E-5,5.9928213240523552E-5,8.4142240915994966E-5,1.3206643153713788E-4,2.524541473128543E-5,4.7705824430011345E-5,6.6981389152644518E-5,1.0513141732963455E-4,2.524541473128543E-5,4.7705824430011345E-5,6.6981389152644518E-5,1.0513141732963455E-4,1.4499788482893573E-5,2.7400000000000022E-5,3.8470985140923288E-5,6.0382581566284109E-5,1.4499788482893573E-5,2.7400000000000022E-5,3.8470985140923288E-5,6.0382581566284109E-5,2.524541473128545E-5,4.7705824430011379E-5,6.6981389152644572E-5,1.0513141732963463E-4,3.1713372852019448E-5,5.9928213240523552E-5,8.4142240915994966E-5,1.3206643153713788E-4,2.524541473128543E-5,4.7705824430011345E-5,6.6981389152644518E-5,1.0513141732963455E-4,1.5856686426009724E-5,2.9964106620261776E-5,4.2071120457997483E-5,6.6033215768568942E-5]
[null,"Hidrocarburos",881,">400",5.5439325813961259E-6,6.5838655616378434E-6,8.2298319520473045E-6,1.0930220950978751E-5,0,0,0,0,0,0,0,0,2.6264176236252368E-8,2.6264176236252368E-8,2.6264176236252368E-8,2.6264176236252368E-8,6.4373027459431093E-5,6.4373027459431093E-5,6.4373027459431093E-5,6.4373027459431093E-5,0,0,0,0,0,0,0,0,0,0,0,0,0,0,0,0,null,5.5439325813961259E-6,6.5838655616378434E-6,8.2298319520473045E-6,1.0930220950978751E-5,0,0,0,0,0,0,0,0,2.6264176236252368E-8,2.6264176236252368E-8,2.6264176236252368E-8,2.6264176236252368E-8,6.4373027459431093E-5,6.4373027459431093E-5,6.4373027459431093E-5,6.4373027459431093E-5,0,0,0,0,0,0,0,0,0,0,0,0,0,0,0,0,null,null,null,null,null,null,null,null,null,null,null,null,null,null,null,null,null,null,null,null,null,null,null,null,null,null,null,null,null,null,null,null,null,null,null,null,null,null,null,null,null,null,null,null,null,null,null,null,null,null,null,null,null,null,null,null,null,null,null,null,null,null,null,null,null,null,null,null,null,null,null,null,null,null,null,null,null,null,null,null,null,null,null,null,null,null,null,null,null,null,null,null,null,null,null,null,null,null,null,null,null,null,"Hidrocarburos",881,">400",2.4323065322508528E-5,4.568350753982787E-5,6.4216439154617358E-5,1.0058703596426098E-4,1.8069390005905622E-5,3.3937873521681011E-5,4.7705824430011345E-5,7.4725218975353895E-5,1.8069390005905622E-5,3.3937873521681011E-5,4.7705824430011345E-5,7.4725218975353895E-5,1.0378214653604231E-5,1.9492331295066551E-5,2.7400000000000022E-5,4.2918679729107694E-5,1.0378214653604231E-5,1.9492331295066551E-5,2.7400000000000022E-5,4.2918679729107694E-5,1.8069390005905635E-5,3.3937873521681038E-5,4.7705824430011379E-5,7.4725218975353949E-5,2.4323065322508528E-5,4.568350753982787E-5,6.4216439154617358E-5,1.0058703596426098E-4,1.8069390005905622E-5,3.3937873521681011E-5,4.7705824430011345E-5,7.4725218975353895E-5,1.2161532661254264E-5,2.2841753769913935E-5,3.2108219577308679E-5,5.029351798213049E-5]
[null,"Industria",888,">400",7.5717621506658291E-6,8.9920761720604411E-6,1.1240095215075552E-5,1.492821784535372E-5,0,0,0,0,0,0,0,0,2.6264176236252368E-8,2.6264176236252368E-8,2.6264176236252368E-8,2.6264176236252368E-8,6.4373027459431093E-5,6.4373027459431093E-5,6.4373027459431093E-5,6.4373027459431093E-5,0,0,0,0,0,0,0,0,0,0,0,0,0,0,0,0,null,7.5717621506658291E-6,8.9920761720604411E-6,1.1240095215075552E-5,1.492821784535372E-5,0,0,0,0,0,0,0,0,2.6264176236252368E-8,2.6264176236252368E-8,2.6264176236252368E-8,2.6264176236252368E-8,6.4373027459431093E-5,6.4373027459431093E-5,6.4373027459431093E-5,6.4373027459431093E-5,0,0,0,0,0,0,0,0,0,0,0,0,0,0,0,0,null,null,null,null,null,null,null,null,null,null,null,null,null,null,null,null,null,null,null,null,null,null,null,null,null,null,null,null,null,null,null,null,null,null,null,null,null,null,null,null,null,null,null,null,null,null,null,null,null,null,null,null,null,null,null,null,null,null,null,null,null,null,null,null,null,null,null,null,null,null,null,null,null,null,null,null,null,null,null,null,null,null,null,null,null,null,null,null,null,null,null,null,null,null,null,null,null,null,null,null,null,null,"Industria",888,">400",1.0026544208719576E-5,1.8831824931768816E-5,2.6471538746166444E-5,4.1464361072386272E-5,2.5399798447255183E-5,4.7705824430011345E-5,6.7059171609357336E-5,1.0503982150369642E-4,2.5399798447255183E-5,4.7705824430011345E-5,6.7059171609357336E-5,1.0503982150369642E-4,1.4588459287100664E-5,2.7400000000000022E-5,3.8515659755383788E-5,6.0329973196956227E-5,1.4588459287100664E-5,2.7400000000000022E-5,3.8515659755383788E-5,6.0329973196956227E-5,2.5399798447255204E-5,4.7705824430011379E-5,6.7059171609357377E-5,1.050398215036965E-4,1.0026544208719576E-5,1.8831824931768816E-5,2.6471538746166444E-5,4.1464361072386272E-5,2.5399798447255183E-5,4.7705824430011345E-5,6.7059171609357336E-5,1.0503982150369642E-4,5.0132721043597878E-6,9.415912465884408E-6,1.3235769373083222E-5,2.0732180536193136E-5]
[null,"Salud",900,"1-50",0,0,0,0,0,0,0,0,0,0,0,0,9.2766659211666473E-8,9.2766659211666473E-8,9.2766659211666473E-8,9.2766659211666473E-8,0,0,0,0,0,0,0,0,0,0,0,0,0,0,0,0,0,0,0,0,null,0,0,0,0,0,0,0,0,0,0,0,0,9.2766659211666473E-8,9.2766659211666473E-8,9.2766659211666473E-8,9.2766659211666473E-8,0,0,0,0,0,0,0,0,0,0,0,0,0,0,0,0,0,0,0,0,null,null,null,null,null,null,null,null,null,null,null,null,null,null,null,null,null,null,null,null,null,null,null,null,null,null,null,null,null,null,null,null,null,null,null,null,null,null,null,null,null,null,null,null,null,null,null,null,null,null,null,null,null,null,null,null,null,null,null,null,null,null,null,null,null,null,null,null,null,null,null,null,null,null,null,null,null,null,null,null,null,null,null,null,null,null,null,null,null,null,null,null,null,null,null,null,null,null,null,null,null,null,"Salud",900,"1-50",1.8576289780965021E-3,3.5185976974731561E-3,4.9459957421438151E-3,7.7632304381447526E-3,8.9587341462976365E-5,1.6969040487157741E-4,2.385291221500565E-4,3.7439509413257855E-4,8.9587341462976365E-5,1.6969040487157741E-4,2.385291221500565E-4,3.7439509413257855E-4,5.1454789544341824E-5,9.746225223090898E-5,1.37E-4,2.1503507594303664E-4,5.1454789544341824E-5,9.746225223090898E-5,1.37E-4,2.1503507594303664E-4,8.9587341462976433E-5,1.6969040487157754E-4,2.3852912215005669E-4,3.7439509413257887E-4,1.8576289780965021E-3,3.5185976974731561E-3,4.9459957421438151E-3,7.7632304381447526E-3,8.9587341462976365E-5,1.6969040487157741E-4,2.385291221500565E-4,3.7439509413257855E-4,9.2881448904825103E-4,1.759298848736578E-3,2.4729978710719075E-3,3.8816152190723763E-3]
[null,"Hidrocarburos",903,"1-50",0,0,0,0,0,0,0,0,0,0,0,0,9.2766659211666473E-8,9.2766659211666473E-8,9.2766659211666473E-8,9.2766659211666473E-8,0,0,0,0,0,0,0,0,0,0,0,0,0,0,0,0,0,0,0,0,null,0,0,0,0,0,0,0,0,0,0,0,0,9.2766659211666473E-8,9.2766659211666473E-8,9.2766659211666473E-8,9.2766659211666473E-8,0,0,0,0,0,0,0,0,0,0,0,0,0,0,0,0,0,0,0,0,null,null,null,null,null,null,null,null,null,null,null,null,null,null,null,null,null,null,null,null,null,null,null,null,null,null,null,null,null,null,null,null,null,null,null,null,null,null,null,null,null,null,null,null,null,null,null,null,null,null,null,null,null,null,null,null,null,null,null,null,null,null,null,null,null,null,null,null,null,null,null,null,null,null,null,null,null,null,null,null,null,null,null,null,null,null,null,null,null,null,null,null,null,null,null,null,null,null,null,null,null,null,"Hidrocarburos",903,"1-50",1.2201032612704249E-3,2.3110387361553074E-3,3.2485634141016322E-3,5.0989421931176299E-3,2.385291221500565E-4,4.5180605485466515E-4,6.3509131072038687E-4,9.9683874621548296E-4,2.385291221500565E-4,4.5180605485466515E-4,6.3509131072038687E-4,9.9683874621548296E-4,1.37E-4,2.5949632043734274E-4,3.6476682085786311E-4,5.7253767171292467E-4,1.37E-4,2.5949632043734274E-4,3.6476682085786311E-4,5.7253767171292467E-4,2.3852912215005669E-4,4.5180605485466553E-4,6.3509131072038742E-4,9.9683874621548361E-4,1.2201032612704249E-3,2.3110387361553074E-3,3.2485634141016322E-3,5.0989421931176299E-3,2.385291221500565E-4,4.5180605485466515E-4,6.3509131072038687E-4,9.9683874621548296E-4,6.1005163063521247E-4,1.1555193680776537E-3,1.6242817070508161E-3,2.549471096558815E-3]
[null,"Alimentos y Bebidas",919,"50-400",0,0,0,0,0,0,0,0,0,0,0,0,7.5313812416253949E-8,7.5313812416253949E-8,7.5313812416253949E-8,7.5313812416253949E-8,0,0,0,0,0,0,0,0,0,0,0,0,0,0,0,0,0,0,0,0,null,0,0,0,0,0,0,0,0,0,0,0,0,7.5313812416253949E-8,7.5313812416253949E-8,7.5313812416253949E-8,7.5313812416253949E-8,0,0,0,0,0,0,0,0,0,0,0,0,0,0,0,0,0,0,0,0,null,null,null,null,null,null,null,null,null,null,null,null,null,null,null,null,null,null,null,null,null,null,null,null,null,null,null,null,null,null,null,null,null,null,null,null,null,null,null,null,null,null,null,null,null,null,null,null,null,null,null,null,null,null,null,null,null,null,null,null,null,null,null,null,null,null,null,null,null,null,null,null,null,null,null,null,null,null,null,null,null,null,null,null,null,null,null,null,null,null,null,null,null,null,null,null,null,null,null,null,null,null,"Alimentos y Bebidas",919,"50-400",1.585668642600971E-4,2.9964106620261751E-4,4.2071120457997443E-4,6.6033215768568885E-4,1.2622707365642704E-4,2.385291221500565E-4,3.3490694576322229E-4,5.2565708664817226E-4,1.2622707365642704E-4,2.385291221500565E-4,3.3490694576322229E-4,5.2565708664817226E-4,7.2498942414467803E-5,1.37E-4,1.9235492570461626E-4,3.0191290783142027E-4,7.2498942414467803E-5,1.37E-4,1.9235492570461626E-4,3.0191290783142027E-4,1.2622707365642715E-4,2.3852912215005669E-4,3.3490694576322256E-4,5.256570866481727E-4,1.585668642600971E-4,2.9964106620261751E-4,4.2071120457997443E-4,6.6033215768568885E-4,1.2622707365642704E-4,2.385291221500565E-4,3.3490694576322229E-4,5.2565708664817226E-4,7.9283432130048548E-5,1.4982053310130876E-4,2.1035560228998721E-4,3.3016607884284443E-4]
[null,"AgroIndustria",922,"50-400",0,0,0,0,0,0,0,0,0,0,0,0,7.5313812416253949E-8,7.5313812416253949E-8,7.5313812416253949E-8,7.5313812416253949E-8,0,0,0,0,0,0,0,0,0,0,0,0,0,0,0,0,0,0,0,0,null,0,0,0,0,0,0,0,0,0,0,0,0,7.5313812416253949E-8,7.5313812416253949E-8,7.5313812416253949E-8,7.5313812416253949E-8,0,0,0,0,0,0,0,0,0,0,0,0,0,0,0,0,0,0,0,0,null,null,null,null,null,null,null,null,null,null,null,null,null,null,null,null,null,null,null,null,null,null,null,null,null,null,null,null,null,null,null,null,null,null,null,null,null,null,null,null,null,null,null,null,null,null,null,null,null,null,null,null,null,null,null,null,null,null,null,null,null,null,null,null,null,null,null,null,null,null,null,null,null,null,null,null,null,null,null,null,null,null,null,null,null,null,null,null,null,null,null,null,null,null,null,null,null,null,null,null,null,null,"AgroIndustria",922,"50-400",1.585668642600971E-4,2.9964106620261751E-4,4.2071120457997443E-4,6.6033215768568885E-4,1.2622707365642704E-4,2.385291221500565E-4,3.3490694576322229E-4,5.2565708664817226E-4,1.2622707365642704E-4,2.385291221500565E-4,3.3490694576322229E-4,5.2565708664817226E-4,7.2498942414467803E-5,1.37E-4,1.9235492570461626E-4,3.0191290783142027E-4,7.2498942414467803E-5,1.37E-4,1.9235492570461626E-4,3.0191290783142027E-4,1.2622707365642715E-4,2.3852912215005669E-4,3.3490694576322256E-4,5.256570866481727E-4,1.585668642600971E-4,2.9964106620261751E-4,4.2071120457997443E-4,6.6033215768568885E-4,1.2622707365642704E-4,2.385291221500565E-4,3.3490694576322229E-4,5.2565708664817226E-4,7.9283432130048548E-5,1.4982053310130876E-4,2.1035560228998721E-4,3.3016607884284443E-4]
[null,"Estado",938,"50-400",0,0,0,0,0,0,0,0,0,0,0,0,7.5313812416253949E-8,7.5313812416253949E-8,7.5313812416253949E-8,7.5313812416253949E-8,0,0,0,0,0,0,0,0,0,0,0,0,0,0,0,0,0,0,0,0,null,0,0,0,0,0,0,0,0,0,0,0,0,7.5313812416253949E-8,7.5313812416253949E-8,7.5313812416253949E-8,7.5313812416253949E-8,0,0,0,0,0,0,0,0,0,0,0,0,0,0,0,0,0,0,0,0,null,null,null,null,null,null,null,null,null,null,null,null,null,null,null,null,null,null,null,null,null,null,null,null,null,null,null,null,null,null,null,null,null,null,null,null,null,null,null,null,null,null,null,null,null,null,null,null,null,null,null,null,null,null,null,null,null,null,null,null,null,null,null,null,null,null,null,null,null,null,null,null,null,null,null,null,null,null,null,null,null,null,null,null,null,null,null,null,null,null,null,null,null,null,null,null,null,null,null,null,null,null,"Estado",938,"50-400",1.7128125716098558E-4,3.2366723499089651E-4,4.5444516014374065E-4,7.1327967945881163E-4,1.2622707365642704E-4,2.385291221500565E-4,3.3490694576322229E-4,5.2565708664817226E-4,1.2622707365642704E-4,2.385291221500565E-4,3.3490694576322229E-4,5.2565708664817226E-4,7.2498942414467803E-5,1.37E-4,1.9235492570461626E-4,3.0191290783142027E-4,7.2498942414467803E-5,1.37E-4,1.9235492570461626E-4,3.0191290783142027E-4,1.2622707365642715E-4,2.3852912215005669E-4,3.3490694576322256E-4,5.256570866481727E-4,1.7128125716098558E-4,3.2366723499089651E-4,4.5444516014374065E-4,7.1327967945881163E-4,1.2622707365642704E-4,2.385291221500565E-4,3.3490694576322229E-4,5.2565708664817226E-4,8.5640628580492791E-5,1.6183361749544825E-4,2.2722258007187033E-4,3.5663983972940581E-4]
[null,"Hoteles",941,">400",0,0,0,0,0,0,0,0,0,0,0,0,7.3929387244648004E-9,7.3929387244648004E-9,7.3929387244648004E-9,7.3929387244648004E-9,0,0,0,0,0,0,0,0,0,0,0,0,0,0,0,0,0,0,0,0,null,0,0,0,0,0,0,0,0,0,0,0,0,7.3929387244648004E-9,7.3929387244648004E-9,7.3929387244648004E-9,7.3929387244648004E-9,0,0,0,0,0,0,0,0,0,0,0,0,0,0,0,0,0,0,0,0,null,null,null,null,null,null,null,null,null,null,null,null,null,null,null,null,null,null,null,null,null,null,null,null,null,null,null,null,null,null,null,null,null,null,null,null,null,null,null,null,null,null,null,null,null,null,null,null,null,null,null,null,null,null,null,null,null,null,null,null,null,null,null,null,null,null,null,null,null,null,null,null,null,null,null,null,null,null,null,null,null,null,null,null,null,null,null,null,null,null,null,null,null,null,null,null,null,null,null,null,null,null,"Hoteles",941,">400",5.7655492471091077E-5,1.0828837114449399E-4,1.5221890724328638E-4,2.3843191710545131E-4,1.269989922362758E-4,2.385291221500565E-4,3.3529585804678639E-4,5.251991075184816E-4,1.269989922362758E-4,2.385291221500565E-4,3.3529585804678639E-4,5.251991075184816E-4,7.2942296435503254E-5,1.37E-4,1.9257829877691876E-4,3.0164986598478087E-4,7.2942296435503254E-5,1.37E-4,1.9257829877691876E-4,3.0164986598478087E-4,1.2699899223627591E-4,2.3852912215005669E-4,3.3529585804678661E-4,5.2519910751848203E-4,5.7655492471091077E-5,1.0828837114449399E-4,1.5221890724328638E-4,2.3843191710545131E-4,1.269989922362758E-4,2.385291221500565E-4,3.3529585804678639E-4,5.251991075184816E-4,2.8827746235545539E-5,5.4144185572246997E-5,7.6109453621643191E-5,1.1921595855272565E-4]
[null,"Construcción",953,">400",0,0,0,0,0,0,0,0,0,0,0,0,7.3929387244648004E-9,7.3929387244648004E-9,7.3929387244648004E-9,7.3929387244648004E-9,0,0,0,0,0,0,0,0,0,0,0,0,0,0,0,0,0,0,0,0,null,0,0,0,0,0,0,0,0,0,0,0,0,7.3929387244648004E-9,7.3929387244648004E-9,7.3929387244648004E-9,7.3929387244648004E-9,0,0,0,0,0,0,0,0,0,0,0,0,0,0,0,0,0,0,0,0,null,null,null,null,null,null,null,null,null,null,null,null,null,null,null,null,null,null,null,null,null,null,null,null,null,null,null,null,null,null,null,null,null,null,null,null,null,null,null,null,null,null,null,null,null,null,null,null,null,null,null,null,null,null,null,null,null,null,null,null,null,null,null,null,null,null,null,null,null,null,null,null,null,null,null,null,null,null,null,null,null,null,null,null,null,null,null,null,null,null,null,null,null,null,null,null,null,null,null,null,null,null,"Construcción",953,">400",5.8401613539774242E-5,1.096897334734135E-4,1.5418877566134023E-4,2.415174700887702E-4,1.269989922362758E-4,2.385291221500565E-4,3.3529585804678639E-4,5.251991075184816E-4,1.269989922362758E-4,2.385291221500565E-4,3.3529585804678639E-4,5.251991075184816E-4,7.2942296435503254E-5,1.37E-4,1.9257829877691876E-4,3.0164986598478087E-4,7.2942296435503254E-5,1.37E-4,1.9257829877691876E-4,3.0164986598478087E-4,1.2699899223627591E-4,2.3852912215005669E-4,3.3529585804678661E-4,5.2519910751848203E-4,5.8401613539774242E-5,1.096897334734135E-4,1.5418877566134023E-4,2.415174700887702E-4,1.269989922362758E-4,2.385291221500565E-4,3.3529585804678639E-4,5.251991075184816E-4,2.9200806769887121E-5,5.4844866736706751E-5,7.7094387830670117E-5,1.207587350443851E-4]
[null,"Muerte accidental en transporte público y aviación comercial",960,null,null,null,null,null,null,null,null,null,null,null,null,null,null,null,null,null,null,null,null,null,null,null,null,null,null,null,null,null,null,null,null,null,null,null,null,null,null,null,null,null,null,null,null,null,null,null,null,null,null,null,null,null,null,null,null,null,null,null,null,null,null,null,null,null,null,null,null,null,null,null,null,null,null,null,null,null,null,null,null,null,null,null,null,null,null,null,null,null,null,null,null,null,null,null,null,null,null,null,null,null,null,null,null,null,null,null,null,null,null,null,null,null,null,null,null,null,null,null,null,null,null,null,null,null,null,null,null,null,null,null,null,null,null,null,null,null,null,null,null,null,null,null,null,null,null,null,null,null,null,null,null,null,null,null,null,null,null,null,null,null,null,null,null,null,null,null,null,null,null,null,null,null,null,null,null,"Muerte accidental en transporte público y aviación comercial",960]
[null,"Comercio",972,"1-50",0,0,0,0,8.3980500886738694E-5,9.973359515458874E-5,1.2466699394323593E-4,1.6557297852903548E-4,1.3960213776536668E-6,1.3960213776536668E-6,1.3960213776536668E-6,1.3960213776536668E-6,0,0,0,0,0,0,0,0,0,0,0,0,0,0,0,0,0,0,0,0,0,0,0,0,null,0,0,0,0,8.3980500886738694E-5,9.973359515458874E-5,1.2466699394323593E-4,1.6557297852903548E-4,1.3960213776536668E-6,1.3960213776536668E-6,1.3960213776536668E-6,1.3960213776536668E-6,0,0,0,0,0,0,0,0,0,0,0,0,0,0,0,0,0,0,0,0,0,0,0,0,null,null,null,null,null,null,null,null,null,null,null,null,null,null,null,null,null,null,null,null,null,null,null,null,null,null,null,null,null,null,null,null,null,null,null,null,null,null,null,null,null,null,null,null,null,null,null,null,null,null,null,null,null,null,null,null,null,null,null,null,null,null,null,null,null,null,null,null,null,null,null,null,null,null,null,null,null,null,null,null,null,null,null,null,null,null,null,null,null,null,null,null,null,null,null,null,null,null,null,null,null,null,"Comercio",972,"1-50",3.1288921128582792E-4,5.9265400754171266E-4,8.3307739329529693E-4,1.3075975221436588E-3,9.5411648860022581E-5,1.8072242194186604E-4,2.5403652428815474E-4,3.9873549848619308E-4,9.5411648860022581E-5,1.8072242194186604E-4,2.5403652428815474E-4,3.9873549848619308E-4,5.4799999999999984E-5,1.0379852817493707E-4,1.4590672834314524E-4,2.2901506868516983E-4,5.4799999999999984E-5,1.0379852817493707E-4,1.4590672834314524E-4,2.2901506868516983E-4,9.5411648860022649E-5,1.8072242194186621E-4,2.5403652428815496E-4,3.9873549848619335E-4,3.1288921128582792E-4,5.9265400754171266E-4,8.3307739329529693E-4,1.3075975221436588E-3,9.5411648860022581E-5,1.8072242194186604E-4,2.5403652428815474E-4,3.9873549848619308E-4,1.5644460564291396E-4,2.9632700377085633E-4,4.1653869664764847E-4,6.537987610718294E-4]
[null,"Hoteles",984,"50-400",0,0,0,0,1.6165276804410652E-6,1.9197565569980312E-6,2.3996956962475392E-6,3.1870886705740636E-6,1.073254243429162E-6,1.073254243429162E-6,1.073254243429162E-6,1.073254243429162E-6,0,0,0,0,0,0,0,0,0,0,0,0,0,0,0,0,0,0,0,0,0,0,0,0,null,0,0,0,0,1.6165276804410652E-6,1.9197565569980312E-6,2.3996956962475392E-6,3.1870886705740636E-6,1.073254243429162E-6,1.073254243429162E-6,1.073254243429162E-6,1.073254243429162E-6,0,0,0,0,0,0,0,0,0,0,0,0,0,0,0,0,0,0,0,0,0,0,0,0,null,null,null,null,null,null,null,null,null,null,null,null,null,null,null,null,null,null,null,null,null,null,null,null,null,null,null,null,null,null,null,null,null,null,null,null,null,null,null,null,null,null,null,null,null,null,null,null,null,null,null,null,null,null,null,null,null,null,null,null,null,null,null,null,null,null,null,null,null,null,null,null,null,null,null,null,null,null,null,null,null,null,null,null,null,null,null,null,null,null,null,null,null,null,null,null,null,null,null,null,null,null,"Hoteles",984,"50-400",6.2124350771886123E-5,1.1739531325976897E-4,1.6482895445367162E-4,2.5870919994187841E-4,5.0490829462570805E-5,9.5411648860022581E-5,1.339627783052889E-4,2.1026283465926885E-4,5.0490829462570805E-5,9.5411648860022581E-5,1.339627783052889E-4,2.1026283465926885E-4,2.8999576965787116E-5,5.4799999999999984E-5,7.694197028184648E-5,1.2076516313256808E-4,2.8999576965787116E-5,5.4799999999999984E-5,7.694197028184648E-5,1.2076516313256808E-4,5.0490829462570846E-5,9.5411648860022649E-5,1.3396277830528901E-4,2.1026283465926904E-4,6.2124350771886123E-5,1.1739531325976897E-4,1.6482895445367162E-4,2.5870919994187841E-4,5.0490829462570805E-5,9.5411648860022581E-5,1.339627783052889E-4,2.1026283465926885E-4,3.1062175385943062E-5,5.8697656629884483E-5,8.2414477226835808E-5,1.293545999709392E-4]
[null,"Quimicas",992,"50-400",0,0,0,0,1.6165276804410652E-6,1.9197565569980312E-6,2.3996956962475392E-6,3.1870886705740636E-6,1.073254243429162E-6,1.073254243429162E-6,1.073254243429162E-6,1.073254243429162E-6,0,0,0,0,0,0,0,0,0,0,0,0,0,0,0,0,0,0,0,0,0,0,0,0,null,0,0,0,0,1.6165276804410652E-6,1.9197565569980312E-6,2.3996956962475392E-6,3.1870886705740636E-6,1.073254243429162E-6,1.073254243429162E-6,1.073254243429162E-6,1.073254243429162E-6,0,0,0,0,0,0,0,0,0,0,0,0,0,0,0,0,0,0,0,0,0,0,0,0,null,null,null,null,null,null,null,null,null,null,null,null,null,null,null,null,null,null,null,null,null,null,null,null,null,null,null,null,null,null,null,null,null,null,null,null,null,null,null,null,null,null,null,null,null,null,null,null,null,null,null,null,null,null,null,null,null,null,null,null,null,null,null,null,null,null,null,null,null,null,null,null,null,null,null,null,null,null,null,null,null,null,null,null,null,null,null,null,null,null,null,null,null,null,null,null,null,null,null,null,null,null,"Quimicas",992,"50-400",6.3426745704038827E-5,1.1985642648104698E-4,1.6828448183198974E-4,2.641328630742755E-4,5.0490829462570805E-5,9.5411648860022581E-5,1.339627783052889E-4,2.1026283465926885E-4,5.0490829462570805E-5,9.5411648860022581E-5,1.339627783052889E-4,2.1026283465926885E-4,2.8999576965787116E-5,5.4799999999999984E-5,7.694197028184648E-5,1.2076516313256808E-4,2.8999576965787116E-5,5.4799999999999984E-5,7.694197028184648E-5,1.2076516313256808E-4,5.0490829462570846E-5,9.5411648860022649E-5,1.3396277830528901E-4,2.1026283465926904E-4,6.3426745704038827E-5,1.1985642648104698E-4,1.6828448183198974E-4,2.641328630742755E-4,5.0490829462570805E-5,9.5411648860022581E-5,1.339627783052889E-4,2.1026283465926885E-4,3.1713372852019414E-5,5.9928213240523491E-5,8.4142240915994872E-5,1.3206643153713775E-4]
[null,"Industria",995,"50-400",0,0,0,0,1.6165276804410652E-6,1.9197565569980312E-6,2.3996956962475392E-6,3.1870886705740636E-6,1.073254243429162E-6,1.073254243429162E-6,1.073254243429162E-6,1.073254243429162E-6,0,0,0,0,0,0,0,0,0,0,0,0,0,0,0,0,0,0,0,0,0,0,0,0,null,0,0,0,0,1.6165276804410652E-6,1.9197565569980312E-6,2.3996956962475392E-6,3.1870886705740636E-6,1.073254243429162E-6,1.073254243429162E-6,1.073254243429162E-6,1.073254243429162E-6,0,0,0,0,0,0,0,0,0,0,0,0,0,0,0,0,0,0,0,0,0,0,0,0,null,null,null,null,null,null,null,null,null,null,null,null,null,null,null,null,null,null,null,null,null,null,null,null,null,null,null,null,null,null,null,null,null,null,null,null,null,null,null,null,null,null,null,null,null,null,null,null,null,null,null,null,null,null,null,null,null,null,null,null,null,null,null,null,null,null,null,null,null,null,null,null,null,null,null,null,null,null,null,null,null,null,null,null,null,null,null,null,null,null,null,null,null,null,null,null,null,null,null,null,null,null,"Industria",995,"50-400",6.3426745704038827E-5,1.1985642648104698E-4,1.6828448183198974E-4,2.641328630742755E-4,5.0490829462570805E-5,9.5411648860022581E-5,1.339627783052889E-4,2.1026283465926885E-4,5.0490829462570805E-5,9.5411648860022581E-5,1.339627783052889E-4,2.1026283465926885E-4,2.8999576965787116E-5,5.4799999999999984E-5,7.694197028184648E-5,1.2076516313256808E-4,2.8999576965787116E-5,5.4799999999999984E-5,7.694197028184648E-5,1.2076516313256808E-4,5.0490829462570846E-5,9.5411648860022649E-5,1.3396277830528901E-4,2.1026283465926904E-4,6.3426745704038827E-5,1.1985642648104698E-4,1.6828448183198974E-4,2.641328630742755E-4,5.0490829462570805E-5,9.5411648860022581E-5,1.339627783052889E-4,2.1026283465926885E-4,3.1713372852019414E-5,5.9928213240523491E-5,8.4142240915994872E-5,1.3206643153713775E-4]
[null,"Plasticos y Cauchos",1011,">400",0,0,0,0,4.5486401148143106E-7,5.4018757559762109E-7,6.7523446949702644E-7,8.967937605923303E-7,8.4984364779463066E-7,8.4984364779463066E-7,8.4984364779463066E-7,8.4984364779463066E-7,0,0,0,0,0,0,0,0,0,0,0,0,0,0,0,0,0,0,0,0,0,0,0,0,null,0,0,0,0,4.5486401148143106E-7,5.4018757559762109E-7,6.7523446949702644E-7,8.967937605923303E-7,8.4984364779463066E-7,8.4984364779463066E-7,8.4984364779463066E-7,8.4984364779463066E-7,0,0,0,0,0,0,0,0,0,0,0,0,0,0,0,0,0,0,0,0,0,0,0,0,null,null,null,null,null,null,null,null,null,null,null,null,null,null,null,null,null,null,null,null,null,null,null,null,null,null,null,null,null,null,null,null,null,null,null,null,null,null,null,null,null,null,null,null,null,null,null,null,null,null,null,null,null,null,null,null,null,null,null,null,null,null,null,null,null,null,null,null,null,null,null,null,null,null,null,null,null,null,null,null,null,null,null,null,null,null,null,null,null,null,null,null,null,null,null,null,null,null,null,null,null,null,"Plasticos y Cauchos",1011,">400",2.0053088417439131E-5,3.7663649863537591E-5,5.2943077492332827E-5,8.292872214477245E-5,5.0799596894510313E-5,9.5411648860022581E-5,1.3411834321871454E-4,2.1007964300739259E-4,5.0799596894510313E-5,9.5411648860022581E-5,1.3411834321871454E-4,2.1007964300739259E-4,2.9176918574201295E-5,5.4799999999999984E-5,7.7031319510767482E-5,1.2065994639391232E-4,2.9176918574201295E-5,5.4799999999999984E-5,7.7031319510767482E-5,1.2065994639391232E-4,5.0799596894510353E-5,9.5411648860022649E-5,1.3411834321871462E-4,2.1007964300739275E-4,2.0053088417439131E-5,3.7663649863537591E-5,5.2943077492332827E-5,8.292872214477245E-5,5.0799596894510313E-5,9.5411648860022581E-5,1.3411834321871454E-4,2.1007964300739259E-4,1.0026544208719565E-5,1.8831824931768796E-5,2.6471538746166413E-5,4.1464361072386225E-5]
[null,"Comercio",1014,">400",0,0,0,0,4.5929552677307891E-6,5.4545035621159546E-6,6.8181294526449424E-6,9.055307790488489E-6,8.4984364779463066E-7,8.4984364779463066E-7,8.4984364779463066E-7,8.4984364779463066E-7,0,0,0,0,0,0,0,0,0,0,0,0,0,0,0,0,0,0,0,0,0,0,0,0,null,0,0,0,0,4.5929552677307891E-6,5.4545035621159546E-6,6.8181294526449424E-6,9.055307790488489E-6,8.4984364779463066E-7,8.4984364779463066E-7,8.4984364779463066E-7,8.4984364779463066E-7,0,0,0,0,0,0,0,0,0,0,0,0,0,0,0,0,0,0,0,0,0,0,0,0,null,null,null,null,null,null,null,null,null,null,null,null,null,null,null,null,null,null,null,null,null,null,null,null,null,null,null,null,null,null,null,null,null,null,null,null,null,null,null,null,null,null,null,null,null,null,null,null,null,null,null,null,null,null,null,null,null,null,null,null,null,null,null,null,null,null,null,null,null,null,null,null,null,null,null,null,null,null,null,null,null,null,null,null,null,null,null,null,null,null,null,null,null,null,null,null,null,null,null,null,null,null,"Comercio",1014,">400",1.9124176834757742E-6,3.5918970945457794E-6,5.0490615463458644E-6,7.9087246511011551E-6,5.0799596894510313E-5,9.5411648860022581E-5,1.3411834321871454E-4,2.1007964300739259E-4,5.0799596894510313E-5,9.5411648860022581E-5,1.3411834321871454E-4,2.1007964300739259E-4,2.9176918574201295E-5,5.4799999999999984E-5,7.7031319510767482E-5,1.2065994639391232E-4,2.9176918574201295E-5,5.4799999999999984E-5,7.7031319510767482E-5,1.2065994639391232E-4,5.0799596894510353E-5,9.5411648860022649E-5,1.3411834321871462E-4,2.1007964300739275E-4,1.9124176834757742E-6,3.5918970945457794E-6,5.0490615463458644E-6,7.9087246511011551E-6,5.0799596894510313E-5,9.5411648860022581E-5,1.3411834321871454E-4,2.1007964300739259E-4,9.5620884173788708E-7,1.7959485472728897E-6,2.5245307731729322E-6,3.9543623255505776E-6]
[null,"Alimentos y Bebidas",1026,"1-50",7.3414213869363895E-5,8.7185280003440911E-5,1.0898160000430112E-4,1.4474086160919358E-4,0,0,0,0,0,0,0,0,0,0,0,0,0,0,0,0,0,0,0,0,0,0,0,0,0,0,0,0,0,0,0,0,null,7.3414213869363895E-5,8.7185280003440911E-5,1.0898160000430112E-4,1.4474086160919358E-4,0,0,0,0,0,0,0,0,0,0,0,0,0,0,0,0,0,0,0,0,0,0,0,0,0,0,0,0,0,0,0,0,null,null,null,null,null,null,null,null,null,null,null,null,null,null,null,null,null,null,null,null,null,null,null,null,null,null,null,null,null,null,null,null,null,null,null,null,null,null,null,null,null,null,null,null,null,null,null,null,null,null,null,null,null,null,null,null,null,null,null,null,null,null,null,null,null,null,null,null,null,null,null,null,null,null,null,null,null,null,null,null,null,null,null,null,null,null,null,null,null,null,null,null,null,null,null,null,null,null,null,null,null,null,"Alimentos y Bebidas",1026,"1-50",1.8609778251422768E-2,3.5249408616051733E-2,4.9549121530228543E-2,7.7772256285864427E-2,2.0400733729388721E-4,3.8641717788309157E-4,5.431759697545203E-4,8.5256851026712136E-4,2.0400733729388721E-4,3.8641717788309157E-4,5.431759697545203E-4,8.5256851026712136E-4,1.1717229727479602E-4,2.2194000000000001E-4,3.1197493700394125E-4,4.8967557862019295E-4,1.1717229727479602E-4,2.2194000000000001E-4,3.1197493700394125E-4,4.8967557862019295E-4,0,0,0,0,1.8609778251422768E-2,3.5249408616051733E-2,4.9549121530228543E-2,7.7772256285864427E-2,2.0400733729388721E-4,3.8641717788309157E-4,5.431759697545203E-4,8.5256851026712136E-4,9.3048891257113842E-3,1.7624704308025867E-2,2.4774560765114272E-2,3.8886128142932214E-2]
[null,"Plasticos y Cauchos",1033,"1-50",7.3414213869363895E-5,8.7185280003440911E-5,1.0898160000430112E-4,1.4474086160919358E-4,0,0,0,0,0,0,0,0,0,0,0,0,0,0,0,0,0,0,0,0,0,0,0,0,0,0,0,0,0,0,0,0,null,7.3414213869363895E-5,8.7185280003440911E-5,1.0898160000430112E-4,1.4474086160919358E-4,0,0,0,0,0,0,0,0,0,0,0,0,0,0,0,0,0,0,0,0,0,0,0,0,0,0,0,0,0,0,0,0,null,null,null,null,null,null,null,null,null,null,null,null,null,null,null,null,null,null,null,null,null,null,null,null,null,null,null,null,null,null,null,null,null,null,null,null,null,null,null,null,null,null,null,null,null,null,null,null,null,null,null,null,null,null,null,null,null,null,null,null,null,null,null,null,null,null,null,null,null,null,null,null,null,null,null,null,null,null,null,null,null,null,null,null,null,null,null,null,null,null,null,null,null,null,null,null,null,null,null,null,null,null,"Plasticos y Cauchos",1033,"1-50",1.8609778251422768E-2,3.5249408616051733E-2,4.9549121530228543E-2,7.7772256285864427E-2,2.0400733729388721E-4,3.8641717788309157E-4,5.431759697545203E-4,8.5256851026712136E-4,2.0400733729388721E-4,3.8641717788309157E-4,5.431759697545203E-4,8.5256851026712136E-4,1.1717229727479602E-4,2.2194000000000001E-4,3.1197493700394125E-4,4.8967557862019295E-4,1.1717229727479602E-4,2.2194000000000001E-4,3.1197493700394125E-4,4.8967557862019295E-4,0,0,0,0,1.8609778251422768E-2,3.5249408616051733E-2,4.9549121530228543E-2,7.7772256285864427E-2,2.0400733729388721E-4,3.8641717788309157E-4,5.431759697545203E-4,8.5256851026712136E-4,9.3048891257113842E-3,1.7624704308025867E-2,2.4774560765114272E-2,3.8886128142932214E-2]
[null,"Estado",1045,"1-50",1.1125782361471944E-4,1.3212760844491764E-4,1.6515951055614706E-4,2.1935198106750098E-4,0,0,0,0,0,0,0,0,0,0,0,0,0,0,0,0,0,0,0,0,0,0,0,0,0,0,0,0,0,0,0,0,null,1.1125782361471944E-4,1.3212760844491764E-4,1.6515951055614706E-4,2.1935198106750098E-4,0,0,0,0,0,0,0,0,0,0,0,0,0,0,0,0,0,0,0,0,0,0,0,0,0,0,0,0,0,0,0,0,null,null,null,null,null,null,null,null,null,null,null,null,null,null,null,null,null,null,null,null,null,null,null,null,null,null,null,null,null,null,null,null,null,null,null,null,null,null,null,null,null,null,null,null,null,null,null,null,null,null,null,null,null,null,null,null,null,null,null,null,null,null,null,null,null,null,null,null,null,null,null,null,null,null,null,null,null,null,null,null,null,null,null,null,null,null,null,null,null,null,null,null,null,null,null,null,null,null,null,null,null,null,"Estado",1045,"1-50",2.4015281975907448E-2,4.5488155525643878E-2,6.3941445681437462E-2,0.10036243524098853,2.0400733729388721E-4,3.8641717788309157E-4,5.431759697545203E-4,8.5256851026712136E-4,2.0400733729388721E-4,3.8641717788309157E-4,5.431759697545203E-4,8.5256851026712136E-4,1.1717229727479602E-4,2.2194000000000001E-4,3.1197493700394125E-4,4.8967557862019295E-4,1.1717229727479602E-4,2.2194000000000001E-4,3.1197493700394125E-4,4.8967557862019295E-4,0,0,0,0,2.4015281975907448E-2,4.5488155525643878E-2,6.3941445681437462E-2,0.10036243524098853,2.0400733729388721E-4,3.8641717788309157E-4,5.431759697545203E-4,8.5256851026712136E-4,1.2007640987953724E-2,2.2744077762821939E-2,3.1970722840718731E-2,5.0181217620494267E-2]
[null,"Hidrocarburos",1052,"50-400",9.4355477661793952E-6,1.1205471401546725E-5,1.4006839251933407E-5,1.8602791495686435E-5,0,0,0,0,0,0,0,0,0,0,0,0,0,0,0,0,0,0,0,0,0,0,0,0,0,0,0,0,0,0,0,0,null,9.4355477661793952E-6,1.1205471401546725E-5,1.4006839251933407E-5,1.8602791495686435E-5,0,0,0,0,0,0,0,0,0,0,0,0,0,0,0,0,0,0,0,0,0,0,0,0,0,0,0,0,0,0,0,0,null,null,null,null,null,null,null,null,null,null,null,null,null,null,null,null,null,null,null,null,null,null,null,null,null,null,null,null,null,null,null,null,null,null,null,null,null,null,null,null,null,null,null,null,null,null,null,null,null,null,null,null,null,null,null,null,null,null,null,null,null,null,null,null,null,null,null,null,null,null,null,null,null,null,null,null,null,null,null,null,null,null,null,null,null,null,null,null,null,null,null,null,null,null,null,null,null,null,null,null,null,null,"Hidrocarburos",1052,"50-400",9.7922767039673765E-3,1.8504296252683183E-2,2.5980967378840022E-2,4.0778729116946237E-2,2.0448785932341182E-4,3.8641717788309157E-4,5.4254925213642017E-4,8.5156448037003918E-4,2.0448785932341182E-4,3.8641717788309157E-4,5.4254925213642017E-4,8.5156448037003918E-4,1.1744828671143785E-4,2.2194000000000001E-4,3.1161497964147833E-4,4.8909891068690088E-4,1.1744828671143785E-4,2.2194000000000001E-4,3.1161497964147833E-4,4.8909891068690088E-4,0,0,0,0,9.7922767039673765E-3,1.8504296252683183E-2,2.5980967378840022E-2,4.0778729116946237E-2,2.0448785932341182E-4,3.8641717788309157E-4,5.4254925213642017E-4,8.5156448037003918E-4,4.8961383519836883E-3,9.2521481263415917E-3,1.2990483689420011E-2,2.0389364558473119E-2]
[null,"Transporte y Aviación",1064,"50-400",7.0949431253515145E-7,8.4258152527925394E-7,1.0532269065990676E-6,1.3988138357770324E-6,0,0,0,0,0,0,0,0,0,0,0,0,0,0,0,0,0,0,0,0,0,0,0,0,0,0,0,0,0,0,0,0,null,7.0949431253515145E-7,8.4258152527925394E-7,1.0532269065990676E-6,1.3988138357770324E-6,0,0,0,0,0,0,0,0,0,0,0,0,0,0,0,0,0,0,0,0,0,0,0,0,0,0,0,0,0,0,0,0,null,null,null,null,null,null,null,null,null,null,null,null,null,null,null,null,null,null,null,null,null,null,null,null,null,null,null,null,null,null,null,null,null,null,null,null,null,null,null,null,null,null,null,null,null,null,null,null,null,null,null,null,null,null,null,null,null,null,null,null,null,null,null,null,null,null,null,null,null,null,null,null,null,null,null,null,null,null,null,null,null,null,null,null,null,null,null,null,null,null,null,null,null,null,null,null,null,null,null,null,null,null,"Transporte y Aviación",1064,"50-400",8.5276868976038485E-3,1.611462272501487E-2,2.2625744941811354E-2,3.5512500770186313E-2,2.0448785932341182E-4,3.8641717788309157E-4,5.4254925213642006E-4,8.5156448037003918E-4,2.0448785932341182E-4,3.8641717788309157E-4,5.4254925213642006E-4,8.5156448037003918E-4,1.1744828671143785E-4,2.2194000000000001E-4,3.1161497964147833E-4,4.8909891068690088E-4,1.1744828671143785E-4,2.2194000000000001E-4,3.1161497964147833E-4,4.8909891068690088E-4,0,0,0,0,8.5276868976038485E-3,1.611462272501487E-2,2.2625744941811354E-2,3.5512500770186313E-2,2.0448785932341182E-4,3.8641717788309157E-4,5.4254925213642006E-4,8.5156448037003918E-4,4.2638434488019242E-3,8.0573113625074348E-3,1.1312872470905677E-2,1.7756250385093156E-2]
[null,"Editoriales",1067,">400",2.6811106873934125E-6,3.184034448922418E-6,3.9800430611530218E-6,5.2859827887482381E-6,0,0,0,0,0,0,0,0,0,0,0,0,0,0,0,0,0,0,0,0,0,0,0,0,0,0,0,0,0,0,0,0,null,2.6811106873934125E-6,3.184034448922418E-6,3.9800430611530218E-6,5.2859827887482381E-6,0,0,0,0,0,0,0,0,0,0,0,0,0,0,0,0,0,0,0,0,0,0,0,0,0,0,0,0,0,0,0,0,null,null,null,null,null,null,null,null,null,null,null,null,null,null,null,null,null,null,null,null,null,null,null,null,null,null,null,null,null,null,null,null,null,null,null,null,null,null,null,null,null,null,null,null,null,null,null,null,null,null,null,null,null,null,null,null,null,null,null,null,null,null,null,null,null,null,null,null,null,null,null,null,null,null,null,null,null,null,null,null,null,null,null,null,null,null,null,null,null,null,null,null,null,null,null,null,null,null,null,null,null,null,"Editoriales",1067,">400",1.0527871419155545E-3,1.9773416178357241E-3,2.7795115683474743E-3,4.3537579126005548E-3,2.0573836742276681E-4,3.8641717788309157E-4,5.4317929003579396E-4,8.5082255417994021E-4,2.0573836742276681E-4,3.8641717788309157E-4,5.4317929003579396E-4,8.5082255417994021E-4,1.1816652022551527E-4,2.2194000000000001E-4,3.1197684401860842E-4,4.8867278289534502E-4,1.1816652022551527E-4,2.2194000000000001E-4,3.1197684401860842E-4,4.8867278289534502E-4,0,0,0,0,1.0527871419155545E-3,1.9773416178357241E-3,2.7795115683474743E-3,4.3537579126005548E-3,2.0573836742276681E-4,3.8641717788309157E-4,5.4317929003579396E-4,8.5082255417994021E-4,5.2639357095777726E-4,9.8867080891786203E-4,1.3897557841737371E-3,2.1768789563002774E-3]
[null,"Educación",1079,">400",3.3092179880470345E-6,3.9299623557053823E-6,4.9124529446317294E-6,6.5243368769824861E-6,0,0,0,0,0,0,0,0,0,0,0,0,0,0,0,0,0,0,0,0,0,0,0,0,0,0,0,0,0,0,0,0,null,3.3092179880470345E-6,3.9299623557053823E-6,4.9124529446317294E-6,6.5243368769824861E-6,0,0,0,0,0,0,0,0,0,0,0,0,0,0,0,0,0,0,0,0,0,0,0,0,0,0,0,0,0,0,0,0,null,null,null,null,null,null,null,null,null,null,null,null,null,null,null,null,null,null,null,null,null,null,null,null,null,null,null,null,null,null,null,null,null,null,null,null,null,null,null,null,null,null,null,null,null,null,null,null,null,null,null,null,null,null,null,null,null,null,null,null,null,null,null,null,null,null,null,null,null,null,null,null,null,null,null,null,null,null,null,null,null,null,null,null,null,null,null,null,null,null,null,null,null,null,null,null,null,null,null,null,null,null,"Educación",1079,">400",8.464863828443938E-3,1.5898681576638242E-2,2.2348474823539622E-2,3.5006096108960688E-2,1.4636205904783539E-4,2.7489677552561595E-4,3.8641717788309157E-4,6.0527427370036602E-4,1.4636205904783539E-4,2.7489677552561595E-4,3.8641717788309157E-4,6.0527427370036602E-4,8.4063538694194203E-5,1.5788788349003894E-4,2.2194000000000001E-4,3.4764130580577202E-4,8.4063538694194203E-5,1.5788788349003894E-4,2.2194000000000001E-4,3.4764130580577202E-4,0,0,0,0,8.464863828443938E-3,1.5898681576638242E-2,2.2348474823539622E-2,3.5006096108960688E-2,1.4636205904783539E-4,2.7489677552561595E-4,3.8641717788309157E-4,6.0527427370036602E-4,4.232431914221969E-3,7.949340788319121E-3,1.1174237411769811E-2,1.7503048054480344E-2]
[null,"Estado",1087,">400",4.0631714790320084E-6,4.8253427290219963E-6,6.0316784112774947E-6,8.0108048529606911E-6,0,0,0,0,0,0,0,0,0,0,0,0,0,0,0,0,0,0,0,0,0,0,0,0,0,0,0,0,0,0,0,0,null,4.0631714790320084E-6,4.8253427290219963E-6,6.0316784112774947E-6,8.0108048529606911E-6,0,0,0,0,0,0,0,0,0,0,0,0,0,0,0,0,0,0,0,0,0,0,0,0,0,0,0,0,0,0,0,0,null,null,null,null,null,null,null,null,null,null,null,null,null,null,null,null,null,null,null,null,null,null,null,null,null,null,null,null,null,null,null,null,null,null,null,null,null,null,null,null,null,null,null,null,null,null,null,null,null,null,null,null,null,null,null,null,null,null,null,null,null,null,null,null,null,null,null,null,null,null,null,null,null,null,null,null,null,null,null,null,null,null,null,null,null,null,null,null,null,null,null,null,null,null,null,null,null,null,null,null,null,null,"Estado",1087,">400",2.3990811849929536E-3,4.5059470075041238E-3,6.3339241538984837E-3,9.9213015397674707E-3,2.0573836742276681E-4,3.8641717788309157E-4,5.4317929003579396E-4,8.5082255417994021E-4,2.0573836742276681E-4,3.8641717788309157E-4,5.4317929003579396E-4,8.5082255417994021E-4,1.1816652022551527E-4,2.2194000000000001E-4,3.1197684401860842E-4,4.8867278289534502E-4,1.1816652022551527E-4,2.2194000000000001E-4,3.1197684401860842E-4,4.8867278289534502E-4,0,0,0,0,2.3990811849929536E-3,4.5059470075041238E-3,6.3339241538984837E-3,9.9213015397674707E-3,2.0573836742276681E-4,3.8641717788309157E-4,5.4317929003579396E-4,8.5082255417994021E-4,1.1995405924964768E-3,2.2529735037520619E-3,3.1669620769492418E-3,4.9606507698837354E-3]
[null,"Quimicas",1099,"1-50",0,0,0,0,0,0,0,0,0,0,0,0,0,0,0,0,0,0,0,0,0,0,0,0,0,0,0,0,0,0,0,0,0,0,0,0,null,0,0,0,0,0,0,0,0,0,0,0,0,0,0,0,0,0,0,0,0,0,0,0,0,0,0,0,0,0,0,0,0,0,0,0,0,null,null,null,null,null,null,null,null,null,null,null,null,null,null,null,null,null,null,null,null,null,null,null,null,null,null,null,null,null,null,null,null,null,null,null,null,null,null,null,null,null,null,null,null,null,null,null,null,null,null,null,null,null,null,null,null,null,null,null,null,null,null,null,null,null,null,null,null,null,null,null,null,null,null,null,null,null,null,null,null,null,null,null,null,null,null,null,null,null,null,null,null,null,null,null,null,null,null,null,null,null,null,"Quimicas",1099,"1-50",-4.4308995836720881E-4,-8.392716337155175E-4,-1.1797409888149653E-3,-1.8517203877586768E-3,-6.2965227559841729E-5,-1.1926456107502825E-4,-1.6764690424522232E-4,-2.6313842909479052E-4,-6.2965227559841729E-5,-1.1926456107502825E-4,-1.6764690424522232E-4,-2.6313842909479052E-4,-3.6164289282344445E-5,-6.8499999999999998E-5,-9.6288560803685564E-5,-1.5113443784573857E-4,-3.6164289282344445E-5,-6.8499999999999998E-5,-9.6288560803685564E-5,-1.5113443784573857E-4,0,0,0,0,-4.4308995836720881E-4,-8.392716337155175E-4,-1.1797409888149653E-3,-1.8517203877586768E-3,-6.2965227559841729E-5,-1.1926456107502825E-4,-1.6764690424522232E-4,-2.6313842909479052E-4,-2.215449791836044E-4,-4.1963581685775875E-4,-5.8987049440748266E-4,-9.2586019387933839E-4]
[null,"Textiles",1106,"1-50",0,0,0,0,0,0,0,0,0,0,0,0,0,0,0,0,0,0,0,0,0,0,0,0,0,0,0,0,0,0,0,0,0,0,0,0,null,0,0,0,0,0,0,0,0,0,0,0,0,0,0,0,0,0,0,0,0,0,0,0,0,0,0,0,0,0,0,0,0,0,0,0,0,null,null,null,null,null,null,null,null,null,null,null,null,null,null,null,null,null,null,null,null,null,null,null,null,null,null,null,null,null,null,null,null,null,null,null,null,null,null,null,null,null,null,null,null,null,null,null,null,null,null,null,null,null,null,null,null,null,null,null,null,null,null,null,null,null,null,null,null,null,null,null,null,null,null,null,null,null,null,null,null,null,null,null,null,null,null,null,null,null,null,null,null,null,null,null,null,null,null,null,null,null,null,"Textiles",1106,"1-50",-4.4308995836720881E-4,-8.392716337155175E-4,-1.1797409888149653E-3,-1.8517203877586768E-3,-6.2965227559841729E-5,-1.1926456107502825E-4,-1.6764690424522232E-4,-2.6313842909479052E-4,-6.2965227559841729E-5,-1.1926456107502825E-4,-1.6764690424522232E-4,-2.6313842909479052E-4,-3.6164289282344445E-5,-6.8499999999999998E-5,-9.6288560803685564E-5,-1.5113443784573857E-4,-3.6164289282344445E-5,-6.8499999999999998E-5,-9.6288560803685564E-5,-1.5113443784573857E-4,0,0,0,0,-4.4308995836720881E-4,-8.392716337155175E-4,-1.1797409888149653E-3,-1.8517203877586768E-3,-6.2965227559841729E-5,-1.1926456107502825E-4,-1.6764690424522232E-4,-2.6313842909479052E-4,-2.215449791836044E-4,-4.1963581685775875E-4,-5.8987049440748266E-4,-9.2586019387933839E-4]
[null,"Plasticos y Cauchos",1118,"50-400",0,0,0,0,0,0,0,0,0,0,0,0,0,0,0,0,0,0,0,0,0,0,0,0,0,0,0,0,0,0,0,0,0,0,0,0,null,0,0,0,0,0,0,0,0,0,0,0,0,0,0,0,0,0,0,0,0,0,0,0,0,0,0,0,0,0,0,0,0,0,0,0,0,null,null,null,null,null,null,null,null,null,null,null,null,null,null,null,null,null,null,null,null,null,null,null,null,null,null,null,null,null,null,null,null,null,null,null,null,null,null,null,null,null,null,null,null,null,null,null,null,null,null,null,null,null,null,null,null,null,null,null,null,null,null,null,null,null,null,null,null,null,null,null,null,null,null,null,null,null,null,null,null,null,null,null,null,null,null,null,null,null,null,null,null,null,null,null,null,null,null,null,null,null,null,"Plasticos y Cauchos",1118,"50-400",-7.9283432130048548E-5,-1.4982053310130876E-4,-2.1035560228998721E-4,-3.3016607884284443E-4,-6.3113536828213518E-5,-1.1926456107502825E-4,-1.6745347288161114E-4,-2.6282854332408613E-4,-6.3113536828213518E-5,-1.1926456107502825E-4,-1.6745347288161114E-4,-2.6282854332408613E-4,-3.6249471207233902E-5,-6.8499999999999998E-5,-9.6177462852308128E-5,-1.5095645391571014E-4,-3.6249471207233902E-5,-6.8499999999999998E-5,-9.6177462852308128E-5,-1.5095645391571014E-4,0,0,0,0,-7.9283432130048548E-5,-1.4982053310130876E-4,-2.1035560228998721E-4,-3.3016607884284443E-4,-6.3113536828213518E-5,-1.1926456107502825E-4,-1.6745347288161114E-4,-2.6282854332408613E-4,-3.9641716065024274E-5,-7.4910266550654378E-5,-1.0517780114499361E-4,-1.6508303942142221E-4]
[null,"Pesca",1125,"50-400",0,0,0,0,0,0,0,0,0,0,0,0,0,0,0,0,0,0,0,0,0,0,0,0,0,0,0,0,0,0,0,0,0,0,0,0,null,0,0,0,0,0,0,0,0,0,0,0,0,0,0,0,0,0,0,0,0,0,0,0,0,0,0,0,0,0,0,0,0,0,0,0,0,null,null,null,null,null,null,null,null,null,null,null,null,null,null,null,null,null,null,null,null,null,null,null,null,null,null,null,null,null,null,null,null,null,null,null,null,null,null,null,null,null,null,null,null,null,null,null,null,null,null,null,null,null,null,null,null,null,null,null,null,null,null,null,null,null,null,null,null,null,null,null,null,null,null,null,null,null,null,null,null,null,null,null,null,null,null,null,null,null,null,null,null,null,null,null,null,null,null,null,null,null,null,"Pesca",1125,"50-400",-7.9283432130048548E-5,-1.4982053310130876E-4,-2.1035560228998721E-4,-3.3016607884284443E-4,-6.3113536828213518E-5,-1.1926456107502825E-4,-1.6745347288161114E-4,-2.6282854332408613E-4,-6.3113536828213518E-5,-1.1926456107502825E-4,-1.6745347288161114E-4,-2.6282854332408613E-4,-3.6249471207233902E-5,-6.8499999999999998E-5,-9.6177462852308128E-5,-1.5095645391571014E-4,-3.6249471207233902E-5,-6.8499999999999998E-5,-9.6177462852308128E-5,-1.5095645391571014E-4,0,0,0,0,-7.9283432130048548E-5,-1.4982053310130876E-4,-2.1035560228998721E-4,-3.3016607884284443E-4,-6.3113536828213518E-5,-1.1926456107502825E-4,-1.6745347288161114E-4,-2.6282854332408613E-4,-3.9641716065024274E-5,-7.4910266550654378E-5,-1.0517780114499361E-4,-1.6508303942142221E-4]
[null,"Hidrocarburos",1137,">400",0,0,0,0,0,0,0,0,0,0,0,0,0,0,0,0,0,0,0,0,0,0,0,0,0,0,0,0,0,0,0,0,0,0,0,0,null,0,0,0,0,0,0,0,0,0,0,0,0,0,0,0,0,0,0,0,0,0,0,0,0,0,0,0,0,0,0,0,0,0,0,0,0,null,null,null,null,null,null,null,null,null,null,null,null,null,null,null,null,null,null,null,null,null,null,null,null,null,null,null,null,null,null,null,null,null,null,null,null,null,null,null,null,null,null,null,null,null,null,null,null,null,null,null,null,null,null,null,null,null,null,null,null,null,null,null,null,null,null,null,null,null,null,null,null,null,null,null,null,null,null,null,null,null,null,null,null,null,null,null,null,null,null,null,null,null,null,null,null,null,null,null,null,null,null,"Hidrocarburos",1137,">400",-6.0807663306271267E-5,-1.1420876884956957E-4,-1.6054109788654324E-4,-2.5146758991065224E-4,-4.517347501476401E-5,-8.4844683804202446E-5,-1.1926456107502825E-4,-1.8681304743838458E-4,-4.517347501476401E-5,-8.4844683804202446E-5,-1.1926456107502825E-4,-1.8681304743838458E-4,-2.5945536634010554E-5,-4.8730828237666333E-5,-6.8499999999999998E-5,-1.0729669932276914E-4,-2.5945536634010554E-5,-4.8730828237666333E-5,-6.8499999999999998E-5,-1.0729669932276914E-4,0,0,0,0,-6.0807663306271267E-5,-1.1420876884956957E-4,-1.6054109788654324E-4,-2.5146758991065224E-4,-4.517347501476401E-5,-8.4844683804202446E-5,-1.1926456107502825E-4,-1.8681304743838458E-4,-3.0403831653135633E-5,-5.7104384424784785E-5,-8.0270548943271619E-5,-1.2573379495532612E-4]
[null,"Instituciones Financieras",1140,">400",0,0,0,0,0,0,0,0,0,0,0,0,0,0,0,0,0,0,0,0,0,0,0,0,0,0,0,0,0,0,0,0,0,0,0,0,null,0,0,0,0,0,0,0,0,0,0,0,0,0,0,0,0,0,0,0,0,0,0,0,0,0,0,0,0,0,0,0,0,0,0,0,0,null,null,null,null,null,null,null,null,null,null,null,null,null,null,null,null,null,null,null,null,null,null,null,null,null,null,null,null,null,null,null,null,null,null,null,null,null,null,null,null,null,null,null,null,null,null,null,null,null,null,null,null,null,null,null,null,null,null,null,null,null,null,null,null,null,null,null,null,null,null,null,null,null,null,null,null,null,null,null,null,null,null,null,null,null,null,null,null,null,null,null,null,null,null,null,null,null,null,null,null,null,null,"Instituciones Financieras",1140,">400",-5.6023571563362885E-5,-1.0522330224367526E-4,-1.4791039808596001E-4,-2.3168317533051632E-4,-6.3499496118137901E-5,-1.1926456107502825E-4,-1.6764792902339322E-4,-2.625995537592408E-4,-6.3499496118137901E-5,-1.1926456107502825E-4,-1.6764792902339322E-4,-2.625995537592408E-4,-3.6471148217751627E-5,-6.8499999999999998E-5,-9.6289149388459393E-5,-1.5082493299239044E-4,-3.6471148217751627E-5,-6.8499999999999998E-5,-9.6289149388459393E-5,-1.5082493299239044E-4,0,0,0,0,-5.6023571563362885E-5,-1.0522330224367526E-4,-1.4791039808596001E-4,-2.3168317533051632E-4,-6.3499496118137901E-5,-1.1926456107502825E-4,-1.6764792902339322E-4,-2.625995537592408E-4,-2.8011785781681442E-5,-5.2611651121837628E-5,-7.3955199042980007E-5,-1.1584158766525816E-4]
[null,"Salud",1156,"1-50",2.1049508818251819E-5,2.4997983680923458E-5,3.1247479601154324E-5,4.1500465403410105E-5,1.2153740291785931E-5,1.4433543513984909E-5,1.8041929392481139E-5,2.396188352214402E-5,7.1579091947921564E-7,7.1579091947921564E-7,7.1579091947921564E-7,7.1579091947921564E-7,0,0,0,0,0,0,0,0,0,0,0,0,0,0,0,0,0,0,0,0,0,0,0,0,null,2.1049508818251819E-5,2.4997983680923458E-5,3.1247479601154324E-5,4.1500465403410105E-5,1.2153740291785931E-5,1.4433543513984909E-5,1.8041929392481139E-5,2.396188352214402E-5,7.1579091947921564E-7,7.1579091947921564E-7,7.1579091947921564E-7,7.1579091947921564E-7,0,0,0,0,0,0,0,0,0,0,0,0,0,0,0,0,0,0,0,0,0,0,0,0,null,null,null,null,null,null,null,null,null,null,null,null,null,null,null,null,null,null,null,null,null,null,null,null,null,null,null,null,null,null,null,null,null,null,null,null,null,null,null,null,null,null,null,null,null,null,null,null,null,null,null,null,null,null,null,null,null,null,null,null,null,null,null,null,null,null,null,null,null,null,null,null,null,null,null,null,null,null,null,null,null,null,null,null,null,null,null,null,null,null,null,null,null,null,null,null,null,null,null,null,null,null,"Salud",1156,"1-50",2.1049508818251819E-5,2.4997983680923458E-5,3.1247479601154324E-5,4.1500465403410105E-5,1.2153740291785931E-5,1.4433543513984909E-5,1.8041929392481139E-5,2.396188352214402E-5,7.1579091947921564E-7,7.1579091947921564E-7,7.1579091947921564E-7,7.1579091947921564E-7,0,0,0,0,0,0,0,0,0,0,0,0,0,0,0,0,0,0,0,0,0,0,0,0]
[null,"Hidrocarburos",1159,"1-50",2.0409695272219278E-6,2.4238153666805177E-6,3.0297692083506474E-6,4.0239031696760709E-6,2.6485050383852398E-4,3.1453126198835636E-4,3.9316407748544546E-4,5.221698646999236E-4,7.1579091947921564E-7,7.1579091947921564E-7,7.1579091947921564E-7,7.1579091947921564E-7,0,0,0,0,0,0,0,0,0,0,0,0,0,0,0,0,0,0,0,0,0,0,0,0,null,2.0409695272219278E-6,2.4238153666805177E-6,3.0297692083506474E-6,4.0239031696760709E-6,2.6485050383852398E-4,3.1453126198835636E-4,3.9316407748544546E-4,5.221698646999236E-4,7.1579091947921564E-7,7.1579091947921564E-7,7.1579091947921564E-7,7.1579091947921564E-7,0,0,0,0,0,0,0,0,0,0,0,0,0,0,0,0,0,0,0,0,0,0,0,0,null,null,null,null,null,null,null,null,null,null,null,null,null,null,null,null,null,null,null,null,null,null,null,null,null,null,null,null,null,null,null,null,null,null,null,null,null,null,null,null,null,null,null,null,null,null,null,null,null,null,null,null,null,null,null,null,null,null,null,null,null,null,null,null,null,null,null,null,null,null,null,null,null,null,null,null,null,null,null,null,null,null,null,null,null,null,null,null,null,null,null,null,null,null,null,null,null,null,null,null,null,null,"Hidrocarburos",1159,"1-50",2.0409695272219278E-6,2.4238153666805177E-6,3.0297692083506474E-6,4.0239031696760709E-6,2.6485050383852398E-4,3.1453126198835636E-4,3.9316407748544546E-4,5.221698646999236E-4,7.1579091947921564E-7,7.1579091947921564E-7,7.1579091947921564E-7,7.1579091947921564E-7,0,0,0,0,0,0,0,0,0,0,0,0,0,0,0,0,0,0,0,0,0,0,0,0]
[null,"Transporte y Aviación",1171,"1-50",1.5346817243741811E-7,1.8225579053917048E-7,2.2781973817396314E-7,3.025724084944514E-7,2.6696834840415978E-5,3.1704637264236789E-5,3.9630796580295986E-5,5.2634533197019825E-5,7.1579091947921564E-7,7.1579091947921564E-7,7.1579091947921564E-7,7.1579091947921564E-7,0,0,0,0,0,0,0,0,0,0,0,0,0,0,0,0,0,0,0,0,0,0,0,0,null,1.5346817243741811E-7,1.8225579053917048E-7,2.2781973817396314E-7,3.025724084944514E-7,2.6696834840415978E-5,3.1704637264236789E-5,3.9630796580295986E-5,5.2634533197019825E-5,7.1579091947921564E-7,7.1579091947921564E-7,7.1579091947921564E-7,7.1579091947921564E-7,0,0,0,0,0,0,0,0,0,0,0,0,0,0,0,0,0,0,0,0,0,0,0,0,null,null,null,null,null,null,null,null,null,null,null,null,null,null,null,null,null,null,null,null,null,null,null,null,null,null,null,null,null,null,null,null,null,null,null,null,null,null,null,null,null,null,null,null,null,null,null,null,null,null,null,null,null,null,null,null,null,null,null,null,null,null,null,null,null,null,null,null,null,null,null,null,null,null,null,null,null,null,null,null,null,null,null,null,null,null,null,null,null,null,null,null,null,null,null,null,null,null,null,null,null,null,"Transporte y Aviación",1171,"1-50",1.5346817243741811E-7,1.8225579053917048E-7,2.2781973817396314E-7,3.025724084944514E-7,2.6696834840415978E-5,3.1704637264236789E-5,3.9630796580295986E-5,5.2634533197019825E-5,7.1579091947921564E-7,7.1579091947921564E-7,7.1579091947921564E-7,7.1579091947921564E-7,0,0,0,0,0,0,0,0,0,0,0,0,0,0,0,0,0,0,0,0,0,0,0,0]
[null,"AgroIndustria",1178,"50-400",4.8930711531130906E-7,5.8109152993184626E-7,7.2636441241480783E-7,9.6470056313199302E-7,6.4312071845777368E-7,7.6375754720372556E-7,9.5469693400465682E-7,1.2679540105672499E-6,5.5029647399118542E-7,5.5029647399118542E-7,5.5029647399118542E-7,5.5029647399118542E-7,0,0,0,0,0,0,0,0,0,0,0,0,0,0,0,0,0,0,0,0,0,0,0,0,null,4.8930711531130906E-7,5.8109152993184626E-7,7.2636441241480783E-7,9.6470056313199302E-7,6.4312071845777368E-7,7.6375754720372556E-7,9.5469693400465682E-7,1.2679540105672499E-6,5.5029647399118542E-7,5.5029647399118542E-7,5.5029647399118542E-7,5.5029647399118542E-7,0,0,0,0,0,0,0,0,0,0,0,0,0,0,0,0,0,0,0,0,0,0,0,0,null,null,null,null,null,null,null,null,null,null,null,null,null,null,null,null,null,null,null,null,null,null,null,null,null,null,null,null,null,null,null,null,null,null,null,null,null,null,null,null,null,null,null,null,null,null,null,null,null,null,null,null,null,null,null,null,null,null,null,null,null,null,null,null,null,null,null,null,null,null,null,null,null,null,null,null,null,null,null,null,null,null,null,null,null,null,null,null,null,null,null,null,null,null,null,null,null,null,null,null,null,null,"AgroIndustria",1178,"50-400",4.8930711531130906E-7,5.8109152993184626E-7,7.2636441241480783E-7,9.6470056313199302E-7,6.4312071845777368E-7,7.6375754720372556E-7,9.5469693400465682E-7,1.2679540105672499E-6,5.5029647399118542E-7,5.5029647399118542E-7,5.5029647399118542E-7,5.5029647399118542E-7,0,0,0,0,0,0,0,0,0,0,0,0,0,0,0,0,0,0,0,0,0,0,0,0]
[null,"Comercio",1185,"50-400",1.4687683211116802E-7,1.7442804408989744E-7,2.1803505511237183E-7,2.895771555632069E-7,6.4938632581795838E-6,7.7119845957338432E-6,9.639980744667304E-6,1.2803070599294864E-5,5.5029647399118542E-7,5.5029647399118542E-7,5.5029647399118542E-7,5.5029647399118542E-7,0,0,0,0,0,0,0,0,0,0,0,0,0,0,0,0,0,0,0,0,0,0,0,0,null,1.4687683211116802E-7,1.7442804408989744E-7,2.1803505511237183E-7,2.895771555632069E-7,6.4938632581795838E-6,7.7119845957338432E-6,9.639980744667304E-6,1.2803070599294864E-5,5.5029647399118542E-7,5.5029647399118542E-7,5.5029647399118542E-7,5.5029647399118542E-7,0,0,0,0,0,0,0,0,0,0,0,0,0,0,0,0,0,0,0,0,0,0,0,0,null,null,null,null,null,null,null,null,null,null,null,null,null,null,null,null,null,null,null,null,null,null,null,null,null,null,null,null,null,null,null,null,null,null,null,null,null,null,null,null,null,null,null,null,null,null,null,null,null,null,null,null,null,null,null,null,null,null,null,null,null,null,null,null,null,null,null,null,null,null,null,null,null,null,null,null,null,null,null,null,null,null,null,null,null,null,null,null,null,null,null,null,null,null,null,null,null,null,null,null,null,null,"Comercio",1185,"50-400",1.4687683211116802E-7,1.7442804408989744E-7,2.1803505511237183E-7,2.895771555632069E-7,6.4938632581795838E-6,7.7119845957338432E-6,9.639980744667304E-6,1.2803070599294864E-5,5.5029647399118542E-7,5.5029647399118542E-7,5.5029647399118542E-7,5.5029647399118542E-7,0,0,0,0,0,0,0,0,0,0,0,0,0,0,0,0,0,0,0,0,0,0,0,0]
[null,"Educación",1186,"50-400",6.0393773195608168E-7,7.1722460120501276E-7,8.9653075150626595E-7,1.1907022233756284E-6,2.4014859337790098E-6,2.8519575777711978E-6,3.5649469722139983E-6,4.7346845369216027E-6,5.5029647399118542E-7,5.5029647399118542E-7,5.5029647399118542E-7,5.5029647399118542E-7,0,0,0,0,0,0,0,0,0,0,0,0,0,0,0,0,0,0,0,0,0,0,0,0,null,6.0393773195608168E-7,7.1722460120501276E-7,8.9653075150626595E-7,1.1907022233756284E-6,2.4014859337790098E-6,2.8519575777711978E-6,3.5649469722139983E-6,4.7346845369216027E-6,5.5029647399118542E-7,5.5029647399118542E-7,5.5029647399118542E-7,5.5029647399118542E-7,0,0,0,0,0,0,0,0,0,0,0,0,0,0,0,0,0,0,0,0,0,0,0,0,null,null,null,null,null,null,null,null,null,null,null,null,null,null,null,null,null,null,null,null,null,null,null,null,null,null,null,null,null,null,null,null,null,null,null,null,null,null,null,null,null,null,null,null,null,null,null,null,null,null,null,null,null,null,null,null,null,null,null,null,null,null,null,null,null,null,null,null,null,null,null,null,null,null,null,null,null,null,null,null,null,null,null,null,null,null,null,null,null,null,null,null,null,null,null,null,null,null,null,null,null,null,"Educación",1186,"50-400",6.0393773195608168E-7,7.1722460120501276E-7,8.9653075150626595E-7,1.1907022233756284E-6,2.4014859337790098E-6,2.8519575777711978E-6,3.5649469722139983E-6,4.7346845369216027E-6,5.5029647399118542E-7,5.5029647399118542E-7,5.5029647399118542E-7,5.5029647399118542E-7,0,0,0,0,0,0,0,0,0,0,0,0,0,0,0,0,0,0,0,0,0,0,0,0]
[null,"Industria",1187,"50-400",4.8930711531130906E-7,5.8109152993184626E-7,7.2636441241480783E-7,9.6470056313199302E-7,6.4312071845777368E-7,7.6375754720372556E-7,9.5469693400465682E-7,1.2679540105672499E-6,5.5029647399118542E-7,5.5029647399118542E-7,5.5029647399118542E-7,5.5029647399118542E-7,0,0,0,0,0,0,0,0,0,0,0,0,0,0,0,0,0,0,0,0,0,0,0,0,null,4.8930711531130906E-7,5.8109152993184626E-7,7.2636441241480783E-7,9.6470056313199302E-7,6.4312071845777368E-7,7.6375754720372556E-7,9.5469693400465682E-7,1.2679540105672499E-6,5.5029647399118542E-7,5.5029647399118542E-7,5.5029647399118542E-7,5.5029647399118542E-7,0,0,0,0,0,0,0,0,0,0,0,0,0,0,0,0,0,0,0,0,0,0,0,0,null,null,null,null,null,null,null,null,null,null,null,null,null,null,null,null,null,null,null,null,null,null,null,null,null,null,null,null,null,null,null,null,null,null,null,null,null,null,null,null,null,null,null,null,null,null,null,null,null,null,null,null,null,null,null,null,null,null,null,null,null,null,null,null,null,null,null,null,null,null,null,null,null,null,null,null,null,null,null,null,null,null,null,null,null,null,null,null,null,null,null,null,null,null,null,null,null,null,null,null,null,null,"Industria",1187,"50-400",4.8930711531130906E-7,5.8109152993184626E-7,7.2636441241480783E-7,9.6470056313199302E-7,6.4312071845777368E-7,7.6375754720372556E-7,9.5469693400465682E-7,1.2679540105672499E-6,5.5029647399118542E-7,5.5029647399118542E-7,5.5029647399118542E-7,5.5029647399118542E-7,0,0,0,0,0,0,0,0,0,0,0,0,0,0,0,0,0,0,0,0,0,0,0,0]
[null,"Construcción",1188,"50-400",2.6939176093022585E-8,3.199243698109391E-8,3.9990546226367396E-8,5.3112324619919873E-8,8.582645713680662E-6,1.0192581657948415E-5,1.2740727072435519E-5,1.6921240043448754E-5,5.5029647399118542E-7,5.5029647399118542E-7,5.5029647399118542E-7,5.5029647399118542E-7,0,0,0,0,0,0,0,0,0,0,0,0,0,0,0,0,0,0,0,0,0,0,0,0,null,2.6939176093022585E-8,3.199243698109391E-8,3.9990546226367396E-8,5.3112324619919873E-8,8.582645713680662E-6,1.0192581657948415E-5,1.2740727072435519E-5,1.6921240043448754E-5,5.5029647399118542E-7,5.5029647399118542E-7,5.5029647399118542E-7,5.5029647399118542E-7,0,0,0,0,0,0,0,0,0,0,0,0,0,0,0,0,0,0,0,0,0,0,0,0,null,null,null,null,null,null,null,null,null,null,null,null,null,null,null,null,null,null,null,null,null,null,null,null,null,null,null,null,null,null,null,null,null,null,null,null,null,null,null,null,null,null,null,null,null,null,null,null,null,null,null,null,null,null,null,null,null,null,null,null,null,null,null,null,null,null,null,null,null,null,null,null,null,null,null,null,null,null,null,null,null,null,null,null,null,null,null,null,null,null,null,null,null,null,null,null,null,null,null,null,null,null,"Construcción",1188,"50-400",2.6939176093022585E-8,3.199243698109391E-8,3.9990546226367396E-8,5.3112324619919873E-8,8.582645713680662E-6,1.0192581657948415E-5,1.2740727072435519E-5,1.6921240043448754E-5,5.5029647399118542E-7,5.5029647399118542E-7,5.5029647399118542E-7,5.5029647399118542E-7,0,0,0,0,0,0,0,0,0,0,0,0,0,0,0,0,0,0,0,0,0,0,0,0]
[null,"Pesca",1189,"50-400",4.8930711531130906E-7,5.8109152993184626E-7,7.2636441241480783E-7,9.6470056313199302E-7,6.4312071845777368E-7,7.6375754720372556E-7,9.5469693400465682E-7,1.2679540105672499E-6,5.5029647399118542E-7,5.5029647399118542E-7,5.5029647399118542E-7,5.5029647399118542E-7,0,0,0,0,0,0,0,0,0,0,0,0,0,0,0,0,0,0,0,0,0,0,0,0,null,4.8930711531130906E-7,5.8109152993184626E-7,7.2636441241480783E-7,9.6470056313199302E-7,6.4312071845777368E-7,7.6375754720372556E-7,9.5469693400465682E-7,1.2679540105672499E-6,5.5029647399118542E-7,5.5029647399118542E-7,5.5029647399118542E-7,5.5029647399118542E-7,0,0,0,0,0,0,0,0,0,0,0,0,0,0,0,0,0,0,0,0,0,0,0,0,null,null,null,null,null,null,null,null,null,null,null,null,null,null,null,null,null,null,null,null,null,null,null,null,null,null,null,null,null,null,null,null,null,null,null,null,null,null,null,null,null,null,null,null,null,null,null,null,null,null,null,null,null,null,null,null,null,null,null,null,null,null,null,null,null,null,null,null,null,null,null,null,null,null,null,null,null,null,null,null,null,null,null,null,null,null,null,null,null,null,null,null,null,null,null,null,null,null,null,null,null,null,"Pesca",1189,"50-400",4.8930711531130906E-7,5.8109152993184626E-7,7.2636441241480783E-7,9.6470056313199302E-7,6.4312071845777368E-7,7.6375754720372556E-7,9.5469693400465682E-7,1.2679540105672499E-6,5.5029647399118542E-7,5.5029647399118542E-7,5.5029647399118542E-7,5.5029647399118542E-7,0,0,0,0,0,0,0,0,0,0,0,0,0,0,0,0,0,0,0,0,0,0,0,0]
[null,"Energia y Agua",1190,"50-400",3.5826345372520389E-7,4.2546664851050514E-7,5.318333106381315E-7,7.0633952530697833E-7,5.1477343514262569E-5,6.1133483171399712E-5,7.6416853964249637E-5,1.0149090565575183E-4,5.5029647399118542E-7,5.5029647399118542E-7,5.5029647399118542E-7,5.5029647399118542E-7,0,0,0,0,0,0,0,0,0,0,0,0,0,0,0,0,0,0,0,0,0,0,0,0,null,3.5826345372520389E-7,4.2546664851050514E-7,5.318333106381315E-7,7.0633952530697833E-7,5.1477343514262569E-5,6.1133483171399712E-5,7.6416853964249637E-5,1.0149090565575183E-4,5.5029647399118542E-7,5.5029647399118542E-7,5.5029647399118542E-7,5.5029647399118542E-7,0,0,0,0,0,0,0,0,0,0,0,0,0,0,0,0,0,0,0,0,0,0,0,0,null,null,null,null,null,null,null,null,null,null,null,null,null,null,null,null,null,null,null,null,null,null,null,null,null,null,null,null,null,null,null,null,null,null,null,null,null,null,null,null,null,null,null,null,null,null,null,null,null,null,null,null,null,null,null,null,null,null,null,null,null,null,null,null,null,null,null,null,null,null,null,null,null,null,null,null,null,null,null,null,null,null,null,null,null,null,null,null,null,null,null,null,null,null,null,null,null,null,null,null,null,null,"Energia y Agua",1190,"50-400",3.5826345372520389E-7,4.2546664851050514E-7,5.318333106381315E-7,7.0633952530697833E-7,5.1477343514262569E-5,6.1133483171399712E-5,7.6416853964249637E-5,1.0149090565575183E-4,5.5029647399118542E-7,5.5029647399118542E-7,5.5029647399118542E-7,5.5029647399118542E-7,0,0,0,0,0,0,0,0,0,0,0,0,0,0,0,0,0,0,0,0,0,0,0,0]
[null,"Textiles",1191,"50-400",4.8930711531130906E-7,5.8109152993184626E-7,7.2636441241480783E-7,9.6470056313199302E-7,6.4312071845777368E-7,7.6375754720372556E-7,9.5469693400465682E-7,1.2679540105672499E-6,5.5029647399118542E-7,5.5029647399118542E-7,5.5029647399118542E-7,5.5029647399118542E-7,0,0,0,0,0,0,0,0,0,0,0,0,0,0,0,0,0,0,0,0,0,0,0,0,null,4.8930711531130906E-7,5.8109152993184626E-7,7.2636441241480783E-7,9.6470056313199302E-7,6.4312071845777368E-7,7.6375754720372556E-7,9.5469693400465682E-7,1.2679540105672499E-6,5.5029647399118542E-7,5.5029647399118542E-7,5.5029647399118542E-7,5.5029647399118542E-7,0,0,0,0,0,0,0,0,0,0,0,0,0,0,0,0,0,0,0,0,0,0,0,0,null,null,null,null,null,null,null,null,null,null,null,null,null,null,null,null,null,null,null,null,null,null,null,null,null,null,null,null,null,null,null,null,null,null,null,null,null,null,null,null,null,null,null,null,null,null,null,null,null,null,null,null,null,null,null,null,null,null,null,null,null,null,null,null,null,null,null,null,null,null,null,null,null,null,null,null,null,null,null,null,null,null,null,null,null,null,null,null,null,null,null,null,null,null,null,null,null,null,null,null,null,null,"Textiles",1191,"50-400",4.8930711531130906E-7,5.8109152993184626E-7,7.2636441241480783E-7,9.6470056313199302E-7,6.4312071845777368E-7,7.6375754720372556E-7,9.5469693400465682E-7,1.2679540105672499E-6,5.5029647399118542E-7,5.5029647399118542E-7,5.5029647399118542E-7,5.5029647399118542E-7,0,0,0,0,0,0,0,0,0,0,0,0,0,0,0,0,0,0,0,0,0,0,0,0]
[null,"Transporte y Aviación",1192,"50-400",2.6939176093022585E-8,3.199243698109391E-8,3.9990546226367396E-8,5.3112324619919873E-8,5.1888975777124026E-6,6.1622329570543703E-6,7.7027911963179618E-6,1.0230246523328444E-5,5.5029647399118542E-7,5.5029647399118542E-7,5.5029647399118542E-7,5.5029647399118542E-7,0,0,0,0,0,0,0,0,0,0,0,0,0,0,0,0,0,0,0,0,0,0,0,0,null,2.6939176093022585E-8,3.199243698109391E-8,3.9990546226367396E-8,5.3112324619919873E-8,5.1888975777124026E-6,6.1622329570543703E-6,7.7027911963179618E-6,1.0230246523328444E-5,5.5029647399118542E-7,5.5029647399118542E-7,5.5029647399118542E-7,5.5029647399118542E-7,0,0,0,0,0,0,0,0,0,0,0,0,0,0,0,0,0,0,0,0,0,0,0,0,null,null,null,null,null,null,null,null,null,null,null,null,null,null,null,null,null,null,null,null,null,null,null,null,null,null,null,null,null,null,null,null,null,null,null,null,null,null,null,null,null,null,null,null,null,null,null,null,null,null,null,null,null,null,null,null,null,null,null,null,null,null,null,null,null,null,null,null,null,null,null,null,null,null,null,null,null,null,null,null,null,null,null,null,null,null,null,null,null,null,null,null,null,null,null,null,null,null,null,null,null,null,"Transporte y Aviación",1192,"50-400",2.6939176093022585E-8,3.199243698109391E-8,3.9990546226367396E-8,5.3112324619919873E-8,5.1888975777124026E-6,6.1622329570543703E-6,7.7027911963179618E-6,1.0230246523328444E-5,5.5029647399118542E-7,5.5029647399118542E-7,5.5029647399118542E-7,5.5029647399118542E-7,0,0,0,0,0,0,0,0,0,0,0,0,0,0,0,0,0,0,0,0,0,0,0,0]
[null,"Actividades Deportivas y de Esparcimiento",1193,"50-400",1.6032816110286543E-7,1.9040257848519036E-7,2.3800322310648793E-7,3.1609731896795991E-7,2.3622468332733265E-7,2.8053579918823026E-7,3.5066974898528782E-7,4.6573221173488939E-7,5.5029647399118542E-7,5.5029647399118542E-7,5.5029647399118542E-7,5.5029647399118542E-7,0,0,0,0,0,0,0,0,0,0,0,0,0,0,0,0,0,0,0,0,0,0,0,0,null,1.6032816110286543E-7,1.9040257848519036E-7,2.3800322310648793E-7,3.1609731896795991E-7,2.3622468332733265E-7,2.8053579918823026E-7,3.5066974898528782E-7,4.6573221173488939E-7,5.5029647399118542E-7,5.5029647399118542E-7,5.5029647399118542E-7,5.5029647399118542E-7,0,0,0,0,0,0,0,0,0,0,0,0,0,0,0,0,0,0,0,0,0,0,0,0,null,null,null,null,null,null,null,null,null,null,null,null,null,null,null,null,null,null,null,null,null,null,null,null,null,null,null,null,null,null,null,null,null,null,null,null,null,null,null,null,null,null,null,null,null,null,null,null,null,null,null,null,null,null,null,null,null,null,null,null,null,null,null,null,null,null,null,null,null,null,null,null,null,null,null,null,null,null,null,null,null,null,null,null,null,null,null,null,null,null,null,null,null,null,null,null,null,null,null,null,null,null,"Actividades Deportivas y de Esparcimiento",1193,"50-400",1.6032816110286543E-7,1.9040257848519036E-7,2.3800322310648793E-7,3.1609731896795991E-7,2.3622468332733265E-7,2.8053579918823026E-7,3.5066974898528782E-7,4.6573221173488939E-7,5.5029647399118542E-7,5.5029647399118542E-7,5.5029647399118542E-7,5.5029647399118542E-7,0,0,0,0,0,0,0,0,0,0,0,0,0,0,0,0,0,0,0,0,0,0,0,0]
[null,"Estado",1194,"50-400",7.4153548556147621E-7,8.8063299371709272E-7,1.1007912421463657E-6,1.4619850766902965E-6,1.4295537916159351E-6,1.6977100350593981E-6,2.1221375438242481E-6,2.8184575793915386E-6,5.5029647399118542E-7,5.5029647399118542E-7,5.5029647399118542E-7,5.5029647399118542E-7,0,0,0,0,0,0,0,0,0,0,0,0,0,0,0,0,0,0,0,0,0,0,0,0,null,7.4153548556147621E-7,8.8063299371709272E-7,1.1007912421463657E-6,1.4619850766902965E-6,1.4295537916159351E-6,1.6977100350593981E-6,2.1221375438242481E-6,2.8184575793915386E-6,5.5029647399118542E-7,5.5029647399118542E-7,5.5029647399118542E-7,5.5029647399118542E-7,0,0,0,0,0,0,0,0,0,0,0,0,0,0,0,0,0,0,0,0,0,0,0,0,null,null,null,null,null,null,null,null,null,null,null,null,null,null,null,null,null,null,null,null,null,null,null,null,null,null,null,null,null,null,null,null,null,null,null,null,null,null,null,null,null,null,null,null,null,null,null,null,null,null,null,null,null,null,null,null,null,null,null,null,null,null,null,null,null,null,null,null,null,null,null,null,null,null,null,null,null,null,null,null,null,null,null,null,null,null,null,null,null,null,null,null,null,null,null,null,null,null,null,null,null,null,"Estado",1194,"50-400",7.4153548556147621E-7,8.8063299371709272E-7,1.1007912421463657E-6,1.4619850766902965E-6,1.4295537916159351E-6,1.6977100350593981E-6,2.1221375438242481E-6,2.8184575793915386E-6,5.5029647399118542E-7,5.5029647399118542E-7,5.5029647399118542E-7,5.5029647399118542E-7,0,0,0,0,0,0,0,0,0,0,0,0,0,0,0,0,0,0,0,0,0,0,0,0]
[null,"Editoriales",1195,">400",1.0180055238849786E-7,1.208963386884394E-7,1.5112042336054923E-7,2.0070636036806886E-7,1.8096347708979922E-7,2.1490867488610914E-7,2.6863584360763646E-7,3.5678117646783776E-7,4.3574573842908769E-7,4.3574573842908769E-7,4.3574573842908769E-7,4.3574573842908769E-7,0,0,0,0,0,0,0,0,0,0,0,0,0,0,0,0,0,0,0,0,0,0,0,0,null,1.0180055238849786E-7,1.208963386884394E-7,1.5112042336054923E-7,2.0070636036806886E-7,1.8096347708979922E-7,2.1490867488610914E-7,2.6863584360763646E-7,3.5678117646783776E-7,4.3574573842908769E-7,4.3574573842908769E-7,4.3574573842908769E-7,4.3574573842908769E-7,0,0,0,0,0,0,0,0,0,0,0,0,0,0,0,0,0,0,0,0,0,0,0,0,null,null,null,null,null,null,null,null,null,null,null,null,null,null,null,null,null,null,null,null,null,null,null,null,null,null,null,null,null,null,null,null,null,null,null,null,null,null,null,null,null,null,null,null,null,null,null,null,null,null,null,null,null,null,null,null,null,null,null,null,null,null,null,null,null,null,null,null,null,null,null,null,null,null,null,null,null,null,null,null,null,null,null,null,null,null,null,null,null,null,null,null,null,null,null,null,null,null,null,null,null,null,"Editoriales",1195,">400",1.0180055238849786E-7,1.208963386884394E-7,1.5112042336054923E-7,2.0070636036806886E-7,1.8096347708979922E-7,2.1490867488610914E-7,2.6863584360763646E-7,3.5678117646783776E-7,4.3574573842908769E-7,4.3574573842908769E-7,4.3574573842908769E-7,4.3574573842908769E-7,0,0,0,0,0,0,0,0,0,0,0,0,0,0,0,0,0,0,0,0,0,0,0,0]
[null,"Alimentos y Bebidas",1196,">400",1.0180055238849786E-7,1.208963386884394E-7,1.5112042336054923E-7,2.0070636036806886E-7,1.8096347708979922E-7,2.1490867488610914E-7,2.6863584360763646E-7,3.5678117646783776E-7,4.3574573842908769E-7,4.3574573842908769E-7,4.3574573842908769E-7,4.3574573842908769E-7,0,0,0,0,0,0,0,0,0,0,0,0,0,0,0,0,0,0,0,0,0,0,0,0,null,1.0180055238849786E-7,1.208963386884394E-7,1.5112042336054923E-7,2.0070636036806886E-7,1.8096347708979922E-7,2.1490867488610914E-7,2.6863584360763646E-7,3.5678117646783776E-7,4.3574573842908769E-7,4.3574573842908769E-7,4.3574573842908769E-7,4.3574573842908769E-7,0,0,0,0,0,0,0,0,0,0,0,0,0,0,0,0,0,0,0,0,0,0,0,0,null,null,null,null,null,null,null,null,null,null,null,null,null,null,null,null,null,null,null,null,null,null,null,null,null,null,null,null,null,null,null,null,null,null,null,null,null,null,null,null,null,null,null,null,null,null,null,null,null,null,null,null,null,null,null,null,null,null,null,null,null,null,null,null,null,null,null,null,null,null,null,null,null,null,null,null,null,null,null,null,null,null,null,null,null,null,null,null,null,null,null,null,null,null,null,null,null,null,null,null,null,null,"Alimentos y Bebidas",1196,">400",1.0180055238849786E-7,1.208963386884394E-7,1.5112042336054923E-7,2.0070636036806886E-7,1.8096347708979922E-7,2.1490867488610914E-7,2.6863584360763646E-7,3.5678117646783776E-7,4.3574573842908769E-7,4.3574573842908769E-7,4.3574573842908769E-7,4.3574573842908769E-7,0,0,0,0,0,0,0,0,0,0,0,0,0,0,0,0,0,0,0,0,0,0,0,0]
[null,"Hoteles",1197,">400",1.0180055238849786E-7,1.208963386884394E-7,1.5112042336054923E-7,2.0070636036806886E-7,1.8096347708979922E-7,2.1490867488610914E-7,2.6863584360763646E-7,3.5678117646783776E-7,4.3574573842908769E-7,4.3574573842908769E-7,4.3574573842908769E-7,4.3574573842908769E-7,0,0,0,0,0,0,0,0,0,0,0,0,0,0,0,0,0,0,0,0,0,0,0,0,null,1.0180055238849786E-7,1.208963386884394E-7,1.5112042336054923E-7,2.0070636036806886E-7,1.8096347708979922E-7,2.1490867488610914E-7,2.6863584360763646E-7,3.5678117646783776E-7,4.3574573842908769E-7,4.3574573842908769E-7,4.3574573842908769E-7,4.3574573842908769E-7,0,0,0,0,0,0,0,0,0,0,0,0,0,0,0,0,0,0,0,0,0,0,0,0,null,null,null,null,null,null,null,null,null,null,null,null,null,null,null,null,null,null,null,null,null,null,null,null,null,null,null,null,null,null,null,null,null,null,null,null,null,null,null,null,null,null,null,null,null,null,null,null,null,null,null,null,null,null,null,null,null,null,null,null,null,null,null,null,null,null,null,null,null,null,null,null,null,null,null,null,null,null,null,null,null,null,null,null,null,null,null,null,null,null,null,null,null,null,null,null,null,null,null,null,null,null,"Hoteles",1197,">400",1.0180055238849786E-7,1.208963386884394E-7,1.5112042336054923E-7,2.0070636036806886E-7,1.8096347708979922E-7,2.1490867488610914E-7,2.6863584360763646E-7,3.5678117646783776E-7,4.3574573842908769E-7,4.3574573842908769E-7,4.3574573842908769E-7,4.3574573842908769E-7,0,0,0,0,0,0,0,0,0,0,0,0,0,0,0,0,0,0,0,0,0,0,0,0]
[null,"Salud",1198,">400",7.6873482780080376E-7,9.1293439890907496E-7,1.141167998636344E-6,1.5156103356616586E-6,6.6469698211343817E-7,7.8938109459462363E-7,9.8672636824327946E-7,1.3104930071352054E-6,4.3574573842908769E-7,4.3574573842908769E-7,4.3574573842908769E-7,4.3574573842908769E-7,0,0,0,0,0,0,0,0,0,0,0,0,0,0,0,0,0,0,0,0,0,0,0,0,null,7.6873482780080376E-7,9.1293439890907496E-7,1.141167998636344E-6,1.5156103356616586E-6,6.6469698211343817E-7,7.8938109459462363E-7,9.8672636824327946E-7,1.3104930071352054E-6,4.3574573842908769E-7,4.3574573842908769E-7,4.3574573842908769E-7,4.3574573842908769E-7,0,0,0,0,0,0,0,0,0,0,0,0,0,0,0,0,0,0,0,0,0,0,0,0,null,null,null,null,null,null,null,null,null,null,null,null,null,null,null,null,null,null,null,null,null,null,null,null,null,null,null,null,null,null,null,null,null,null,null,null,null,null,null,null,null,null,null,null,null,null,null,null,null,null,null,null,null,null,null,null,null,null,null,null,null,null,null,null,null,null,null,null,null,null,null,null,null,null,null,null,null,null,null,null,null,null,null,null,null,null,null,null,null,null,null,null,null,null,null,null,null,null,null,null,null,null,"Salud",1198,">400",7.6873482780080376E-7,9.1293439890907496E-7,1.141167998636344E-6,1.5156103356616586E-6,6.6469698211343817E-7,7.8938109459462363E-7,9.8672636824327946E-7,1.3104930071352054E-6,4.3574573842908769E-7,4.3574573842908769E-7,4.3574573842908769E-7,4.3574573842908769E-7,0,0,0,0,0,0,0,0,0,0,0,0,0,0,0,0,0,0,0,0,0,0,0,0]
[null,"AgroIndustria",1199,">400",1.0180055238849786E-7,1.208963386884394E-7,1.5112042336054923E-7,2.0070636036806886E-7,1.8096347708979922E-7,2.1490867488610914E-7,2.6863584360763646E-7,3.5678117646783776E-7,4.3574573842908769E-7,4.3574573842908769E-7,4.3574573842908769E-7,4.3574573842908769E-7,0,0,0,0,0,0,0,0,0,0,0,0,0,0,0,0,0,0,0,0,0,0,0,0,null,1.0180055238849786E-7,1.208963386884394E-7,1.5112042336054923E-7,2.0070636036806886E-7,1.8096347708979922E-7,2.1490867488610914E-7,2.6863584360763646E-7,3.5678117646783776E-7,4.3574573842908769E-7,4.3574573842908769E-7,4.3574573842908769E-7,4.3574573842908769E-7,0,0,0,0,0,0,0,0,0,0,0,0,0,0,0,0,0,0,0,0,0,0,0,0,null,null,null,null,null,null,null,null,null,null,null,null,null,null,null,null,null,null,null,null,null,null,null,null,null,null,null,null,null,null,null,null,null,null,null,null,null,null,null,null,null,null,null,null,null,null,null,null,null,null,null,null,null,null,null,null,null,null,null,null,null,null,null,null,null,null,null,null,null,null,null,null,null,null,null,null,null,null,null,null,null,null,null,null,null,null,null,null,null,null,null,null,null,null,null,null,null,null,null,null,null,null,"AgroIndustria",1199,">400",1.0180055238849786E-7,1.208963386884394E-7,1.5112042336054923E-7,2.0070636036806886E-7,1.8096347708979922E-7,2.1490867488610914E-7,2.6863584360763646E-7,3.5678117646783776E-7,4.3574573842908769E-7,4.3574573842908769E-7,4.3574573842908769E-7,4.3574573842908769E-7,0,0,0,0,0,0,0,0,0,0,0,0,0,0,0,0,0,0,0,0,0,0,0,0]
[null,"Mineras",1200,">400",6.7946590360518704E-8,8.0692037599179587E-8,1.0086504699897452E-7,1.33961088920581E-7,1.5857525101102558E-5,1.8832085685223977E-5,2.3540107106529969E-5,3.1264134356968311E-5,4.3574573842908769E-7,4.3574573842908769E-7,4.3574573842908769E-7,4.3574573842908769E-7,0,0,0,0,0,0,0,0,0,0,0,0,0,0,0,0,0,0,0,0,0,0,0,0,null,6.7946590360518704E-8,8.0692037599179587E-8,1.0086504699897452E-7,1.33961088920581E-7,1.5857525101102558E-5,1.8832085685223977E-5,2.3540107106529969E-5,3.1264134356968311E-5,4.3574573842908769E-7,4.3574573842908769E-7,4.3574573842908769E-7,4.3574573842908769E-7,0,0,0,0,0,0,0,0,0,0,0,0,0,0,0,0,0,0,0,0,0,0,0,0,null,null,null,null,null,null,null,null,null,null,null,null,null,null,null,null,null,null,null,null,null,null,null,null,null,null,null,null,null,null,null,null,null,null,null,null,null,null,null,null,null,null,null,null,null,null,null,null,null,null,null,null,null,null,null,null,null,null,null,null,null,null,null,null,null,null,null,null,null,null,null,null,null,null,null,null,null,null,null,null,null,null,null,null,null,null,null,null,null,null,null,null,null,null,null,null,null,null,null,null,null,null,"Mineras",1200,">400",6.7946590360518704E-8,8.0692037599179587E-8,1.0086504699897452E-7,1.33961088920581E-7,1.5857525101102558E-5,1.8832085685223977E-5,2.3540107106529969E-5,3.1264134356968311E-5,4.3574573842908769E-7,4.3574573842908769E-7,4.3574573842908769E-7,4.3574573842908769E-7,0,0,0,0,0,0,0,0,0,0,0,0,0,0,0,0,0,0,0,0,0,0,0,0]
[null,"Hidrocarburos",1201,">400",7.4536863145006171E-8,8.8518516256800542E-8,1.1064814532100068E-7,1.4695423712432947E-7,1.448486855784389E-5,1.7201945705988929E-5,2.1502432132486162E-5,2.855785337549114E-5,4.3574573842908769E-7,4.3574573842908769E-7,4.3574573842908769E-7,4.3574573842908769E-7,0,0,0,0,0,0,0,0,0,0,0,0,0,0,0,0,0,0,0,0,0,0,0,0,null,7.4536863145006171E-8,8.8518516256800542E-8,1.1064814532100068E-7,1.4695423712432947E-7,1.448486855784389E-5,1.7201945705988929E-5,2.1502432132486162E-5,2.855785337549114E-5,4.3574573842908769E-7,4.3574573842908769E-7,4.3574573842908769E-7,4.3574573842908769E-7,0,0,0,0,0,0,0,0,0,0,0,0,0,0,0,0,0,0,0,0,0,0,0,0,null,null,null,null,null,null,null,null,null,null,null,null,null,null,null,null,null,null,null,null,null,null,null,null,null,null,null,null,null,null,null,null,null,null,null,null,null,null,null,null,null,null,null,null,null,null,null,null,null,null,null,null,null,null,null,null,null,null,null,null,null,null,null,null,null,null,null,null,null,null,null,null,null,null,null,null,null,null,null,null,null,null,null,null,null,null,null,null,null,null,null,null,null,null,null,null,null,null,null,null,null,null,"Hidrocarburos",1201,">400",7.4536863145006171E-8,8.8518516256800542E-8,1.1064814532100068E-7,1.4695423712432947E-7,1.448486855784389E-5,1.7201945705988929E-5,2.1502432132486162E-5,2.855785337549114E-5,4.3574573842908769E-7,4.3574573842908769E-7,4.3574573842908769E-7,4.3574573842908769E-7,0,0,0,0,0,0,0,0,0,0,0,0,0,0,0,0,0,0,0,0,0,0,0,0]
[null,"Telecomunicaciones",1202,">400",1.0180055238849786E-7,1.208963386884394E-7,1.5112042336054923E-7,2.0070636036806886E-7,1.8096347708979922E-7,2.1490867488610914E-7,2.6863584360763646E-7,3.5678117646783776E-7,4.3574573842908769E-7,4.3574573842908769E-7,4.3574573842908769E-7,4.3574573842908769E-7,0,0,0,0,0,0,0,0,0,0,0,0,0,0,0,0,0,0,0,0,0,0,0,0,null,1.0180055238849786E-7,1.208963386884394E-7,1.5112042336054923E-7,2.0070636036806886E-7,1.8096347708979922E-7,2.1490867488610914E-7,2.6863584360763646E-7,3.5678117646783776E-7,4.3574573842908769E-7,4.3574573842908769E-7,4.3574573842908769E-7,4.3574573842908769E-7,0,0,0,0,0,0,0,0,0,0,0,0,0,0,0,0,0,0,0,0,0,0,0,0,null,null,null,null,null,null,null,null,null,null,null,null,null,null,null,null,null,null,null,null,null,null,null,null,null,null,null,null,null,null,null,null,null,null,null,null,null,null,null,null,null,null,null,null,null,null,null,null,null,null,null,null,null,null,null,null,null,null,null,null,null,null,null,null,null,null,null,null,null,null,null,null,null,null,null,null,null,null,null,null,null,null,null,null,null,null,null,null,null,null,null,null,null,null,null,null,null,null,null,null,null,null,"Telecomunicaciones",1202,">400",1.0180055238849786E-7,1.208963386884394E-7,1.5112042336054923E-7,2.0070636036806886E-7,1.8096347708979922E-7,2.1490867488610914E-7,2.6863584360763646E-7,3.5678117646783776E-7,4.3574573842908769E-7,4.3574573842908769E-7,4.3574573842908769E-7,4.3574573842908769E-7,0,0,0,0,0,0,0,0,0,0,0,0,0,0,0,0,0,0,0,0,0,0,0,0]
[null,"Plasticos y Cauchos",1203,">400",1.0180055238849786E-7,1.208963386884394E-7,1.5112042336054923E-7,2.0070636036806886E-7,1.8096347708979922E-7,2.1490867488610914E-7,2.6863584360763646E-7,3.5678117646783776E-7,4.3574573842908769E-7,4.3574573842908769E-7,4.3574573842908769E-7,4.3574573842908769E-7,0,0,0,0,0,0,0,0,0,0,0,0,0,0,0,0,0,0,0,0,0,0,0,0,null,1.0180055238849786E-7,1.208963386884394E-7,1.5112042336054923E-7,2.0070636036806886E-7,1.8096347708979922E-7,2.1490867488610914E-7,2.6863584360763646E-7,3.5678117646783776E-7,4.3574573842908769E-7,4.3574573842908769E-7,4.3574573842908769E-7,4.3574573842908769E-7,0,0,0,0,0,0,0,0,0,0,0,0,0,0,0,0,0,0,0,0,0,0,0,0,null,null,null,null,null,null,null,null,null,null,null,null,null,null,null,null,null,null,null,null,null,null,null,null,null,null,null,null,null,null,null,null,null,null,null,null,null,null,null,null,null,null,null,null,null,null,null,null,null,null,null,null,null,null,null,null,null,null,null,null,null,null,null,null,null,null,null,null,null,null,null,null,null,null,null,null,null,null,null,null,null,null,null,null,null,null,null,null,null,null,null,null,null,null,null,null,null,null,null,null,null,null,"Plasticos y Cauchos",1203,">400",1.0180055238849786E-7,1.208963386884394E-7,1.5112042336054923E-7,2.0070636036806886E-7,1.8096347708979922E-7,2.1490867488610914E-7,2.6863584360763646E-7,3.5678117646783776E-7,4.3574573842908769E-7,4.3574573842908769E-7,4.3574573842908769E-7,4.3574573842908769E-7,0,0,0,0,0,0,0,0,0,0,0,0,0,0,0,0,0,0,0,0,0,0,0,0]
[null,"Instituciones Financieras",1204,">400",1.8461493389498138E-7,2.1924507334631424E-7,2.7405634168289281E-7,3.639802592646826E-7,6.6941992930488705E-7,7.9498997401490393E-7,9.9373746751862999E-7,1.3198046023944213E-6,4.3574573842908769E-7,4.3574573842908769E-7,4.3574573842908769E-7,4.3574573842908769E-7,0,0,0,0,0,0,0,0,0,0,0,0,0,0,0,0,0,0,0,0,0,0,0,0,null,1.8461493389498138E-7,2.1924507334631424E-7,2.7405634168289281E-7,3.639802592646826E-7,6.6941992930488705E-7,7.9498997401490393E-7,9.9373746751862999E-7,1.3198046023944213E-6,4.3574573842908769E-7,4.3574573842908769E-7,4.3574573842908769E-7,4.3574573842908769E-7,0,0,0,0,0,0,0,0,0,0,0,0,0,0,0,0,0,0,0,0,0,0,0,0,null,null,null,null,null,null,null,null,null,null,null,null,null,null,null,null,null,null,null,null,null,null,null,null,null,null,null,null,null,null,null,null,null,null,null,null,null,null,null,null,null,null,null,null,null,null,null,null,null,null,null,null,null,null,null,null,null,null,null,null,null,null,null,null,null,null,null,null,null,null,null,null,null,null,null,null,null,null,null,null,null,null,null,null,null,null,null,null,null,null,null,null,null,null,null,null,null,null,null,null,null,null,"Instituciones Financieras",1204,">400",1.8461493389498138E-7,2.1924507334631424E-7,2.7405634168289281E-7,3.639802592646826E-7,6.6941992930488705E-7,7.9498997401490393E-7,9.9373746751862999E-7,1.3198046023944213E-6,4.3574573842908769E-7,4.3574573842908769E-7,4.3574573842908769E-7,4.3574573842908769E-7,0,0,0,0,0,0,0,0,0,0,0,0,0,0,0,0,0,0,0,0,0,0,0,0]
[null,"Quimicas",1205,">400",1.0180055238849786E-7,1.208963386884394E-7,1.5112042336054923E-7,2.0070636036806886E-7,1.8096347708979922E-7,2.1490867488610914E-7,2.6863584360763646E-7,3.5678117646783776E-7,4.3574573842908769E-7,4.3574573842908769E-7,4.3574573842908769E-7,4.3574573842908769E-7,0,0,0,0,0,0,0,0,0,0,0,0,0,0,0,0,0,0,0,0,0,0,0,0,null,1.0180055238849786E-7,1.208963386884394E-7,1.5112042336054923E-7,2.0070636036806886E-7,1.8096347708979922E-7,2.1490867488610914E-7,2.6863584360763646E-7,3.5678117646783776E-7,4.3574573842908769E-7,4.3574573842908769E-7,4.3574573842908769E-7,4.3574573842908769E-7,0,0,0,0,0,0,0,0,0,0,0,0,0,0,0,0,0,0,0,0,0,0,0,0,null,null,null,null,null,null,null,null,null,null,null,null,null,null,null,null,null,null,null,null,null,null,null,null,null,null,null,null,null,null,null,null,null,null,null,null,null,null,null,null,null,null,null,null,null,null,null,null,null,null,null,null,null,null,null,null,null,null,null,null,null,null,null,null,null,null,null,null,null,null,null,null,null,null,null,null,null,null,null,null,null,null,null,null,null,null,null,null,null,null,null,null,null,null,null,null,null,null,null,null,null,null,"Quimicas",1205,">400",1.0180055238849786E-7,1.208963386884394E-7,1.5112042336054923E-7,2.0070636036806886E-7,1.8096347708979922E-7,2.1490867488610914E-7,2.6863584360763646E-7,3.5678117646783776E-7,4.3574573842908769E-7,4.3574573842908769E-7,4.3574573842908769E-7,4.3574573842908769E-7,0,0,0,0,0,0,0,0,0,0,0,0,0,0,0,0,0,0,0,0,0,0,0,0]
[null,"Comercio",1206,">400",3.0557787070961856E-8,3.6289828381300908E-8,4.5362285476626129E-8,6.0246649748122125E-8,1.8272651482351963E-6,2.1700242390785266E-6,2.7125302988481581E-6,3.6025711916583223E-6,4.3574573842908769E-7,4.3574573842908769E-7,4.3574573842908769E-7,4.3574573842908769E-7,0,0,0,0,0,0,0,0,0,0,0,0,0,0,0,0,0,0,0,0,0,0,0,0,null,3.0557787070961856E-8,3.6289828381300908E-8,4.5362285476626129E-8,6.0246649748122125E-8,1.8272651482351963E-6,2.1700242390785266E-6,2.7125302988481581E-6,3.6025711916583223E-6,4.3574573842908769E-7,4.3574573842908769E-7,4.3574573842908769E-7,4.3574573842908769E-7,0,0,0,0,0,0,0,0,0,0,0,0,0,0,0,0,0,0,0,0,0,0,0,0,null,null,null,null,null,null,null,null,null,null,null,null,null,null,null,null,null,null,null,null,null,null,null,null,null,null,null,null,null,null,null,null,null,null,null,null,null,null,null,null,null,null,null,null,null,null,null,null,null,null,null,null,null,null,null,null,null,null,null,null,null,null,null,null,null,null,null,null,null,null,null,null,null,null,null,null,null,null,null,null,null,null,null,null,null,null,null,null,null,null,null,null,null,null,null,null,null,null,null,null,null,null,"Comercio",1206,">400",3.0557787070961856E-8,3.6289828381300908E-8,4.5362285476626129E-8,6.0246649748122125E-8,1.8272651482351963E-6,2.1700242390785266E-6,2.7125302988481581E-6,3.6025711916583223E-6,4.3574573842908769E-7,4.3574573842908769E-7,4.3574573842908769E-7,4.3574573842908769E-7,0,0,0,0,0,0,0,0,0,0,0,0,0,0,0,0,0,0,0,0,0,0,0,0]
[null,"Educación",1207,">400",1.2564950068684335E-7,1.4921888177088368E-7,1.8652360221360463E-7,2.4772610141328553E-7,6.7573821257233652E-7,8.0249344325852841E-7,1.0031168040731605E-6,1.3322615057081161E-6,4.3574573842908769E-7,4.3574573842908769E-7,4.3574573842908769E-7,4.3574573842908769E-7,0,0,0,0,0,0,0,0,0,0,0,0,0,0,0,0,0,0,0,0,0,0,0,0,null,1.2564950068684335E-7,1.4921888177088368E-7,1.8652360221360463E-7,2.4772610141328553E-7,6.7573821257233652E-7,8.0249344325852841E-7,1.0031168040731605E-6,1.3322615057081161E-6,4.3574573842908769E-7,4.3574573842908769E-7,4.3574573842908769E-7,4.3574573842908769E-7,0,0,0,0,0,0,0,0,0,0,0,0,0,0,0,0,0,0,0,0,0,0,0,0,null,null,null,null,null,null,null,null,null,null,null,null,null,null,null,null,null,null,null,null,null,null,null,null,null,null,null,null,null,null,null,null,null,null,null,null,null,null,null,null,null,null,null,null,null,null,null,null,null,null,null,null,null,null,null,null,null,null,null,null,null,null,null,null,null,null,null,null,null,null,null,null,null,null,null,null,null,null,null,null,null,null,null,null,null,null,null,null,null,null,null,null,null,null,null,null,null,null,null,null,null,null,"Educación",1207,">400",1.2564950068684335E-7,1.4921888177088368E-7,1.8652360221360463E-7,2.4772610141328553E-7,6.7573821257233652E-7,8.0249344325852841E-7,1.0031168040731605E-6,1.3322615057081161E-6,4.3574573842908769E-7,4.3574573842908769E-7,4.3574573842908769E-7,4.3574573842908769E-7,0,0,0,0,0,0,0,0,0,0,0,0,0,0,0,0,0,0,0,0,0,0,0,0]
[null,"Industria",1208,">400",1.0180055238849786E-7,1.208963386884394E-7,1.5112042336054923E-7,2.0070636036806886E-7,1.8096347708979922E-7,2.1490867488610914E-7,2.6863584360763646E-7,3.5678117646783776E-7,4.3574573842908769E-7,4.3574573842908769E-7,4.3574573842908769E-7,4.3574573842908769E-7,0,0,0,0,0,0,0,0,0,0,0,0,0,0,0,0,0,0,0,0,0,0,0,0,null,1.0180055238849786E-7,1.208963386884394E-7,1.5112042336054923E-7,2.0070636036806886E-7,1.8096347708979922E-7,2.1490867488610914E-7,2.6863584360763646E-7,3.5678117646783776E-7,4.3574573842908769E-7,4.3574573842908769E-7,4.3574573842908769E-7,4.3574573842908769E-7,0,0,0,0,0,0,0,0,0,0,0,0,0,0,0,0,0,0,0,0,0,0,0,0,null,null,null,null,null,null,null,null,null,null,null,null,null,null,null,null,null,null,null,null,null,null,null,null,null,null,null,null,null,null,null,null,null,null,null,null,null,null,null,null,null,null,null,null,null,null,null,null,null,null,null,null,null,null,null,null,null,null,null,null,null,null,null,null,null,null,null,null,null,null,null,null,null,null,null,null,null,null,null,null,null,null,null,null,null,null,null,null,null,null,null,null,null,null,null,null,null,null,null,null,null,null,"Industria",1208,">400",1.0180055238849786E-7,1.208963386884394E-7,1.5112042336054923E-7,2.0070636036806886E-7,1.8096347708979922E-7,2.1490867488610914E-7,2.6863584360763646E-7,3.5678117646783776E-7,4.3574573842908769E-7,4.3574573842908769E-7,4.3574573842908769E-7,4.3574573842908769E-7,0,0,0,0,0,0,0,0,0,0,0,0,0,0,0,0,0,0,0,0,0,0,0,0]
[null,"Construcción",1209,">400",5.6047069853376608E-9,6.6560400513642265E-9,8.3200500642052848E-9,1.1050041611402031E-8,2.4150138013000294E-6,2.8680230078222268E-6,3.5850287597777836E-6,4.7613556009775571E-6,4.3574573842908769E-7,4.3574573842908769E-7,4.3574573842908769E-7,4.3574573842908769E-7,0,0,0,0,0,0,0,0,0,0,0,0,0,0,0,0,0,0,0,0,0,0,0,0,null,5.6047069853376608E-9,6.6560400513642265E-9,8.3200500642052848E-9,1.1050041611402031E-8,2.4150138013000294E-6,2.8680230078222268E-6,3.5850287597777836E-6,4.7613556009775571E-6,4.3574573842908769E-7,4.3574573842908769E-7,4.3574573842908769E-7,4.3574573842908769E-7,0,0,0,0,0,0,0,0,0,0,0,0,0,0,0,0,0,0,0,0,0,0,0,0,null,null,null,null,null,null,null,null,null,null,null,null,null,null,null,null,null,null,null,null,null,null,null,null,null,null,null,null,null,null,null,null,null,null,null,null,null,null,null,null,null,null,null,null,null,null,null,null,null,null,null,null,null,null,null,null,null,null,null,null,null,null,null,null,null,null,null,null,null,null,null,null,null,null,null,null,null,null,null,null,null,null,null,null,null,null,null,null,null,null,null,null,null,null,null,null,null,null,null,null,null,null,"Construcción",1209,">400",5.6047069853376608E-9,6.6560400513642265E-9,8.3200500642052848E-9,1.1050041611402031E-8,2.4150138013000294E-6,2.8680230078222268E-6,3.5850287597777836E-6,4.7613556009775571E-6,4.3574573842908769E-7,4.3574573842908769E-7,4.3574573842908769E-7,4.3574573842908769E-7,0,0,0,0,0,0,0,0,0,0,0,0,0,0,0,0,0,0,0,0,0,0,0,0]
[null,"Pesca",1210,">400",1.0180055238849786E-7,1.208963386884394E-7,1.5112042336054923E-7,2.0070636036806886E-7,1.8096347708979922E-7,2.1490867488610914E-7,2.6863584360763646E-7,3.5678117646783776E-7,4.3574573842908769E-7,4.3574573842908769E-7,4.3574573842908769E-7,4.3574573842908769E-7,0,0,0,0,0,0,0,0,0,0,0,0,0,0,0,0,0,0,0,0,0,0,0,0,null,1.0180055238849786E-7,1.208963386884394E-7,1.5112042336054923E-7,2.0070636036806886E-7,1.8096347708979922E-7,2.1490867488610914E-7,2.6863584360763646E-7,3.5678117646783776E-7,4.3574573842908769E-7,4.3574573842908769E-7,4.3574573842908769E-7,4.3574573842908769E-7,0,0,0,0,0,0,0,0,0,0,0,0,0,0,0,0,0,0,0,0,0,0,0,0,null,null,null,null,null,null,null,null,null,null,null,null,null,null,null,null,null,null,null,null,null,null,null,null,null,null,null,null,null,null,null,null,null,null,null,null,null,null,null,null,null,null,null,null,null,null,null,null,null,null,null,null,null,null,null,null,null,null,null,null,null,null,null,null,null,null,null,null,null,null,null,null,null,null,null,null,null,null,null,null,null,null,null,null,null,null,null,null,null,null,null,null,null,null,null,null,null,null,null,null,null,null,"Pesca",1210,">400",1.0180055238849786E-7,1.208963386884394E-7,1.5112042336054923E-7,2.0070636036806886E-7,1.8096347708979922E-7,2.1490867488610914E-7,2.6863584360763646E-7,3.5678117646783776E-7,4.3574573842908769E-7,4.3574573842908769E-7,4.3574573842908769E-7,4.3574573842908769E-7,0,0,0,0,0,0,0,0,0,0,0,0,0,0,0,0,0,0,0,0,0,0,0,0]
[null,"Energia y Agua",1211,">400",7.4536863145006171E-8,8.8518516256800542E-8,1.1064814532100068E-7,1.4695423712432947E-7,1.448486855784389E-5,1.7201945705988929E-5,2.1502432132486162E-5,2.855785337549114E-5,4.3574573842908769E-7,4.3574573842908769E-7,4.3574573842908769E-7,4.3574573842908769E-7,0,0,0,0,0,0,0,0,0,0,0,0,0,0,0,0,0,0,0,0,0,0,0,0,null,7.4536863145006171E-8,8.8518516256800542E-8,1.1064814532100068E-7,1.4695423712432947E-7,1.448486855784389E-5,1.7201945705988929E-5,2.1502432132486162E-5,2.855785337549114E-5,4.3574573842908769E-7,4.3574573842908769E-7,4.3574573842908769E-7,4.3574573842908769E-7,0,0,0,0,0,0,0,0,0,0,0,0,0,0,0,0,0,0,0,0,0,0,0,0,null,null,null,null,null,null,null,null,null,null,null,null,null,null,null,null,null,null,null,null,null,null,null,null,null,null,null,null,null,null,null,null,null,null,null,null,null,null,null,null,null,null,null,null,null,null,null,null,null,null,null,null,null,null,null,null,null,null,null,null,null,null,null,null,null,null,null,null,null,null,null,null,null,null,null,null,null,null,null,null,null,null,null,null,null,null,null,null,null,null,null,null,null,null,null,null,null,null,null,null,null,null,"Energia y Agua",1211,">400",7.4536863145006171E-8,8.8518516256800542E-8,1.1064814532100068E-7,1.4695423712432947E-7,1.448486855784389E-5,1.7201945705988929E-5,2.1502432132486162E-5,2.855785337549114E-5,4.3574573842908769E-7,4.3574573842908769E-7,4.3574573842908769E-7,4.3574573842908769E-7,0,0,0,0,0,0,0,0,0,0,0,0,0,0,0,0,0,0,0,0,0,0,0,0]
[null,"Textiles",1212,">400",1.0180055238849786E-7,1.208963386884394E-7,1.5112042336054923E-7,2.0070636036806886E-7,1.8096347708979922E-7,2.1490867488610914E-7,2.6863584360763646E-7,3.5678117646783776E-7,4.3574573842908769E-7,4.3574573842908769E-7,4.3574573842908769E-7,4.3574573842908769E-7,0,0,0,0,0,0,0,0,0,0,0,0,0,0,0,0,0,0,0,0,0,0,0,0,null,1.0180055238849786E-7,1.208963386884394E-7,1.5112042336054923E-7,2.0070636036806886E-7,1.8096347708979922E-7,2.1490867488610914E-7,2.6863584360763646E-7,3.5678117646783776E-7,4.3574573842908769E-7,4.3574573842908769E-7,4.3574573842908769E-7,4.3574573842908769E-7,0,0,0,0,0,0,0,0,0,0,0,0,0,0,0,0,0,0,0,0,0,0,0,0,null,null,null,null,null,null,null,null,null,null,null,null,null,null,null,null,null,null,null,null,null,null,null,null,null,null,null,null,null,null,null,null,null,null,null,null,null,null,null,null,null,null,null,null,null,null,null,null,null,null,null,null,null,null,null,null,null,null,null,null,null,null,null,null,null,null,null,null,null,null,null,null,null,null,null,null,null,null,null,null,null,null,null,null,null,null,null,null,null,null,null,null,null,null,null,null,null,null,null,null,null,null,"Textiles",1212,">400",1.0180055238849786E-7,1.208963386884394E-7,1.5112042336054923E-7,2.0070636036806886E-7,1.8096347708979922E-7,2.1490867488610914E-7,2.6863584360763646E-7,3.5678117646783776E-7,4.3574573842908769E-7,4.3574573842908769E-7,4.3574573842908769E-7,4.3574573842908769E-7,0,0,0,0,0,0,0,0,0,0,0,0,0,0,0,0,0,0,0,0,0,0,0,0]
[null,"Transporte y Aviación",1213,">400",5.6047069853376608E-9,6.6560400513642265E-9,8.3200500642052848E-9,1.1050041611402031E-8,1.4600695032457213E-6,1.7339498954722796E-6,2.1674373693403494E-6,2.8786212746913679E-6,4.3574573842908769E-7,4.3574573842908769E-7,4.3574573842908769E-7,4.3574573842908769E-7,0,0,0,0,0,0,0,0,0,0,0,0,0,0,0,0,0,0,0,0,0,0,0,0,null,5.6047069853376608E-9,6.6560400513642265E-9,8.3200500642052848E-9,1.1050041611402031E-8,1.4600695032457213E-6,1.7339498954722796E-6,2.1674373693403494E-6,2.8786212746913679E-6,4.3574573842908769E-7,4.3574573842908769E-7,4.3574573842908769E-7,4.3574573842908769E-7,0,0,0,0,0,0,0,0,0,0,0,0,0,0,0,0,0,0,0,0,0,0,0,0,null,null,null,null,null,null,null,null,null,null,null,null,null,null,null,null,null,null,null,null,null,null,null,null,null,null,null,null,null,null,null,null,null,null,null,null,null,null,null,null,null,null,null,null,null,null,null,null,null,null,null,null,null,null,null,null,null,null,null,null,null,null,null,null,null,null,null,null,null,null,null,null,null,null,null,null,null,null,null,null,null,null,null,null,null,null,null,null,null,null,null,null,null,null,null,null,null,null,null,null,null,null,"Transporte y Aviación",1213,">400",5.6047069853376608E-9,6.6560400513642265E-9,8.3200500642052848E-9,1.1050041611402031E-8,1.4600695032457213E-6,1.7339498954722796E-6,2.1674373693403494E-6,2.8786212746913679E-6,4.3574573842908769E-7,4.3574573842908769E-7,4.3574573842908769E-7,4.3574573842908769E-7,0,0,0,0,0,0,0,0,0,0,0,0,0,0,0,0,0,0,0,0,0,0,0,0]
[null,"Actividades Deportivas y de Esparcimiento",1214,">400",3.3356341759550429E-8,3.9613337021789886E-8,4.9516671277237361E-8,6.5764180966362059E-8,6.6469698211343815E-8,7.8938109459462355E-8,9.8672636824327954E-8,1.3104930071352057E-7,4.3574573842908769E-7,4.3574573842908769E-7,4.3574573842908769E-7,4.3574573842908769E-7,0,0,0,0,0,0,0,0,0,0,0,0,0,0,0,0,0,0,0,0,0,0,0,0,null,3.3356341759550429E-8,3.9613337021789886E-8,4.9516671277237361E-8,6.5764180966362059E-8,6.6469698211343815E-8,7.8938109459462355E-8,9.8672636824327954E-8,1.3104930071352057E-7,4.3574573842908769E-7,4.3574573842908769E-7,4.3574573842908769E-7,4.3574573842908769E-7,0,0,0,0,0,0,0,0,0,0,0,0,0,0,0,0,0,0,0,0,0,0,0,0,null,null,null,null,null,null,null,null,null,null,null,null,null,null,null,null,null,null,null,null,null,null,null,null,null,null,null,null,null,null,null,null,null,null,null,null,null,null,null,null,null,null,null,null,null,null,null,null,null,null,null,null,null,null,null,null,null,null,null,null,null,null,null,null,null,null,null,null,null,null,null,null,null,null,null,null,null,null,null,null,null,null,null,null,null,null,null,null,null,null,null,null,null,null,null,null,null,null,null,null,null,null,"Actividades Deportivas y de Esparcimiento",1214,">400",3.3356341759550429E-8,3.9613337021789886E-8,4.9516671277237361E-8,6.5764180966362059E-8,6.6469698211343815E-8,7.8938109459462355E-8,9.8672636824327954E-8,1.3104930071352057E-7,4.3574573842908769E-7,4.3574573842908769E-7,4.3574573842908769E-7,4.3574573842908769E-7,0,0,0,0,0,0,0,0,0,0,0,0,0,0,0,0,0,0,0,0,0,0,0,0]
[null,"Estado",1215,">400",1.5427677154828108E-7,1.8321606697850646E-7,2.2902008372313308E-7,3.0416661383745205E-7,4.022526679564771E-7,4.7770737626261904E-7,5.9713422032827387E-7,7.9306710071459136E-7,4.3574573842908769E-7,4.3574573842908769E-7,4.3574573842908769E-7,4.3574573842908769E-7,0,0,0,0,0,0,0,0,0,0,0,0,0,0,0,0,0,0,0,0,0,0,0,0,null,1.5427677154828108E-7,1.8321606697850646E-7,2.2902008372313308E-7,3.0416661383745205E-7,4.022526679564771E-7,4.7770737626261904E-7,5.9713422032827387E-7,7.9306710071459136E-7,4.3574573842908769E-7,4.3574573842908769E-7,4.3574573842908769E-7,4.3574573842908769E-7,0,0,0,0,0,0,0,0,0,0,0,0,0,0,0,0,0,0,0,0,0,0,0,0,null,null,null,null,null,null,null,null,null,null,null,null,null,null,null,null,null,null,null,null,null,null,null,null,null,null,null,null,null,null,null,null,null,null,null,null,null,null,null,null,null,null,null,null,null,null,null,null,null,null,null,null,null,null,null,null,null,null,null,null,null,null,null,null,null,null,null,null,null,null,null,null,null,null,null,null,null,null,null,null,null,null,null,null,null,null,null,null,null,null,null,null,null,null,null,null,null,null,null,null,null,null,"Estado",1215,">400",1.5427677154828108E-7,1.8321606697850646E-7,2.2902008372313308E-7,3.0416661383745205E-7,4.022526679564771E-7,4.7770737626261904E-7,5.9713422032827387E-7,7.9306710071459136E-7,4.3574573842908769E-7,4.3574573842908769E-7,4.3574573842908769E-7,4.3574573842908769E-7,0,0,0,0,0,0,0,0,0,0,0,0,0,0,0,0,0,0,0,0,0,0,0,0]

{"sheet":"Actividades","index":9,"n_rows":219,"n_cols":18,"rows_kept":219,"cut":false,"hidden":true,"merged":[[0,3,0,8],[0,9,0,14]]}
[null,null,null,"ACTIVIDADES NO VIAJAN",null,null,null,null,null,"ACTIVIDADES VIAJAN"]
[null,null,null,1,2,3,4,5,6,7,8,9,10,11,12]
[null,"Sub Actividad","ACTIVIDAD","A","B","C","D","E","F","A","B","C","D","E","F"]
[null,"Otras Actividades","Abarrotes y víveres-vendedores","Grupo1","Grupo1","Grupo2",{"$f":"F4","v":"Grupo2"},"Grupo2","Grupo2","Grupo2","Grupo2","Grupo2",{"$f":"L4","v":"Grupo2"},"Grupo2","Grupo2"]
[null,"Asesorar o Gerenciar o Supervisar o Administrar","Abogado","Grupo1",{"$f":"D5","v":"Grupo1"},"Grupo2","Grupo2","Grupo2","Grupo2","Grupo2","Grupo2","Grupo2","Grupo2","Grupo2","Grupo2",null,"A",2]
[null,"Otras Actividades","Abonos, guanos y fertilizantes, personal al servicio de la empresa de","Grupo1","Grupo2","Grupo2","Grupo2","Grupo3","Grupo4","Grupo2","Grupo2","Grupo2","Grupo3","Grupo3","Grupo4",null,"B",3]
[null,"Otras Actividades","Abrasivos, empresa de ","Grupo1",{"$f":"D7","v":"Grupo1"},"Grupo2","Grupo3","Grupo3","Grupo4","Grupo2","Grupo2","Grupo2","Grupo3","Grupo3","Grupo4",null,"C",4]
[null,"Capacitación o enseñanza","Academias, instituciones, universidades y similares","Suscripción","Suscripción","Suscripción","Suscripción","Suscripción","Suscripción","Suscripción","Suscripción","Suscripción","Suscripción","Suscripción","Suscripción",null,"D",5]
[null,"Otras Actividades","Acarreos y mudanzas, operadores de","Grupo1",{"$f":"D9","v":"Grupo1"},"Grupo2","Grupo2","Grupo3","Grupo4","Grupo2","Grupo2","Grupo2","Grupo3","Grupo3","Grupo4",null,"E",6]
[null,"Otras Actividades","Aceites y grasas, personal al servicio de empresas de","Grupo1","Grupo2","Grupo2","Grupo3","Grupo3","Grupo4","Grupo2","Grupo2","Grupo2","Grupo3","Grupo3","Grupo4",null,"F",7]
[null,"Otras Actividades","Acero y fundición, personal de empresas","Grupo1","Grupo2","Grupo2","Grupo3","Grupo3","Grupo4","Grupo2","Grupo2","Grupo2","Grupo3","Grupo3","Grupo4"]
[null,"Otras Actividades","Acidos, personal de fabrica de","Grupo1","Grupo3","Grupo3","Grupo3","Grupo4","Grupo4","Grupo3","Grupo3","Grupo3","Grupo4","Grupo4","Grupo4"]
[null,"Otras Actividades","Actuarios","Grupo1",{"$f":"D13","v":"Grupo1"},"Grupo2",{"$f":"F13","v":"Grupo2"},"Grupo2","Grupo2","Grupo2","Grupo2","Grupo2",{"$f":"L13","v":"Grupo2"},"Grupo2","Grupo2"]
[null,"Asesorar o Gerenciar o Supervisar o Administrar","Administrativo, personal en general","Grupo1",{"$f":"D14","v":"Grupo1"},{"$f":"E14","v":"Grupo1"},"Grupo1","Grupo1","Grupo1","Grupo1","Grupo1","Grupo1","Grupo1","Grupo1","Grupo1"]
[null,"Asesorar o Gerenciar o Supervisar o Administrar","Aduanas, personal de","Grupo1",{"$f":"D15","v":"Grupo1"},"Grupo2","Grupo2","Grupo3","Grupo3","Grupo2","Grupo2","Grupo2","Grupo3","Grupo3","Grupo3"]
[null,"Otras Actividades","Agente vendedor","Grupo2","Grupo2","Grupo2",{"$f":"F16","v":"Grupo2"},"Grupo2","Grupo2","Grupo2","Grupo2","Grupo2",{"$f":"L16","v":"Grupo2"},"Grupo2","Grupo2"]
[null,"Otras Actividades","Agente viajero","Grupo3","Grupo3","Grupo3","Grupo3","Grupo3","Grupo3","Grupo3","Grupo3","Grupo3","Grupo3","Grupo3","Grupo3"]
[null,"Otras Actividades","Agricultor","Grupo2",{"$f":"D18","v":"Grupo2"},"Grupo3","Grupo2","Grupo3","Grupo4","Grupo3","Grupo3","Grupo3","Grupo3","Grupo3","Grupo4"]
[null,"Otras Actividades","Aguas minerales y soda, personal de empresa","Grupo1","Grupo2","Grupo2","Grupo2","Grupo3","Grupo4","Grupo2","Grupo2","Grupo2","Grupo3","Grupo3","Grupo4"]
[null,"Otras Actividades","Aguas potables, personal de planta de","Grupo1",{"$f":"D20","v":"Grupo1"},{"$f":"E20","v":"Grupo1"},"Grupo3","Grupo4","Grupo4",{"$f":"I20","v":"Grupo4"},{"$f":"J20","v":"Grupo4"},{"$f":"K20","v":"Grupo4"},"Grupo4","Grupo4","Grupo4"]
[null,"Otras Actividades","Ajustador","Grupo1",{"$f":"D21","v":"Grupo1"},"Grupo2",{"$f":"F21","v":"Grupo2"},{"$f":"G21","v":"Grupo2"},{"$f":"H21","v":"Grupo2"},"Grupo2","Grupo2","Grupo2",{"$f":"L21","v":"Grupo2"},{"$f":"M21","v":"Grupo2"},{"$f":"N21","v":"Grupo2"}]
[null,"Otras Actividades","Albañil","Grupo4","Grupo4","Grupo4","Grupo4","Grupo4","Grupo4",{"$f":"I22","v":"Grupo4"},{"$f":"J22","v":"Grupo4"},{"$f":"K22","v":"Grupo4"},"Grupo4","Grupo4","Grupo4"]
[null,"Confección o Instalación o Ensamblador","Alfombras o tapetes, fábricas y venta de","Grupo1","Grupo1","Grupo3","Grupo2","Grupo3","Grupo3","Grupo3","Grupo3","Grupo3","Grupo3","Grupo3","Grupo3"]
[null,"Otras Actividades","Alimentos, bebidas, elaboración y procesamiento de","Grupo3","Grupo3","Grupo3","Grupo3","Grupo3","Grupo4","Grupo2","Grupo2","Grupo2","Grupo3","Grupo3","Grupo3"]
[null,"Otras Actividades","Alumnos( escuelas, universidades, etc)","Suscripción","Suscripción","Suscripción","Suscripción","Suscripción","Suscripción","Suscripción","Suscripción","Suscripción","Suscripción","Suscripción","Suscripción"]
[null,"Otras Actividades","Ama de casa(x)","Grupo1","Grupo1","Grupo1","Grupo1",{"$f":"G26","v":"Grupo1"},"Grupo2",{"$f":"I26","v":"Grupo2"},{"$f":"J26","v":"Grupo2"},{"$f":"K26","v":"Grupo2"},{"$f":"L26","v":"Grupo2"},{"$f":"M26","v":"Grupo2"},"Grupo2"]
[null,"Otras Actividades","Andinismo","Suscripción","Suscripción","Suscripción","Suscripción","Suscripción","Suscripción","Suscripción","Suscripción","Suscripción","Suscripción","Suscripción","Suscripción"]
[null,"Otras Actividades","Apicultor","Grupo3","Grupo3","Grupo3","Grupo3","Grupo3","Grupo3",{"$f":"I28","v":"Grupo3"},{"$f":"J28","v":"Grupo3"},{"$f":"K28","v":"Grupo3"},"Grupo3","Grupo3","Grupo3"]
[null,"Otras Actividades","Arquelogo (s)","Grupo2","Grupo2","Grupo2","Grupo3",{"$f":"G29","v":"Grupo3"},{"$f":"H29","v":"Grupo3"},"Grupo2","Grupo2","Grupo2","Grupo3","Grupo3",{"$f":"N29","v":"Grupo3"}]
[null,"Otras Actividades","Arquitectos","Grupo1",{"$f":"D30","v":"Grupo1"},"Grupo2","Grupo3",{"$f":"G30","v":"Grupo3"},{"$f":"H30","v":"Grupo3"},"Grupo2","Grupo2","Grupo2",{"$f":"L30","v":"Grupo2"},"Grupo2",{"$f":"N30","v":"Grupo2"}]
[null,"Otras Actividades","Artes marciales karate(judo, pesas), estudiantes de","Grupo4","Grupo4","Grupo4","Grupo4","Grupo4","Grupo4",{"$f":"I31","v":"Grupo4"},{"$f":"J31","v":"Grupo4"},{"$f":"K31","v":"Grupo4"},"Grupo4","Grupo4","Grupo4"]
[null,"Otras Actividades","Artistas(no extras) radio, tv, teatro cine","Grupo3","Grupo3","Grupo3",{"$f":"F32","v":"Grupo3"},{"$f":"G32","v":"Grupo3"},{"$f":"H32","v":"Grupo3"},"Grupo3","Grupo3","Grupo3","Grupo3","Grupo3",{"$f":"N32","v":"Grupo3"}]
[null,"Otras Actividades","Avicultor","Grupo1","Grupo2","Grupo3","Grupo3","Grupo3","Grupo4","Grupo3","Grupo3","Grupo3","Grupo3","Grupo3","Grupo4"]
[null,"Otras Actividades","Azulejos y mosaicos, ladrillos","Grupo1","Grupo2","Grupo3","Grupo2","Grupo4","Grupo4","Grupo3","Grupo3","Grupo3","Grupo4","Grupo4","Grupo4"]
[null,"Otras Actividades","Bacteriólogo","Grupo1",{"$f":"D35","v":"Grupo1"},"Grupo3",{"$f":"F35","v":"Grupo3"},"Grupo3","Grupo3","Grupo3","Grupo3","Grupo3",{"$f":"L35","v":"Grupo3"},"Grupo3","Grupo3"]
[null,"Asesorar o Gerenciar o Supervisar o Administrar","Bancos, personal administrativo","Grupo1",{"$f":"D36","v":"Grupo1"},"Grupo2","Grupo2","Grupo2","Grupo2","Grupo2","Grupo2","Grupo2","Grupo2","Grupo2","Grupo2"]
[null,"Asesorar o Gerenciar o Supervisar o Administrar","Biblioteca, personal de","Grupo1",{"$f":"D37","v":"Grupo1"},"Grupo2",{"$f":"F37","v":"Grupo2"},"Grupo2","Grupo2","Grupo2","Grupo2","Grupo2",{"$f":"L37","v":"Grupo2"},"Grupo2","Grupo2"]
[null,"Otras Actividades","Bodeguero","Grupo 2","Grupo2",{"$f":"E38","v":"Grupo2"},"Grupo2","Grupo3","Grupo3","Grupo3","Grupo3","Grupo3","Grupo3","Grupo3","Grupo3"]
[null,"Otras Actividades","Bolsa, corredor de","Grupo1",{"$f":"D39","v":"Grupo1"},"Grupo2",{"$f":"F39","v":"Grupo2"},"Grupo2","Grupo2","Grupo2","Grupo2","Grupo2",{"$f":"L39","v":"Grupo2"},"Grupo2","Grupo2"]
[null,"Otras Actividades","Bótanico","Grupo2",{"$f":"D40","v":"Grupo2"},"Grupo3","Grupo3","Grupo3","Grupo3","Grupo3","Grupo3","Grupo3","Grupo3","Grupo3","Grupo3"]
[null,"Otras Actividades","Buzos","Grupo4","Grupo4","Grupo4","Grupo4","Grupo4","Grupo4",{"$f":"I41","v":"Grupo4"},{"$f":"J41","v":"Grupo4"},{"$f":"K41","v":"Grupo4"},{"$f":"L41","v":"Grupo4"},{"$f":"M41","v":"Grupo4"},"Grupo4"]
[null,"Otras Actividades","Café, molino o tostador, personal de empresa de","Grupo1","Grupo2","Grupo3","Grupo2","Grupo3","Grupo4","Grupo3","Grupo3","Grupo3","Grupo3","Grupo3","Grupo4"]
[null,"Otras Actividades","Calzado, empresa fabricación y venta de","Grupo1","Grupo1","Grupo2","Grupo2","Grupo3","Grupo4","Grupo2","Grupo2","Grupo2","Grupo3","Grupo3","Grupo4"]
[null,"Otras Actividades","Cámaras, fotográficas y accesorio, fabricación y ventas","Grupo1","Grupo1","Grupo2","Grupo2","Grupo2","Grupo3","Grupo2","Grupo2","Grupo2","Grupo2","Grupo2","Grupo3"]
[null,"Otras Actividades","Cárcel, custodia de civiles","Suscripción","Suscripción","Suscripción","Suscripción","Suscripción","Suscripción","Suscripción","Suscripción","Suscripción","Suscripción","Suscripción","Suscripción"]
[null,"Otras Actividades","Carnicería","Grupo3","Grupo3",{"$f":"E46","v":"Grupo3"},{"$f":"F46","v":"Grupo3"},"Grupo3","Grupo4",{"$f":"I46","v":"Grupo4"},"Grupo4","Grupo4","Grupo3","Grupo3","Grupo4"]
[null,"Otras Actividades","Carpintería y ebanastería","Grupo3","Grupo3",{"$f":"E47","v":"Grupo3"},"Grupo3","Grupo3","Grupo4","Grupo4","Grupo4","Grupo4","Grupo3","Grupo3","Grupo4"]
[null,"Otras Actividades","Cemento y cal, personal de empresa de","Grupo1","Grupo2","Grupo3","Grupo3","Grupo3","Grupo4","Grupo3","Grupo3","Grupo3","Grupo3","Grupo3","Grupo4"]
[null,"Otras Actividades","Centros de recreacdión, socios de","Grupo3",{"$f":"D49","v":"Grupo3"},{"$f":"E49","v":"Grupo3"},"Grupo3",{"$f":"G49","v":"Grupo3"},"Grupo3","Grupo3","Grupo3","Grupo3","Grupo3","Grupo3","Grupo3"]
[null,"Otras Actividades","Cerrajero","Grupo2","Grupo2","Grupo2","Grupo2","Grupo2","Grupo3","Grupo3","Grupo3","Grupo3","Grupo2","Grupo2","Grupo3"]
[null,"Otras Actividades","Cerveza, fábrica y venta de","Grupo1","Grupo3","Grupo3","Grupo2","Grupo3","Grupo3","Grupo3","Grupo3","Grupo3","Grupo3","Grupo3","Grupo3"]
[null,"Otras Actividades","Chocolates, cocoa, fabricación y venta de","Grupo1","Grupo1","Grupo3","Grupo2","Grupo3","Grupo4","Grupo3","Grupo3","Grupo3","Grupo3","Grupo3","Grupo4"]
[null,"Otras Actividades","Chofer o ayudante de ambulancia, patrulla, carro blindado, jeep y similares","Grupo3","Grupo3","Grupo3","Grupo3","Grupo3","Grupo3",{"$f":"I53","v":"Grupo3"},"Grupo3","Grupo3","Grupo3","Grupo3","Grupo3"]
[null,"Otras Actividades","Chofer o ayudante de auto particular","Grupo2","Grupo2","Grupo2","Grupo2","Grupo2","Grupo2","Grupo2","Grupo2","Grupo2","Grupo2","Grupo2","Grupo2"]
[null,"Otras Actividades","Chofer o ayudante de camiones, omnibus, microbus, y similares particulares","Grupo3","Grupo3","Grupo3","Grupo3","Grupo3","Grupo3","Grupo3","Grupo3","Grupo3","Grupo3","Grupo3","Grupo3"]
[null,"Otras Actividades","Chofer o ayudante de camionetas pick up o furgoneta","Grupo3","Grupo3","Grupo3","Grupo3","Grupo3","Grupo3","Grupo3","Grupo3","Grupo3","Grupo3","Grupo3","Grupo3"]
[null,"Otras Actividades","Chofer o ayudante de ferrocarril","Grupo4","Grupo4","Grupo4","Grupo4","Grupo4","Grupo4","Grupo4","Grupo4","Grupo4","Grupo4","Grupo4","Grupo4"]
[null,"Otras Actividades","Chofer o ayudante de tractor","Grupo4","Grupo4","Grupo4","Grupo4","Grupo4","Grupo4",{"$f":"I58","v":"Grupo4"},"Grupo4","Grupo4","Grupo4","Grupo4","Grupo4"]
[null,"Otras Actividades","Clubs sociales","Grupo2","Grupo2","Grupo2","Grupo2","Grupo2","Grupo2","Grupo2","Grupo2","Grupo2","Grupo2","Grupo2","Grupo2"]
[null,"Otras Actividades","Cobrador ","Grupo2","Grupo2","Grupo2",{"$f":"F60","v":"Grupo2"},"Grupo2","Grupo2","Grupo3","Grupo3","Grupo3",{"$f":"L60","v":"Grupo3"},{"$f":"M60","v":"Grupo3"},{"$f":"N60","v":"Grupo3"}]
[null,"Otras Actividades","Cocinero","Grupo2","Grupo2","Grupo2","Grupo2","Grupo3","Grupo3",{"$f":"I61","v":"Grupo3"},{"$f":"J61","v":"Grupo3"},{"$f":"K61","v":"Grupo3"},"Grupo3","Grupo3","Grupo3"]
[null,"Otras Actividades","Colchones, fabricacion y venta de","Grupo1","Grupo2","Grupo3","Grupo2","Grupo2","Grupo3","Grupo3","Grupo3","Grupo3","Grupo2","Grupo2","Grupo3"]
[null,"Otras Actividades","Combustibles","Suscripción","Suscripción","Suscripción","Suscripción","Suscripción","Suscripción","Suscripción","Suscripción","Suscripción","Suscripción","Suscripción","Suscripción"]
[null,"Otras Actividades","Construccion de caminos, obreros","Grupo2","Grupo2","Grupo2","Grupo2","Grupo2","Grupo2","Grupo4",{"$f":"J64","v":"Grupo4"},{"$f":"K64","v":"Grupo4"},{"$f":"L64","v":"Grupo4"},{"$f":"M64","v":"Grupo4"},"Grupo4"]
[null,"Otras Actividades","Consultor","Grupo1","Grupo2","Grupo3",{"$f":"F65","v":"Grupo3"},"Grupo3","Grupo3","Grupo2","Grupo2","Grupo2",{"$f":"L65","v":"Grupo2"},"Grupo2","Grupo2"]
[null,"Otras Actividades","Contador","Grupo1",{"$f":"D66","v":"Grupo1"},"Grupo2","Grupo2","Grupo2","Grupo2","Grupo2","Grupo2","Grupo2","Grupo2","Grupo2","Grupo2"]
[null,"Otras Actividades","Contralor","Grupo1","Grupo1","Grupo2","Grupo2","Grupo2","Grupo2","Grupo2","Grupo2","Grupo2","Grupo2","Grupo2","Grupo2"]
[null,"Asesorar o Gerenciar o Supervisar o Administrar","Contratista, personal de empresa","Grupo1","Grupo1","Grupo2","Grupo2","Grupo3","Grupo4","Grupo2","Grupo2","Grupo2","Grupo3","Grupo3","Grupo4"]
[null,"Otras Actividades","Correos, personal de","Grupo1","Grupo1","Grupo1","Grupo3","Grupo2",{"$f":"H69","v":"Grupo2"},{"$f":"I69","v":"Grupo2"},{"$f":"J69","v":"Grupo2"},{"$f":"K69","v":"Grupo2"},"Grupo2","Grupo2",{"$f":"N69","v":"Grupo2"}]
[null,"Otras Actividades","Corresponsales","Grupo1","Grupo1","Grupo3",{"$f":"F70","v":"Grupo3"},"Grupo3","Grupo3","Grupo3","Grupo3","Grupo3",{"$f":"L70","v":"Grupo3"},{"$f":"M70","v":"Grupo3"},{"$f":"N70","v":"Grupo3"}]
[null,"Otras Actividades","Construcción civil, obrero de","Grupo2","Grupo2","Grupo2","Grupo2","Grupo2","Grupo2","Grupo4","Grupo4","Grupo4","Grupo4","Grupo4","Grupo4"]
[null,"Otras Actividades","Cueros aretfactos y curtiembre, personal de empresa de","Grupo1","Grupo2","Grupo3","Grupo3","Grupo3","Grupo4","Grupo3","Grupo3","Grupo3","Grupo3","Grupo3","Grupo4"]
[null,"Asesorar o Gerenciar o Supervisar o Administrar","Decoradores","Grupo1","Grupo1","Grupo2","Grupo2","Grupo2","Grupo3","Grupo2","Grupo2","Grupo2","Grupo2","Grupo2","Grupo3"]
[null,"Otras Actividades","Demolición de edificios","Grupo4","Grupo4","Grupo4","Grupo4","Grupo4",{"$f":"H74","v":"Grupo4"},{"$f":"I74","v":"Grupo4"},{"$f":"J74","v":"Grupo4"},{"$f":"K74","v":"Grupo4"},"Grupo4","Grupo4",{"$f":"N74","v":"Grupo4"}]
[null,"Otras Actividades","Dentista","Grupo1",{"$f":"D75","v":"Grupo1"},"Grupo2","Grupo2","Grupo2","Grupo3","Grupo2","Grupo2","Grupo2","Grupo2","Grupo2","Grupo3"]
[null,"Otras Actividades","Deportista o atleta NO profesional","Suscripción","Suscripción","Suscripción","Suscripción","Suscripción","Suscripción","Suscripción","Suscripción","Suscripción","Suscripción","Suscripción","Suscripción"]
[null,"Otras Actividades","Deportista o atleta profesional","Suscripción","Suscripción","Suscripción","Suscripción","Suscripción","Suscripción","Suscripción","Suscripción","Suscripción","Suscripción","Suscripción","Suscripción"]
[null,"Capacitación o enseñanza","Dibujante","Grupo1",{"$f":"D78","v":"Grupo1"},"Grupo2","Grupo2",{"$f":"G78","v":"Grupo2"},{"$f":"H78","v":"Grupo2"},"Grupo2","Grupo2","Grupo2",{"$f":"L78","v":"Grupo2"},"Grupo2","Grupo2"]
[null,"Otras Actividades","Diplomatico","Grupo1","Grupo1","Grupo2",{"$f":"F79","v":"Grupo2"},{"$f":"G79","v":"Grupo2"},{"$f":"H79","v":"Grupo2"},"Grupo2","Grupo2","Grupo2","Grupo2","Grupo2","Grupo2"]
[null,"Otras Actividades","Diques o represas, personal de empresa de","Grupo2","Grupo2","Grupo2","Grupo3","Grupo4","Grupo4",{"$f":"I80","v":"Grupo4"},{"$f":"J80","v":"Grupo4"},{"$f":"K80","v":"Grupo4"},"Grupo4","Grupo4","Grupo4"]
[null,"Otras Actividades","Discos, musicales, fábricas, ventas de","Grupo1","Grupo1","Grupo2","Grupo2","Grupo3","Grupo3","Grupo2","Grupo2","Grupo2","Grupo3","Grupo3","Grupo4"]
[null,"Otras Actividades","Disecador","Grupo1","Grupo2","Grupo2","Grupo2","Grupo3","Grupo3","Grupo2","Grupo2","Grupo2","Grupo3","Grupo3","Grupo3"]
[null,"Confección o Instalación o Ensamblador","Diseñador","Grupo1","Grupo1","Grupo2","Grupo2",{"$f":"G83","v":"Grupo2"},{"$f":"H83","v":"Grupo2"},"Grupo2","Grupo2","Grupo2",{"$f":"L83","v":"Grupo2"},{"$f":"M83","v":"Grupo2"},{"$f":"N83","v":"Grupo2"}]
[null,"Otras Actividades","Doméstico, (emplado del hogar)","Grupo2","Grupo2","Grupo2","Grupo2","Grupo2","Grupo2",{"$f":"I84","v":"Grupo2"},{"$f":"J84","v":"Grupo2"},{"$f":"K84","v":"Grupo2"},"Grupo3","Grupo3","Grupo3"]
[null,"Capacitación o enseñanza","Editor","Grupo1","Grupo2","Grupo2",{"$f":"F85","v":"Grupo2"},{"$f":"G85","v":"Grupo2"},{"$f":"H85","v":"Grupo2"},"Grupo2","Grupo2","Grupo2",{"$f":"L85","v":"Grupo2"},{"$f":"M85","v":"Grupo2"},{"$f":"N85","v":"Grupo2"}]
[null,"Otras Actividades","Electricidad, fabricación, articulos de instalación y mantenimiento planta de luz","Grupo4","Grupo4","Grupo4","Grupo4","Grupo4","Grupo4",{"$f":"I86","v":"Grupo4"},{"$f":"J86","v":"Grupo4"},{"$f":"K86","v":"Grupo4"},"Grupo4","Grupo4","Grupo4"]
[null,"Otras Actividades","Elevadores, personal de empresa de","Grupo1",{"$f":"D87","v":"Grupo1"},"Grupo2","Grupo2","Grupo4","Grupo4","Grupo2","Grupo2","Grupo2","Grupo4","Grupo4","Grupo4"]
[null,"Otras Actividades","Embarcaciones pesqueras, tripulantes de","Grupo4","Grupo4","Grupo4","Grupo4","Grupo4","Grupo4",{"$f":"I88","v":"Grupo4"},{"$f":"J88","v":"Grupo4"},{"$f":"K88","v":"Grupo4"},{"$f":"L88","v":"Grupo4"},{"$f":"M88","v":"Grupo4"},"Grupo4"]
[null,"Confección o Instalación o Ensamblador","Empacador","Grupo1","Grupo1","Grupo2","Grupo3","Grupo4","Grupo4","Grupo2","Grupo2","Grupo2","Grupo4","Grupo4","Grupo4"]
[null,"Asistencia médica","Enfermero","Grupo1","Grupo1","Grupo2","Grupo2","Grupo3","Grupo3","Grupo2","Grupo2","Grupo2","Grupo3","Grupo3","Grupo3"]
[null,"Asistencia médica","Entomólogo","Grupo1","Grupo1","Grupo3",{"$f":"F91","v":"Grupo3"},{"$f":"G91","v":"Grupo3"},{"$f":"H91","v":"Grupo3"},"Grupo3","Grupo3","Grupo3",{"$f":"L91","v":"Grupo3"},{"$f":"M91","v":"Grupo3"},{"$f":"N91","v":"Grupo3"}]
[null,"Otras Actividades","Escritor","Grupo1","Grupo1","Grupo2",{"$f":"F92","v":"Grupo2"},"Grupo2","Grupo2","Grupo2","Grupo2","Grupo2",{"$f":"L92","v":"Grupo2"},"Grupo2","Grupo2"]
[null,"Otras Actividades","Escultor","Grupo4","Grupo4","Grupo4",{"$f":"F93","v":"Grupo4"},"Grupo4","Grupo4","Grupo4","Grupo4","Grupo4","Grupo4","Grupo4","Grupo4"]
[null,"Asesorar o Gerenciar o Supervisar o Administrar","Espectaculos, personal de empresa de","Grupo1","Grupo2","Grupo3","Grupo2","Grupo4","Grupo4","Grupo3","Grupo3","Grupo3","Grupo4","Grupo4","Grupo4"]
[null,"Otras Actividades","Esquí","Suscripción","Suscripción","Suscripción","Suscripción","Suscripción","Suscripción","Suscripción","Suscripción","Suscripción","Suscripción","Suscripción","Suscripción"]
[null,"Otras Actividades","Establos","Grupo2",{"$f":"D96","v":"Grupo2"},"Grupo3","Grupo2","Grupo3","Grupo4","Grupo3","Grupo3","Grupo3","Grupo3","Grupo3","Grupo4"]
[null,"Otras Actividades","Estacionamiento, playas de","Grupo1",{"$f":"D97","v":"Grupo1"},"Grupo2","Grupo2","Grupo3","Grupo3",{"$f":"I97","v":"Grupo3"},{"$f":"J97","v":"Grupo3"},{"$f":"K97","v":"Grupo3"},"Grupo3","Grupo3","Grupo3"]
[null,"Otras Actividades","Estibador","Grupo4","Grupo4","Grupo4","Grupo4","Grupo4","Grupo4","Suscripción","Suscripción","Suscripción","Suscripción","Suscripción","Suscripción"]
[null,"Otras Actividades","Estudiante individual","Grupo1",{"$f":"D99","v":"Grupo1"},"Grupo2","Grupo2","Grupo3","Grupo4","Grupo2","Grupo2","Grupo2","Grupo3","Grupo3","Grupo4"]
[null,"Otras Actividades","Etnólogo","Grupo1",{"$f":"D100","v":"Grupo1"},"Grupo3",{"$f":"F100","v":"Grupo3"},{"$f":"G100","v":"Grupo3"},{"$f":"H100","v":"Grupo3"},"Grupo3","Grupo3","Grupo3",{"$f":"L100","v":"Grupo3"},{"$f":"M100","v":"Grupo3"},{"$f":"N100","v":"Grupo3"}]
[null,"Otras Actividades","Explosivos","Suscripción","Suscripción","Suscripción","Suscripción","Suscripción","Suscripción","Suscripción","Suscripción","Suscripción","Suscripción","Suscripción","Suscripción"]
[null,"Asistencia médica","Farmacia o droguería","Grupo1","Grupo1","Grupo2","Grupo2",{"$f":"G102","v":"Grupo2"},{"$f":"H102","v":"Grupo2"},"Grupo2","Grupo2","Grupo2",{"$f":"L102","v":"Grupo2"},{"$f":"M102","v":"Grupo2"},{"$f":"N102","v":"Grupo2"}]
[null,"Otras Actividades","Ferretería","Grupo1","Grupo2","Grupo2","Grupo2","Grupo3","Grupo3","Grupo2","Grupo2","Grupo2","Grupo3","Grupo3","Grupo3"]
[null,"Otras Actividades","Ferrocarril, personal de empresa","Grupo1","Grupo2","Grupo3","Grupo3","Grupo4","Grupo4","Grupo3","Grupo3","Grupo3","Grupo4","Grupo4","Grupo4"]
[null,"Otras Actividades","Florería, personal de","Grupo1","Grupo1","Grupo2","Grupo2",{"$f":"G105","v":"Grupo2"},"Grupo2","Grupo2","Grupo2","Grupo2",{"$f":"L105","v":"Grupo2"},"Grupo2","Grupo2"]
[null,"Otras Actividades","Fotógrafo(no periodista)","Grupo1",{"$f":"D106","v":"Grupo1"},"Grupo2",{"$f":"F106","v":"Grupo2"},"Grupo2","Grupo2","Grupo2","Grupo2","Grupo2","Grupo2","Grupo2","Grupo2"]
[null,"Otras Actividades","Fotógrafo(periodista)","Grupo3","Grupo3","Grupo3",{"$f":"F107","v":"Grupo3"},"Grupo3","Grupo3","Grupo3","Grupo3","Grupo3","Grupo3","Grupo3","Grupo3"]
[null,"Otras Actividades","Fuentes de soda","Grupo2","Grupo2",{"$f":"E108","v":"Grupo2"},"Grupo2","Grupo2","Grupo3",{"$f":"I108","v":"Grupo3"},{"$f":"J108","v":"Grupo3"},{"$f":"K108","v":"Grupo3"},"Grupo2","Grupo2","Grupo3"]
[null,"Otras Actividades","Fuerza áerea(clase y tropa)","Suscripción","Suscripción","Suscripción","Suscripción","Suscripción","Suscripción","Suscripción","Suscripción","Suscripción","Suscripción","Suscripción","Suscripción"]
[null,"Otras Actividades","Fuerzas armadas(jefes y oficiales)(Grupo2)","Suscripción","Suscripción","Suscripción","Suscripción","Suscripción","Suscripción","Suscripción","Suscripción","Suscripción","Suscripción","Suscripción","Suscripción"]
[null,"Otras Actividades","Fuerzas policiales(clase y tropas)(Grupo2)","Suscripción","Suscripción","Suscripción","Suscripción","Suscripción","Suscripción","Suscripción","Suscripción","Suscripción","Suscripción","Suscripción","Suscripción"]
[null,"Otras Actividades","Fuerzas policiales(jefes y oficiales)(Grupo2)","Suscripción","Suscripción","Suscripción","Suscripción","Suscripción","Suscripción","Suscripción","Suscripción","Suscripción","Suscripción","Suscripción","Suscripción"]
[null,"Otras Actividades","Fuerzas policiales(jefes y oficiales)(Grupo2)","Suscripción","Suscripción","Suscripción","Suscripción","Suscripción","Suscripción","Suscripción","Suscripción","Suscripción","Suscripción","Suscripción","Suscripción"]
[null,"Otras Actividades","Fumigación e insecticidas, personal de empresa de","Grupo1","Grupo2","Grupo3","Grupo3","Grupo4","Grupo4","Grupo3","Grupo3","Grupo3","Grupo4","Grupo4","Grupo4"]
[null,"Otras Actividades","Funeraria, personal de","Grupo1",{"$f":"D115","v":"Grupo1"},{"$f":"E115","v":"Grupo1"},"Grupo2","Grupo3","Grupo3",{"$f":"I115","v":"Grupo3"},{"$f":"J115","v":"Grupo3"},{"$f":"K115","v":"Grupo3"},"Grupo3","Grupo3","Grupo3"]
[null,"Otras Actividades","Fútbol, equipos profesionales de","Suscripción","Suscripción","Suscripción","Suscripción","Suscripción","Suscripción","Suscripción","Suscripción","Suscripción","Suscripción","Suscripción","Suscripción"]
[null,"Otras Actividades","Ganadería","Grupo1",{"$f":"D117","v":"Grupo1"},"Grupo2","Grupo3","Grupo3","Grupo4","Grupo2","Grupo2","Grupo2","Grupo3","Grupo3","Grupo4"]
[null,"Otras Actividades","Gas, embotelladora","Grupo1",{"$f":"D118","v":"Grupo1"},"Grupo2","Grupo2","Grupo3","Grupo4","Grupo2","Grupo2","Grupo2","Grupo3","Grupo3","Grupo4"]
[null,"Otras Actividades","Gasolina y diesel, expendio, personal de","Grupo2","Grupo2",{"$f":"E119","v":"Grupo2"},"Grupo2","Grupo3","Grupo4",{"$f":"I119","v":"Grupo4"},{"$f":"J119","v":"Grupo4"},{"$f":"K119","v":"Grupo4"},"Grupo3","Grupo3","Grupo4"]
[null,"Otras Actividades","Geólogo","Grupo3","Grupo3","Grupo3","Grupo3",{"$f":"G120","v":"Grupo3"},{"$f":"H120","v":"Grupo3"},"Grupo3","Grupo3","Grupo3",{"$f":"L120","v":"Grupo3"},{"$f":"M120","v":"Grupo3"},{"$f":"N120","v":"Grupo3"}]
[null,"Otras Actividades","Grabados, taller de","Grupo1","Grupo2","Grupo2","Grupo2","Grupo2","Grupo3",{"$f":"I121","v":"Grupo3"},"Grupo3","Grupo3","Grupo2","Grupo2","Grupo3"]
[null,"Otras Actividades","Grúas, operador","Grupo4","Grupo4","Grupo4","Grupo4","Grupo4","Grupo4","Grupo4","Grupo4","Grupo4",{"$f":"L122","v":"Grupo4"},{"$f":"M122","v":"Grupo4"},"Grupo4"]
[null,"Otras Actividades","Guardabosque","Grupo4","Grupo4","Grupo4","Grupo4",{"$f":"G123","v":"Grupo4"},"Grupo4","Grupo4","Grupo4","Grupo4","Grupo4","Grupo4","Grupo4"]
[null,"Otras Actividades","Helados, personal de empresa de","Grupo1","Grupo2","Grupo3","Grupo3","Grupo3","Grupo3","Grupo3","Grupo3","Grupo3","Grupo3","Grupo3","Grupo3"]
[null,"Otras Actividades","Herrero","Grupo4","Grupo4","Grupo4","Grupo4","Grupo4","Grupo4",{"$f":"I125","v":"Grupo4"},"Grupo4","Grupo4","Grupo4","Grupo4","Grupo4"]
[null,"Otras Actividades","Hielo, personal de fábrica de","Grupo1","Grupo2",{"$f":"E126","v":"Grupo2"},"Grupo2","Grupo3","Grupo3","Grupo3","Grupo3","Grupo3","Grupo3","Grupo3","Grupo3"]
[null,"Otras Actividades","Hospitales o sanatorios, personal de","Grupo1",{"$f":"D127","v":"Grupo1"},"Grupo2","Grupo2","Grupo2","Grupo3","Grupo2","Grupo2","Grupo2","Grupo2","Grupo2","Grupo3"]
[null,"Otras Actividades","Hotel o casa de huéspedes","Grupo1",{"$f":"D128","v":"Grupo1"},"Grupo2","Grupo2","Grupo2","Grupo3","Grupo2","Grupo2","Grupo2","Grupo2","Grupo2","Grupo3"]
[null,"Otras Actividades","Imprenta, personal de","Grupo1",{"$f":"D129","v":"Grupo1"},"Grupo2","Grupo2","Grupo3","Grupo4","Grupo2","Grupo2","Grupo2","Grupo3","Grupo3","Grupo4"]
[null,"Otras Actividades","Ingeniero cualquier especialidad","Grupo1",{"$f":"D130","v":"Grupo1"},"Grupo2","Grupo2","Grupo3","Grupo4","Grupo2","Grupo2","Grupo2","Grupo3","Grupo3","Grupo4"]
[null,"Otras Actividades","Jardinero","Grupo2","Grupo2","Grupo2","Grupo2","Grupo3","Grupo3",{"$f":"I131","v":"Grupo3"},{"$f":"J131","v":"Grupo3"},{"$f":"K131","v":"Grupo3"},"Grupo3","Grupo3","Grupo3"]
[null,"Otras Actividades","Joyería, personal de","Grupo1","Grupo1","Grupo2","Grupo2","Grupo3","Grupo3","Grupo2","Grupo2","Grupo2","Grupo3","Grupo3","Grupo3"]
[null,"Otras Actividades","Laboratorio, personal de","Grupo1",{"$f":"D133","v":"Grupo1"},"Grupo2","Grupo2","Grupo3","Grupo3","Grupo2","Grupo2","Grupo2","Grupo3","Grupo3","Grupo3"]
[null,"Otras Actividades","Lácteos, productos, fábricas ventas de, personal","Grupo1","Grupo2","Grupo3","Grupo2","Grupo3","Grupo4","Grupo3","Grupo3","Grupo3","Grupo3","Grupo3","Grupo4"]
[null,"Asesorar o Gerenciar o Supervisar o Administrar","Lapiceros y lápices, fábrica y venta de, personal","Grupo1","Grupo1","Grupo2","Grupo2","Grupo3","Grupo3","Grupo2","Grupo2","Grupo2","Grupo3","Grupo3","Grupo3"]
[null,"Asesorar o Gerenciar o Supervisar o Administrar","Lavandería, personal de","Grupo1",{"$f":"D136","v":"Grupo1"},{"$f":"E136","v":"Grupo1"},"Grupo2","Grupo3","Grupo3",{"$f":"I136","v":"Grupo3"},"Grupo3","Grupo3","Grupo3","Grupo3","Grupo3"]
[null,"Otras Actividades","Levadura, fábrica y venta de","Grupo1","Grupo2",{"$f":"E137","v":"Grupo2"},"Grupo2","Grupo3","Grupo3","Grupo3","Grupo3","Grupo3","Grupo3","Grupo3","Grupo3"]
[null,"Capacitación o enseñanza","Librería, personal","Grupo1","Grupo1","Grupo2",{"$f":"F138","v":"Grupo2"},{"$f":"G138","v":"Grupo2"},{"$f":"H138","v":"Grupo2"},"Grupo2","Grupo2","Grupo2",{"$f":"L138","v":"Grupo2"},{"$f":"M138","v":"Grupo2"},{"$f":"N138","v":"Grupo2"}]
[null,"Otras Actividades","Licores, personal de fábrica y venta de","Grupo1","Grupo2","Grupo3","Grupo2","Grupo3","Grupo4","Grupo3","Grupo3","Grupo3","Grupo3","Grupo3","Grupo4"]
[null,"Otras Actividades","Limpieza de oficinas","Grupo2","Grupo2","Grupo2","Grupo2","Grupo2","Grupo2","Grupo2","Grupo2","Grupo2","Grupo2","Grupo2","Grupo2"]
[null,"Otras Actividades","Limpieza y pintura de edificios, obreros","Grupo4","Grupo4","Grupo4","Grupo4","Grupo4","Grupo4",{"$f":"I141","v":"Grupo4"},{"$f":"J141","v":"Grupo4"},{"$f":"K141","v":"Grupo4"},"Grupo4","Grupo4","Grupo4"]
[null,"Otras Actividades","Losas, personal de fábrica y venta de","Grupo1","Grupo1","Grupo3","Grupo2","Grupo3","Grupo4","Grupo3","Grupo3","Grupo3","Grupo3","Grupo3","Grupo4"]
[null,"Otras Actividades","Madera, maderería y aserradero, personal de","Grupo1",{"$f":"D143","v":"Grupo1"},"Grupo2","Grupo2","Grupo3","Grupo4","Grupo2","Grupo2","Grupo2","Grupo3","Grupo3","Grupo4"]
[null,"Otras Actividades","Manicurista","Grupo2","Grupo2","Grupo2","Grupo2","Grupo2",{"$f":"H144","v":"Grupo2"},{"$f":"I144","v":"Grupo2"},{"$f":"J144","v":"Grupo2"},{"$f":"K144","v":"Grupo2"},"Grupo2","Grupo2",{"$f":"N144","v":"Grupo2"}]
[null,"Otras Actividades","Maquinaria pesada, personal de venta de","Grupo1","Grupo2","Grupo3",{"$f":"F145","v":"Grupo3"},{"$f":"G145","v":"Grupo3"},{"$f":"H145","v":"Grupo3"},"Grupo3","Grupo3","Grupo3",{"$f":"L145","v":"Grupo3"},{"$f":"M145","v":"Grupo3"},{"$f":"N145","v":"Grupo3"}]
[null,"Otras Actividades","Masajista","Grupo2","Grupo2","Grupo2","Grupo2","Grupo2","Grupo3",{"$f":"I146","v":"Grupo3"},{"$f":"J146","v":"Grupo3"},{"$f":"K146","v":"Grupo3"},"Grupo2","Grupo2","Grupo3"]
[null,"Otras Actividades","Mayordomo","Grupo2","Grupo2","Grupo2","Grupo2",{"$f":"G147","v":"Grupo2"},"Grupo2","Grupo2","Grupo2","Grupo2","Grupo2","Grupo2","Grupo2"]
[null,"Asistencia médica","Médicos","Grupo1",{"$f":"D148","v":"Grupo1"},"Grupo3","Grupo3",{"$f":"G148","v":"Grupo3"},"Grupo3","Grupo3","Grupo3","Grupo3","Grupo3","Grupo3","Grupo3"]
[null,"Otras Actividades","Metales fundicion de (calderos)","Grupo4","Grupo4","Grupo4","Grupo4","Grupo4","Grupo4",{"$f":"I149","v":"Grupo4"},"Grupo4","Grupo4","Grupo4","Grupo4","Grupo4"]
[null,"Otras Actividades","Meteorólogo","Grupo1",{"$f":"D150","v":"Grupo1"},"Grupo2",{"$f":"F150","v":"Grupo2"},{"$f":"G150","v":"Grupo2"},{"$f":"H150","v":"Grupo2"},"Grupo2","Grupo2","Grupo2","Grupo2","Grupo2","Grupo2"]
[null,"Otras Actividades","Mecánico de vehículos","Grupo2","Grupo2","Grupo2","Grupo2","Grupo2","Grupo2","Grupo3","Grupo3","Grupo3","Grupo3","Grupo3","Grupo3"]
[null,"Otras Actividades","Minas: obreros (sin socavon) ","Grupo4","Grupo4","Grupo4","Grupo4","Grupo4","Grupo4","Grupo4","Grupo4","Grupo4","Grupo4","Grupo4","Grupo4"]
[null,"Otras Actividades","Minas: Trabajadores en socavón","Grupo4","Grupo4","Grupo4","Grupo4","Grupo4","Grupo4","Grupo4","Grupo4","Grupo4","Grupo4","Grupo4","Grupo4"]
[null,"Otras Actividades","Minas: Funcionarios, empleados (administrativos) ","Grupo1","Grupo1","Grupo2","Grupo2","Grupo2","Grupo2",{"$f":"I154","v":"Grupo2"},"Grupo2","Grupo2","Grupo2","Grupo2","Grupo2"]
[null,"Otras Actividades","Modelo de pasarela","Grupo1",{"$f":"D155","v":"Grupo1"},"Grupo1","Grupo1","Grupo1","Grupo1","Grupo1","Grupo1","Grupo1","Grupo1","Grupo1","Grupo1"]
[null,"Otras Actividades","Modista","Grupo1","Grupo1","Grupo1","Grupo1","Grupo1","Grupo3","Grupo3","Grupo3","Grupo3","Grupo1","Grupo1","Grupo3"]
[null,"Otras Actividades","Molino, personal de empresa de","Grupo2","Grupo2","Grupo3","Grupo2","Grupo3","Grupo4","Grupo3","Grupo3","Grupo3","Grupo3","Grupo3","Grupo4"]
[null,"Otras Actividades","Motocross, práctica de","Grupo4","Grupo4","Grupo4","Grupo4","Grupo4","Grupo4","Grupo4","Grupo4","Grupo4","Grupo4","Grupo4","Grupo4"]
[null,"Otras Actividades","Motores, venta de","Grupo1","Grupo2","Grupo3",{"$f":"F159","v":"Grupo3"},"Grupo3","Grupo3","Grupo3","Grupo3","Grupo3",{"$f":"L159","v":"Grupo3"},"Grupo3","Grupo3"]
[null,"Otras Actividades","Mozo","Grupo2","Grupo2","Grupo2","Grupo2","Grupo2","Grupo2","Grupo2","Grupo2","Grupo2","Grupo2","Grupo2","Grupo2"]
[null,"Otras Actividades","Muebles, acabado de","Grupo1","Grupo3","Grupo3",{"$f":"F161","v":"Grupo3"},{"$f":"G161","v":"Grupo3"},{"$f":"H161","v":"Grupo3"},"Grupo3","Grupo3","Grupo3",{"$f":"L161","v":"Grupo3"},{"$f":"M161","v":"Grupo3"},{"$f":"N161","v":"Grupo3"}]
[null,"Otras Actividades","Municiones","Grupo4","Grupo4","Grupo4","Grupo4","Grupo4","Grupo4","Grupo4","Grupo4","Grupo4","Grupo4","Grupo4","Grupo4"]
[null,"Otras Actividades","Museos, personal de","Grupo1",{"$f":"D163","v":"Grupo1"},"Grupo1","Grupo1","Grupo2","Grupo2",{"$f":"I163","v":"Grupo2"},{"$f":"J163","v":"Grupo2"},{"$f":"K163","v":"Grupo2"},"Grupo2","Grupo2","Grupo2"]
[null,"Otras Actividades","Músicos","Grupo1","Grupo1","Grupo3","Grupo3","Grupo3","Grupo3","Grupo4","Grupo4","Grupo4",{"$f":"L164","v":"Grupo4"},"Grupo4","Grupo4"]
[null,"Asistencia médica","Oculistas","Grupo1","Grupo1","Grupo2","Grupo2","Grupo2","Grupo2","Grupo3","Grupo3","Grupo3","Grupo3","Grupo3","Grupo3"]
[null,"Otras Actividades","Ocupantes","Suscripción","Suscripción","Suscripción","Suscripción","Suscripción","Suscripción","Grupo2","Grupo2","Grupo2",{"$f":"L166","v":"Grupo2"},{"$f":"M166","v":"Grupo2"},"Grupo3"]
[null,"Otras Actividades","Panadero","Grupo1","Grupo2","Grupo3","Grupo2","Grupo2","Grupo3","Grupo3","Grupo3","Grupo3","Grupo2","Grupo2","Grupo3"]
[null,"Otras Actividades","Papel y pulpa, fábrica y venta de","Grupo1","Grupo2","Grupo3","Grupo2","Grupo3","Grupo4","Grupo3","Grupo3","Grupo3","Grupo3","Grupo3","Grupo4"]
[null,"Otras Actividades","Parafina, cera, sebo, vela, fábrica de","Grupo1","Grupo1","Grupo3","Grupo2","Grupo3","Grupo4","Grupo3","Grupo3","Grupo3","Grupo3","Grupo3","Grupo4"]
[null,"Otras Actividades","Parques, cuidado de","Grupo1",{"$f":"D170","v":"Grupo1"},{"$f":"E170","v":"Grupo1"},"Grupo2","Grupo3","Grupo3",{"$f":"I170","v":"Grupo3"},"Grupo3","Grupo3","Grupo3","Grupo3","Grupo3"]
[null,"Otras Actividades","Pedicurista","Grupo2","Grupo2","Grupo2","Grupo2","Grupo2",{"$f":"H171","v":"Grupo2"},"Grupo2","Grupo2","Grupo2","Grupo2","Grupo2",{"$f":"N171","v":"Grupo2"}]
[null,"Otras Actividades","Peletería","Grupo1","Grupo1","Grupo3",{"$f":"F172","v":"Grupo3"},{"$f":"G172","v":"Grupo3"},{"$f":"H172","v":"Grupo3"},"Grupo3","Grupo3","Grupo3",{"$f":"L172","v":"Grupo3"},{"$f":"M172","v":"Grupo3"},{"$f":"N172","v":"Grupo3"}]
[null,"Otras Actividades","Perfumes y cosméticos, fábrica y venta de","Grupo1","Grupo1","Grupo3","Grupo2","Grupo3","Grupo3","Grupo3","Grupo3","Grupo3","Grupo3","Grupo3","Grupo3"]
[null,"Otras Actividades","Periodista","Grupo3","Grupo3","Grupo3",{"$f":"F174","v":"Grupo3"},"Grupo3","Grupo3","Grupo3","Grupo3","Grupo3",{"$f":"L174","v":"Grupo3"},{"$f":"M174","v":"Grupo3"},{"$f":"N174","v":"Grupo3"}]
[null,"Otras Actividades","Perros, entrenador y cría de","Grupo3","Grupo3","Grupo3","Grupo3","Grupo3","Grupo3","Grupo3","Grupo3","Grupo3","Grupo3","Grupo3","Grupo3"]
[null,"Otras Actividades","Pescador(es)","Grupo4","Grupo4","Grupo4","Grupo4","Grupo4","Grupo4","Grupo4","Grupo4","Grupo4","Grupo4","Grupo4","Grupo4"]
[null,"Otras Actividades","Petróleo explotación y perforación","Grupo4","Grupo4","Grupo4","Grupo4","Grupo4","Grupo4","Grupo4","Grupo4","Grupo4","Grupo4","Grupo4","Grupo4"]
[null,"Otras Actividades","Pintor(artista)","Grupo2","Grupo2",{"$f":"E178","v":"Grupo2"},"Grupo2","Grupo2","Grupo2","Grupo2","Grupo2","Grupo2","Grupo2","Grupo2",{"$f":"N178","v":"Grupo2"}]
[null,"Otras Actividades","Pintura de edificios, trabajos de","Grupo4","Grupo4","Grupo4","Grupo4","Grupo4","Grupo4","Grupo3","Grupo3","Grupo3","Grupo4","Grupo4","Grupo4"]
[null,"Otras Actividades","Pinturas colorantes, lcas, tintes, esmaltes, fabrica y venta","Grupo1","Grupo1","Grupo3","Grupo2","Grupo3","Grupo3","Grupo3","Grupo3","Grupo3","Grupo3","Grupo3","Grupo3"]
[null,"Otras Actividades","Platería","Grupo1","Grupo1","Grupo3",{"$f":"F181","v":"Grupo3"},"Grupo3","Grupo4","Grupo3","Grupo3","Grupo3","Grupo3","Grupo3","Grupo4"]
[null,"Otras Actividades","Plomero o gasfitero","Grupo3","Grupo3","Grupo3","Grupo3","Grupo3","Grupo3",{"$f":"I182","v":"Grupo3"},{"$f":"J182","v":"Grupo3"},{"$f":"K182","v":"Grupo3"},"Grupo3","Grupo3","Grupo3"]
[null,"Otras Actividades","Policía de investigaciones","Suscripción","Suscripción","Suscripción","Suscripción","Suscripción","Suscripción","Suscripción","Suscripción","Suscripción","Suscripción","Suscripción","Suscripción"]
[null,"Otras Actividades","Policía particular","Suscripción","Suscripción","Suscripción","Suscripción","Grupo4","Suscripción","Suscripción","Suscripción","Suscripción","Suscripción","Suscripción","Suscripción"]
[null,"Otras Actividades","Pozos, perforador de","Grupo4","Grupo4","Grupo4","Grupo4","Grupo4","Grupo4","Grupo4","Grupo4","Grupo4","Grupo4","Grupo4","Grupo4"]
[null,"Otras Actividades","Profesor","Grupo1",{"$f":"D186","v":"Grupo1"},"Grupo2","Grupo2","Grupo2","Grupo3","Grupo2","Grupo2","Grupo2","Grupo2","Grupo2","Grupo3"]
[null,"Otras Actividades","Publicista","Grupo1","Grupo1","Grupo2",{"$f":"F187","v":"Grupo2"},{"$f":"G187","v":"Grupo2"},{"$f":"H187","v":"Grupo2"},"Grupo2","Grupo2","Grupo2",{"$f":"L187","v":"Grupo2"},{"$f":"M187","v":"Grupo2"},{"$f":"N187","v":"Grupo2"}]
[null,"Asistencia médica","Químico","Grupo1","Grupo1","Grupo1","Grupo2","Grupo3","Grupo4",{"$f":"I188","v":"Grupo4"},{"$f":"J188","v":"Grupo4"},{"$f":"K188","v":"Grupo4"},"Grupo3","Grupo3","Grupo4"]
[null,"Otras Actividades","Radio, fábrica o venta de","Grupo1","Grupo2","Grupo2","Grupo2","Grupo3","Grupo4","Grupo2","Grupo2","Grupo2","Grupo3","Grupo3","Grupo4"]
[null,"Otras Actividades","Radio, reparación de antenas de","Grupo3","Grupo3","Grupo3","Grupo3","Grupo3","Grupo4",{"$f":"I190","v":"Grupo4"},"Grupo4","Grupo4","Grupo3","Grupo3","Grupo4"]
[null,"Asistencia médica","Rayos x","Grupo2","Grupo2",{"$f":"E191","v":"Grupo2"},{"$f":"F191","v":"Grupo2"},{"$f":"G191","v":"Grupo2"},"Grupo3","Grupo3","Grupo3","Grupo3","Grupo3","Grupo3","Grupo3"]
[null,"Otras Actividades","Refinería, personal de ","Grupo2","Grupo2","Grupo3","Grupo3","Grupo4","Grupo4","Grupo3","Grupo3","Grupo3","Grupo4","Grupo4","Grupo4"]
[null,"Otras Actividades","Refrigeración, personal de empresa de","Grupo1","Grupo1","Grupo2","Grupo2","Grupo3","Grupo4","Grupo2","Grupo2","Grupo2","Grupo3","Grupo3","Grupo4"]
[null,"Otras Actividades","Restaurante, personal de","Grupo1",{"$f":"D194","v":"Grupo1"},{"$f":"E194","v":"Grupo1"},"Grupo2","Grupo2","Grupo3",{"$f":"I194","v":"Grupo3"},{"$f":"J194","v":"Grupo3"},{"$f":"K194","v":"Grupo3"},"Grupo2","Grupo2","Grupo3"]
[null,"Otras Actividades","Salud, personal de empresas de","Grupo1","Grupo1","Grupo2","Grupo2","Grupo3","Grupo3","Grupo3","Grupo3","Grupo3",{"$f":"L195","v":"Grupo3"},{"$f":"M195","v":"Grupo3"},{"$f":"N195","v":"Grupo3"}]
[null,"Otras Actividades","Sanitarios, fábricas y venta de","Grupo1","Grupo1","Grupo3","Grupo2","Grupo3","Grupo4","Grupo3","Grupo3","Grupo3","Grupo3","Grupo3","Grupo4"]
[null,"Otras Actividades","Seguros, agente de","Grupo1",{"$f":"D197","v":"Grupo1"},"Grupo2",{"$f":"F197","v":"Grupo2"},{"$f":"G197","v":"Grupo2"},{"$f":"H197","v":"Grupo2"},"Grupo3","Grupo3","Grupo3",{"$f":"L197","v":"Grupo3"},{"$f":"M197","v":"Grupo3"},{"$f":"N197","v":"Grupo3"}]
[null,"Otras Actividades","Soldador","Grupo4","Grupo4","Grupo4","Grupo4","Grupo4","Grupo4",{"$f":"I198","v":"Grupo4"},{"$f":"J198","v":"Grupo4"},{"$f":"K198","v":"Grupo4"},"Grupo4","Grupo4","Grupo4"]
[null,"Otras Actividades","Tabacos, personal de empresa de","Grupo1","Grupo1","Grupo3","Grupo3","Grupo4","Grupo4","Grupo3","Grupo3","Grupo3","Grupo4","Grupo4","Grupo4"]
[null,"Otras Actividades","Tapicería, personal de","Grupo1","Grupo1","Grupo2","Grupo2","Grupo3","Grupo4","Grupo2","Grupo2","Grupo2","Grupo3","Grupo3","Grupo4"]
[null,"Otras Actividades","Tasadores, supervisores, inspectores","Grupo2","Grupo2",{"$f":"E201","v":"Grupo2"},"Grupo2","Grupo2","Grupo2","Grupo2","Grupo2","Grupo3",{"$f":"L201","v":"Grupo3"},{"$f":"M201","v":"Grupo3"},{"$f":"N201","v":"Grupo3"}]
[null,"Otras Actividades","Taxista","Grupo3","Grupo3","Grupo3","Grupo3","Grupo3","Grupo3","Grupo3","Grupo3","Grupo3","Grupo3","Grupo3","Grupo3"]
[null,"Otras Actividades","Teléfonos y telégrafos","Grupo1",{"$f":"D203","v":"Grupo1"},"Grupo3","Grupo3","Grupo3","Grupo3","Grupo3","Grupo3","Grupo3","Grupo3","Grupo3","Grupo3"]
[null,"Confección o Instalación o Ensamblador","Textiles, personal de empresa de","Grupo1","Grupo1","Grupo3","Grupo2","Grupo3","Grupo4","Grupo3","Grupo3","Grupo3","Grupo3","Grupo3","Grupo4"]
[null,"Otras Actividades","Tintorería","Grupo1",{"$f":"D205","v":"Grupo1"},{"$f":"E205","v":"Grupo1"},"Grupo2","Grupo2","Grupo3",{"$f":"I205","v":"Grupo3"},{"$f":"J205","v":"Grupo3"},{"$f":"K205","v":"Grupo3"},"Grupo2","Grupo2","Grupo3"]
[null,"Otras Actividades","Topógrafo","Grupo3","Grupo3","Grupo3","Grupo3",{"$f":"G206","v":"Grupo3"},{"$f":"H206","v":"Grupo3"},"Grupo3","Grupo3","Grupo3",{"$f":"L206","v":"Grupo3"},{"$f":"M206","v":"Grupo3"},{"$f":"N206","v":"Grupo3"}]
[null,"Otras Actividades","Torero","Suscripción","Suscripción","Suscripción","Suscripción","Suscripción","Suscripción","Suscripción","Suscripción","Suscripción","Suscripción","Suscripción","Suscripción"]
[null,"Otras Actividades","Tornero","Grupo3","Grupo3","Grupo3","Grupo3","Grupo3","Grupo4",{"$f":"I208","v":"Grupo4"},"Grupo4","Grupo4","Grupo3","Grupo3","Grupo4"]
[null,"Otras Actividades","Tripulantes de embarcaciones(pesqueras, remolcadoras y chatas)","Grupo4","Grupo4","Grupo4","Grupo4","Grupo4","Grupo4","Grupo4","Grupo4","Grupo4","Grupo4","Grupo4","Grupo4"]
[null,"Otras Actividades","Turistas","Grupo3","Grupo3","Grupo3","Grupo3","Grupo3",{"$f":"H210","v":"Grupo3"},"Grupo3","Grupo3","Grupo3","Grupo3","Grupo3",{"$f":"N210","v":"Grupo3"}]
[null,"Otras Actividades","Varadores(del jockey club)","Grupo4","Grupo4","Grupo4","Grupo4","Grupo4","Grupo4","Grupo4","Grupo4","Grupo4","Grupo4","Grupo4","Grupo4"]
[null,"Asistencia médica","Veterinario","Grupo2",{"$f":"D212","v":"Grupo2"},"Grupo3",{"$f":"F212","v":"Grupo3"},"Grupo3","Grupo3","Grupo3","Grupo3","Grupo3","Grupo3","Grupo3","Grupo3"]
[null,"Otras Actividades","Viajero","Suscripción","Suscripción","Suscripción","Suscripción","Suscripción","Suscripción",{"$f":"I213","v":"Suscripción"},"Grupo2","Grupo2","Grupo3","Grupo3","Grupo4"]
[null,"Otras Actividades","Viajes en submarino","Suscripción","Suscripción","Suscripción","Suscripción","Suscripción","Suscripción","Suscripción","Suscripción","Suscripción","Suscripción","Suscripción","Suscripción"]
[null,"Otras Actividades","Vidrio,empleados de fábrica y venta de","Grupo1","Grupo1","Grupo3","Grupo2","Grupo4","Grupo4","Grupo3","Grupo3","Grupo3","Grupo4","Grupo4","Grupo4"]
[null,"Otras Actividades","Vigilantes SIN arma","Grupo3","Grupo3","Grupo3","Grupo3","Grupo3","Grupo3","Grupo3","Grupo3","Grupo3","Grupo3","Grupo3","Grupo3"]
[null,"Otras Actividades","Vigilantes CON arma","Grupo4","Grupo4","Grupo4","Grupo4","Grupo4",{"$f":"H217","v":"Grupo4"},{"$f":"I217","v":"Grupo4"},{"$f":"J217","v":"Grupo4"},{"$f":"K217","v":"Grupo4"},"Grupo4","Grupo4",{"$f":"N217","v":"Grupo4"}]
[null,"Otras Actividades","Vulcanizadora, personal de","Grupo2","Grupo2","Grupo3","Grupo3","Grupo3","Grupo4","Grupo3","Grupo3","Grupo3","Grupo3","Grupo3","Grupo4"]
[null,"Otras Actividades","Zapatería","Grupo1","Grupo1","Grupo2","Grupo2","Grupo3","Grupo4","Grupo2","Grupo2","Grupo2","Grupo3","Grupo3","Grupo4"]

{"sheet":"Listas desplegables","index":10,"n_rows":6,"n_cols":52,"rows_kept":6,"cut":false,"hidden":true,"merged":[]}
["Tipo de Actividad","Actividad de oficina / Estudios sin visitas a personas.","A",null,null,null,"¿Con qué periodicidad/frecuencia realiza viajes por motivos de trabajo?","Nunca / 1 vez al mes",null,null,null,null,"Rango de cobertura","Limitado a horas de trabajo",null,null,null,"Tipo de Riesgo","Riesgo 1","Grupo1","Riesgo 1",null,null,null,"Tipo de póliza","Nominativa",null,null,null,"Tipo de Moneda","Soles",null,null,null,"Tipo de transporte","Aéreo","Grupo1",null,null,null,"Cláusula por la práctica no profesional de deportes y/o actividades de riesgo","Nivel 1 (futbol, béisbol, basquetbol, voley)",null,null,null,"SI/NO","Si",null,null,null,"Pago en","Débito Automático"]
[null,"Actividad de tienda / almacén de exhibición o venta al público o que se dedica a la agricultura o ganadería.","B",null,null,null,null,"2 veces al mes",null,null,null,null,null,"24 horas",null,null,null,null,"Riesgo 2","Grupo2","Riesgo 2",null,null,null,null,"No nominativa",null,null,null,null,"Dólares",null,null,null,null,"Fluvial","Grupo3",null,null,null,null,"Nivel 2 (Polo, jockey, pesca en alta mar, rodeo, rugby, esquí acuatico, equitación, tabla hawaiana)",null,null,null,null,"No",null,null,null,null,"Cupones"]
[null,"Actividad de visitas a personas y que realizan viajes / ruteo frecuente.","C",null,null,null,null,"3 veces al mes","Actividades que viajan",null,null,null,null,null,null,null,null,null,"Riesgo 3","Grupo3","Riesgo 3",null,null,null,null,null,null,null,null,null,null,null,null,null,null,"Terrestre","Grupo2",null,null,null,null,"Nivel 3 (pesca submarina, karate, judo, boxeo, pesas, andinismo y caminatas en alta montaña)"]
[null,"Actividad técnica de supervisión","D",null,null,null,null,"más de 4 viajes al mes","Actividades que viajan",null,null,null,null,null,null,null,null,null,"Riesgo 4","Grupo4","Riesgo 4",null,null,null,null,null,null,null,null,null,null,null,null,null,null,"Marítimo","Grupo1"]
[null,"Actividad técnica con trabajo manual en talleres, fábricas, minas: SIN USO DE MAQUINARIA O MANIPULACIÓN DE CONDUCTOS ELÉCTRICOS O SUSTANCIAS PELIGROSAS.","E",null,null,null,null,null,null,null,null,null,null,null,null,null,null,null,null,null,null,null,null,null,null,null,null,null,null,null,null,null,null,null,null,"Lacustre","Grupo2"]
[null,"Actividad técnica con trabajo manual talleres, fábricas, minas: CON USO DE MAQUINARIA O MANIPULACION DE CONDUCTOS ELÉCTRICOS O SUSTANCIAS PELIGROSAS.","F"]

{"sheet":"CIIU","index":11,"n_rows":418,"n_cols":7,"rows_kept":418,"cut":false,"hidden":true,"merged":[]}
["Carga CIIU","Codigo CIIU","Cod Sector","Sector",null,"Cod Sector","Sector"]
["0111   - CULTIVO DE CEREALES (EXCEPTO ARROZ), LEGUMBRES Y SEMILLAS OLEAGINOSAS","0111  ",10,"Plasticos y Cauchos",null,1,"Editoriales"]
["0112   - CULTIVO DE ARROZ","0112  ",10,"Plasticos y Cauchos",null,2,"Alimentos y Bebidas"]
["0113   - CULTIVO DE HORTALIZAS Y MELONES, RAÍCES Y TUBÉRCULOS.","0113  ",10,"Plasticos y Cauchos",null,3,"Hoteles"]
["0114   - CULTIVO DE CAÑA DE AZÚCAR","0114  ",11,"Instituciones Financieras",null,4,"Salud"]
["0115   - CULTIVO DE TABACO","0115  ",11,"Instituciones Financieras",null,5,"AgroIndustria"]
["0116   - CULTIVO DE PLANTAS DE FIBRA","0116  ",11,"Instituciones Financieras",null,6,"Mineras"]
["0119   - CULTIVO DE OTRAS PLANTAS NO PERENNES","0119  ",11,"Instituciones Financieras",null,7,"Hidrocarburos"]
["0121   - CULTIVO DE UVA","0121  ",11,"Instituciones Financieras",null,8,"Telecomunicaciones"]
["0122   - CULTIVO DE FRUTAS TROPICALES Y SUBTROPICALES","0122  ",11,"Instituciones Financieras",null,9,"Plasticos y Cauchos"]
["0123   - CULTIVO DE  CÍTRICOS","0123  ",11,"Instituciones Financieras",null,10,"Instituciones Financieras"]
["0124   - CULTIVO DE FRUTAS DE PEPITA Y DE HUESO","0124  ",11,"Instituciones Financieras",null,11,"Quimicas"]
["0125   - CULTIVO DE OTROS FRUTOS Y NUECES DE ÁRBOLES Y ARBUSTOS ","0125  ",11,"Instituciones Financieras",null,12,"Comercio"]
["0126   - CULTIVO DE FRUTOS OLEAGINOSOS","0126  ",11,"Instituciones Financieras",null,13,"Educación"]
["0127   - CULTIVO DE PLANTAS CON LAS QUE SE PREPARAN BEBIDAS","0127  ",11,"Instituciones Financieras",null,14,"Industria"]
["0128   - CULTIVO DE ESPECIAS Y DE PLANTAS AROMÁTICAS, MEDICINALES Y FARMACEUTICAS","0128  ",11,"Instituciones Financieras",null,15,"Construcción"]
["0129   - CULTIVO DE OTRAS PLANTAS NO PERENNES","0129  ",11,"Instituciones Financieras",null,16,"Pesca"]
["0130   - PROPAGACIÓN DE PLANTAS","0130  ",11,"Instituciones Financieras",null,17,"Energia y Agua"]
["0141   - CRÍA DE GANADO BOVINO Y BÚFALOS","0141  ",11,"Instituciones Financieras",null,18,"Textiles"]
["0142   - CRÍA DE CABALLOS Y OTROS EQUINOS","0142  ",11,"Instituciones Financieras",null,19,"Transporte y Aviación"]
["0143   - CRÍA DE CAMELLOS Y OTROS CAMÉLIDOS","0143  ",12,"AgroIndustria",null,20,"Actividades Deportivas y de Esparcimiento"]
["0144   - CRÍA DE OVEJAS Y CABRAS","0144  ",12,"AgroIndustria"]
["0145   - CRÍA DE CERDOS","0145  ",12,"AgroIndustria"]
["0146   - CRÍA DE AVES DE CORRAL","0146  ",12,"Quimicas"]
["0149   - CRÍA DE OTROS ANIMALES","0149  ",12,"Quimicas"]
["0150   - CULTIVO DE PRODUCTOS AGRÌCOLAS EN COMBINACIÒN CON LA CRÌA DE ANIMALES","0150  ",12,"Quimicas"]
["0161   - ACTIVIDADES DE APOYO A LA AGRICULTURA","0161  ",12,"Quimicas"]
["0162   - ACTIVIDADES DE APOYO A LA GANADERÍA","0162  ",12,"Quimicas"]
["0163   - ACTIVIDADES POSCOSECHA","0163  ",12,"Quimicas"]
["0164   - TRATAMIENTO DE SEMILLAS PARA PROPAGACIÓN","0164  ",12,"Quimicas"]
["0170   - CAZA ORDINARIA Y MEDIANTE TRAMPAS Y ACTIVIDADES DE SERVICIOS CONEXAS","0170  ",12,"Quimicas"]
["0210   - SILVICULTURA Y OTRAS ACTIVIDADES FORESTALES","0210  ",12,"Quimicas"]
["0220   - EXTRACCIÓN DE MADERA","0220  ",12,"Instituciones Financieras"]
["0230   - RECOLECCIÓN DE PRODUCTOS FORESTALES DISTINTOS DE LA MADERA","0230  ",12,"Comercio"]
["0240   - SERVICIOS DE APOYO A LA SILVICULTURA","0240  ",12,"Comercio"]
["0311   - PESCA MARÍTIMA","0311  ",12,"Comercio"]
["0312   - PESCA DE AGUA DULCE","0312  ",12,"Comercio"]
["0321   - ACUICULTURA MARÍTIMA","0321  ",12,"Comercio"]
["0322   - ACUICULTURA DE AGUA DULCE","0322  ",12,"Comercio"]
["0510   - EXTRACCIÓN DE CARBÓN DE PIEDRA","0510  ",12,"Comercio"]
["0520   - EXTRACCIÓN DE LIGNITO","0520  ",12,"Comercio"]
["0610   - EXTRACCIÓN DE PETRÓLEO CRUDO","0610  ",12,"Comercio"]
["0620   - EXTRACCIÓN DE GAS NATURAL","0620  ",12,"Comercio"]
["0710   - EXTRACCIÓN DE MINERALES DE HIERRO","0710  ",12,"Comercio"]
["0721   - EXTRACCIÓN DE MINERALES DE URANIO Y TORIO","0721  ",12,"Comercio"]
["0729   - EXTRACCIÓN DE OTROS MINERALES METALÍFEROS NO FERROSOS","0729  ",12,"Actividades Deportivas y de Esparcimiento"]
["0810   - EXTRACCIÓN DE PIEDRA, ARENA Y ARCILLA","0810  ",12,"Actividades Deportivas y de Esparcimiento"]
["0891   - EXTRACCIÓN DE MINERALES PARA LA FABRICACIÓN DE ABONOS Y PRODUCTOS QUÍMICOS","0891  ",13,"Comercio"]
["0892   - EXTRACCIÓN DE TURBA","0892  ",13,"Comercio"]
["0893   - EXTRACCIÓN DE SAL","0893  ",13,"Comercio"]
["0899   - EXPLOTACIÓN DE OTRAS MINAS Y CANTERAS N.C.P.","0899  ",13,"Comercio"]
["0910   - ACTIVIDADES DE APOYO PARA LA EXTRACCIÓN DE PETRÓLEO Y GAS NATURAL","0910  ",13,"Comercio"]
["0990   - ACTIVIDADES DE APOYO PARA OTRAS ACTIVIDADES DE EXPLOTACIÓN DE MINAS Y CANTERAS","0990  ",13,"Comercio"]
["1010   - ELABORACIÒN Y CONSERVACIÓN DE CARNE","1010  ",13,"Comercio"]
["1020   - ELABORACIÒN Y CONSERVACIÓN DE PESCADOS, CRUSTÁCEOS Y MOLUSCOS","1020  ",13,"Comercio"]
["1030   - ELABORACIÒN Y CONSERVACIÓN DE FRUTAS,LEGUMBRES Y HORTALIZAS","1030  ",13,"Comercio"]
["1040   - ELABORACIÓN DE ACEITES Y GRASAS DE ORIGEN VEGETAL Y ANIMAL","1040  ",13,"Comercio"]
["1050   - ELABORACIÓN DE PRODUCTOS LÁCTEOS","1050  ",13,"Comercio"]
["1061   - ELABORACIÓN DE PRODUCTOS DE MOLINERÍA.","1061  ",13,"Comercio"]
["1062   - ELABORACIÓN DE ALMIDONES Y PRODUCTOS DERIVADOS DEL ALMIDÓN.","1062  ",13,"Comercio"]
["1071   - ELABORACIÓN DE PRODUCTOS DE PANADERÍA","1071  ",13,"Comercio"]
["1072   - ELABORACIÓN DE AZÚCAR","1072  ",13,"Comercio"]
["1073   - ELABORACIÓN DE CACAO Y CHOCOLATE Y DE PRODUCTOS DE CONFITERÍA","1073  ",13,"Comercio"]
["1074   - ELABORACIÓN DE MACARRONES, FIDEOS, ALCUZCUS Y PRODUCTOS FARINÁCEOS SIMILARES","1074  ",13,"Comercio"]
["1075   - ELABORACIÓN DE COMIDAS Y PLATOS PREPARADOS","1075  ",13,"Comercio"]
["1079   - ELABORACIÓN DE OTROS PRODUCTOS ALIMENTICIOS N.C.P.","1079  ",13,"Comercio"]
["1080   - ELABORACIÓN DE PIENSOS PREPARADOS PARA ANIMALES","1080  ",13,"Comercio"]
["1101   - DESTILACIÓN, RECTIFICACIÓN Y MEZCLA DE BEBIDAS ALCOHÓLICAS","1101  ",13,"Comercio"]
["1102   - ELABORACIÓN DE VINOS","1102  ",13,"Comercio"]
["1103   - ELABORACIÓN DE BEBIDAS MALTEADAS Y DE MALTA","1103  ",13,"Comercio"]
["1104   - ELABORACIÓN DE BEBIDAS NO ALCOHÓLICAS; PRODUCCIÓN DE AGUAS MINERALES Y OTRAS AGUAS EMBOTELLADAS","1104  ",13,"Comercio"]
["1200   - ELABORACIÓN DE PRODUCTOS DE TABACO","1200  ",13,"Comercio"]
["1311   - PREPARACIÓN E HILATURA DE FIBRAS TEXTILES","1311  ",13,"Comercio"]
["1312   - TEJEDURA DE PRODUCTOS TEXTILES","1312  ",13,"Comercio"]
["1313   - ACABADO DE PRODUCTOS TEXTILES","1313  ",13,"Comercio"]
["1391   - FABRICACIÓN DE TEJIDOS DE PUNTO Y GANCHILLO","1391  ",13,"Comercio"]
["1392   - FABRICACIÓN DE ARTÍCULOS CONFECCIONADOS DE MATERIALES TEXTILES, EXCEPTO PRENDAS DE VESTIR","1392  ",13,"Comercio"]
["1393   - FABRICACIÓN DE TAPICES Y ALFOMBRAS","1393  ",13,"Comercio"]
["1394   - FABRICACIÓN DE CUERDAS, CORDELES, BRAMANTES Y REDES","1394  ",13,"Comercio"]
["1399   - FABRICACIÓN DE OTROS PRODUCTOS TEXTILES N.C.P.","1399  ",13,"Comercio"]
["1410   - FABRICACIÓN DE PRENDAS DE VESTIR, EXCEPTO PRENDAS DE PIEL","1410  ",13,"Comercio"]
["1420   - FABRICACIÓN DE ARTÍCULOS DE PIEL","1420  ",13,"Comercio"]
["1430   - FABRICACIÓN DE ARTICULOS DE PUNTO Y GANCHILLO","1430  ",13,"Comercio"]
["1511   - CURTIDO Y ADOBO DE CUEROS; ADOBO Y TEÑIDO DE PIELES","1511  ",13,"Comercio"]
["1512   - FABRICACIÓN DE MALETAS, BOLSOS DE MANO, Y ARTÍCULOS SIMILARES,Y DE ARTICULOS DE TALABARTERÍA Y GUARN","1512  ",13,"Comercio"]
["1520   - FABRICACIÓN DE CALZADO","1520  ",13,"Comercio"]
["1610   - ASERRADOS Y ACEPILLADURA DE MADERA","1610  ",13,"Comercio"]
["1621   - FABRICACIÓN DE HOJAS DE MADERA PARA ENCHAPADO Y TABLEROS A BASE DE MADERA","1621  ",13,"Comercio"]
["1622   - FABRICACIÓN DE PARTES Y PIEZAS DE CARPINTERÍA PARA EDIFICIOS Y CONSTRUCCIONES","1622  ",13,"Comercio"]
["1623   - FABRICACIÓN DE RECIPIENTES DE MADERA","1623  ",13,"Comercio"]
["1629   - FABRICACIÓN DE OTROS PRODUCTOS DE MADERA; FABRICACIÓN DE ARTÍCULOS DE CORCHO, PAJA Y MATERIALES TREN","1629  ",13,"Comercio"]
["1701   - FABRICACIÓN DE PASTA DE MADERA, PAPEL Y CARTÓN","1701  ",13,"Comercio"]
["1702   - FABRICACIÓN DEL PAPEL Y CARTÓN ONDULADO Y DE ENVASES DE PAPEL Y CARTÓN","1702  ",13,"Comercio"]
["1709   - FABRICACIÓN DE OTROS ARTÍCULOS DEL PAPEL Y CARTÓN","1709  ",13,"Comercio"]
["1811   - IMPRESIÓN","1811  ",13,"Comercio"]
["1812   - ACTIVIDADES DE SERVICIOS RELACIONADAS CON LA IMPRESIÓN","1812  ",13,"Comercio"]
["1820   - REPRODUCCIÓN DE GRABACIONES","1820  ",13,"Comercio"]
["1910   - FABRICACIÓN DE PRODUCTOS DE HORNOS DE COQUE","1910  ",13,"Comercio"]
["1920   - FABRICACIÓN DE PRODUCTOS DE LA REFINACIÓN DEL PETRÓLEO","1920  ",13,"Comercio"]
["2011   - FABRICACIÓN DE SUSTANCIAS QUÍMICAS BÁSICAS","2011  ",13,"Comercio"]
["2012   - FABRICACIÓN ABONOS Y COMPUESTOS DE NITRÓGENO","2012  ",13,"Comercio"]
["2013   - FABRICACIÓN DE PLÁSTICOS Y DE CAUCHO SINTÉTICO EN FORMAS PRIMARIAS","2013  ",13,"Comercio"]
["2021   - FABRICACIÓN DE PLAGUICIDAS Y OTROS PRODUCTOS QUÍMICOS DE USO AGROPECUARIO","2021  ",13,"Comercio"]
["2022   - FABRICACIÓN DE PINTURAS, BARNICES Y PRODUCTOS DE REVESTIMIENTO SIMILARES, TINTAS DE IMPRENTA Y MASIL","2022  ",13,"Comercio"]
["2023   - FABRICACIÓN DE JABONES Y DETERGENTES, PREPARADOS PARA LIMPIAR Y PULIR, PERFUMES Y PREPARADOS DE TOCA","2023  ",13,"Comercio"]
["2029   - FABRICACIÓN DE OTROS PRODUCTOS QUÍMICOS N.C.P.","2029  ",13,"Comercio"]
["2030   - FABRICACIÓN DE FIBRAS ARTIFICIALES","2030  ",13,"Comercio"]
["2100   - FABRICACIÓN DE PRODUCTOS FARMACÉUTICOS, SUSTANCIAS QUÍMICAS MEDICINALES Y PRODUCTOS BOTÁNICOS DE USO","2100  ",13,"Comercio"]
["2211   - FABRICACIÓN DE CUBIERTAS Y CÁMARAS DE CAUCHO; RECAUCHUTADO Y RENOVACIÓN DE CUBIERTAS DE CAUCHO","2211  ",13,"Comercio"]
["2219   - FABRICACIÓN DE OTROS PRODUCTOS DE CAUCHO","2219  ",13,"Comercio"]
["2220   - FABRICACIÓN DE PRODUCTOS DE PLÁSTICO","2220  ",13,"Comercio"]
["2310   - FABRICACIÓN DE VIDRIO Y DE PRODUCTOS DE VIDRIO","2310  ",13,"Comercio"]
["2391   - FABRICACIÓN DE PRODUCTOS REFRACTARIOS","2391  ",13,"Comercio"]
["2392   - FABRICACIÓN DE MATERIALES DE CONSTRUCCIÓN DE ARCILLA","2392  ",13,"Comercio"]
["2393   - FABRICACIÓN DE OTROS PRODUCTOS DE PORCELANA Y DE CERÁMICA","2393  ",13,"Comercio"]
["2394   - FABRICACIÓN DE CEMENTO, CAL Y YESO","2394  ",13,"Comercio"]
["2395   - FABRICACIÓN DE ARTÍCULOS DE HORMIGÓN, DE CEMENTO Y DE YESO","2395  ",13,"Comercio"]
["2396   - CORTE, TALLA Y ACABADO DE LA PIEDRA","2396  ",13,"Comercio"]
["2399   - FABRICACIÓN DE OTROS PRODUCTOS MINERALES NO METÁLICOS N.C.P.","2399  ",13,"Comercio"]
["2410   - INDUSTRIAS BÁSICAS DE HIERRO Y ACERO ","2410  ",13,"Comercio"]
["2420   - FABRICACIÓN DE PRODUCTOS PRIMARIOS DE METALES PRECIOSOS Y OTROS METALES NO FERROSOS","2420  ",13,"Comercio"]
["2431   - FUNDICIÓN DE HIERRO Y ACERO","2431  ",13,"Comercio"]
["2432   - FUNDICIÓN DE METALES NO FERROSOS","2432  ",13,"Comercio"]
["2511   - FABRICACIÓN DE PRODUCTOS METÁLICOS PARA USO ESTRUCTURAL","2511  ",13,"Comercio"]
["2512   - FABRICACIÓN DE TANQUES, DEPÓSITOS Y RECIPIENTES DE METAL","2512  ",13,"Comercio"]
["2513   - FABRICACIÓN DE LOS GENERADORES DEL VAPOR, EXCEPTO CALDERAS DE AGUA CALIENTE PARA CALEFACCIÓN CENTRAL","2513  ",13,"Comercio"]
["2520   - FABRICACIÓN DE ARMAS Y MUNICIONES","2520  ",13,"Comercio"]
["2591   - FORJA, PRENSADO, ESTAMPADO Y LAMINADO DE METALES; PULVIMETALURGIA","2591  ",13,"Comercio"]
["2592   - TRATAMIENTO Y REVESTIMIENTO DE METALES; MAQUINADO","2592  ",13,"Comercio"]
["2593   - FABRICACIÓN DE ARTÍCULOS DE CUCHILLERÍA, HERRAMIENTAS DE MANO Y ARTÍCULOS DE FERRETERÍA","2593  ",13,"Comercio"]
["2599   - FABRICACIÓN DE OTROS PRODUCTOS ELABORADOS DE METAL N.C.P.","2599  ","21","Actividades Deportivas y de Esparcimiento"]
["2610   - FABRICACIÓN DE COMPONENTES Y TABLEROS ELECTRÓNICOS","2610  ","21","Actividades Deportivas y de Esparcimiento"]
["2620   - FABRICACIÓN DE ORDENADORES Y EQUIPO PERIFÉRICO","2620  ","21","Actividades Deportivas y de Esparcimiento"]
["2630   - FABRICACIÓN DE EQUIPOS DE COMUNICACIONES","2630  ",13,"Comercio"]
["2640   - FABRICACIÓN DE APARATOS ELECTRÓNICOS DE CONSUMO","2640  ",13,"Comercio"]
["2651   - FABRICACIÓN DE EQUIPO DE MEDICIÓN, PRUEBA, NAVEGACIÓN Y CONTROL","2651  ",13,"Comercio"]
["2652   - FABRICACIÓN DE RELOJES","2652  ",13,"Comercio"]
["2660   - FABRICACIÓN DE EQUIPO DE IRRADIACIÓN Y EQUIPO ELECTRÓNICO DE USO MÉDICO Y TERAPÉUTICO","2660  ",13,"Comercio"]
["2670   - FABRICACIÓN DE INSTRUMENTOS ÓPTICOS Y EQUIPO FOTOGRÁFICO","2670  ",13,"Comercio"]
["2680   - FABRICACIÓN DE SOPORTES MAGNÉTICOS Y ÓPTICOS","2680  ",13,"Comercio"]
["2710   - FABRICACIÓN DE MOTORES, GENERADORES Y TRANSFORMADORES ELÉCTRICOS Y APARATOS DE DISTRIBUCIÓN Y CONTRO","2710  ",14,"Hidrocarburos"]
["2720   - FABRICACIÓN DE PILAS, BATERÍAS Y ACUMULADORES","2720  ",14,"Educación"]
["2731   - FABRICACIÓN DE CABLES DE FIBRA ÓPTICA","2731  ",14,"Educación"]
["2732   - FABRICACIÓN DE OTROS HILOS Y CABLES ELÉCTRICOS","2732  ",14,"Educación"]
["2733   - FABRICACIÓN DE DISPOSITIVOS DE CABLEADO","2733  ",14,"Educación"]
["2740   - FABRICACIÓN DE EQUIPO ELÉCTRICO DE ILUMINACIÓN","2740  ",15,"Industria"]
["2750   - FABRICACIÓN DE APARATOS DE USO DOMÉSTICO","2750  ",15,"Industria"]
["2790   - FABRICACIÓN DE OTROS TIPOS DE EQUIPO ELÉCTRICO","2790  ",15,"Industria"]
["2811   - FABRICACIÓN DE MOTORES Y TURBINAS, EXCEPTO MOTORES PARA AERONAVES, VEHÍCULOS AUTOMOTORES Y MOTOCICLE","2811  ",15,"Industria"]
["2812   - FABRICACIÓN DE EQUIPO DE PROPULSIÓN DE FLUIDOS","2812  ",15,"Industria"]
["2813   - FABRICACIÓN DE BOMBAS, COMPRESORES, GRIFOS Y VÁLVULAS","2813  ",15,"Industria"]
["2814   - FABRICACIÓN DE COJINETES, ENGRANAJES, TRENES DE ENGRANAJES Y PIEZAS DE TRANSMISIÓN","2814  ",15,"Industria"]
["2815   - FABRICACIÓN DE HORNOS, HOGARES Y QUEMADORES","2815  ",15,"Industria"]
["2816   - FABRICACIÓN DE EQUIPO DE ELEVACIÓN Y MANIPULACIÓN","2816  ",15,"Industria"]
["2817   - FABRICACIÓN DE MAQUINARIA Y EQUIPO DE OFICINA (EXCEPTO ORDENADORES Y EQUIPO PERIFÉRICO)","2817  ",15,"Industria"]
["2818   - FABRICACIÓN DE HERRAMIENTAS DE MANO MOTORIZADAS","2818  ",15,"Industria"]
["2819   - FABRICACIÓN DE OTROS TIPOS DE MAQUINARIA DE USO GENERAL","2819  ",15,"Industria"]
["2821   - FABRICACIÓN DE MAQUINARIA AGROPECUARIA Y FORESTAL","2821  ",15,"Editoriales"]
["2822   - FABRICACIÓN DE MAQUINARIA PARA LA CONFORMACIÓN DE METALES Y DE MÁQUINAS HERRAMIENTA","2822  ",15,"Editoriales"]
["2823   - FABRICACIÓN DE MAQUINARIA METALÚRGICA","2823  ",15,"Editoriales"]
["2824   - FABRICACIÓN DE MAQUINARIA PARA EXPLOTACIÓN DE MINAS Y CANTERAS Y PARA OBRAS DE CONSTRUCCIÓN","2824  ",15,"Industria"]
["2825   - FABRICACIÓN DE MAQUINARIA PARA LA ELABORACIÓN DE ALIMENTOS, BEBIDAS Y TABACO","2825  ",15,"Industria"]
["2826   - FABRICACIÓN DE MAQUINARIA PARA LA ELABORACIÓN DE PRODUCTOS TEXTILES, PRENDAS DE VESTIR Y CUEROS","2826  ",15,"Industria"]
["2829   - FABRICACIÓN DE OTROS TIPOS DE MAQUINARIA DE USO ESPECIAL","2829  ",15,"Industria"]
["2910   - FABRICACIÓN DE VEHÍCULOS AUTOMOTORES","2910  ",15,"Industria"]
["2920   - FABRICACIÓN DE CARROCERÍAS PARA VEHÍCULOS AUTOMOTORES; FABRICACIÓN DE REMOLQUES Y SEMIRREMOLQUES","2920  ",15,"Industria"]
["2930   - FABRICACIÓN DE PARTES, PIEZAS Y ACCESORIOS PARA VEHÍCULOS DE AUTOMOTORES","2930  ",15,"Industria"]
["3011   - CONSTRUCCIÓN DE BUQUES Y ESTRUCTURAS FLOTANTES","3011  ",15,"Industria"]
["3012   - CONSTRUCCIÓN DE EMBARCACIONES DE RECREO Y DEPORTE","3012  ",15,"Industria"]
["3020   - FABRICACIÓN DE LOCOMOTORAS Y DE MATERIAL RODANTE","3020  ",15,"Industria"]
["3030   - FABRICACIÓN DE AERONAVES Y  NAVES ESPACIALES Y MAQUINARIA CONEXA","3030  ",15,"Industria"]
["3040   - FABRICACIÓN DE VEHÍCULOS MILITARES DE COMBATE","3040  ",15,"Industria"]
["3091   - FABRICACIÓN DE MOTOCICLETAS","3091  ",15,"Industria"]
["3092   - FABRICACIÓN DE BICICLETAS Y DE SILLONES DE RUEDAS PARA INVÁLIDOS","3092  ",15,"Industria"]
["3099   - FABRICACIÓN DE OTROS TIPOS DE EQUIPO DE TRANSPORTE N.C.P.","3099  ",15,"Industria"]
["3100   - FABRICACIÓN DE MUEBLES","3100  ",15,"Industria"]
["3211   - FABRICACIÓN DE JOYAS Y ARTÍCULOS CONEXOS","3211  ",15,"Industria"]
["3212   - FABRICACIÓN DE BISUTERÍA Y ARTÍCULOS CONEXOS","3212  ",15,"Industria"]
["3220   - FABRICACIÓN DE INSTRUMENTOS DE MÚSICA","3220  ",15,"Industria"]
["3230   - FABRICACIÓN DE ARTÍCULOS DE DEPORTE","3230  ",15,"Industria"]
["3240   - FABRICACIÓN DE JUEGOS Y JUGUETES","3240  ",15,"Industria"]
["3250   - FABRICACIÓN DE INSTRUMENTOS Y MATERIALES MÉDICOS Y ODONTOLÓGICOS","3250  ",15,"Industria"]
["3290   - OTRAS INDUSTRIAS MANUFACTURERAS N.C.P.","3290  ",15,"Industria"]
["3311   - REPARACIÓN DE PRODUCTOS ELABORADOS DE METAL","3311  ",15,"Industria"]
["3312   - REPARACIÓN DE MAQUINARIA","3312  ",15,"Industria"]
["3313   - REPARACIÓN DE EQUIPO ELECTRÓNICO Y ÓPTICO","3313  ",15,"Industria"]
["3314   - REPARACIÓN DE EQUIPO ELÉCTRICO","3314  ",15,"Industria"]
["3315   - REPARACIÓN DE EQUIPO DE TRANSPORTE, EXCEPTO VEHÍCULOS AUTOMOTORES","3315  ",15,"Industria"]
["3319   - REPARACIÓN DE OTROS TIPOS DE EQUIPO","3319  ",15,"Industria"]
["3320   - INSTALACIÓN DE MAQUINARIA Y EQUIPO INDUSTRIALES","3320  ",15,"Industria"]
["3510   - GENERACIÓN, TRANSMISIÓN Y DISTRIBUCIÓN DE ENERGÍA ELÉCTRICA","3510  ",15,"Industria"]
["3520   - FABRICACIÓN DEL GAS; DISTRIBUCIÓN DE COMBUSTIBLES GASEOSOS POR TUBERÍAS","3520  ",15,"Industria"]
["3530   - SUMINISTRO DE VAPOR Y AIRE ACONDICIONADO","3530  ",15,"Industria"]
["3600   - CAPTACIÓN, TRATAMIENTO Y DISTRIBUCIÓN DE AGUA","3600  ",15,"Industria"]
["3700   - EVACUACIÓN DE AGUAS RESIDUALES","3700  ",15,"Industria"]
["3811   - RECOGIDA DE DESECHOS NO PELIGROSOS","3811  ",15,"Industria"]
["3812   - RECOGIDA DE DESECHOS PELIGROSOS","3812  ",15,"Industria"]
["3821   - TRATAMIENTO Y ELIMINACIÓN DE DESECHOS NO PELIGROSOS","3821  ",15,"Industria"]
["3822   - TRATAMIENTO Y ELIMINACIÓN DE DESECHOS PELIGROSOS","3822  ",15,"Industria"]
["3830   - RECUPERACIÓN DE MATERIALES","3830  ",15,"Industria"]
["3900   - ACTIVIDADES DE DESCONTAMINACIÓN Y OTROS SERVICIOS DE GESTIÓN DE DESECHOS","3900  ",15,"Industria"]
["4100   - CONSTRUCCIÓN DE EDIFICIOS","4100  ",15,"Industria"]
["4210   - CONSTRUCCIÓN DE CARRETERAS Y LÍNEAS DE FERROCARRIL","4210  ",15,"Industria"]
["4220   - CONSTRUCCIÓN DE PROYECTOS DE SERVICIO PÚBLICO","4220  ",15,"Industria"]
["4290   - CONSTRUCCIÓN DE OTRAS OBRAS DE INGENIERÍA CIVIL","4290  ",15,"Industria"]
["4311   - DEMOLICIÓN","4311  ",15,"Industria"]
["4312   - PREPARACIÓN DEL TERRENO","4312  ",15,"Industria"]
["4321   - INSTALACIONES ELÉCTRICAS","4321  ",15,"Hoteles"]
["4322   - INSTALACIONES DE FONTANERÍA, CALEFACCIÓN Y AIRE ACONDICIONADO","4322  ",15,"Industria"]
["4329   - OTRAS INSTALACIONES PARA OBRAS DE CONSTRUCCIÓN","4329  ",15,"Transporte y Aviación"]
["4330   - TERMINACIÓN Y ACABADO DE EDIFICIOS","4330  ",15,"Transporte y Aviación"]
["4390   - OTRAS ACTIVIDADES ESPECIALIZADAS DE LA CONSTRUCCIÓN","4390  ",15,"Transporte y Aviación"]
["4510   - VENTA DE VEHÍCULOS AUTOMOTORES","4510  ",15,"Transporte y Aviación"]
["4520   - MANTENIMIENTO Y REPARACIÓN DE VEHÍCULOS AUTOMOTORES","4520  ",15,"Industria"]
["4530   - VENTAS DE PARTES, PIEZAS Y ACCESORIOS PARA VEHÍCULOS AUTOMOTORES","4530  ",15,"Industria"]
["4540   - VENTA, MANTENIMIENTO Y REPARACIÓN DE MOTOCICLETAS Y DE SUS PARTES, PIEZAS Y ACCESORIOS.","4540  ",15,"Industria"]
["4610   - VENTA AL POR MAYOR A CAMBIO DE UNA RETRIBUCIÓN O POR CONTRATA","4610  ",15,"Industria"]
["4620   - VENTA AL POR MAYOR DE MATERIAS PRIMAS AGROPECUARIAS Y ANIMALES VIVOS.","4620  ",15,"Industria"]
["4630   - VENTA AL POR MAYOR DE ALIMENTOS, BEBIDAS Y TABACO.","4630  ",15,"Comercio"]
["4641   - VENTA AL POR MAYOR DE PRODUCTOS TEXTILES, PRENDAS DE VESTIR Y CALZADO","4641  ",16,"Construcción"]
["4649   - VENTA AL POR MAYOR DE OTROS ENSERES DOMÉSTICOS","4649  ",16,"Construcción"]
["4651   - VENTA AL POR MAYOR DE ORDENADORES, EQUIPO PERIFÉRICO Y PROGRAMAS DE INFORMÁTICA","4651  ",16,"Construcción"]
["4652   - VENTA AL POR MAYOR DE EQUIPO, PARTES Y PIEZAS ELECTRÓNICOS Y DE TELECOMUNICACIONES","4652  ",16,"Construcción"]
["4653   - VENTA AL POR MAYOR DE MAQUINARIA, EQUIPO Y MATERIALES AGROPECUARIOS ","4653  ",16,"Construcción"]
["4659   - VENTA AL POR MAYOR DE OTROS TIPOS DE MAQUINARIA Y EQUIPO","4659  ",16,"Construcción"]
["4661   - VENTA AL POR MAYOR DE COMBUSTIBLES SÓLIDOS, LÍQUIDOS Y GASEOSOS Y  PRODUCTOS CONEXOS","4661  ",16,"Construcción"]
["4662   - VENTA AL POR MAYOR DE METALES Y MINERALES METALÍFEROS","4662  ",17,"Pesca"]
["4663   - VENTA AL POR MAYOR DE MATERIALES DE CONSTRUCCIÓN, ARTÍCULOS DE FERRETERÍA Y EQUIPO Y MATERIALES DE F","4663  ",18,"Energia y Agua"]
["4669   - VENTA AL POR MAYOR DE DESPERDICIOS, DESECHOS, CHATARRA Y OTROS PRODUCTOS N.C.P ","4669  ",18,"Energia y Agua"]
["4690   - VENTA AL POR MAYOR NO ESPECIALIZADA ","4690  ",18,"Energia y Agua"]
["4711   - VENTA AL POR MENOR EN COMERCIOS NO ESPECIALIZADOS CON PREDOMINIO DE LA VENTA DE ALIMENTOS, BEBIDAS O","4711  ",18,"Energia y Agua"]
["4719   - OTRAS ACTIVIDADES DE VENTA AL POR MENOR EN COMERCIOS NO ESPECIALIZADOS","4719  ",18,"Energia y Agua"]
["4721   - VENTA AL POR MENOR DE ALIMENTOS EN COMERCIOS ESPECIALIZADOS","4721  ",19,"Textiles"]
["4722   - VENTA AL POR MENOR DE BEBIDAS EN COMERCIOS ESPECIALIZADOS","4722  ",19,"Textiles"]
["4723   - VENTA AL POR MENOR DE PRODUCTOS DE TABACO EN COMERCIOS ESPECIALIZADOS","4723  ",19,"Textiles"]
["4730   - VENTA AL POR MENOR DE COMBUSTIBLES PARA VEHÍCULOS AUTOMOTORES EN COMERCIOS ESPECIALIZADOS","4730  ",19,"Textiles"]
["4741   - VENTA AL POR MENOR DE ORDENADORES, EQUIPO PERIFÉRICO, PROGRAMAS INFORMÁTICOS Y EQUIPO DE TELECOMUNIC","4741  ",19,"Textiles"]
["4742   - VENTA AL POR MENOR DE EQUIPO DE SONIDO Y DE VÍDEO EN COMERCIOS ESPECIALIZADOS","4742  ",19,"Textiles"]
["4751   - VENTA AL POR MENOR DE PRODUCTOS TEXTILES EN COMERCIOS ESPECIALIZADOS","4751  ",19,"Textiles"]
["4752   - VENTA AL POR MENOR DE ARTÍCULOS DE FERRETERÍA, PINTURAS Y PRODUCTOS DE VIDRIO EN COMERCIOS ESPECIALI","4752  ",19,"Textiles"]
["4753   - VENTA AL POR MENOR DE TAPICES, ALFOMBRAS Y CUBRIMIENTOS PARA PAREDES Y PISOS EN COMERCIOS ESPECIALIZ","4753  ",19,"Textiles"]
["4759   - VENTA AL POR MENOR DE APARATOS ELÉCTRICOS DE USO DOMÉSTICO,  MUEBLES, EQUIPO DE ILUMINACIÓN Y OTROS ","4759  ",20,"Transporte y Aviación"]
["4761   - VENTA AL POR MENOR DE LIBROS, PERIÓDICOS Y ARTÍCULOS DE PAPELERÍA EN COMERCIOS ESPECIALIZADOS","4761  ",20,"Transporte y Aviación"]
["4762   - VENTA AL POR MENOR DE GRABACIONES DE MÚSICA Y DE VÍDEO EN COMERCIOS ESPECIALIZADOS","4762  ",20,"Transporte y Aviación"]
["4763   - VENTA AL POR MENOR DE EQUIPO DE DEPORTE EN COMERCIOS ESPECIALIZADOS","4763  ",20,"Transporte y Aviación"]
["4764   - VENTA AL POR MENOR DE JUEGOS Y  JUGUETES EN COMERCIOS ESPECIALIZADOS","4764  ",20,"Transporte y Aviación"]
["4771   - VENTA AL POR MENOR DE PRENDAS DE VESTIR, CALZADO Y ARTÍCULOS DE CUERO EN COMERCIOS ESPECIALIZADOS","4771  ",20,"Transporte y Aviación"]
["4772   - VENTA AL POR MENOR DE PRODUCTOS FARMACÉUTICOS Y MEDICINALES, COSMÉTICOS Y ARTÍCULOS DE TOCADOR EN CO","4772  ",20,"Transporte y Aviación"]
["4773   - VENTA AL POR MENOR DE OTROS PRODUCTOS NUEVOS EN COMERCIOS ESPECIALIZADOS","4773  ",20,"Transporte y Aviación"]
["4774   - VENTA AL POR MENOR DE ARTÍCULOS DE SEGUNDA MANO","4774  ",20,"Transporte y Aviación"]
["4781   - VENTA AL POR MENOR DE ALIMENTOS, BEBIDAS Y TABACO EN PUESTOS DE VENTA Y MERCADOS ","4781  ",20,"Transporte y Aviación"]
["4782   - VENTA AL POR MENOR DE PRODUCTOS TEXTILES, PRENDAS DE VESTIR Y CALZADO EN PUESTOS DE VENTA Y MERCADOS","4782  ",20,"Transporte y Aviación"]
["4789   - VENTA AL POR MENOR DE OTROS PRODUCTOS EN PUESTOS DE VENTA Y MERCADOS","4789  ",20,"Transporte y Aviación"]
["4791   - VENTA AL POR MENOR POR CORREO Y POR INTERNET","4791  ",20,"Transporte y Aviación"]
["4799   - OTRAS ACTIVIDADES DE VENTA AL POR MENOR NO REALIZADAS EN COMERCIOS, PUESTOS DE VENTA O MERCADOS","4799  ",20,"Transporte y Aviación"]
["4911   - TRANSPORTE INTERURBANO DE PASAJEROS POR FERROCARRIL","4911  ","01","Editoriales"]
["4912   - TRANSPORTE DE CARGA POR FERROCARRIL","4912  ","01","Editoriales"]
["4921   - TRANSPORTE URBANO Y SUBURBANO DE PASAJEROS POR VÍA TERRESTRE ","4921  ","01","Editoriales"]
["4922   - OTRAS ACTIVIDADES DE TRANSPORTE POR VÍA TERRESTRE","4922  ","01","Editoriales"]
["4923   - TRANSPORTE DE CARGA POR CARRETERA","4923  ","01","Editoriales"]
["4930   - TRANSPORTE POR TUBERÍAS","4930  ","01","Editoriales"]
["5011   - TRANSPORTE DE PASAJEROS MARÍTIMO Y DE CABOTAJE","5011  ","01","Editoriales"]
["5012   - TRANSPORTE DE CARGA MARÍTIMO Y DE CABOTAJE","5012  ","01","Instituciones Financieras"]
["5021   - TRANSPORTE DE PASAJEROS POR VÍAS DE NAVEGACIÓN INTERIORES","5021  ","01","Instituciones Financieras"]
["5022   - TRANSPORTE DE CARGA, POR VÍAS DE NAVEGACIÓN INTERIORES","5022  ","01","Instituciones Financieras"]
["5110   - TRANSPORTE DE PASAJEROS POR VÍA AÉREA","5110  ","01","Instituciones Financieras"]
["5120   - TRANSPORTE DE CARGA POR VÍA AÉREA","5120  ","01","Instituciones Financieras"]
["5210   - ALMACENAMIENTO Y DEPÓSITO","5210  ","02","Alimentos y Bebidas"]
["5221   - ACTIVIDADES DE SERVICIOS VINCULADAS AL TRANSPORTE TERRESTRE","5221  ","02","Alimentos y Bebidas"]
["5222   - ACTIVIDADES DE SERVICIOS VINCULADAS AL TRANSPORTE ACUÁTICO","5222  ","02","Alimentos y Bebidas"]
["5223   - ACTIVIDADES DE SERVICIOS VINCULADAS AL TRANSPORTE AÉREO","5223  ","02","Alimentos y Bebidas"]
["5224   - MANIPULACIÓN DE CARGA","5224  ","02","Alimentos y Bebidas"]
["5229   - OTRAS ACTIVIDADES DE APOYO AL TRANSPORTE","5229  ","02","Alimentos y Bebidas"]
["5310   - ACTIVIDADES POSTALES","5310  ","02","Alimentos y Bebidas"]
["5320   - ACTIVIDADES DE MENSAJERÍA","5320  ","02","Alimentos y Bebidas"]
["5510   - ACTIVIDADES DE ALOJAMIENTO PARA ESTANCIAS CORTAS","5510  ","02","Alimentos y Bebidas"]
["5520   - ACTIVIDADES DE CAMPAMENTOS, PARQUES DE VEHÍCULOS RECREATIVOS Y PARQUES DE CARAVANAS","5520  ","02","Alimentos y Bebidas"]
["5590   - OTRAS ACTIVIDADES DE ALOJAMIENTO","5590  ","02","Alimentos y Bebidas"]
["5610   - ACTIVIDADES DE RESTAURANTES Y DE SERVICIO MÓVIL DE COMIDAS","5610  ","02","Alimentos y Bebidas"]
["5621   - SUMINISTRO DE COMIDAS POR ENCARGO","5621  ","02","Alimentos y Bebidas"]
["5629   - OTRAS ACTIVIDADES DE SERVICIO DE COMIDAS","5629  ","02","Alimentos y Bebidas"]
["5630   - ACTIVIDADES DE SERVICIO DE BEBIDAS","5630  ","02","Alimentos y Bebidas"]
["5811   - EDICIÓN DE LIBROS","5811  ","02","Alimentos y Bebidas"]
["5812   - EDICIÓN DE DIRECTORIOS Y LISTAS DE CORREO","5812  ","02","Alimentos y Bebidas"]
["5813   - EDICIÓN DE PERIÓDICOS, REVISTAS Y OTRAS PUBLICACIONES PERIÓDICAS","5813  ","02","Alimentos y Bebidas"]
["5819   - OTRAS ACTIVIDADES DE EDICIÓN","5819  ","02","Alimentos y Bebidas"]
["5820   - EDICIÓN DE PROGRAMAS DE INFORMÁTICOS","5820  ","03","Comercio"]
["5911   - ACTIVIDADES DE PRODUCCIÓN DE PELÍCULAS CINEMATOGRÁFICAS, VÍDEOS Y PROGRAMAS DE TELEVISIÓN","5911  ","03","Comercio"]
["5912   - ACTIVIDADES DE POSTPRODUCCIÓN DE PELÍCULAS CINEMATOGRÁFICAS, VÍDEOS Y PROGRAMAS DE TELEVISIÓN","5912  ","03","AgroIndustria"]
["5913   - ACTIVIDADES DE DISTRIBUCIÓN DE PELÍCULAS CINEMATOGRÁFICAS, VÍDEOS Y PROGRAMAS DE TELEVISIÓN","5913  ","03","Comercio"]
["5914   - ACTIVIDADES DE EXHIBICIÓN DE PELÍCULAS CINEMATOGRÁFICAS Y CINTAS DE VÍDEO ","5914  ","03","AgroIndustria"]
["5920   - ACTIVIDADES DE GRABACIÓN DE SONIDO Y EDICIÓN DE MÚSICA","5920  ","03","Comercio"]
["6010   - TRANSMISIONES DE RADIO","6010  ","03","Comercio"]
["6020   - PROGRAMACIÓN Y TRANSMISIONES DE TELEVISIÓN","6020  ","03","Comercio"]
["6110   - ACTIVIDADES DE TELECOMUNICACIONES ALÁMBRICAS","6110  ","03","Hoteles"]
["6120   - ACTIVIDADES DE TELECOMUNICACIONES INALÁMBRICAS","6120  ","03","Hoteles"]
["6130   - ACTIVIDADES DE TELECOMUNICACIONES POR SATÉLITE.","6130  ","04","Telecomunicaciones"]
["6190   - OTRAS ACTIVIDADES DE TELECOMUNICACIÓN.","6190  ","04","Telecomunicaciones"]
["6201   - PROGRAMACIÓN INFORMÁTICA","6201  ","04","Salud"]
["6202   - CONSULTORÍA DE INFORMÁTICA Y DE GESTIÓN DE INSTALACIONES INFORMÁTICAS","6202  ","04","Salud"]
["6209   - OTRAS ACTIVIDADES DE TECNOLOGÍA DE LA INFORMACIÓN Y DE SERVICIOS INFORMÁTICOS","6209  ","04","Salud"]
["6311   - PROCESAMIENTO DE DATOS, HOSPEDAJE Y ACTIVIDADES CONEXAS","6311  ","04","Salud"]
["6312   - PORTALES WEB","6312  ","04","Salud"]
["6391   - ACTIVIDADES DE AGENCIAS DE NOTICIAS","6391  ","04","Salud"]
["6399   - OTRAS ACTIVIDADES DE SERVICIOS DE INFORMACIÓN N.C.P.","6399  ","04","Telecomunicaciones"]
["6411   - BANCA CENTRAL","6411  ","05","AgroIndustria"]
["6419   - OTROS TIPOS DE INTERMEDIACIÓN MONETARIA.","6419  ","05","AgroIndustria"]
["6420   - ACTIVIDADES DE SOCIEDADES DE CARTERA","6420  ","05","AgroIndustria"]
["6430   - FONDOS Y SOCIEDADES DE INVERSIÓN Y ENTIDADES FINANCIERAS SIMILARES","6430  ","05","AgroIndustria"]
["6491   - ARRENDAMIENTO FINANCIERO","6491  ","05","AgroIndustria"]
["6492   - OTRAS ACTIVIDADES DE CONCESIÓN DE CRÉDITO","6492  ","05","AgroIndustria"]
["6499   - OTRAS ACTIVIDADES DE SERVICIOS FINANCIEROS, EXCEPTO LAS DE SEGUROS Y FONDOS DE PENSIONES, N.C.P.","6499  ","05","AgroIndustria"]
["6511   - SEGUROS DE VIDA","6511  ","05","AgroIndustria"]
["6512   - SEGUROS GENERALES","6512  ","05","AgroIndustria"]
["6520   - REASEGUROS","6520  ","05","Construcción"]
["6530   - FONDOS DE PENSIONES","6530  ","06","Mineras"]
["6611   - ADMINISTRACIÓN DE MERCADOS FINANCIEROS","6611  ","06","Mineras"]
["6612   - CORRETAJE DE VALORES Y DE CONTRATOS DE PRODUCTOS BÁSICOS","6612  ","06","Mineras"]
["6619   - OTRAS ACTIVIDADES AUXILIARES DE LAS ACTIVIDADES DE SERVICIOS FINANCIEROS","6619  ","06","Mineras"]
["6621   - EVALUACIÓN DE RIESGOS Y DAÑOS","6621  ","06","Mineras"]
["6622   - ACTIVIDADES DE AGENTES Y CORREDORES DE SEGUROS","6622  ","06","Mineras"]
["6629   - OTRAS ACTIVIDADES AUXILIARES DE LAS ACTIVIDADES DE SEGUROS Y FONDOS DE PENSIONES","6629  ","06","Mineras"]
["6630   - ACTIVIDADES DE GESTIÓN DE FONDOS","6630  ","06","Mineras"]
["6810   - ACTIVIDADES INMOBILIARIAS REALIZADAS CON BIENES PROPIOS O ARRENDADOS","6810  ","06","Mineras"]
["6820   - ACTIVIDADES INMOBILIARIAS REALIZADAS A CAMBIO DE UNA RETRIBUCIÓN O POR CONTRATA","6820  ","06","Mineras"]
["6910   - ACTIVIDADES JURÍDICAS","6910  ","06","Mineras"]
["6920   - ACTIVIDADES DE CONTABILIDAD, TENEDURÍA DE LIBROS Y AUDITORÍA; CONSULTORÍA FISCAL","6920  ","06","Mineras"]
["7010   - ACTIVIDADES DE OFICINAS CENTRALES","7010  ","06","Mineras"]
["7020   - ACTIVIDADES DE CONSULTORÍA DE GESTIÓN","7020  ","06","Mineras"]
["7110   - ACTIVIDADES DE ARQUITECTURA E INGENIERÍA Y ACTIVIDADES CONEXAS DE CONSULTORÍA TÉCNICA","7110  ","06","Mineras"]
["7120   - ENSAYOS Y ANÁLISIS TÉCNICOS","7120  ","06","Mineras"]
["7210   - INVESTIGACIÓN Y DESARROLLO EXPERIMENTAL EN EL CAMPO DE LAS CIENCIAS NATURALES Y LA INGENIERÍA","7210  ","06","Mineras"]
["7220   - INVESTIGACIÓN Y DESARROLLO EXPERIMENTAL EN EL CAMPO DE LAS CIENCIAS SOCIALES Y LAS HUMANIDADES","7220  ","06","Mineras"]
["7310   - PUBLICIDAD","7310  ","06","Mineras"]
["7320   - ESTUDIOS DE MERCADO Y ENCUESTAS DE OPINIÓN PÚBLICA","7320  ","06","Mineras"]
["7410   - ACTIVIDADES ESPECIALIZADAS DE DISEÑO","7410  ","06","Mineras"]
["7420   - ACTIVIDADES DE FOTOGRAFÍA","7420  ","06","Mineras"]
["7490   - OTRAS ACTIVIDADES PROFESIONALES, CIENTÍFICAS Y TÉCNICAS N.C.P.","7490  ","06","Mineras"]
["7500   - ACTIVIDADES VETERINARIAS","7500  ","06","Mineras"]
["7710   - ALQUILER Y ARRENDAMIENTO DE VEHÍCULOS AUTOMOTORES","7710  ","06","Mineras"]
["7721   - ALQUILER Y ARRENDAMIENTO DE EQUIPO RECREATIVO Y DEPORTIVO","7721  ","06","Mineras"]
["7722   - ALQUILER DE CINTAS DE VÍDEO Y DISCOS","7722  ","06","Mineras"]
["7729   - ALQUILER Y ARRENDAMIENTO DE OTROS EFECTOS PERSONALES Y ENSERES DOMÉSTICOS ","7729  ","06","Mineras"]
["7730   - ALQUILER Y ARRENDAMIENTO DE OTROS TIPOS DE MAQUINARIA, EQUIPO Y BIENES TANGIBLES","7730  ","06","Educación"]
["7740   - ARRENDAMIENTO DE PROPIEDAD INTELECTUAL Y PRODUCTOS SIMILARES, EXCEPTO OBRAS PROTEGIDAS  POR DERECHOS","7740  ","06","Educación"]
["7810   - ACTIVIDADES DE AGENCIAS DE EMPLEO","7810  ","07","Hidrocarburos"]
["7820   - ACTIVIDADES DE AGENCIAS DE EMPLEO TEMPORAL","7820  ","07","Hidrocarburos"]
["7830   - OTRAS ACTIVIDADES DE DOTACIÓN DE RECURSOS HUMANOS","7830  ","07","Alimentos y Bebidas"]
["7911   - ACTIVIDADES DE AGENCIAS DE VIAJES","7911  ","07","Hidrocarburos"]
["7912   - ACTIVIDADES DE OPERADORES TURÍSTICOS","7912  ","07","Hidrocarburos"]
["7990   - OTROS SERVICIOS DE RESERVAS Y ACTIVIDADES CONEXAS","7990  ","07","Hidrocarburos"]
["8010   - ACTIVIDADES DE SEGURIDAD PRIVADA","8010  ","07","Energia y Agua"]
["8020   - ACTIVIDADES DE SERVICIO DE SISTEMAS DE SEGURIDAD","8020  ","09","Alimentos y Bebidas"]
["8030   - ACTIVIDADES DE INVESTIGACIÓN","8030  ","09","Alimentos y Bebidas"]
["8110   - ACTIVIDADES COMBINADAS DE APOYO A INSTALACIONES","8110  ","09","Alimentos y Bebidas"]
["8121   - LIMPIEZA GENERAL DE EDIFICIOS","8121  ","09","Telecomunicaciones"]
["8129   - OTRAS ACTIVIDADES DE LIMPIEZA DE EDIFICIOS E INSTALACIONES INDUSTRIALES","8129  ","09","Textiles"]
["8130   - ACTIVIDADES DE PAISAJISMO Y SERVICIOS DE MANTENIMIENTO CONEXOS","8130  ","09","Textiles"]
["8211   - ACTIVIDADES COMBINADAS DE SERVICIOS ADMINISTRATIVOS DE OFICINA","8211  ","09","Textiles"]
["8219   - FOTOCOPIADO, PREPARACIÓN DE DOCUMENTOS Y OTRAS ACTIVIDADES ESPECIALIZADAS DE APOYO DE OFICINA","8219  ","09","Textiles"]
["8220   - ACTIVIDADES DE CENTROS DE LLAMADAS","8220  ","09","Textiles"]
["8230   - ORGANIZACIÓN DE CONVENCIONES Y EXPOSICIONES COMERCIALES","8230  ","09","Industria"]
["8291   - ACTIVIDADES DE AGENCIAS DE COBRO Y AGENCIAS DE CALIFICACIÓN CREDITICIA","8291  ","09","Industria"]
["8292   - ACTIVIDADES DE ENVASADO Y EMPAQUETADO","8292  ","09","Industria"]
["8299   - OTRAS ACTIVIDADES DE SERVICIOS DE APOYO A LAS EMPRESAS N.C.P","8299  ","09","Telecomunicaciones"]
["8411   - ACTIVIDADES DE LA ADMINISTRACIÓN PÚBLICA EN GENERAL","8411  ","09","Telecomunicaciones"]
["8412   - REGULACIÓN DE LAS ACTIVIDADES DE ORGANISMOS QUE PRESTAN SERVICIOS SANITARIOS, EDUCATIVOS, CULTURALES","8412  ","09","Quimicas"]
["8413   - REGULACIÓN Y FACILITACIÓN DE LA ACTIVIDAD ECONÓMICA","8413  ","09","Quimicas"]
["8421   - RELACIONES EXTERIORES","8421  ","09","Plasticos y Cauchos"]
["8422   - ACTIVIDADES DE DEFENSA","8422  ","09","Plasticos y Cauchos"]
["8423   - ACTIVIDADES DE MANTENIMIENTO DEL ORDEN PÚBLICO Y DE SEGURIDAD","8423  ","09","Industria"]
["8430   - ACTIVIDADES DE PLANES DE SEGURIDAD SOCIAL DE AFILIACIÓN OBLIGATORIA","8430  ","09","Industria"]
["8510   - ENSEÑANZA PREESCOLAR Y PRIMARIA","8510  ","09","Industria"]
["8521   - ENSEÑANZA SECUNDARIA DE FORMACIÓN GENERAL","8521  ","09","Industria"]
["8522   - ENSEÑANZA SECUNDARIA DE FORMACIÓN TÉCNICA Y PROFESIONAL","8522  ","09","Industria"]
["8530   - ENSEÑANZA SUPERIOR","8530  ","09","Industria"]
["8541   - EDUCACIÓN DEPORTIVA Y RECREATIVA","8541  ","09","Industria"]
["8542   - ENSEÑANZA CULTURAL","8542  ","09","Industria"]
["8549   - OTROS TIPOS DE ENSEÑANZA N.C.P.","8549  ","09","Industria"]
["8550   - ACTIVIDADES DE APOYO A LA ENSEÑANZA","8550  ","09","Industria"]
["8610   - ACTIVIDADES DE HOSPITALES","8610  ","09","Industria"]
["8620   - ACTIVIDADES DE MÉDICOS Y ODONTÓLOGOS","8620  ","09","Industria"]
["8690   - OTRAS ACTIVIDADES DE ATENCIÓN DE LA SALUD HUMANA","8690  ","09","Telecomunicaciones"]
["8710   - ACTIVIDADES DE ATENCIÓN DE ENFERMERÍA EN INSTITUCIONES","8710  ","09","Telecomunicaciones"]
["8720   - ACTIVIDADES DE ATENCIÓN EN INSTITUCIONES PARA PERSONAS CON RETRASO MENTAL, ENFERMOS MENTALES Y TOXIC","8720  ","09","Industria"]
["8730   - ACTIVIDADES DE ATENCIÓN EN INSTITUCIONES PARA PERSONAS DE EDAD PERSONAS CON DISCAPACIDAD","8730  ","09","Industria"]
["8790   - OTRAS ACTIVIDADES DE ATENCIÓN EN INSTITUCIONES","8790  ","09","Industria"]
["8810   - ACTIVIDADES DE ASISTENCIA SOCIAL SIN ALOJAMIENTO PARA PERSONAS DE EDAD Y PERSONAS CON DISCAPACIDAD","8810  ","09","Construcción"]
["8890   - OTRAS ACTIVIDADES DE ASISTENCIA SOCIAL SIN ALOJAMIENTO","8890  ","09","Industria"]
["9000   - ACTIVIDADES CREATIVAS, ARTÍSTICAS Y DE ENTRETENIMIENTO","9000  ","09","Industria"]
["9101   - ACTIVIDADES DE BIBLIOTECAS Y ARCHIVOS","9101  ","09","Industria"]
["9102   - ACTIVIDADES DE MUSEOS Y GESTIÓN DE LUGARES Y EDIFICIOS HISTÓRICOS","9102  ","09","Telecomunicaciones"]
["9103   - ACTIVIDADES DE JARDINES BOTÁNICOS Y ZOOLÓGICOS Y RESERVAS NATURALES","9103  ","09","Telecomunicaciones"]
["9200   - ACTIVIDADES DE JUEGOS DE AZAR Y APUESTAS","9200  ","09","Telecomunicaciones"]
["9311   - GESTIÓN DE INSTALACIONES DEPORTIVAS","9311  "]
["9312   - ACTIVIDADES DE CLUBES DEPORTIVOS","9312  "]
["9319   - OTRAS ACTIVIDADES DEPORTIVAS","9319  "]
["9321   - ACTIVIDADES DE PARQUES DE ATRACCIONES Y PARQUES TEMÁTICOS","9321  "]
["9329   - OTRAS ACTIVIDADES DE ESPARCIMIENTO Y RECREATIVAS N.C.P.","9329  "]
["9411   - ACTIVIDADES DE ASOCIACIONES EMPRESARIALES Y DE EMPLEADORES","9411  "]
["9412   - ACTIVIDADES DE ASOCIACIONES PROFESIONALES","9412  "]
["9420   - ACTIVIDADES DE SINDICATOS","9420  "]
["9491   - ACTIVIDADES DE ORGANIZACIONES RELIGIOSAS","9491  "]
["9492   - ACTIVIDADES DE ORGANIZACIONES POLÍTICAS","9492  "]
["9499   - ACTIVIDADES DE OTRAS ASOCIACIONES N.C.P.","9499  "]
["9511   - REPARACIÓN DE ORDENADORES Y EQUIPO PERIFÉRICO","9511  "]
["9512   - REPARACIÓN DE EQUIPOS COMUNICACIONALES","9512  "]
["9521   - REPARACIÓN DE APARATOS ELECTRÓNICOS DE CONSUMO","9521  "]
["9522   - REPARACIÓN DE APARATOS DE USO DOMÉSTICO Y EQUIPO DOMÉSTICO Y DE JARDINERÍA","9522  "]
["9523   - REPARACIÓN DE CALZADO Y ARTÍCULOS DE CUERO","9523  "]
["9524   - REPARACIÓN DE MUEBLES Y ACCESORIOS DOMÉSTICOS","9524  "]
["9529   - REPARACIÓN DE OTROS EFECTOS PERSONALES Y ENSERES DOMÉSTICOS","9529  "]
["9601   - LAVADO Y LIMPIEZA, INCLUIDA LA LIMPIEZA EN SECO, DE PRODUCTOS TEXTILES Y DE PIEL","9601  "]
["9602   - PELUQUERÍA Y OTROS TRATAMIENTOS DE BELLEZA","9602  "]
["9603   - POMPAS FÚNEBRES Y ACTIVIDADES CONEXAS","9603  "]
["9609   - OTRAS ACTIVIDADES DE SERVICIOS PERSONALES N.C.P.","9609  "]
["9700   - ACTIVIDADES DE LOS HOGARES COMO EMPLEADORES DE PERSONAL DOMÉSTICO","9700  "]
["9900   - ACTIVIDADES DE ORGANIZACIONES Y ÓRGANOS EXTRATERRITORIALES","9900  "]

{"sheet":"Info","index":12,"n_rows":1620,"n_cols":6,"rows_kept":1620,"cut":false,"hidden":true,"merged":[]}
["RUC","RAZÓN SOCIAL",null,"RUC Agente","Cod Fusion","Agente Fusion"]
[20394041760,"DAGA CAMISEA EIRL",null,20605578161,405470,"BIENSEGUROS ASESORES Y CORREDORES DE SEGUROS SOCIEDAD ANONIMA"]
[20512682376,"TERRAMAR INSPECTION & TRADING SAC",null,20604792534,405452,"CCA CORREDORES DE SEGUROS SAC"]
[20482162003,"GESTION CONSULTORIAS Y MULTISERVICIOS SAC",null,20604781303,405467,"HHM & PARTNERS CORREDORES DE SEGUROS SAC"]
[20331898008,"LUZ DEL SUR SAA",null,20604646210,405453,"ENERGY BROKERS CORREDORES DE SEGUROS SAC"]
[20206018411,"TECSUR SA",null,20604595925,405447,"FIREFLY CORREDORES DE SEGUROS SAC"]
[20503205964,"ALTA RUTA 4X4 PERU SAC",null,20604546188,405412,"S&S CORREDORES DE SEGUROS   SAC"]
[20600188179,"ANC ENERGY CONSULTING & SUPERVISION SAC",null,20604446474,405450,"GERAL CORREDORES DE SEGUROS EIRL"]
[20544540158,"OPC CONSULTORES SAC",null,20604261709,405442,"OBRADOVICH & ASOCIADOS CORREDORES DE SEGUROS EIRL"]
[20491844508,"MULTISERVICIOS PADRE ETERNO EIRL",null,20604234922,405444,"EDUARDO DEL AGUILA DURAND & ASOCIADOS CORREDORES D"]
[20261159733,"COES-SINAC",null,20604134154,405438,"ASESORES Y CORREDORES DE SEGUROS FIDELIDAD SAC"]
[20602161600,"INSTITUTO CRECER",null,20604075841,405441,"REVO CORREDORES DE SEGUROS S.A.C.01/02/2019"]
[20166012687,"ODEBRECHT PERU INGENIERIA Y CONSTRUCCION SAC",null,20603810911,405440,"ORIENTA ASESORES Y CORREDORES DE SEGUROS SAC"]
[20491719355,"EMPRESA DE TRANSPORTES URBINA Y SERV GRALES EIRL",null,20603783345,405437,"GF CONSULTOR CORREDORES DE SEGUROS SAC"]
[20108383471,"UNIVERSIDAD INCA GARCILASO DE LA VEGA",null,20603686757,405436,"VIDAL Y ASOCIADOS ASESORES Y CORREDORES DE SEGUROS SAC"]
[20303180720,"SIEMENS SAC",null,20603667213,405433,"MAVEV CORREDORES DE SEGUROS SAC"]
[10001600252,"JULIAN  RIVAS  TAIPE",null,20603475446,405429,"FEVIA ASESORES Y CORREDORES DE SEGUROS SAC"]
[20525156703,"ENTRETENIMIENTO CULTURAL SAC",null,20603425007,405431,"ALTA CORREDORES DE SEGUROS"]
[20393282241,"FORESTAL SAN ANTONIO EIRL",null,20603196270,405435,"FS CORREDORES DE SEGUROS SOCIEDAD ANONIMA CERRADA"]
[20565257855,"LA BELLE VIE INMOBILIARIA SAC",null,20603195125,405427,"ASEGUR CORREDORES DE SEGUROS SAC"]
[20543036961,"ONCORAD SAC",null,20603133197,405422,"MORGAN & ASOCIADOS CORREDORES DE SEGUROS SAC"]
[20603208227,"INVERSIONES VILUC EIRL",null,20603126123,405428,"VITAL CORREDORES DE SEGUROS SAC"]
[20509093521,"CONCESIONARIA TRASVASE OLMOS SA",null,20603061242,405425,"FOCUS CORREDORES DE SEGUROS SAC"]
[20447646103,"EMTRACUA SAN SEBASTIAN AMANTANI SRL",null,20602972683,405420,"DAR ASESORES Y CORREDORES DE SEGUROS SAC"]
[20447814847,"ETTL ARCO IRIS PUNO SRL",null,20602968309,405421,"LESCANO Y CASANOVA CORREDORES DE SEGUROS SAC"]
[10102719102,"VERONICA CECILIA  URBINA  DE BERNARDIS",null,20602912486,405419,"JOLAY CORREDORES DE SEGUROS SOCIEDAD ANONIMA CERRA"]
[20547923953,"CRISTO DE LA VICTORIA SAC",null,20602847641,405432,"TORRES ASESORES Y CORREDORES DE SEGUROS"]
[20550727014,"WATER ORG INC",null,20602846963,405426,"BIRLIK CORREDORES DE SEGUROS SAC"]
[20522095797,"TECNOLOGIA DESARROLLO Y MEDICION SCRL",null,20602844901,405418,"PREVISEGUROS CORREDOR DE SEGUROS SRL"]
[20510433590,"HIDELEMIN SAC",null,20602761585,405416,"TELLO BROKERS CORREDORES DE SEGUROS  SAC"]
[20448334920,"EMPR DE TRANSP LACUSTRE AMANTANI INTI ILLARI SCRL",null,20602737072,405417,"VITTAL CORREDORES DE SEGURO SAC"]
[10198088604,"LEONOR DELFINA  MATEO  BENITO",null,20602665390,405414,"CONECTA CORREDORES DE SEGUROS SAC"]
[20393748380,"GROMORSA OPERADORES FLUVIALES EIRL",null,20602649122,405411,"VINCULAPERU CORREDORES DE SEGUROS EIRL"]
[20557530755,"AVENTURAS NAUTICAS EIRL",null,20602642047,405413,"MARALE ASESORES Y CORREDORES DE SEGURO SAC"]
[20101991319,"WORTEC SA",null,20602551637,405406,"PERALBE CORREDORES DE SEGUROS SAC"]
[10088940348,"SANTIAGO  AYALA  REYNOSO",null,20602482791,405408,"GYZ CORREDORES DE SEGUROS Y ASOCIADOS SA"]
[20603874561,"CONSORCIO MANTARO",null,20602457568,405409,"ACCIÓN ASESORES Y CORREDORES DE SEGUROS SAC"]
[20419387658,"CEMENTOS PACASMAYO SAA",null,20602394752,405405,"FENIX ASESORES Y CORREDORES DE SEGUROS EIRL"]
[20603450753,"AGENCIA DE VIAJES Y TURISMO LUPAKA LAND EIRL",null,20602377122,405402,"LOYALTY CORREDORES DE SEGUROS SAC"]
[10201172778,"TEOFANIS  CRUZ  VALENCIA",null,20602352332,405415,"HFR GAMARRA CORREDORES DE SEGUDORS SAC"]
[20522625699,"GRUPO DANIELSON CONSTRUCCIONES SAC",null,20602317529,405403,"ARRIBAS CORREDORES DE SEGUROS SAC"]
[20180560034,"EMP TRANSP TURIS ACUA ESTRELLA D SUR SRL",null,20602310192,405404,"GELTS PERU CORREDORES DE SEGUROS SAC"]
[20600311957,"CONSULTORIAS Y SERVICIOS INGENIEROS Y ABOGADOS SAC",null,20602293549,405400,"MANCINELLI&MANRIQUE CORREDORES DE SEGUROS SAC"]
[20447819482,"JUMBO TRAVEL EIRL",null,20602222960,305313,"ARIAS & ASOCIADOS CORREDORES DE SEGUROS SAC"]
[10428648817,"WILFREDO  SERVIGON  INOÑAN",null,20602185193,405401,"SECUR CORREDORES DE SEGUROS SAC"]
[10081908368,"OSCAR GUILLERMO  CASTILLO  JUSTO",null,20602104011,405399,"SEKYURITI CORREDORES DE SEGUROS SAC"]
[20535525871,"RAMIREZ Y ASOCIADOS SAC CORREDORES DE SEGUROS",null,20602030319,405398,"JTM CORREDORES DE SEGUROS SAC"]
[20604385602,"EMP DE TRANSP ACUATICO NAUTILUZ SOC COM RESP LIMIT",null,20601970199,405410,"CALLAN SAC CONSULTORES Y CORREDORES DE SUGUROS"]
[20440405143,"SERVICIOS DE TRANSPORTES MINA SAC",null,20601943493,305269,"DIGITAL BROKERS S.A.C. CORREDORES DE SEGUROS"]
[20136907400,"CLUB DE REGATAS LIMA",null,20601930880,405393,"TORRE FUERTE CORREDORES DE SEGUROS S.A.C."]
[20601041538,"EMP DE SERV TURISTICOS RIO WILLY EXPLORER SCRL",null,20601734100,405392,"SOSA CORREDORES DE SEGUROS SAC"]
[20546782230,"MISION MEDICA CATOLICA CMMB DEL PERU",null,20601627044,405386,"CABALLERO COVEÑAS HNOS CORREDORES DE SEGUROS SAC"]
[20155945860,"PONTIFICIA UNIVERSIDAD CATOLICA DEL PERU",null,20601622387,405388,"CRR CORREDORES DE SEGUROS SAC"]
[20602820093,"MABARA CONTRATISTAS GENERALES SCRL",null,20601601932,405384,"PRIME PERU CORREDORES DE SEGUROS SOCIEDAD ANONIMA"]
[20602629971,"TIME SINERGY SAC TIME SINERGY SAC",null,20601594464,405385,"ARTHUR J. GALLAGHER PERU - CORREDORES DE SEGUROS"]
[20602001220,"ETA UNIVERSO AVENTOURS SRL",null,20601519004,405383,"YARIN CORREDORES DE SEGUROS EIRL"]
[20524730554,"GESTUM TOTAL EIRL",null,20601508827,405377,"CARRERA CORREDORES DE SEGUROS SAC"]
[20253757931,"ABENGOA PERU SA",null,20601504031,405378,"SHIELD CORREDORES DE SEGUROS SAC"]
[20346669625,"CAVALI SA ICLV",null,20601499836,405395,"LOSTA CORREDORES DE SEGUROS EIRL"]
[20557006487,"TOUR LA PUNTA PITI PITI SAC",null,20601468655,405380,"NEXO CORREDORES DE SEGUROS E.I.R.L."]
[20600119321,"TRANSPORTES GLADYS SOCIEDAD ANONIMA CERRADA",null,20601442753,405379,"AKIRA OTA Y ASOCIADOS CORREDORES DE SEGUROS SAC"]
[20508361930,"GLOBAL SUPPORT SYSTEMS SA",null,20601423074,405387,"NOVA PERU CORREDORES DE SEGUROS SAC"]
[20528475320,"SERVICES LOGISTICS JJ EIRL",null,20601404088,405381,"VIVA SEGUROS ASESORES Y CORREDORES DE SEGUROS"]
[20602834850,"CONSORCIO SUPERVISOR OYON",null,20601373701,405391,"CONFIANZA CORREDORES DE SEGUROS SAC"]
[10445369093,"ROCIO JAQUELINE  SAYAN  ALZAMORA",null,20601349711,405396,"JRABROKER CORREDORES DE SEGUROS SAC"]
[20448489290,"ETTA HUASCAR EXPRESS SRL",null,20601328187,405376,"ASSURANCE CORREDORES DE SEGUROS SAC"]
[20603488815,"TURISMO WAYRA CUSI EMPRESA INDIVIDUAL DE RESP LTDA",null,20601291976,305227,"LONDON Y ASOCIADOS CORREDORES DE SEGUROS SAC"]
[20604049165,"TURISMO RAMOS EXPRESS SOC COM RESPONS LTDA",null,20601278830,405371,"SOLUCIÓN ASESORES Y CORREDORES DE SEGUROS SAC"]
[20552755724,"PEMBROOK COPPER SAC",null,20601225591,305224,"EAGLES CORREDORES DE SEGUROS SAC"]
[20390346892,"WORLD WILDLIFE FUND, INC",null,20601225591,305224,"EAGLES CORREDORES DE SEGUROS SAC"]
[20482125221,"CALUSS SAC",null,20601215382,405369,"SEGURAMA CORREDORES DE SEGUROS SAC"]
[20600934148,"OCEANS'S EXPLORER SAC",null,20601187478,405370,"ROMA CORREDORES DE SEGUROS SAC"]
[20518792360,"LOY SING SAC",null,20601175003,405375,"CAMPERO & REYES CORREDORES DE SEGUROS SAC"]
[10062022723,"VIRGINIA GUADALUPE  RETTO  TORRES",null,20601157072,405390,"INNOVA CORREDORES DE SEGUROS SAC"]
[20100099447,"MERCK PERUANA SA",null,20601084962,405363,"INTEGRO ASESORES Y CORREDORES DE SEGUROS SAC"]
[20600425952,"EMP DE TRANSPOR LACUSTRE MAMA KOCHA-AMANTANI SCRL",null,20601084024,405367,"365 CORREDORES DE SEGUROS SAC"]
[20448041078,"EMPRESA LACUSTRE TURISTICO LOS ANDES SCRL",null,20601074258,405368,"ATHENEA CORREDORES DE SEGUROS SA"]
[20545341248,"ODEBRECHT ENERGIA DEL PERU SA",null,20601073375,405424,"VIDASEGUROS CORREDORES DE SEGUROS EIRL"]
[10082347271,"YVAN  PERSICO  RENGIFO",null,20601058244,405365,"PROCHAZKA & DEMARINI CORREDORES DE SEGUROS"]
[10166531930,"GEORGE  HENDE  THOMAS",null,20600990072,405372,"PROTEGE-T CORREDORES DE SEGUROS SAC"]
[20501433501,"OLIVOS DEL SUR SAC",null,20600949439,305219,"CONSORCIO JP & ASOCIADOS ASESORES Y CORREDORES DE"]
[20111709948,"CERRO AZUL SAC",null,20600938089,405355,"EDMARSEGUROS CORREDORES DE SEGUROS EIRL"]
[20605382623,"TURISMO ACUATICO SALAVERRY EL PULPO SAC",null,20600869460,405373,"UGAZ ASESORES Y CORREDORES DE SEGUROS SAC"]
[20512481125,"COMPAÑIA ELECTRICA EL PLATANAL SA",null,20600868544,405423,"TITANIO CORREDORES DE SEGUROS SAC"]
[20100373956,"POLLOS PARRILLADAS GOURMET SA",null,20600794605,405356,"MARIO RAUL RIVERA BRAVO CORREDORES DE SEGUROS SAC"]
[20493188047,"GRIFO MORONA COCHA EIRL",null,20600709292,405354,"MAGNO ASESORES Y CORREDORES DE SEGUROS SAC"]
[20177176771,"CABILDO METROPOLITANO DE LIMA",null,20600664558,405360,"RUEDA & ASOCIADOS ASESORES Y CORRED DE SEGUROS SAC"]
[20304177552,"PLUSPETROL PERU CORPORATION SA",null,20600611934,405346,"REFULIO S CORREDORES DE SEGUROS SAC"]
[20139491077,"ASOCIACION DE BANCOS DEL PERU",null,20600551931,405345,"BARRON BROKERS CORREDORES DE SEGUROS SAC"]
[20604323968,"ETTA TURISMO PORCELA SOC COM RESPONS LTDA",null,20600451996,405364,"KALLPA CORREDORES DE SEGUROS SAC"]
[20601225302,"MULTISERVICE YENCAL EIRL",null,20600399617,405348,"RODAS CORREDORES DE SEGUROS SAC"]
[20520795279,"TECHNOLOGY ELEGANT SOCIEDAD ANONIMA CERRADA",null,20600352203,405350,"JUNGBLUTH & ASOCIADOS CORREDORES DE SEGUROS SAC"]
[20114051188,"TURISMO SANTA ISABEL SRL",null,20600273478,405349,"ATRIA CORREDORES DE SEGUROS SAC"]
[20567210708,"REPRESENTACIONES Y SERVICIOS GLOBAL SELVA SRL",null,20600267052,405342,"DELGADO & MARCHAND CORREDORES DE SEGUROS SAC"]
[20524362571,"INNOVA ACQUA SAC",null,20600265572,405407,"CONEXION CORREDORES DE SEGUROS SAC"]
[15268783498,"WALTER JOHNY  ASTO  CASO",null,20600201311,405357,"R & R ASOCIADOS CORREDORES DE SEGUROS SAC"]
[20529484012,"JRMA INGENIEROS CONTRATISTAS GENERALES EIRL",null,20600091337,405382,"DVECA ASESORES Y CORREDORES DE SEGUROS SAC"]
[10427476494,"EVA  REYES  ALARCON",null,20600084683,405334,"ANTA ASESORES Y CORREDORES DE SEGUROS SAC"]
[20332191056,"ASOCIACION SERVICIO EDUCACIONAL HOGAR Y SALUD",null,20600061306,405333,"DINAMO CORREDORES DE SEGUROS SAC"]
[20487908526,"M & M INGENIERIA OBRAS Y SERVICIOS EIRL",null,20600040473,405336,"ARIANSEN ALLEMANT CORREDORES DE SEGUROS SAC"]
[10427892226,"SULMA  REYES  ALARCON",null,20573920539,405347,"MARINOS CORREDORES DE SEGUROS SAC"]
[10082558123,"MANUEL JORGE ENRIQUE  TATAJE  WILCOX",null,20573209231,405316,"MAZZINI CORREDORES DE SEGUROS SA"]
[20603828454,"CONSORCIO SUPERVISOR LOUIS BERGER - HOB",null,20571499739,405280,"ANTICIPA CORREDORES DE SEGUROS SAC"]
[20604498326,"CONSORCIO PATAZ",null,20570879945,405328,"GOLDEN PERU CORREDORES DE SEGUROS SAC"]
[10285991761,"SIMEON  QUISPE  TOMAYLLA",null,20570513371,405281,"CONSULTOR CORREDORES DE SEGUROS SAC"]
[20603763425,"ETTA SARIRI SCRL",null,20566203031,405335,"AV CORREDORES DE SEGUROS SOCIEDAD ANONIMA CERRADA"]
[20357497567,"CASTRO INGENIEROS EIRL",null,20566113041,405343,"MIRANDA CORREDORES DE SEGUROS SAC"]
[20493584821,"AQUA EXPEDITIONS SAC",null,20565562739,405331,"REYES ASOCIADOS & CORREDORES DE SEGUROS SAC"]
[10081814584,"JORGE ANTONIO  ALVAREZ  DAVILA",null,20563716488,405318,"MGC & ASOCIADOS CORREDORES DE SEGUROS SRL"]
[20508946733,"ACUICOLA LOS PAICHES SAC",null,20563562669,405315,"ATLANTIC CORREDORES DE SEGUROS SAC"]
[20162181549,"EMP DE TRANSP ACUAT AYMARA TOUR SCRL",null,20563254841,405312,"A & R GROUP CORREDORES DE SEGUROS SAC"]
[20447988322,"EMPRESA DE TRANSPORTE TURISTICO LACUSTRE SOQTA SUY",null,20563199301,405321,"ATEGIA CORREDORES DE SEGUROS SAC"]
[20602801439,"DOMINIO ESTRATEGICO SAC",null,20563164345,405320,"SWISS CORP CORREDORES DE SEGUROS"]
[20528185755,"LUPUNA SAC",null,20561247642,405297,"LA CORPORATIVA CORREDORES DE SEGUROS EIRL"]
[20529349581,"B&K SERVICIOS GENERALES EIRL",null,20560194642,405339,"PROTEXA CORREDORES DE SEGUROS SAC"]
[20601652910,"ALMA VERDE EIRL",null,20560046376,405319,"LA HUMANITARIA ASESORES Y CORREDORES DE SEGURO SAC"]
[20161541991,"ASOCIACION TECSUP N 2",null,20559896307,405309,"COSTA CONTINENTAL S.A.C ASESORES Y CORREDORES DE SEGUROS"]
[20447831261,"EMPRESA DE SERVICIOS TURISTICOS ALAS PERUANAS",null,20559744388,405290,"MEGA CORREDORES DE SEGUROS SAC"]
[20388829452,"LASINO SA",null,20559259684,405317,"GERENTIA CORREDORES DE SEGUROS SAC"]
[20537423944,"QUALITY MARITIME SERVICES EIRL",null,20559158811,405329,"GENESIS BROKER'S CORREDORES DE SEGUROS SRL"]
[20111157058,"IGLESIA ADVENTISTA DEL SEPTIMO DIA",null,20559106349,405295,"CVS CORREDORES DE SEGUROS E.I.R.L."]
[20524057264,"MULTILIMPIEZAS JAE SAC",null,20558737981,405291,"PREVENIR CORREDORES DE SEGUROS EIRL"]
[20600405510,"TECHNIK INVEST SAC",null,20557934503,405332,"FERNANDO CORIAT CORREDORES DE SEGUROS SAC"]
[10000250282,"CELSO  ARCE  LOJA",null,20557030949,405310,"J BURASCHI ASOCIADOS CORREDORES DE SEGUROS SAC"]
[20493449967,"INVERSIONES VQ ARCO IRIS EIRL",null,20556668141,405300,"COQUIS & LORENZETTI ASES Y CORRED  DE  SEGUROS SAC"]
[20541623834,"OPERACIONES SUBMARINAS PASTOR EIRL",null,20555923491,405288,"MASTER SEGUROS CORREDORES DE SEGUROS SAC"]
[20156399036,"FEDERACION DEPORTIVA NACIONAL PERUANA DE FUTBOL",null,20555847611,405308,"MAVAL Y ASOCIADOS CORREDORES DE SEGUROS SCRL"]
[20601748763,"JORGE RUBIO CARBAJAL EIRL",null,20554613684,405299,"OLIVA & ASOCIADOS CORREDORES DE SEGUROS SAC"]
[20600075382,"GAS OIL INSPECTION SAC",null,20554057781,405286,"MAR & ASOCIADOS CORREDORES DE SEGUROS EIRL"]
[20601714672,"ASO ECOTURISTICA DE PESC ART MANTAS PACIF TROPICAL",null,20553733295,405276,"SEGURLOC'S SAC CORREDORES DE SEGUROS"]
[10401471559,"HECTOR  GALINDO  ENCISO",null,20553124949,405275,"BL CORREDORES DE SEGUROS SAC"]
[20406378935,"ET TURISTICO ACUATICO CONDOR EXPRESS SRL",null,20553107262,405287,"ZEUS ASESORES Y CORREDORES DE SEGUROS S.A.C. "]
[20505089198,"ALCARED SAC",null,20553077924,405284,"CENTRO SEGURO-CORREDORES DE SEGUROS EIRL"]
[20523916361,"CONHYDRA SA ESP SUCURSAL DEL PERU",null,20552839316,405278,"ADV CORREDORES DE SEGUROS SAC"]
[20604007101,"ETTA QHANAMARCA SRL",null,20552208324,405277,"ASEGURATEPERU CORREDORES DE SEGUROS SAC"]
[20102502001,"ENERGOPROJEKT NISKOGRADNJA SA SUC PERU",null,20551104509,304819,"M & S ASESORES Y CORREDORES DE SEGUROS SAC"]
[20118816707,"INMOBILIARIA SAN JERONIMO SCRL",null,20549829415,405250,"LA PUNTA CORREDORES DE SEGUROS SAC"]
[20554270116,"ALETA AZUL SERVICIOS MARITIMOS GENERALES SAC",null,20549608834,405264,"RODRIGUEZ & ASOCIADOS ASESORES Y CORRED DE SEG SAC"]
[20601760399,"KALLPA INGENIEROS SUPERVISORES SAC",null,20549594272,405247,"MAS SOLUCIONES CORREDORES DE SEGUROS SAC"]
[20502556895,"ASOCIACION DE OFICIALES SUBMARINISTAS DEL PERU",null,20548912459,405237,"RB CORREDORES DE SEGUROS SAC"]
[10053655161,"PATRICIA  VASQUEZ  VALDERRAMA DE TARICUARIMA",null,20548821062,405267,"EMPRISE CORREDORES DE SEGUROS SAC"]
[10401821711,"LETY  ZUMAETA  TORRES",null,20547601328,405245,"ATANASOVSKI CORREDORES DE SEGUROS SRL"]
[20115186214,"AGENCIA DE VIAJES Y TURISMO KONTIKI TOURS EIRL",null,20546940919,405248,"TOP ASESORES CORREDORES DE SEGUROS SAC"]
[20393469154,"REPRESENTACIONES CESA R SAC",null,20546609104,405241,"LE-AL CORREDORES DE SEGUROS SAC"]
[20388234262,"TOYOHATSU SA",null,20545404690,405279,"JTC & ASOCIADOS CORREDORES DE SEGUROS SAC"]
[20603054211,"SEIJAS LOPEZ SAC",null,20544883608,405214,"CENTRA CORREDORES DE SEGUROS SAC"]
[20458623482,"ACROPOLIS HELLAS EIRL",null,20544490894,405226,"ZUBIRIA CORREDORES DE SEGUROS SAC"]
[20601139571,"EFFET SAC",null,20543541690,405193,"F & G SAC CORREDORES DE SEGUROS"]
[20486496372,"SATELITAL TELECOMUNICACIONES SAC",null,20543398790,405200,"LINK CORREDORES DE SEGUROS SAC"]
[20603080590,"OROCOM SAC",null,20543326888,405194,"VALORA CORREDORES DE SEGUROS SAC"]
[20100022142,"ABB SA",null,20543198511,405289,"LATINA BROKER ASESORES Y CORREDORES DE SEGUROS SAC"]
[20447816033,"EMP TRANS ACUATICO KANTATY SOC COM RESPONS LTDA",null,20539548124,405249,"CONSULTING ASESORES Y CORREDORES DE SEGUROS SAC"]
[10443073022,"EDUARDO  TERRONES  CHUNQUI",null,20538519163,405246,"LEADER CORREDORES DE SEGUROS EIRL"]
[20600418824,"EMTRANSLATUPIA SAA",null,20537764008,405144,"SENTINEL CORREDORES DE SEGUROS SAC"]
[20429634882,"HANSA SERVICIOS MARITIMOS SAC",null,20536807471,405142,"SIEMPRESEGUROS SRL CORREDORES DE SEGUROS"]
[20601599628,"ENERGY AA PROYECTOS SAC",null,20535761176,405140,"HERCOS CORREDORES DE SEGUROS"]
[10465079709,"OMAR  COLLANTES  ALCANTARA",null,20535525871,405138,"RAMIREZ Y ASOCIADOS SAC CORREDORES DE SEGUROS"]
[20406374514,"EMPRESA DE TRANSPORTE LACUSTRE WYLLY TOURS SRL",null,20533325875,405330,"HUGO CHURA Y ASOCIADOS CORREDORES DE SEGUROS SAC"]
[10001601208,"DANIEL  QUISPE  SOLIER",null,20533257187,405361,"CUZCANO RIVERA ASESORES Y CORREDORES DE SEGUR EIRL"]
[20448267394,"DESTINIA PERU TRAVEL EIRL",null,20532575851,405145,"GRUPO COPAJA ASESORES Y CORREDORES DE SEGUROS SAC"]
[20448878865,"SERVICIOS TURISTICOS PEDALONES S R L",null,20532331120,405131,"NARVAEZ & ASOCIADOS CORREDORES DE SEGUROS EIRL"]
[20342163808,"A CHAVEZ CONSTRUCTORES EIRL",null,20529710802,405243,"LA AUXILIADORA CORREDORES DE SEGUROS SAC"]
[10059578273,"LUIS ENRIQUE  CHAPIAMA  RUIZ",null,20529630957,405274,"MAXIMIZA CORREDORES DE SEGUROS SRL"]
[20193681655,"BONAVISTA SAC",null,20527802254,405119,"GRUPO OVIEDO ASESORES Y CORREDORES DE SEGUROS SAC"]
[10001657246,"POLO PAREDES  APOLINARIO  ESPINOZA",null,20525780784,405126,"NORTESEGUROS SAC ANALISTASY CORREDORES DE SEGUROS"]
[10069883082,"OLGA MARGARITA  GONZALES  GALVAN DE CASTRO",null,20525773061,304860,"ABC CORREDORES DE SEGUROS"]
[10224631001,"PABLO  NIEVES  URBINA",null,20525598391,405120,"HOLGUIN CORREDORES DE SEGUROS SAC"]
[20455873470,"TECNICAS DEL ACERO SAC",null,20524652499,405135,"LL & ASOCIADOS ASESORES Y CORRED DE SEGUROS SAC"]
[10028667502,"JUAN ALBERTO  VELIZ  RIVERA",null,20524445515,405136,"FIRST CORREDORES DE SEGUROS GENERALES SAC"]
[20513139846,"RL INGENIEROS PERU SAC",null,20524309255,405195,"MUÑOZ NAJAR Y ASOCIADOS SAC"]
[20513612371,"MARPATECH SAC",null,20523820258,405141,"PRECAUCION ASESORES Y CORREDORES DE SEGUROS SAC"]
[20504946241,"PANORO APURIMAC SA",null,20522847837,405133,"POLANCO & ASOCIADOS CORREDORES DE SEGUROS SAC"]
[20600423020,"SUPERVISION & ENERGY CONSULTING SAC",null,20522793648,405132,"OVIEDO & DANESSI ASOC ASESORES Y CORRE DE SEGU SAC"]
[20516298091,"T & T TURISMO Y SERVICIOS SAC",null,20521747758,405134,"MAVAC CORREDORES DE SEGUROS SAC"]
[10254095015,"WILFREDO FRANCISCO  ROMERO  ALBARRAN",null,20518696051,405122,"PROTEGE R&V ASESORES Y CORREDORES DE SEGUROS SAC"]
[20600891082,"LH SERVICIOS CATERING SAC",null,20517729893,304228,"ARC ASESORES Y CORREDORES DE SEGUROS SAC"]
[20601266980,"EVALUACION Y SUPERVISION EN ENERGIA EIRL",null,20517145808,405238,"SIN INTERMEDIACION LIMA 3-2"]
[20509409260,"BRITT PERU SAC",null,20516223163,405116,"TAS CORREDORES DE SEGUROS SAC"]
[20493760735,"NEGOCIOS TURISTICOS MARAÑON SAC",null,20516103770,405117,"ALLIANCE CORREDORES DE SEGUROS SAC"]
[20366131222,"DISTRIBUCIONES QUISPE SAC",null,20516075385,304814,"ICG ASESORES Y CORREDORES DE SEGUROS SRL"]
[20601115558,"ASEMA CAMISEA SAC",null,20515763814,405118,"CONSEGUROS SAC CORREDORES DE SEGUROS"]
[20601442753,"AKIRA OTA Y ASOCIADOS CORREDORES DE SEGUROS SAC",null,20515673661,405114,"MARISTAS & ASOC SAC ASESORES Y CORREDORES DE SEGUR"]
[10337968720,"SEGUNDO TEODOLFO  CAMPOJO  FERNANDEZ",null,20514968099,405095,"SEGURINVEST CORREDORES DE SEGUROS SAC"]
[10099100139,"LUIS CRISTOBAL  MINAYA  AQUIJE",null,20514432334,405121,"ALC SAC CORREDORES DE SEGUROS"]
[20601546125,"REDDY EIRL",null,20514232246,405093,"GENERA CORREDORES DE SEGUROS SAC"]
[20100892716,"ASOCIACION CRISTIANA DE JOVENES DEL PERU",null,20513560550,405089,"RED CORREDORES DE SEGUROS EIRL"]
[20601234417,"OBRACIV CIA LTDA SUCURSAL DEL PERU",null,20513152516,405088,"FUERZA REGIONAL CORREDORES DE SEGUROS SA"]
[20125327509,"SAN BARTOLOME SA",null,20512969748,405094,"SUPERVISORA DE RIESGOS SAC"]
[20422293699,"G4S PERU SAC",null,20512548050,405087,"CORPASE SAC CORREDORES DE SEGUROS"]
[20111446165,"GRUPO DE ANALISIS PARA EL DESARROLLO",null,20512268286,405085,"HILFREICH ASESORES Y CORREDORES DE SEGUROS SAC"]
[20600579399,"ENGINEERING & SUPERVISION SAC",null,20512254901,405080,"ACTIVA SAC"]
[20540037656,"INVERSIONES KAROSA EIRL",null,20511966605,405084,"CASTEL SAC CORREDORES DE SEGUROS"]
[20103594651,"JOCKEY CLUB DE CHICLAYO",null,20511937419,405086,"SIFUENTES OLAECHEA CORREDORES DE SEGUROS SAC"]
[20492699781,"AGROPECUARIA SAN IGNACIO DE LOYOLA SAC",null,20511842469,405082,"ASESORES DE SEGUROS INDIVIDUALES ASOCIADOS SAC"]
[20332970411,"PACIFICO COMPAÑIA DE SEGUROS Y REASEGUROS",null,20511760225,405078,"JAST CORREDORES DE SEGUROS SAC"]
[20550808791,"EURO CAMIONES SA",null,20511678642,405079,"RIOS VERA-TUDELA CORREDORES DE SEGUROS SAC"]
[20541120417,"SERVIZIO FLUVIALE AUGURI SAC",null,20511555567,405234,"ASEGURA ASESORES Y CORREDORES DE SEGUROS SAC"]
[20481192049,"CIENPHARMA SAC",null,20510877714,405077,"UMBRELLA ASESORES Y CORREDORES DE SEGUROS SA"]
[20477851119,"MILLENNIUM SHIPPING AND TRADING SAC",null,20510602880,405076,"EUROMUNDO CORREDORES DE SEGUROS SOCIEDAD ANONIMA C"]
[20600676084,"INLAND ENERGY SAC",null,20510420773,405075,"GARCIA & BAZALAR CORREDORES DE SEGUROS"]
[20148102776,"AIDESEP ASOC INTERETNICA DE DESARR SELVA",null,20510277873,405072,"J&M ASOCIADOS CORREDORES DE SEGUROS SAC"]
[20417378911,"INTRADEVCO INDUSTRIAL SA",null,20508820632,405091,"FP ASESORES Y CORREDORES DE SEGUROS SRL"]
[20447772079,"WAYRA CONTRATISTAS Y SERVICIOS GENERALES SRL",null,20508793210,405066,"GRUPO PRADO CORREDORES DE SEGUROS SAC"]
[10407377058,"SEGUNDO MAGDALENO  SAAVEDRA  VILLARREAL",null,20508751568,405056,"BECERRA BROKERS CORREDORES DE SEGUROS SAC"]
[20602487793,"CONSORCIO PUENTES PERU",null,20507990003,405054,"STEWART, FREIRE"]
[10013239148,"NELSON HORACIO  CAHUI  CASTAÑEDA",null,20507761152,405070,"ZOLID BROKERS CORREDORES DE SEGUROS SAC"]
[20393804395,"LOGISTICA Y TRANSPORTE INTEGRAL SAJUTA EIRL",null,20506952710,405052,"ALVA & ASOCIADOS SRL"]
[20360794874,"RENERGIA SA",null,20506661740,405050,"INSURANCE BROKERS GROUP SAC"]
[20545990998,"UNIVERSIDAD DE INGENIERIA Y TECNOLOGIA",null,20505829574,405046,"CORREDORES DE SEGUROS VIP SAC"]
[10059292728,"ROGER  HIDALGO  MENDOZA",null,20505685041,405048,"OMERLAG ASESORES Y CORREDORES DE SEGUROS SAC"]
[10001631522,"RONALD  ARAUJO  AGUIRRE",null,20505073275,405026,"SECURA GRUPO ACP CORREDORES DE SEGUROS SA"]
[20505263643,"INVERSIONES TURISTICAS PLAYA HERMOSA SAC",null,20504987940,405051,"CALLSEGUROS CORREDORES DE SEGUROS ASESORIA Y CONSU"]
[20448801218,"ETTAL TUPIRI CLASS SRL",null,20504306691,405060,"INMANO SAC"]
[20505205791,"CENTRAL PARKING SYSTEM PERU SA",null,20503393434,403399,"JLT CORREDORES DE SEGUROS SA"]
[20109969452,"IAN TAYLOR PERU SAC",null,20502964829,405065,"DE MARZO Y ASOCIADOS SAC CORREDORES DE SEGUROS"]
[10424033273,"JOSE MANUEL  VERTIZ  RATTERI",null,20502528255,405025,"FULLSEGUROS CORRED.DE SEGS. EIRL"]
[20541294831,"TRANSPORTE Y SERVICIOS FLUVIALES DA COSTA SAC",null,20502498160,405013,"CONSORCIO VIDA ASESORES Y CORREDORES DE SEG SAC"]
[20497406383,"EMP DE OPER TUR HOTEL Y SERV AEREOS SRL",null,20502462131,405010,"MARIO BORDA SBOTO CORREDOR DE SEGUROS EIRL"]
[10054116042,"VICTOR HUGO  RUIZ  RIVADENEYRA",null,20502416961,405063,"LA PROTECCION ASESORIA Y CONSULTORIA EIRL"]
[10432988690,"DULCE GRISEL  MORAN  ANTICONA",null,20502060768,403851,"UCCELLI & ASOCIADOS SA CORREDORES DE SEGUROS"]
[20134112981,"KOLLER SRL",null,20502059832,405006,"FORT & ASOCIADOS CORREDORES DE SEGUROS SAC"]
[20105788097,"ACSL SRL CORREDORES DE SEGUROS",null,20501850102,405002,"DEL AGUILA & ASOCIADOS ASESORE Y CORRED DE SEG SAC"]
[20512954392,"P Y B PERITAJES Y OPERACIONES DE BUCEO EIRL",null,20501708454,405003,"PRIMERA CORREDORES DE SEGUROS SA"]
[20601924022,"SEVEN SEAS SERVICE SAC",null,20498550526,405069,"INNOVA GROUP ASESORES Y CORREDORES DE SEGUROS"]
[20393561981,"CORPORACION SELVA ENCANTADA SAC",null,20492518582,405128,"JEF CORREDORES DE SEGUROS SOCIEDAD ANONIMA CERRADA"]
[20529533676,"MULTISERVICIOS PISIT R&J EIRL",null,20492086267,403772,"AON GRAÑA PERU CORREDORES DE SEGUROS SA"]
[20601563054,"MULTISERVICIOS PADILLA V & T SAC",null,20490994522,405234,"ASEGURA ASESORES Y CORREDORES DE SEGUROS SAC"]
[20495991882,"CONTRATISTAS M&G SRL",null,20490111647,405139,"J E CORREDORES DE SEGUROS SAC"]
[20604393443,"CONSORCIO RIO HUAYCOLORO",null,20486138379,405115,"DIANA PERALTA GOMEZ ASESORES & CORREDORES DE SEG"]
[20119785171,"VIRUS HUNTER SRLTDA",null,20482139010,403399,"JLT CORREDORES DE SEGUROS SA"]
[20566552711,"ALDEBARAN PILOTS SAC",null,20480869266,405055,"FAZ ASESORES  Y CORREDORES DE SEGUROS"]
[20603849621,"SAMARY INTIKA EIRL",null,20480859112,405053,"ENLACE ASESORES Y CORREDORES DE SEGUROS SAC"]
[20431066271,"COR & MEL SCRL",null,20480435932,405124,"CONSULTORA NORTE ASESORES & CORREDORES DE SEGUROS"]
[10028811867,"PIO  PASQUEL  CHAVEZ",null,20479106330,405430,"SACO ASOCIADOS ASESORES Y CORREDORES DE SEGUROS SA"]
[20301956470,"NDT INNOVATIONS PERU SAC",null,20478119969,405129,"SANTA MARIA SAC CORREDORES DE SEGUROS"]
[10806338708,"KATIWSHKA  YUPANQUI  VARGAS",null,20477416617,405374,"CRUZ QUIROZ ASESORES & CORREDORES DE SEGUROS SRL"]
[10057829457,"FRANCISCO  FLORES  BARBOZA",null,20470005727,403847,"AUSTRAL CORREDORES DE SEG"]
[10277316191,"DEISI  HEREDIA  PEREZ",null,20468256917,403848,"OLIVARES & ASOCIADOS"]
[20601341051,"CATERING IMPERIAL SAC",null,20461500154,403850,"SEGURISSIMO CORREDORES DE SEGUROS SA"]
[20605035001,"JM MARINE SERVICES SAC",null,20459634461,405005,"G MENDIZABAL & ASOC ASES Y CORRED DE SEG SAC"]
[10614268889,"KEVIN ALEXANDER  UBILLUS  SERNAQUE",null,20456245103,405201,"SIN FRONTERAS CORREDORES DE SEGUROS EIRL"]
[20100913225,"JNR CONSULTORES SOCIEDAD ANONIMA",null,20456020012,405197,"CONTRERAS ASESORES Y CORREDORES DE SEGUROS EIRL"]
[20519260485,"LIMTEK SERVICIOS INTEGRALES SA",null,20455790001,405191,"INTERMEDIARIA CORREDORES DE SEGUROS SRL"]
[20604361045,"EMP DE TRANS ACUATICO GOLIAT EL BENDECIDO SOC COM",null,20455548561,405143,"JMC INTEGRAL SAC ASESORES Y CORREDORES DE SEGUROS"]
[20542628848,"ETTA PACHAMAMA TOURS R & I SRL",null,20454496451,405113,"PREVISEGUROS EIRL ASESORES Y CORREDORES DE SEG"]
[10461671565,"FRANCISCO JAVIER TERCERO  CHAPIAMA  VALERA",null,20454285591,405092,"ADALID ASESORES Y CORREDORES DE SEGUROS SAC"]
[20602144811,"ODAIBA SAC",null,20451532406,405190,"A Y L CORREDORES DE SEGUROS SAC"]
[20495605168,"MAQUITEC SRL",null,20430730445,403842,"ASSICURANZA ASES"]
[20518022921,"FMR DISTRIBUCIONES SCRL",null,20427997422,403840,"COBERTURAS INTEG CORRED DE SEGUROS SAC"]
[10000921373,"CARLOS  RUIZ  RODRIGUEZ",null,20425928547,403835,"CERVANTES & ASOCIADOS COR"]
[20549328807,"CENTRO DESARROLLO Y AUTOGESTION",null,20421293211,403833,"FBA CORREDORES DE SEGUROS SAC"]
[20147965762,"ASOCIACION PRO DERECHOS HUMANOS",null,20420290927,403843,"PREMIUM SA CORREDORES DE SEGURO"]
[20605272682,"TOUR BOATS SAN LORENZO EIRL",null,20420131705,403839,"LUIS BECERRA E HIJOS CORRED DE SEG SA"]
[20408454531,"DIRECCION DE ADM GRAL DE AGRICULTURA",null,20393852799,305052,"VELASQUEZ CORREDORES DE SEGUROS EIRL"]
[20111435473,"RIVERA & ASOCIADOS CONTADORES PUBLICOS SCRL",null,20392839136,405231,"CBR CORREDORES DE SEGUROS SOCIEDAD ANONIMA CERRADA"]
[20602402534,"UCAMARA EXPEDITIONS SAC",null,20392617311,405196,"ROCA FUERTE CORREDORES DE SEGUROS SAC"]
[20448123392,"EMPRESA DE TRANSPORTE ACUATICO PACHATATA SCRL",null,20385540851,403834,"MAGAM CORREDORES DE SEGUROS SA"]
[20398217293,"AREVALO REFORME SERVICIOS MARITIMOS SRL",null,20383489734,403825,"MONTENEGRO & MONT SRLTDA"]
[20601427380,"TURISMO AMANTANI SCRL",null,20381021174,403837,"GENERA PERU CORREDORES DE"]
[20600553004,"COOL EARTH ACTION",null,20380761247,403821,"COSTA NEGOCIOS GENERALES SA"]
[20131644109,"ESTUDIO VILLARAN Y DE LA ROSA COLINA CASTILLO SAC",null,20379436901,403831,"UNIVERSAL CORREDORES DE S"]
[20393276607,"LINEAS FLUVIALES CHALLENGER SAC",null,20379252843,403844,"COOPERADORES CORREDORES DE SEGUROS SAC"]
[20452440912,"CONTRATISTAS Y CONSULTORES MENDOZA SRL",null,20377288379,403826,"JORDAN-RABI ASOC SA ASES Y CORRED DE S"]
[20210614762,"CLUB NAUTICO DE PUNTA HERMOSA",null,20376255825,403830,"TECNICOS ESPECIALISTAS AS"]
[20600040341,"PUERTO DE BAYOVAR SAC",null,20374627563,403829,"PROVISEG"]
[20601112788,"LOGISTICA Y SERVICIOS AQUAX EIRL",null,20371723758,403818,"UNIDAD TECNICA SA ASES Y CORR DE SEG"]
[20601345154,"GRUPO PESQUERO CHIMBOTE SAC",null,20347393151,403817,"VISION CORREDORES DE SEGUROS SAC"]
[10255518653,"JULIO  TEMOCHE  ZETA",null,20346115565,403836,"JVC & ASOCIADOS SRL"]
[20506285314,"COMPAÑIA MINERA MISKI MAYO SRL",null,20343004703,403819,"BAPROSA CORREDORES DE SEGUROS SA"]
[20101345018,"HOB CONSULTORES SA",null,20337245600,403813,"VELEZ VAUPEL & ASOCIADOS SA ASESORORES Y CORREDORE"]
[20547713045,"SIGNIA SOLUCIONES LOGISTICAS SAC",null,20335460252,403772,"AON GRAÑA PERU CORREDORES DE SEGUROS SA"]
[20448211259,"EMP DE TRANS DE TURIS LACUSTRE LLACHON EXPRESS SRL",null,20335001657,403812,"LA PREVISORA CORREDORES DE SEGUROS SAC"]
[20148332771,"COOPERATIVA DE AHORRO Y CREDITO PETROPERU LTDA",null,20334482104,403808,"ASESORES Y PRODUCTORES JV.& G CORRED.DE SEG SA"]
[20512514821,"VICEVERSA CONSULTING SA",null,20327771044,403811,"CONSULTORES Y CORREDORES DE SEGUROS SAC"]
[20539259017,"SERCOBING SAC",null,20312167612,403805,"RENTA VITAL SRL"]
[20603490429,"JUMP SPOT",null,20303218395,403799,"LA MOTIVACION SA"]
[10000305117,"JAMENAR  RIOS  VARGAS",null,20300255559,405196,"ROCA FUERTE CORREDORES DE SEGUROS SAC"]
[10285839811,"LEONARDO  MULLO  QUISPE",null,20299707858,403798,"F RODA & ASOCIADOS SA CORRED D SEGUROS"]
[20539606345,"SATELECOM SAC",null,20298024161,173,"GEMINIS REPS SA"]
[20565367952,"GEOPARK PERU SAC",null,20297892402,403786,"MN & ASOC ASES Y CORREDORES SEGURO SA"]
[10165571229,"MANUEL ALBERTO  REYES  LAMADRID",null,20296523845,403787,"MELENDEZ & ASOC SA CORRED DE SEG"]
[10059540900,"FRANCISCO ROSARIO  VALDERRAMA  HERAS",null,20293718491,405187,"SIN INTERMEDIACION AGENCIA - ICA"]
[20137291313,"MINERA YANACOCHA SRL",null,20293602515,403810,"BUSTAMANTE CORREDORES DE SEGUROS SCRL"]
[20603339356,"ARSENAL SECURITY SAC",null,20292049421,405227,"SIN INTERMEDIACION  LIMA 1 3"]
[20203058781,"SAVIA PERU SA",null,20272586978,403806,"SADELCO SEGUROS GENERALES EIRL"]
[10101529814,"HERMINIA  HUICHO  HUAMAN",null,20269794713,403775,"LATIN AMERICA"]
[20434051950,"FONDO DE LAS AMERICAS",null,20267737411,403772,"AON GRAÑA PERU CORREDORES DE SEGUROS SA"]
[20510888911,"PLUSPETROL LOTE 56 SA",null,20266364262,403771,"MELZI ASOCIADOS SAC CORREDORES DE SEGUROS"]
[20256983479,"TEGUISE TURISTICA PERU SA",null,20265742859,403778,"MILENIUM CORREDORES DE SEGUROS S.A"]
[20408674736,"BRUNNER SAC",null,20264960127,403788,"GENG ASESORES Y CORRED DE SEGUROS EIRL"]
[20100202124,"REPARACIONES Y SERVICIOS DEL SUR SAC",null,20262173691,403757,"OPERACIONES Y SEGUROS SAC CORRED SEGUROS"]
[10445203586,"DEISY ROSEL  RAMOS  ALEGRE",null,20260304713,403760,"ALINA DEL CASTILLO EIRL."]
[20600977734,"PESQUERA OLINDA VICTORIA EIRL",null,20258342241,403773,"GEREN DE RIESGOS ASESO Y CORR DE SEG SRL"]
[10229997306,"LIBIA  TUCNO  CASAVERDE",null,20257731449,403740,"VIVIANA VELEZ O CORRED DE SEG EIRL"]
[20542761092,"ETT RATUKI TRAVEL LAGO TITICACA PERU SRL",null,20255723198,403739,"ADA KOECKLIN CORREDORES DE SEGUROS EIRL"]
[20297566866,"PETRAMAS SAC",null,20255080335,403779,"L P AGUIRRE EIRL CORREDORES DE SEGUROS"]
[20100918618,"ASOCIACION DE SCOUTS DEL PERU",null,20254225461,403743,"HUGO DIAS L ASESOR Y CORREDOR D SEG EIRL"]
[20513425261,"JAS 77 CONSULTORES CONTRATISTAS SAC",null,20254032825,403734,"GUERRERO'S EIRL ASESORES Y CORREDORES DE SEGUROS"]
[20600854331,"SERVICIOS MULTIPLES VALENTINA EIRL",null,20253850044,403747,"CARLOS HUMBERTO VASQUEZ RAMOS EIRL"]
[10058672331,"WALTER JENIEL  DAVILA  HUAMAN",null,20253667941,403777,"DE FLORIO Y LOREDO S.A. C"]
[20509031500,"RENTING SAC",null,20253463784,403793,"JUAN HIDALGO CHAVEZ E I R L CORRE SEGURO"]
[10443473543,"PABLO EMILIO  TORRES CALDERON  BELTRAN",null,20252889982,403730,"DESEGUR EIRL"]
[10001519919,"PELAYO  TAIPE  CUSI",null,20252432931,403721,"NGV CORREDORES DE SEGUROS EIRL"]
[20601383714,"CONSULTORA EDUCATIVA TRANSFORMA",null,20252264290,403820,"EL DORADO CORRED DE SEG"]
[20603209665,"ALQUIMIA TRAVEL FOR YOU EMPRESA INDIVIDUAL DE RESP",null,20252130412,403763,"AGENCIA GENERAL"]
[20543934403,"ASOC PERUANA DE INSTRUCTORES DE PARAPENTE TANDEM",null,20251572578,403782,"MULTISEGUROS SA CORREDORES DE SEGUROS"]
[20600045521,"INTERNATIONAL CAMIONES DEL PERU SA",null,20251380237,403714,"AMERICA BROKERS CORREDORES DE SEGUROS SA"]
[20552438591,"JETBLUE AIRWAYS CORPORATION SUCURSAL DEL PERU",null,20250603003,403735,"CONTINENTE ASESORES Y CORREDORES DE SEGUROS SA"]
[20601221331,"BOXER SECURITY CORPORATIVA SRL",null,20230909700,403749,"VICKY SRL CORRED DE SEG"]
[20406344526,"AGENCIA DE VIAJES Y TURISMO CUSI EXPEDITIONS",null,20220748902,405244,"HUGO MINAYA ROSALES CORREDORES DE SEGUROS EIRL"]
[20544734866,"SERVICIOS TURISTICOS M Y G SAC",null,20220329764,403764,"RAFAEL VELARDE VACA EIRL"]
[20453644023,"TRANSPORTES ESPINOZA SERVIC GRALES SRL",null,20220034373,403629,"J.E. ZOLEZZI CORREDORES DE SEGUROS EIRL"]
[20502350251,"UNIVERSAL STUDENT EXCHANGE PERU SAC",null,20218858431,403719,"GONZALO REY DE CASTRO EIR"]
[20258197993,"MAYO PUBLICIDAD SA",null,20217241066,403725,"FABIO CARMEN SALMON EIRL"]
[20269376806,"ESTANCIA SANTA FE SAC",null,20216368356,403724,"GALDOS & ASOC. EIRL. CORRED. DE SEG."]
[20413040656,"ULEXANDES SAC",null,20213100182,403748,"ARTETA Y ASOCIADOS CORREDORES DE SEGUROS SRL"]
[20605308938,"CONSORCIO PROTECCION RIMAC",null,20210369512,403849,"DELPHOS"]
[20601703514,"MINERA RUTA DORADA SAC",null,20209623642,403759,"Z SALAZAR EIRL TDA"]
[20176800217,"FEDERACION DEPORTIVA PERUANA DE NATACION",null,20206347156,403758,"GRAY Y ASOCIADOS ASES CORR DE SEGUROS S A"]
[20603606095,"ETA LATINO TRAVEL SOCIEDAD COMERCIAL SOC COM RES",null,20199922760,403705,"PROCYON CORREDORES DE SEGUROS SA"]
[20600208927,"CRONOS SERVICIOS MARITIMOS PORTUARIOS SAC",null,20196180649,403738,"CONTROL RIESGOS SA CORREDORES SEGUROS"]
[20123030843,"GUILLERMO ROMERO SAC",null,20192921181,403762,"SEGURNET SA CORREDORES DE SEGUROS"]
[20196396811,"EMBAJ DE ITALIA INST ITALIANO DE CULTU",null,20175799835,403130,"WILLIS CORREDORES DE SEGUROS SA"]
[20100039037,"CORPORACION DE SERVICIOS GR SA",null,20170843640,403692,"CORREDORES DE SEGUROS TORINO SAC"]
[20474751989,"BUCEO TECNICO DEL PERU SAC",null,20166335001,403709,"PERSONAS CORREDORES DE SEGUROS SAC"]
[20548735654,"OMI MINING SAC",null,20155087448,403804,"SEGUROSCA CORRED DE SEG"]
[20601379016,"WDC INGENIERIA Y SERVICIOS EIRL",null,20154919733,403723,"ASIAMERICA CORREDORES DE SEGUROS SAC"]
[20541199412,"TRANSPORTE FLUVIAL MARIA CRISTINA EIRL",null,20153467871,403680,"TRUST CORREDORES DE SEGUROS SCRLTDA"]
[20603455038,"ELEVADORES LANDEO & AG SRL",null,20147800844,403376,"R & S WONG SAC CORREDORES DE SEGUROS"]
[20262996329,"FARMINDUSTRIA SA",null,20145252203,403679,"HARTEN Y ASOCIADOS CORRED DE SEGUROS SAC"]
[20601624339,"AVT PERU TITICACA VIP SRL",null,20136635990,405033,"TRANSRESA"]
[20546284809,"ASOCIACION ACCDER",null,20136509692,403169,"BARTHELMESS CORREDORES DE SEGUROS SRL"]
[20487753573,"COMPAÑIA DE SEGURIDAD Y PROTECCION AMUTSEP SAC",null,20135423417,402563,"CORREDORES DE SEGUROS BRACAMONTE RUIZ REMY"]
[10423290353,"ANDER LIN  ENCISO  CORAHUA",null,20134154129,29,"VIDAL INTI"]
[10417566894,"RONALD CIRO  AQUINO  MELITON",null,20133857771,403675,"VERANSA CORREDORES DE SEGUROS SAC"]
[20381235051,"NEWREST PERU SAC",null,20133555332,403301,"NOR PERUANA CORREDORES DE"]
[20448508855,"KOLLASUYO TRAVEL EIRL",null,20133065751,403085,"SERVISEGUROS SRLTDA. CORR"]
[10000420056,"VICTOR RAUL  VASQUEZ  ROBALINO",null,20132212199,304815,"CHICHIZOLA Y ASOCIADOS SA CORREDORES DE SEGUROS"]
[20570860179,"SERVICIOS NELVAS EIRL",null,20131916541,403322,"OMEGA SAC CORREDORES DE SEGUROS"]
[20604318522,"ETTA RIO JORDAN SCRL LTDA",null,20131004118,403712,"F NAGARO G Y ASOC  CORR DE SEG GRLES SRL"]
[10413792733,"JULIO ROBERT  RIOS  MELLO",null,20128833154,403803,"ARIAS Y ARIAS CORREDORES DE SEGUROS SAC"]
[20511165181,"HUDBAY PERU SAC",null,20127784818,403580,"ROBBIANO & DAVIS S.A."]
[20103163758,"EDIFICIO CLUB DE LA UNION DE CHICLAYO SA",null,20127692531,403745,"DELTA CORREDORES DE SEGUROS SAC"]
[20197543672,"ASOC PARA LA INVESTIGACION Y DESARROLLO INTEGRAL",null,20127286621,402405,"ASESORIA DE SEGUROS SA"]
[20504863116,"MATRITECH SAC",null,20126607742,402879,"ALLEMANT Y ASOC CORREDORES DE SEGUROS SAC"]
[20103830991,"COLEGIO DE CONTADORES PUBLICOS DE LORETO",null,20126607076,403302,"CIA SEGURESGO SAC CORREDORES DE SEGUROS"]
[10256786694,"CARLOS GUSTAVO  VIEIRA  PORTUGAL",null,20126157445,403700,"RACHUMI IBARCENA SAC CORREDORES DE SEGUROS"]
[20490141554,"EDUCATIVA ADVENTISTA SUR ORIENTAL DEL PERU",null,20125726381,403098,"CONTINENTAL DEL PERU SA CORREDORES DE SEGUROS"]
[10467306729,"JOSELUIS GASPAR  ZAPATA  FLORES",null,20124453349,402945,"AMAUTA CORRED SEG GRLES"]
[10731935381,"JOSE MIGUEL  MOLLO  AQUIMA",null,20124155321,403446,"SEGUROS GENERALES SA CORREDORES DE SEGUROS"]
[20118476418,"ASOCIACION EDUCATIVA CARITAS GRACIOSAS",null,20123875126,405138,"RAMIREZ Y ASOCIADOS SAC CORREDORES DE SEGUROS"]
[20601998514,"EMPRESA DE TRANSPORTES TURISTICO MAYAKIWA SCRL",null,20123673094,402876,"RALL SA ASESORES Y CORREDORES DE SEGUROS"]
[20156198481,"MISION CRISTIANA CAMINO DE VIDA",null,20123418493,402704,"ORPAS CORREDORES DE SEGUROS SRLTDA"]
[20478026014,"BUNKER SECURITY SOCIEDAD ANONIMA CERRADA",null,20123410085,402780,"KOSMOS CORREDORES DE SEGU"]
[20605577998,"LIBRA SEGURIDAD SAC",null,20122967116,403114,"GABEL CORREDORES"]
[20101093027,"ESTUDIO GRAU S CIVIL DE RL",null,20122696503,402959,"RUSKA Y ASOCIADOS CORREDORES DE SEGUROS"]
[20555627760,"LAS FOCAS TOURS SAC",null,20122541640,403681,"HERNANDEZ ASESORES Y CORRED SEGUR SA HERSEG"]
[20118109938,"CENTRO EDUCATIVO PRIVADO BEATA ANA MARIA JAVOUHEY",null,20121907357,403690,"POLISEGUROS SA ASESORES Y CORRED DE SEGUROS"]
[20600370651,"OSER-CORPORACION SERVICIOS GENERALES SAC",null,20120045912,403232,"POOL & ASOC S.A.C. CORRED.DE SEGUROS"]
[20454100566,"SERVICIOS LOGISTICOS ESPECIALIZADOS SAC",null,20119361568,403828,"LA PROFESIONAL CORREDORES"]
[20511005061,"GRUPO INVERSIONES G & C SAC",null,20117944086,403684,"RISK ASESORES Y CORRED DE SEGUROS SA"]
[10000509651,"SANTIAGO ENRRIQUE  PAREDES  MELENDEZ",null,20117797946,402898,"ROMACO SAC CORREDORES DE SEGUROS"]
[10243831798,"ELI  CAMARGO  CHALLQUI",null,20111205559,402831,"ITAL SEGUROS SA CORREDORES DE SEGUROS"]
[20342985646,"ASOCIACION EDUCATIVA ADVENTISTA CENTRAL SUR",null,20110939907,400499,"ELMER LUIS TAY CORRED DE SEGUROS SRL"]
[20393560232,"INVERSIONES SELVA ALEGRE EIRL",null,20110837225,405015,"INTACTO SA CORREDORES DE SEGUROS"]
[20537855810,"ICSK EQUIPOS Y SERVICIOS SAC",null,20110553464,6000133,"ADMINISTRACION DE RIESGOS"]
[20136424867,"DERRAMA MAGISTERIAL",null,20110386118,403496,"ARGOS SA CORREDORES DE SEGUROS"]
[20100137390,"UNION ANDINA DE CEMENTOS SAA",null,20110362952,402568,"RIESGOS Y SEGUROS SA"]
[20393378272,"ESTACION DE SERVICIOS GEMELOS GRIFO AD SRL",null,20110342331,403661,"CORREDORES MONTERRICO SRL"]
[20507024051,"EMPRESA DE GENERACION HUALLAGA SA",null,20110160144,403699,"CORREDORES DE SEGUROS SANTA CRUZ SCRL"]
[20543855015,"BTL PERU SAC",null,20109970205,402938,"B & F INTERNACIONAL SAC"]
[20337564373,"TIENDAS POR DEPARTAMENTOS RIPLEY SA",null,20109922731,403299,"CONTACTO CORREDORES DE SEGUROS SA"]
[20601626595,"CONSORCIO CHAKAKUNA QOSQO",null,20109740978,402794,"MERCADO ANDINO SERVICIO DE ASESORAMIENTO"]
[20538653307,"BRASKEM SA SUCURSAL PERU",null,20109552896,403436,"ALPHA CORREDORES"]
[20128486683,"BAHER SRL",null,20109367568,403668,"MARCE Y ASOCIADOS SA CORREDORES SEGURO"]
[20600582071,"BLACK ROD SELVA SAC",null,20109195929,403683,"PROFESIONALES EN SEGUROS SA C EN S"]
[10444366589,"RAY ANDRE  SOTO  SOTO",null,20108892600,402538,"GROSS Y ASOCIADOS ASES.CORRED DE SEG SA"]
[20602106331,"OCEANICA EXPEDITIONS PERU SAC",null,20108660067,403150,"BALDUCCI & BALDUCCI CORRED DE SEG S A"]
[20509089923,"NEOAGRUM SAC",null,20108609541,403452,"ARSA PRODUCTORES DE SEGUROS SA"]
[20518254970,"HANSA ADUANAS SA",null,20108558963,403091,"AMERICA CORREDORES DE SEG SA"]
[10000820291,"AUGUSTO CESAR  GRANDA  DAZA",null,20108492504,402566,"CORREDORES DE SEGUROS MUNDO ASESORES SRL"]
[20447492467,"TRASUB SRL",null,20108479311,403011,"SERVI SA CORREDORES DE SEGUROS"]
[20505167415,"AUTOMATION SERVICE SAC",null,20108094282,405385,"ARTHUR J. GALLAGHER PERU - CORREDORES DE SEGUROS"]
[20517041344,"DISTRIBUIDORA ARCANGEL SAC",null,20108093049,6014582,"SANCHEZ Y ASOCIADOS SRL CORREDORES DE SEGUROS"]
[20601195209,"GN7 LOGISTICA SAC",null,20108054817,403603,"MIGESA CORREDORES DE SEGUROS SA"]
[20602086004,"EDP ESTUDIOS SAC",null,20107917404,403576,"DAI ICHI CORREDORES DE SEGUROS SA"]
[10087688220,"WALTER HUGO  RUIZ  GARCIA",null,20107603132,403333,"ADM AMERICANA DE SEG SRL"]
[20394013553,"INVERSIONES MULTIPLES CONTA EIRL",null,20107483218,403537,"CENTRO CORREDORES DE SEGUROS S.A."]
[20527235317,"NORCA EIRL",null,20106984302,403399,"JLT CORREDORES DE SEGUROS SA"]
[20505174896,"MINERA IRL SA",null,20106984302,403399,"JLT CORREDORES DE SEGUROS SA"]
[20498100164,"ESTRATEGIA ASOCIADOS SRL",null,20106959022,403004,"F & F DARUICH CORREDORES DE SEGUROS SAC"]
[20405372950,"AMARU TOURS EIRL",null,20106622494,403518,"FAMEN SA ASESORES Y CORREDORES DE SEGURO"]
[20600949277,"TRASCIENDE COACHING & CONSULTING SAC",null,20106456977,402528,"OTES SA"]
[20508327758,"ESTUDIO SILVA & ABOGADOS ASOCIADOS SCRL",null,20105788097,402946,"ACSL SRL CORREDORES DE SEGUROS"]
[20107798049,"UNIVERSIDAD DE LIMA",null,20105198290,403789,"PRODUCTORES DE SEGUROS MENDOZA SRL"]
[10060006275,"VICTOR HUGO  CHAPIAMA  HIDALGO",null,20104695460,405123,"F REYES Y CIA CORREDORES DE SEGUROS SAC"]
[20109346722,"CIFARMA SAC",null,20103447438,402679,"ASESORES Y CORRED. DE SEG"]
[20522817504,"AQUATICS SAC",null,20102595255,403553,"R. ECHEVARRIA SRL CORREDO"]
[20111431729,"BARBACCI MOTORS SA",null,20102424876,403200,"OJEDA Y CIA AGENTES CORRED DE SEG SRL"]
[20601001463,"NAV BRIDGE SERVICE EIRL",null,20102199651,403754,"UNISEGUROS CORREDORES DE SEGUROS SAC"]
[20101550533,"SOLO DEL PERU SAC",null,20102022727,403130,"WILLIS CORREDORES DE SEGUROS SA"]
[20493456661,"INVERSIONES CAMPOS Y CAMPOS SRL",null,20101997431,402939,"LA UNION CORREDORES DE SEGUROS SAC"]
[10001597553,"MANUEL  RONDINEL  RISCO",null,20101993362,402071,"MARSH REHDER SA CORREDORES DE SEGUROS"]
[10062515487,"ORLANDA  MORENO  GARCIA",null,20101097448,403052,"LA PROTECTORA CORREDORES DE SEGUROS SA"]
[20393323966,"INVERSIONES FORESTALES N Y S EIRL",null,20101090516,403524,"COSEGUR SA CORREDORES DE SEGUROS"]
[20297543653,"UNION DE CONCRETERAS SA",null,20101083901,402071,"MARSH REHDER SA CORREDORES DE SEGUROS"]
[20600699076,"JOMESIL SERVICES EIRL",null,20101076955,403399,"JLT CORREDORES DE SEGUROS SA"]
[20415944463,"GRUAS BRUNSCHOT SAC",null,20101054552,403670,"SEGUMAR S A CORREDORES DE SEGUROS"]
[20393088789,"KAP & NEGOCIOS EIRL",null,20101027407,402941,"SEGURSA SA ASESORES Y CORREDORES DE SEG"]
[20100091896,"TOURING Y AUTOMOVIL CLUB DEL PERU",null,20101011233,402071,"MARSH REHDER SA CORREDORES DE SEGUROS"]
[20602769136,"GRIO SA",null,20101010261,403248,"TRANSPERUANA CORREDORES DE SEGUROS SA"]
[20118332505,"CEGNE WALDORF LIMA",null,20100991021,403698,"MACHLER ASES.Y CORRED.DE SEGUROS SA"]
[20601666341,"SANCHEZ & CARRILLO ASOCIADOS SAC",null,20100990131,403354,"CHAN WAIY S A CORREDORES DE SEGUROS"]
[20208423003,"SALES Y DERIVADOS DE COBRE SA",null,20100962196,405125,"AUBRAS Y ASOC SAC ASES Y CORREDORES DE SEGUROS"]
[20146618911,"CENTRO DE APOYO RURAL",null,20100919690,403800,"ENDIMO AGTES CORREDORES DE SEGUROS SRL"]
[20551243614,"JEDM INVERSIONES S A C",null,20100883725,402980,"HERMES ASES"]
[20514343153,"ONSITE PERU SAC",null,20100872871,403245,"NAPOLEON J DE LA COLINA SRL ASESORES Y CORREDORES"]
[20525638015,"HERZAB SAC",null,20100854971,405112,"RIESGOS & SOLUCIONES SRL CORREDORES DE SEGUROS"]
[20101057900,"ESTUDIO AURELIO GARCIA SAYAN - ABOGADOS S CIV R L",null,20100797306,402854,"ANSHIN SAC"]
[20603534639,"OILSARAFP SAC",null,20100576989,402916,"WITT S.A"]
[20604481202,"EMPRESA MARACOUD EIRL",null,20100479941,402601,"ALMANDOZ CORREDORES DE SEGUROS SA"]
[20517477479,"V & C ANALISTAS EIRL",null,20100451931,403487,"DETEC SA"]
[20601029228,"ATRACCIONES Y ENTRETENIMIENTO SAC",null,20100451345,403527,"METROPOLITANA CORREDORES DE SEGUROS SA"]
[20603895992,"ENYEL FLUVIAL EIRL",null,20100434840,403351,"AESE ASOCIADOS SRL"]
[20602463819,"E T T A ROSSY EXPRESS EIRL",null,20100219108,403521,"CONSEJEROS"]
[10401390265,"ALAN GUILLERMO  CAMPOS  TARAZONA",null,20100137632,402071,"MARSH REHDER SA CORREDORES DE SEGUROS"]
[20516381311,"THUNDERBIRD HOTELES LAS AMERICAS SA",null,20100126193,402071,"MARSH REHDER SA CORREDORES DE SEGUROS"]
[10465130224,"ENZO ACHILLE  LESCANO  VERGARA",null,20100035392,405242,"SIN INTERMEDIACION"]
[20521834642,"ACS SOLUTIONS PERU SA",null,20100035392,405273,"SIN INTERMEDIACION LIMA 1-1"]
[10255412677,"JACINTO  PUESCAS  PANTA",null,20100035392,405236,"SIN INTERMEDIACION LIMA 1-4"]
[20332940008,"MACMILLAN PUBLISHERS SA",null,20100035392,405137,"S/I ALFREDO FERNANDEZ"]
[20170717261,"RUMI IMPORT SA",null,20100035392,300579,"S/I - BS"]
[20520551302,"MARITIMA MERCANTIL SOCIEDAD ANONIMA CERRADA",null,20000000000,304588,"SIN INTERMEDIACION MULTIVIAJES"]
[20100093911,"ASOCIACION COUNTRY CLUB EL BOSQUE",null,17406278638,405355,"EDMARSEGUROS CORREDORES DE SEGUROS EIRL"]
[20563403196,"GEXA GROUP SOCIEDAD ANONIMA CERRADA",null,17382708342,304129,"ARRUNATEGUI UGARTE ESTHER MILAGROS COROMOTO"]
[20480365543,"CAFE EL BOSQUE SRL",null,17250015674,305183,"BURGA VALDEZ FRANCISCO ALFONSO"]
[20112829891,"COLEGIO SANTA MARIA MARIANISTAS",null,17216283287,305503,"ZENTENO OLIART HUDSON RODOLFO"]
[20122667660,"INSTITUTO CULTURAL PERUANO NORTEAMERICANO",null,17152989521,304335,"PROCHAZKA DEMARINI DE MANNUCCI CARMEN CLEMENCIA"]
[10106857445,"PERCY EDGAR  GARCIA  MATEO",null,17122104346,305304,"HOLLER VERAND OTTO DANIEL"]
[20101949380,"CRAWFORD PERU SA AJUSTADORES Y PERITOS DE SEGUROS",null,17118094727,303535,"MARIA TALAVERA DE RIVERA"]
[10001629102,"TEOFILA CELIA  ALARCON  ALIAGA",null,17112335625,303391,"OTERO MENDIZABAL JOSE ORLANDO"]
[20296081567,"MOODY'S LOCAL PE CLASIFICADORA DE RIESGO SA",null,17111941092,304357,"GALLASTEGUI ECKHARDT MARTHA IRENE"]
[20302218774,"CINDEL SA",null,17108610719,303643,"ALMERINI BRACESCO DE PORTOCARRERO PATRICIA CLAUDIA"]
[20496196008,"TRANSPORTES Y MULTISERVICIOS S & A EIRL",null,15604298765,305388,"PEREZ RAMIREZ ISAAC DEL CARMEN"]
[20147883952,"UNIVERSIDAD RICARDO PALMA",null,15555956581,305272,"TELLO EXTREMERA ANTONIO"]
[20511599858,"QUALITY CONTROL PERU SOCIEDAD ANONIMA CERRADA",null,15546646642,305306,"PINZON OVIEDO CARLOS ALBERTO"]
[20255657110,"EDP PROYECTOS SAC",null,15538241960,304999,"RUDOLPH DELGADO FRANCISCO PEDRO MARTIN"]
[20602233325,"COMUNIDAD NATIVA NUEVA ALIANZA",null,15504359031,304880,"OLIVA MONZON MIGUEL ANGEL"]
[20377339461,"B BRAUN MEDICAL PERU SA",null,15376391687,405447,"FIREFLY CORREDORES DE SEGUROS SAC"]
[20492896269,"EUROFRESH PERU SAC",null,15300929882,304648,"DEL CASTILLO TORRES MANUEL"]
[20605191640,"SERVICIOS DE TRANSPORTE TURISTICO LACUSTRE SHAYA",null,15292507159,305497,"JORGE AMERICO SANCHEZ VILLAVICENCIO"]
[20137911982,"ASOCIACION REAL CLUB DE LIMA",null,15199326560,303816,"SAM CHOU SIU MEI"]
[10077743265,"ADOLFO EBERARDO  NUSSER  DAMMERT",null,15198359448,304437,"SEVIL CITOLER MARIA CARMEN"]
[20559902048,"CONCESIONARIA CHAVIMOCHIC SAC",null,15168937901,304760,"SANDIGA PIMENTEL, JOSE LUIS"]
[20451364422,"ING MTO & CONSTRUC SAC CONTR GRALES",null,15127312998,304707,"GALDOS SAAVEDRA LUIS"]
[20432295754,"HERNANDEZ & CIA ABOGADOS S C R LTDA",null,15118262376,303320,"AUGUSTO QUEZADA SOTO"]
[20112831364,"ORDEN DE SAN AGUSTIN",null,15108615351,31,"JARA BOLOÃ‘A ALFONSO NICANOR"]
[10715308938,"MIGUEL ANGEL  CHANCAFE  POMA",null,15108021991,304083,"IBARBURU LEON SILVIA REBECA"]
[10275600631,"JOSE LOYOLA  GARCIA  COTRINA",null,15106754214,303151,"BALDUCCI FOSCHI ALBERTO"]
[20491644088,"EMPRESA DE TRANSPORTES JHARLLY SRL",null,10800141830,304748,"RAMIREZ ROJAS CLEVER ISIDRO"]
[10412484709,"MANUEL  UNTIVEROS  SOSA",null,10767470024,305530,"HIDALGO ANTARA JONATHAN MAXWELL"]
[20546048404,"SERVICIOS GENERALES CAMPANIA SAC",null,10739637193,305484,"ARTETA RAMIREZ JAVIER ALONSO"]
[10077998981,"MARIA CECILIA  SCHULTZ  VAREA",null,10734602651,305486,"BEDOYA SAISHO JOSE LUIS EDUARDO"]
[10451193738,"JUSSEF WILSON  VALERIANO  TORRES",null,10730433986,305179,"BARRAL LARIOS LUIS ALBERTO"]
[20557635425,"GO CLEAN PERU SOCIEDAD ANONIMA CERRADA",null,10729689853,305195,"YONG ZAMORA SEIKO MINORU ALBERTO"]
[20603823312,"INKA WINGS SAC",null,10726517687,305370,"SALINAS SANCHEZ MARIA FERNANDA"]
[20565993390,"GRUPO NORTE FACILITY PERU SAC",null,10723245317,305480,"MALCA TAFUR MARTIN ABIHAIL"]
[20601229201,"OCHO SUR P SAC",null,10710592875,305254,"DIAZ RODRIGO TRISTAN"]
[20486468590,"PRODUCTOS Y SERVICIOS DE ALTA TECNOLOGIA SAC",null,10709899592,305193,"FLORES GOMEZ MIGUEL GERARDO"]
[20601447852,"ETTA VISTA ALEGRE SRL",null,10707876277,305020,"LIVIA ENCALADA VANESA YAHAIRA"]
[20448597343,"ETTL WILLY EXPEDITIONS SRL",null,10707700586,305477,"FLORES MEJIA SAMANTHA CAMILA"]
[20536783190,"COMERCIALIZADORA MAFESA SAC",null,10707636551,305078,"OLIART WONG DIEGO JOAQUIN"]
[20527428204,"SERV GRALES SANTA MARIA MINERIA Y CONSTRUCCION SAC",null,10703685604,304898,"ROJAS VERTIZ KERLYM GLORIA"]
[20100277485,"PROCESADORA SUDAMERICANA SRL",null,10702646397,305003,"MUÑOZ AREVALO PIERINA LISBETH"]
[20100940621,"SERVICIOS GEOGRAFICOS Y MEDIO AMBIENTE SAC",null,10702283707,305312,"VALENCIA MUÃ‘OZ LLERENA ALVARO ADRIAN"]
[20604716331,"ABB POWER GRIDS PERU SA",null,10700738103,305357,"VEGA NUÃ‘EZ ALVARO RODRIGO"]
[20110225700,"FONDO BIENESTAR SANIDAD PNP",null,10700158921,405317,"GERENTIA CORREDORES DE SEGUROS SAC"]
[20557020552,"ECOTURISMO ISLAS DEL CALLAO SAC",null,10488105839,305218,"QUINCY NOACK PETER"]
[20101313167,"MOLINERA LOS ANGELES SA",null,10486736467,305271," BISSO VILLACORTA FIORELLA VICTORIA"]
[20503799902,"AGENCIA DE LOS EE UU PARA EL DRLLO INTERNACIONAL",null,10483662870,305204,"CHOCANO ROMERO RICARDO STEVEN"]
[20108001535,"ESTUDIO OSTERLING SOCIEDAD CIVIL RL",null,10480520306,305268,"AHUMADA PALOMINO LUIS ENRIQUE"]
[20120055128,"PROMOTORA OBRAS SOCIALES DE INSTRUC POP",null,10479254554,305205,"TERRONES GUTIERREZ JOSE JUNIOR"]
[20393866668,"TRANSPORTE CONDE RAMIREZ EIRL",null,10476291475,405431,"ALTA CORREDORES DE SEGUROS"]
[20530176658,"FARUTEC EIRL",null,10469463228,305127,"PEREZ INGA XAVIER GIANCARLOS"]
[10052553933,"RUBY RITA  SANCHEZ  RENGIFO",null,10469188821,305496,"JHONATAN EUGENIO CAMAHUALI FABIAN"]
[20509143308,"ROVAL INDUSTRIA Y COMERCIO SAC",null,10467678421,305233,"CHU MEDRANO YANIAN YSKRA"]
[20519485487,"CONTUGAS SAC",null,10466506058,304957,"CALDERON GOMEZ JOSE RODRIGO"]
[20522151611,"NAVAL RADIO PERU SAC",null,10465862543,305154,"ABARCA JUSTINIANE WALTER ALEXIS"]
[20203201258,"FONDO GENERAL DE CONTRAVALOR PERU JAPON",null,10465667473,305088,"PARRA PANDURO CYNTHIA KATHERINE"]
[20601810914,"MARITIME BUSINESS SAC",null,10465158625,305384,"ARIAS VENTURA STEPHANNIE PRISCILLA RUBI"]
[20467305931,"DOLPHIN TELECOM DEL PERU SAC",null,10462278921,305444,"CELEDONIO MEJIA YONEL EMERZON"]
[20603238801,"INGENIERIA Y CONSTRUCCION SIGDO KOPPERS PERU SAC",null,10461948206,305004,"IPANAQUE GUTIERREZ HECTOR RAINIERO"]
[20393603063,"FLUVIALES RS SRL",null,10461900254,304919,"LOPEZ MENDOZA PERLA BLANCA"]
[20604173087,"GRUPO EMPRESARIAL EXPRESO DEL ORIENTE SAC",null,10461651670,305462,"JOSE DAVID YARANGA SEDAMANO"]
[20495873090,"F&M MAQUINARIAS SAC",null,10461002001,305409,"CORNEJO MANTILLA LUIS MIGUEL"]
[10445477708,"AUDRIA JINETH  CHUNG  DEL AGUILA",null,10459633982,305494,"PINILLOS URQUIAGA FERNANDO JUAN JOSE"]
[20492127711,"MELVAN AGENTES DE CARGA SRL",null,10458359089,305459,"CENIZARIO AVALOS DEYVIS SANDER"]
[20349065488,"EUROSHOP SA",null,10458192125,305359,"MARIN SEMINARIO GABRIELA MARIA ELENA"]
[20522425410,"GRUPO HECTOR CHUMPITAZ SOCIEDAD",null,10457800296,305105,"BEGAZO CALDERON ELBER MARCELO"]
[20492690725,"CORPORACION SOUTH NAVAL SA",null,10457289401,305229,"ZAVALETA BECERRA  MARIA NERLY"]
[10000264518,"OSCAR RAMON  GIL  VILLACORTA",null,10455942468,305416,"ALVARADO MENDIBURU EDUARDO ANDREE"]
[10444876021,"MARTIN JOSEPH  SILVA  NOBOA",null,10455012452,305285,"SANDOVAL IZQUIERDO  MANUEL JONATHAN"]
[20604617261,"PROTECAR PERU SAC",null,10454890383,305513,"ANGEL FERNANDEZ GUADALUPE"]
[20231843460,"COSTA DEL SOL SA",null,10454271578,305230,"SOTOMAYOR  MONTAÃ‘EZ  JOSE RENATO"]
[20537378469,"ERAIDA SAC",null,10453728604,405427,"ASEGUR CORREDORES DE SEGUROS SAC"]
[20550344191,"MATERIALS RESEARCH & TECHNOLOGY SAC",null,10452841610,405249,"CONSULTING ASESORES Y CORREDORES DE SEGUROS SAC"]
[10103243683,"ROSA BEATRIZ  GONZALES  ALEJOS",null,10452530789,305211,"VERMEJO LECIÑANA LUIS FERNANDO"]
[20473495598,"MC TRADE SAC",null,10452034765,305301,"ESTRADA VILLALOBOS MARCO ANTONIO"]
[20479558826,"SERVICIOS GENERALES OASIS EIRL",null,10449973866,305168,"MORALES ATAURIMA MELISSA"]
[20603381972,"CONSORCIO PUENTE PARIÑAS",null,10448130385,305421,"VALDIVIA HERRERA CARLOS EDUARDO"]
[20153045021,"SIGDELO SA",null,10447842683,305418,"HECTOR LEYTER"]
[20605510974,"EMPRESA DE TRANSPORTES TURISTICOS TAXI UROS SCRL",null,10447658998,305366,"SARMIENTO RODRIGUEZ ERIKA GABRIELLA"]
[20100235219,"SOCOSANI SA",null,10446266549,304754,"CASANA BAZO ALFREDO MARTIN"]
[10452527753,"SILVIA JHAJAIRA  PAREDES  ACHING",null,10443101972,305423,"PAULO CESAR GILES AMPUDIA"]
[20135237460,"MARINE SERVICE EIRL",null,10440738988,305231,"CHAVEZ PINO  CARLO JOSE"]
[20160404796,"INVERSIONES Y COMERCIALIZACION MAKA SAC",null,10440667801,305264,"VALENCIA MONTES  ALONSO JAVIER"]
[20511129975,"CONCESIONARIA INTEROCEANICA SUR TRAMO 3 SA",null,10440369711,305236,"LA TORRE MORALES DIEGO SEBASTIAN"]
[20603422130,"PISCIS SPORTS EIRL",null,10438862272,305468,"CUENCA BAUTISTA MIGUEL ANGEL"]
[10000171714,"DEOMAR  ALVAN  TORRES",null,10437823656,305277,"CONTRERAS  MAMANI ADELMA"]
[20510796986,"MMP GESTION Y ASESORIA SAC",null,10437294092,305335,"SALLLARI MENDIVIL LUIS MIGUEL"]
[20507679499,"CARGO Y SERVICIOS RENPA EIRL",null,10436667821,305456,"INURRITEGUI CATTANEO DANIELA"]
[20529492627,"GRUPMER SERVICIOS GENERALES EIRL",null,10436454541,305247,"TORRES CALLE RENZO FRANCISCO"]
[20192779333,"COMPANIA MINERA ARES SAC",null,10436323641,405448,"BAHIA INTERNATIONAL ADVISORS CORREDORES DE SEGUROS"]
[20509119938,"PARADIGM PERU SAC",null,10436158071,305483,"CANTO MEZA VIANCA BEATRIZ"]
[10001656894,"ELIZABET  AYALA  JUNCO",null,10436085236,304681,"CARRILLO RAMOS, GINO"]
[20537464543,"DESARROLLO VIAL DE LOS ANDES SAC",null,10435300061,304965,"CALDERON VEGA MELANIE OLGA"]
[20602810071,"KAIZEN BRASA SAC",null,10435151898,304667,"GASTELO JIMENO RICARDO MIGUEL"]
[20600712315,"PROGRAMA MEDICO ESPERANZA AMAZONICA DEL PERU",null,10433860280,405422,"MORGAN & ASOCIADOS CORREDORES DE SEGUROS SAC"]
[20122620434,"OVERALL BUSINESS SA",null,10433818917,305289,"TASILLA OROSCO HENRRY BERICK"]
[20508261633,"BUNGE PERU SAC",null,10433727369,304807,"VILLAORDUÑA BONILLA  ABRAHAM"]
[20100047218,"BANCO DE CREDITO DEL PERU",null,10433567116,305190,"RIVOIN CHONATI IVAN"]
[20604723222,"CONSORCIO LAC",null,10432620218,405387,"NOVA PERU CORREDORES DE SEGUROS SAC"]
[20100118336,"LA HANSEATICA SA",null,10432400030,305467,"ALVA CAMPOS JOSE MANUEL"]
[20538428524,"MINERA LAS BAMBAS SA",null,10431490205,305315,"CUTISACA ZELEYA ISABEL"]
[20502194616,"SERVICIO DE CONTRASTE SA",null,10430945012,304903,"QUIROZ QUEQUEZANA RENZO JIMMY"]
[20168702346,"SAPET DEVELOPMENT PERU INC SUCURSAL PERU",null,10429812858,305329,"ARTEAGA RIVEROS JOEL FREDY"]
[20100123330,"DELOSI SA",null,10429545141,305368,"SEGUNDO HERMAN TERAN SAUCEDO"]
[20544372263,"E SARMIENTO CONSULTORES SAC",null,10427947217,305038,"HUAMAN VASQUEZ ARTURO ALONSO"]
[20415090316,"FARMAKONSUMA SA",null,10427752467,305219,"CONSORCIO JP & ASOCIADOS ASESORES Y CORREDORES DE"]
[20604291101,"CASAR INGENIEROS SRL",null,10427642998,305053,"MIRANDA CHAVARRIA VERONICA"]
[10078159605,"DIEGO  RIZO PATRON  QUINTANA",null,10427551143,305461,"DIEGO ALEJANDRO PEREZ PEREIRA"]
[20506626758,"ASOCIACION CULTURAL DRAMA",null,10427396881,405139,"J E CORREDORES DE SEGUROS SAC"]
[20406378692,"WORLD LEARNING INC",null,10427173505,305227,"LONDON Y ASOCIADOS CORREDORES DE SEGUROS SAC"]
[20526461208,"SEGURMAX SAC",null,10425770077,305186,"BARCO LARRABURE MAURICIO DE CASIA"]
[20117797946,"ROMACO SAC",null,10425739072,305493,"ROMAN MARTINEZ GIOVANNA"]
[20603075375,"HAPPY TIMES SAC",null,10425673985,305412,"TAPIA QUISPE SAUL HENRRY"]
[20601328039,"TECHNICAL ENGINEERING SOLUTIONS SAC",null,10425486441,305050,"GASTELO MEDINA MARCO ANTONIO"]
[20138861300,"ADRA PERU",null,10425392234,305166,"LOBATO CASTRO ANDRES RICARDO"]
[20191503482,"SILVESTRE PERU SAC",null,10423646484,305214,"VILLAR VALDIVIEZO JOSE CARLOS"]
[20529650559,"TRANSPORTES Y CONSTRUCCION CRUZ EIRL",null,10423286186,304900,"ARRIETA ODRIA LUIS ENRIQUE"]
[20521476037,"ALMACENES FINANCIEROS ALMAFIN SA",null,10422817056,305397,"AVALOS LOPEZ LUIS ANGEL"]
[20262241441,"ACRUTA & TAPIA INGENIEROS SAC",null,10422599814,405444,"EDUARDO DEL AGUILA DURAND & ASOCIADOS CORREDORES D"]
[20543997740,"NAVIERA BERTLING SAC",null,10422239125,405342,"DELGADO & MARCHAND CORREDORES DE SEGUROS SAC"]
[20526238801,"PTC ARMADORES SAC",null,10422058872,304833,"TRESIERRA PEREIRA DIEGO ADOLFO"]
[20601821606,"INVERSIONES Y NEGOCIOS NR EIRL",null,10421856970,304921,"CARRASCO GARRIDO CARLOS ALBERTO"]
[20601936110,"ETERMAR PERU",null,10420575845,305083,"VARELA BACA ENMA EMERITA"]
[20275873480,"SERVICENTRO RAMIREZ SAC",null,10420534162,304977,"APOLINARIO APOLINARIO ARTURO"]
[20600428676,"RIVERS & FOREST EXPEDITIONS SAC",null,10419997817,305122,"CAMPOS BRAVO GAVIT CONSUELO"]
[20101056091,"ESTUDIO RUBIO LEGUIA NORMAND & ASOC SCRL",null,10419609981,305180,"SOPLAPUCO CHIRA ZENIT GISELA"]
[20545100399,"INMOBILIARIA SEPIN SA",null,10418847803,305091,"FERRANDO DELGADO ROBERTO"]
[20202576878,"CINESETENTA PRODUCTORA PERUANA DE PELICULAS SA",null,10418495010,304533,"CORDOVA AQUIJE CAROLINA ELIZABETH"]
[20349304903,"ARCLAD DEL PERU SAC",null,10418250025,305060,"FERRO ROBERTI BRUNO RICARDO"]
[20527241716,"COMUNIDAD NATIVA SEGAKIATO",null,10417189691,304805,"TELLEZ POLANCO FIDEL JESUS"]
[20546971393,"AVPC GEOTECNOLOGIA SAC",null,10417001111,305157,"CHAVEZ MORAN PATRICIA KIMBERLY"]
[20227729709,"CLINICA ADVENTISTA ANA STAHL",null,10416795008,305363,"PASTOR SACCACO MIGUEL ANGEL"]
[15567220173,"EDILSON  TRIANA  ESCOBAR",null,10416673131,305189,"DIESTRA ZAVALETA LUIS MARTIN"]
[10001597189,"MARIA ISABEL  LUJAN  GUILLEN",null,10416206746,305263,"CARLOS DANIEL ARDILES PAUCAR"]
[10001656568,"LEANDRO  QUISPE  TORRES",null,10415366081,405420,"DAR ASESORES Y CORREDORES DE SEGUROS SAC"]
[20100525641,"MERCADEO COMERCIAL SA",null,10415093174,305257,"POHL ORTIZ BLANCA FLORENTINA"]
[20508959398,"ASOCIACION SODEXO POR EL DESARROLLO SOSTENIBLE",null,10415093174,305109,"TUESTA GOGNY KARINA ADRIANA"]
[20605254315,"SAIDEL SAC",null,10414635011,304937,"ZUMARAN DIAZ ROGER RAUL"]
[20567110746,"COMUNIDAD NATIVA PUCACURO",null,10414506483,305451,"BRASCHI LOYOLA JAVIER AUGUSTO"]
[20517231631,"PANAMERICAN GAS TRADING SAC",null,10413740822,304584,"ALBURQUERQUE LIÑAN GUSTAVO  MILTON"]
[20557605518,"JUEGO MANIA PARK SOCIEDAD ANONIMA CERRADA",null,10413680374,305354,"QUIÃ‘ONES FALCON FRANCO EDUARDO"]
[10417483751,"ROSEMBER  REATEGUI  RAMIREZ",null,10413561138,305221,"MORALES GOMEZ DE MONZON VANESSA SOLEDAD"]
[20128928881,"AGENCIA FLUVIAL Y TRANSPORTES CHAVEZ EIRL",null,10413499360,305288,"CUSTODIO  BURGA  VICTOR MANUEL"]
[20131016639,"ORICA MINING SERVICES PERU SA",null,10413341022,305028,"FLORES SANDOVAL CARLA LORENA"]
[20544060962,"PESQUERA ARTESANAL EL FERROL SAC",null,10412947806,305386,"DIAZ ALVAREZ ROMI CAROLINA"]
[20603869665,"GIYODAJ EIRL",null,10412947806,304386,"DIAZ ALVAREZ ROMI CAROLINA"]
[10438129672,"CARLOS MANUEL  TEPE  GASTULO",null,10411929952,304608,"WILLIAM MARIACA CHOQUE"]
[20503271592,"AQUARIUS CONSULTING SAC",null,10411715219,305242,"RICCI ROSPIGLIOSI DE HEYSEN  MONICA SOLANGE ROSA"]
[20135674410,"NAUTILIUS SA",null,10411379502,305398,"ALMONACIN SERINA PAVEEL JESUS"]
[20393034263,"HIDRAULICA INGENIERIA DE FLUIDOS SAC",null,10410518291,305417,"LUIS TOBIAS CORNEJO ROMERO"]
[20493310454,"CORPORACION PETROLERA DEL ORIENTE SAC",null,10410486372,305505,"PEREZ ALVARADO ALDO DAVID"]
[10054020819,"AMERICO  QUISPE  TTITO",null,10409935244,305498,"MILLONES VOLPE DIEGO"]
[20177395227,"UNIVERSIDAD ANDINA DEL CUSCO",null,10409830817,405386,"CABALLERO COVEÑAS HNOS CORREDORES DE SEGUROS SAC"]
[20510061277,"JESUAL SAC",null,10409292530,305184,"CANDIA TAPIA LAURA"]
[20269667282,"PATOLOGIA CUTANEA EIRL",null,10409249898,305259,"RUTHI TUPAYACHI OQUENDO"]
[10052868471,"SARA  SOPLIN  JABA",null,10409185075,305094,"CARRASCO CHAVEZ GISELLA LADY DIANA"]
[20547365179,"RED MUQUI",null,10409016656,305203,"ZAMUDIO MANSILLA RAPHAEL ANTONIO"]
[10055815319,"JORGE  DELGADO  PEÑA",null,10408828304,305032,"PALOMINO ROMERO LILIANA BENITA"]
[10724396599,"ANIBAL ADALBERTO  RIOS  SOSA",null,10408375253,305521,"GIAMPIETRI ARNILLAS GIORGGIO"]
[20538570436,"VICTORY INCA PETROLEUM SAC",null,10408357085,304934,"QUISPE CORRALES RAUL RICHARD"]
[20493333586,"AMAZON EXPLORER SRL",null,10407762890,405362,"QUISPE SALVADOR JORGE ANDRES"]
[20384391118,"ZEUS MARITIME SRL SHIPPING AGENCY AND BROCKERS",null,10407726907,305169,"ATOC ALANIA ROCIO"]
[20603728271,"HERSIL REPRESENTACIONES SAC",null,10407524662,304775,"SAAVEDRA MONTENEGRO LUZ AGUEDITA"]
[20322232811,"AGENC DE VIAJ TURIS EDGAR ADVENTURES SRL",null,10407329223,305295,"VILCHEZ ALVAREZ  JOSE LUIS"]
[10000075936,"RAUL  MALDONADO  ORNETA",null,10407115053,305464,"ZAPATA BARJA MARCO AURELIO"]
[20299634443,"GRAFIPAPEL SA",null,10406889179,305086,"HERNANI PONCE DE LEON CHRISTIAN GONZALO"]
[20515920774,"PETROTANKERS SAC",null,10406493186,305274,"ROMERO HASSINGER GINETTE"]
[20529549670,"T&D CORPORATION SAC",null,10406212616,305260,"SANTANA GAMBOA CARLOS ALBERTO"]
[10417483719,"ASUNCION  VASQUEZ  URQUIA",null,10406205121,305471,"MARQUEZ CUADROS SANDRA MILENA"]
[10420573036,"ROBINSON  BRAVO  RAMOS",null,10405994581,405412,"S&S CORREDORES DE SEGUROS   SAC"]
[20542121271,"INGENIERIA PERUANA DE CONSULTORIA Y CONSTRUCCION",null,10405591796,305414,"GATES ROJAS SWANN SHIRLEY"]
[20518159128,"CORPORACION SINERGIA SAC",null,10405439978,305424,"ASENCIOS HUACACHE CRISTINA ESTHER"]
[20448427774,"SERVICIOS TURISTICOS LAGO TOURS EIRL",null,10405353518,305170,"GALVEZ ASCENCIO WILLIAM PERCY"]
[20528212744,"VITE EIRL",null,10405333525,305492,"AMADO TALAVERA MALITZI NUCENA"]
[20526630751,"SUMMAQ EIRL",null,10405101462,305167,"CALVO GUTIERREZ ANGELA MAGALY"]
[20145038201,"INSTITUTO DE SALUD POPULAR",null,10404989036,304665,"LA SERNA ROSSI FERNANDO"]
[20555888997,"INVERSIONES DCL PERU SAC",null,10404849455,304949,"PORTARO PANCORVO PATRICIO"]
[10001630852,"CARLOS ALBERTO  ZUÑIGA  ARIAS",null,10404847282,305540,"CARPIO SALGUERO CRISTINA JAKELIN"]
[20154954725,"ASOCIACION FRATERNITAS DEL PERU",null,10404735573,305215,"BASURTO ARAKI EDUARDO"]
[20528401393,"TAMSHI SAC",null,10404420793,305217,"PAREDES ROJAS FREDRIK WARNER"]
[20513493691,"DIANES SEAFOODS SAC",null,10404322252,305353,"TASAYCO VILLA PERCY DAVID"]
[10708882874,"RAYMUNDO AGUSTIN  MIYAHIRA  ORELLANO",null,10404282137,305047,"BUSTAMANTE PALOMINO SONIA CLEANTE"]
[20601172420,"ASOCIACION CIVIL CASTILLO DE CHANCAY",null,10403916086,405423,"TITANIO CORREDORES DE SEGUROS SAC"]
[10457305422,"JUAN CARLOS  SANCHEZ  SEGOVIA",null,10403047754,305101,"CASTRO TRIGOZO DANTE JOEL"]
[20600323394,"MOTT CENTRO DE ESPECIALIZACION DIGITAL SAC",null,10402656412,405295,"CVS CORREDORES DE SEGUROS E.I.R.L."]
[20509602183,"COMPLEJO TURISTICO RECREACIONAL KOCHAWASI SAC",null,10402138331,305239,"BARRENA POLANCO MARIANO LUIS"]
[20600991184,"SERVICIOS DE TRANSPORTES SJT SRL",null,10402136257,305344,"ZANOTTI ANGULO RICARDO JOSE"]
[20600444094,"LOT INTERNACIONAL SAC",null,10402108458,305378,"GOMEZ ESTRADA MARTIN ENRIQUE"]
[20393782481,"COMERCIALIZADORA LA PAREJA SAC",null,10402014232,304146,"BADO GUERRERO CORINA MARISELLA"]
[20102937580,"SERVICIOS DE VIGILANCIA EL CONDOR SRL",null,10401988535,305293,"COLMENARES  URPEQUE MONICA DEL CARMEN"]
[20267432571,"35-17 CARGO SAC",null,10401525811,305279,"CACERES SARMIENTO MARIA JOSE DEL CARMEN"]
[20600375050,"CONSORCIO EMPRESA DEPURADORA DE AGUAS DE LA ENLOZA",null,10401390869,305176,"EURIBE URIBE KAREN GIANNINA"]
[10422519438,"MC KENNY  ZELADA  CARDENAS",null,10401323177,304974,"LIVON CHANCAFE EDY CARMEN"]
[20505037554,"IMAGINA T DIGITAL SAC",null,10401135311,304881,"LUZ MARIA BAZAN CUBAS"]
[20393682699,"LEVIK LOGISTICS SAC",null,10401132657,304777,"QUIROZ ESPINOZA JORGE LUIS"]
[20603798326,"QUO TECHNOLOGY SAC",null,10401020433,305473,"CESAR BARRIOS TABOADA"]
[10070147471,"ESTEBAN SOLANO  PORTUGUEZ  NOLASCO",null,10400710053,305178,"BLOSSIERS DIETRICH RENZO JOSE MARTIN"]
[10056129079,"MIGUEL ANGEL  RODRIGUEZ  DEL CASTILLO",null,10400584678,305460,"VERONICA BEATRIZ GONZALES HUARACA"]
[20393189461,"EMP DE TRANS FLUVIAL DAVID Y SAMUEL EIRL",null,10400048938,305454,"CRISTIAN ALEJANDRO NEUMANN LAZO"]
[10477244373,"ERICK JESUS  BALLENA  UCEDA",null,10329825227,6008744,"PEDREROS CARRANZA, ALFREDO"]
[20604661600,"PHILPERU SHIP CHANDLERS SAC",null,10329662662,305256,"CRESPO CESPEDES MARIA TERESA"]
[20509840017,"QUIARSA SAC",null,10329490047,304911,"RUIZ CASARETTO PEDRO JOSE"]
[20410047625,"GALCAS CONTRATISTAS GENERALES SAC",null,10329414570,305296,"MUÑOZ  REGIS ERIKA VIVIANA"]
[10001198969,"WILFORD TOMAS  PEREZ  PEREZ",null,10329404787,303977,"HOLGUIN CHAVEZ, LUIS ALBERTO"]
[20394091198,"CONSTRUCTORA DEL CARPIO & ASOCIADOS SRL",null,10329338521,304945,"OLIVEROS GUARNIZ CORINA LUZ"]
[20602614299,"VILLAS COFFEE SAC",null,10329129484,305045,"GARCIA GALVEZ MIGUEL ANGEL"]
[20393267951,"FORESTAL IBERIA Y SERVICIOS FLUVIALES EIRL",null,10329049537,305075,"HOLGUIN CHAVEZ JUAN JULIO"]
[20108056275,"IMPORTACIONES Y COMERCIO INTERNACIONAL SA",null,10328430911,305321,"DE LA CRUZ SAGASTEGUI EDITH LOLA"]
[10473302093,"ARNALDO JAIME  ANCHELIA  HUAMANTA",null,10327743550,405364,"KALLPA CORREDORES DE SEGUROS SAC"]
[20101951872,"EMPRESAS COMERCIALES SA",null,10316046504,304124,"MEJIA RODRIGUEZ, MIGUEL ANGEL"]
[10157600422,"MIXSI ELENA  ZERILLO  BAZALAR",null,10310093861,405418,"PREVISEGUROS CORREDOR DE SEGUROS SRL"]
[20493436041,"INVERSIONES EL GRAN ABANICO SRL",null,10308497092,405437,"GF CONSULTOR CORREDORES DE SEGUROS SAC"]
[20100052050,"PERUFARMA SA",null,10308490578,303493,"RODRIGO CARPIO TIRADO RICARDO ROBERTO"]
[20100083281,"INDUSTRIAL CROMOTEX SA",null,10308490128,304407,"JOSE ALEJANDRO BUSTAMANTE NICHOLSON"]
[20321856145,"ASOC PAST SERV MEDICO ASIST JULIACA IASD",null,10308277092,304423,"ROSANA MOLINA SALAS"]
[20492751023,"CONSULTORIA AMBIENTAL Y SOCIAL SAC",null,10304248497,304606,"ELAYNE BEDOYA PUERTAS"]
[20601590906,"GRUPO SANFER CLEAN SAC",null,10304002862,304644,"RIVERA SALAZAR JUDITH ARELIZA"]
[20328411041,"ASOC EDUC ADVENTISTA PERUANA DEL SUR",null,10297385289,305356,"ANTONIO MARTIN ELIAS ESCOBAL"]
[20495949258,"CARAL MAQUINARIAS Y SERVICIOS GENERALES SRL",null,10297385076,403806,"SADELCO SEGUROS GENERALES EIRL"]
[20600616987,"GRANOS AGRICOLAS DEL PERU SAC",null,10297382654,304825,"ENCINAS GOMEZ DE LA BARRA HUGO ALFREDO"]
[20561128473,"ORQUESTA AMAYA HNOS EIRL",null,10297183457,304855,"AREVALO DAZA VICTORIA KATHERIN"]
[20388996782,"COLEGIO SAN JORGE DE MIRAFLORES SCRL",null,10297039054,304905,"GUILLEN PEREZ SHIRLEY PENELOPE"]
[20503815444,"CRUZ ROJA ALEMANA",null,10296552530,305504,"REVILLA BEDOYA JUAN JOSE"]
[10231599334,"FRANCISCO ISAIAS  JAIMES  ESPINOZA",null,10296402201,305528,"ENRIQUE FRANCISCO ARENAS REQUENA"]
[20510579454,"ELECTROANDINA INDUSTRIAL SAC",null,10296375204,405371,"SOLUCIÓN ASESORES Y CORREDORES DE SEGUROS SAC"]
[20562917501,"INMOBILAIRIA SAN NICOLAS DE BILBAO SAC",null,10296231288,304797,"ALVARO MORENO TRISTAN"]
[10053775883,"ROCIO CASILDA  RIOS  MORALES",null,10296082193,405197,"CONTRERAS ASESORES Y CORREDORES DE SEGUROS EIRL"]
[20482744983,"POSADA PERU SAC",null,10296016123,305325,"CASTRO AQUINO ELISA"]
[20131011912,"ALIANZA PARA LA PROMOCION DE LA EDUCACION SAC",null,10296014821,305532,"BERRIOS AJAHUANA KELLY CELIA"]
[20101024645,"CORPORACION LINDLEY SA",null,10295852637,305487,"LUIS GONZALO RODRIGUEZ HURTADO"]
[10411767812,"EMMA EUGENIA  ESTELA  VASQUEZ",null,10295778411,304474,"JUAN RAUL VILLEGAS TEJADA"]
[20570865138,"C & R EL LIRIO EIRL",null,10295660479,405143,"JMC INTEGRAL SAC ASESORES Y CORREDORES DE SEGUROS"]
[10052429256,"EDVIN  RAMIREZ  GONZALES",null,10295621902,405329,"GENESIS BROKER'S CORREDORES DE SEGUROS SRL"]
[20602494005,"ASOCIACION DE PRODUCTORES YUNKA DEL HUALLAGA",null,10295366228,405437,"GF CONSULTOR CORREDORES DE SEGUROS SAC"]
[20525333923,"SERVAN CONTRATISTAS GENERALES SRL",null,10295277446,405317,"GERENTIA CORREDORES DE SEGUROS SAC"]
[10167580136,"HEINZ AUGUSTO RICARDO E  PLENGE  SANCHEZ",null,10295265715,304795,"HUGO CALATAYUD ROSADO"]
[20409015230,"NEGOCIOS NOR ORIENTE S C R L",null,10295202951,303043,"TALAVERA BALLON, ALVARO"]
[20551168574,"COEMIN SAC",null,10295183280,405291,"PREVENIR CORREDORES DE SEGUROS EIRL"]
[20452614767,"LA CALERA SAC",null,10295005781,304913,"LUNA DELGADO ENRIQUE VICTOR"]
[10230881516,"SOLIO FILDER  MEJIA  ACUÑA",null,10294469414,304341,"PEREYRA PACHECO, RICARDO MARTIN"]
[20546468101,"GRUPO GURKAS SAC",null,10294267323,305490,"MONROY SANTOS ROCIO VERONICA"]
[20603432810,"HARBOR MARITIME SUPPLY EIRL",null,10294222966,304562,"VALDIVIA RODRIGUEZ JULIO MAURICIO"]
[20528343687,"RIO SANTO EIRL",null,10294083648,304481,"JORGE NUÑE-MELGAR AYLLON"]
[10077633435,"HECTOR PAUL  FLORIAN  BOCANEGRA",null,10293880927,303762,"VELARDE CUADROS ADALIT"]
[20102220952,"PRODUCTOS BOREAL SAC",null,10293761243,304424,"AMPUERO PEREZ JOSE ANTONIO"]
[20545833621,"CARPIO HNOS TOURS SAC",null,10293158962,304476,"ALVARO ROBERTO LAZO BEGAZO"]
[10001522863,"JULIO CESAR  VERTIZ  PAZ",null,10293157478,304812,"MEDINA GOYTENDIA VERONICA CARMEN"]
[20506559201,"PROJECT MANAGEMENT PERU SAC",null,10293120671,405201,"SIN FRONTERAS CORREDORES DE SEGUROS EIRL"]
[20496062575,"MULTISERVICIOS GENERALES BENDICION DE CRISTO SRL",null,10292902943,305108,"RONDON MURILLO CARLOS ARTURO"]
[10076291930,"VITERBO RAMIRO  ORE  ROJAS",null,10292772721,405197,"CONTRERAS ASESORES Y CORREDORES DE SEGUROS EIRL"]
[20517378811,"PERU NAUTICO SRL",null,10292744655,304153,"DELGADO DIAZ, JUAN GABRIEL"]
[20552955570,"ALAMO PARK SOCIEDAD ANONIMA CERRADA",null,10292724140,303345,"BOURONCLE PERALTA JAVIER JOSE LUIS"]
[10407118362,"GISSELA  ROJAS  RUIZ",null,10292709671,304899,"RODRIGUEZ PANTIGOSO JUANA MARIANELA"]
[20511317038,"JAGUI SAC",null,10292687091,305485,"BUTRON HUAYTA JUAN"]
[20102295961,"TRADEL SERVICE SRL",null,10292639118,304567,"CESAR QUIROZ PAULET"]
[10001653879,"AURELIA LUCY  NAVARRETE  VALENCIA",null,10292631818,304563,"WONG P, JOSE MANUEL"]
[20536981668,"EMODA COMPANY SA",null,10292447545,305042,"SACA ABUGATTAS CARLOS ANIBAL"]
[20270562966,"INGENIERIA SOCIEDAD ANONIMA NORTE",null,10292445160,303409,"VALDEZ CORNEJO PABLO ALFONSO"]
[20517485650,"MARIA MERCEDES JRS EIRL",null,10292429865,304612,"MARROQUIN VDA DE ALEDO RUTH AMELIA"]
[20508185350,"WORLD UNIVERSITY SERVICE OF CANADA",null,10292423123,405092,"ADALID ASESORES Y CORREDORES DE SEGUROS SAC"]
[20109423905,"LIMA CRICKET & FOOTBALL CLUB",null,10292396100,403085,"SERVISEGUROS SRLTDA. CORR"]
[20555626445,"LOS DELFINES PUVICET TOURS SAC",null,10292372278,405317,"GERENTIA CORREDORES DE SEGUROS SAC"]
[20484217506,"NATURE AND CULTURE INTERNATIONAL",null,10292331652,304566,"CORNEJO ZEA, JOSE FRANCISCO"]
[20447901227,"EMP TRANS TURISMO AMAUTA ADVENTURE SOC COM RES LDA",null,10292323650,304521,"FERNANDO CORNEJO CAMPOS"]
[20414235108,"SCHNEIDER ELECTRIC SYSTEMS DEL PERU SA",null,10292276562,304291,"TORRES CHAVEZ, VICTOR HUMBERTO MARCELO"]
[20100114420,"ANDINA DE RADIODIFUSION SAC",null,10292265064,405317,"GERENTIA CORREDORES DE SEGUROS SAC"]
[20447824486,"EMPRESA DE SERVICIOS TURISTICOS WIÑAY MARKA SCRL",null,10292138615,304766,"CARLOS GARCIA VASQUEZ"]
[20372301466,"MIYASH SAC",null,10292055001,405382,"DVECA ASESORES Y CORREDORES DE SEGUROS SAC"]
[20445334481,"TRANS-PERU SHIPPING SAC",null,10283106794,305161,"GARIBALDI PIÑAS KATTIA IRENE"]
[20523611250,"H2OLMOS SA",null,10282169032,304963,"RAMIREZ RIVERA JUSTO LEONIL"]
[20554910891,"UNIVERSIDAD PRIVADA PERUANO ALEMANA SAC",null,10277465839,305027,"SILVA GAMONAL MALIXSIN"]
[20511448647,"DOLMAR REPRESENTACIONES SAC",null,10266213293,305358,"RODRIGO SILVA SANTISTEBAN ROGER ADRIAN"]
[20567149871,"TRANSPORTES Y SERVICIOS R & CH EIRL",null,10258480347,305149,"RUIZ PORTOCARRERO JENNY"]
[20565379888,"ROBLES PEREZ ASOCIADOS EIRL",null,10258361305,304942,"OBREGON RIBBECK JUAN ARTURO"]
[20114044726,"TRANSPORTE FLUVIAL JV EIRLTDA",null,10258240362,304549,"BARRON DE ACARO ELSA LUCIA"]
[10470544011,"MAX  ALAYA  ROMERO",null,10257616318,305408,"ALEJOS VASQUEZ CARLOS ENRIQUE"]
[10078095755,"ROSARIO MATILDE  ALVAREZ DEL VILLAR  DE ALIAGA DE DEL POZO",null,10257605812,304270,"COLLAZOS GARCIA, LUIS ALBERTO"]
[20480663218,"CONSTRUCTORA SOBERON EIRL",null,10257494158,304242,"DALIA MARTINEZ ZEGARRA"]
[20557026089,"JUNTA DE PROPIETARIOS DEL EDIFICIO NICOLAS",null,10257383593,305283,"VIVES SORIANO  JUAN ANTONIO"]
[10103055275,"GERARDO  RUIZ  OJEDA",null,10257250259,305396,"GONZALEZ OSORIO EDUARDO ELEAZAR"]
[20605057862,"NAVIERA JULY DORIS EIRL",null,10257210079,305125,"PULLCH HUAMAN  JOHNNY RONALD"]
[20100737826,"EMPRESA ALGODONERA SA",null,10257127091,304848,"CHIROQUE SANDOVAL ALEJANDRINA"]
[20493295129,"AMAZONECO EIRL",null,10257109173,304742,"SEVILLA ACHICAHUALA JOSE LUIS"]
[20516371944,"SERVICIOS & REMOLCADORES SAC",null,10257048816,305491,"ALLER ROJAS MARYBELL ANGELICA"]
[20601749875,"MUSICA VIVA SAC",null,10256976353,304876,"ALMONTE DE ALVAREZ RUTH ISABEL"]
[20570694147,"CORPORACION YASSER EIRL",null,10256814515,405377,"CARRERA CORREDORES DE SEGUROS SAC"]
[20603672985,"CONSORCIO COSAPI  ICSK",null,10256807195,304030,"CASTILLO ALVAREZ, ALAN"]
[20267390631,"B&L ASOCIADOS SA",null,10256775641,304552,"GAVILANO A, JULIO"]
[20414407677,"PERU TRAVEL BUREAU SA",null,10256762108,303381,"RAZURI RAZURI, CARLOS EDUARDO"]
[20100131359,"DATACONT SAC",null,10256624813,303910,"OCHOA MACEDO, HECTOR ENRIQUE"]
[20518695160,"NAANDAN JAIN PERU SAC",null,10256284605,304668,"MEJIA ALMANZA JULIA OTILIA"]
[20518630891,"TERMOCHILCA SA",null,10256260382,303722,"GILDA COPAIRA HURTADO"]
[20100074371,"MANUFACTURA DE METALES Y ALUMINIO RECORD SA",null,10256160205,304003,"SERTZEN ZAPATA, JUAN JOSE"]
[20603043945,"ETTA WILLY EXPLORER SRL",null,10256124471,304103,"PEREZ LEZCANO, IVAN ALONSO"]
[20100003199,"EMPRESA NACIONAL DE PUERTOS SA ENAPU",null,10256117598,304768,"AKAMINE YOGUI JUAN ANTONIO"]
[20601062659,"TRANSPORTES G & CH SATELITE SRL",null,10256079360,304467,"CHIABRA LEON ALFREDO ENRIQUE"]
[10000449534,"ROBERTO  CABRERA  RIOS",null,10256053573,304801,"PERALTA SANCHEZ JORGE ARTUTO"]
[20604130027,"R & D ENTERPRISE EIRL",null,10256043845,304555,"TEJADA MEZA LUIS FERNANDO"]
[20559995623,"ITURRI AGENTE PORTUARIO SAC",null,10256016007,304145,"VALDERRAMA MARES, JORGE ALBERTO"]
[20491819066,"CORPORACION EL TINGO SERVICIOS GENERALES EIRL",null,10255911479,304251,"HURTADO HUAMAN, JUAN MARCELINO"]
[20603296991,"SERVICIOS GENERALES DE LA CRUZ E HIJOS EIRL",null,10255697833,305430,"WELSCH AMES ELIZABETH LISBETH"]
[20494033721,"CORPORACION TURISTICA YURIMAGUAS SAC",null,10255525374,304579,"ALZAMORA GONZALES, LIDIA"]
[20493620721,"JOSEPH SAC",null,10255243603,304054,"GUERRERO CAYCHO JESUS HUMBERTO"]
[10053241811,"ANIBAR  CARRION  PAIMA",null,10255123578,304166,"PACCHIONI VALDEZ, ALAN FELIPE"]
[20100060150,"HERSIL SA LABORATORIOS INDUSTRIALES FARMACEUTICOS",null,10255101825,304489,"JUAN RIOS"]
[20523929420,"MR HOT DOG SAC",null,10255077916,6060680,"CALLAN RAMOS FELIX RUFINO"]
[20474948006,"MAESTRANZA DIESEL SAC",null,10255075069,304348,"OBREGON RIBBECK, FELIPE ESTEBAN"]
[10409828367,"INES REGINA  CHAVEZ  ROJAS",null,10254917562,405214,"CENTRA CORREDORES DE SEGUROS SAC"]
[10428889202,"OLGA NANCY  VILLANUEVA  TARRILLO",null,10254826095,304282,"FRANCO CERDAN, FELIPE AUGUSTO"]
[10052946218,"MARIO  HOYOS  GUERRA",null,10254647379,305523,"GERMAN ANTENOR CANO MARIÑO"]
[20504909043,"FEDERAC DEPORT NAC DE FISICOCULT Y FITNESS",null,10254608543,304461,"RUTH PALOMINO VICENTE"]
[20385739771,"INSPECTORATE SERVICES PERU SAC",null,10254213646,304000,"RIOS RODRIGUEZ, LUIS FELIX"]
[20549255141,"ASOCIACION EDUCATIVA CEBA BARTOLOME HERRERA-CEBAHE",null,10254094213,304394,"JARA MINUCHE MARITZA BEATRIZ"]
[20603532181,"CONSORCIO ANDOAS - ALIANZA",null,10253310931,305290,"MARIXZA ROXANA MONTERO SANCHEZ"]
[10255203679,"MAXIMINO TEODOSIO  QUEREVALU  QUEREVALU",null,10240059521,305085,"DONDERO VILLANUEVA CARLA JESSICA"]
[20522165671,"SOS MARINE SAC",null,10240050744,305187,"BECERRA INFANTAS MIGUEL ALFONSO"]
[20478735767,"INVERSIONES AKUN SAC",null,10239973740,304785,"OCHOA MATTO JUAN ALBERTO"]
[10001088187,"FRANK AMERICO  RIOS  MELLO",null,10239786681,304994,"MONTESINOS NUÑEZ JOSE"]
[20602164137,"SOCIAL DATA CONSULTING SAC",null,10239526948,304992,"VALLADARES CACERES LIRIS"]
[20515685911,"CARTOCOR DE PERU SA",null,10239505053,305253,"ADA NELIDA PILARES CALERO"]
[20555353708,"O & M SERVICIOS COMERCIALES SAC",null,10239266270,405440,"ORIENTA ASESORES Y CORREDORES DE SEGUROS SAC"]
[20543184480,"EMPRESA COMUNAL DE MULTISERVICIOS MALLAY",null,10238475592,305119,"MONZON VALVERDE MELQUIADES"]
[20100854971,"RIESGOS & SOLUCIONES SRL CORREDORES DE SEGUROS",null,10238215116,304972,"PAIVA VALENCIA CELINA TERESA"]
[20600527674,"PARMEL PERUANA SRL",null,10238215108,304972,"PAIVA VALENCIA CELINA TERESA"]
[10802549518,"DANIEL  ADRIANO  CHAVARRY",null,10238178431,304428,"CARLOS ARIAS SOBRINO"]
[20601203660,"CORPORACION VELOZ DEL VALLE EIRL",null,10238129236,303274,"CASTRO CUBA PEDRO DANIEL"]
[20540029637,"CORPO SERVI JULVILLA EIRL",null,10238019643,305472,"OMAR IVAN CARDENAS RIOS "]
[20101452281,"FRANCISCO CHUI LAU S A",null,10232002463,305069,"MOLINA QUISPE CARLOS"]
[10406855886,"ROXANA  ZEVALLOS  PANDURO",null,10224355411,303776,"CALDERON ROJAS, MILKA"]
[10052789953,"ELMER  ROJAS  ZEVALLOS",null,10224183483,304993,"MAZZINI EGOAVIL MARINA ISABEL"]
[20519481228,"A&R WORLD BUSINESS SAC",null,10224027406,304470,"DIONEL MAZZINI EGOAVIL"]
[20375937884,"VIGILANCIA UNIVERSAL SAC",null,10224019292,304109,"RAMOS SOTO ELVA"]
[10256039112,"ALEJANDRO  QUEVEDO  GUZMAN",null,10221960128,305241,"GALINDO RAMOS YUBER CELESTINO"]
[20393948800,"DONNA -TERRA EIRL",null,10218616882,304950,"HERENCIA VICUÑA JESUS IVAN"]
[20511125040,"CONCESIONARIA INTEROCEANICA SUR - TRAMO 2 SA",null,10218146037,304941,"PRIETO RAMOS ROMULO AMADO"]
[20605332839,"JUMP LIMA SAC",null,10215749300,303458,"AQUIJE OROSCO, FLORISA"]
[20602978720,"ASENSORES MILENIUM EIRL",null,10215699434,304891,"GOMEZ CABRERA LESLY LUCIA"]
[20393437465,"TRANSRIPIO SAC",null,10215639717,304761,"BENDEZU HUARCAYA JAQUELINE ROCIO"]
[20601648157,"GESTIONES PORTUARIAS SAC",null,10215204842,304976,"PELLANNE MASSA VICTOR GUSTAVO"]
[20544263642,"ODEBRECHT PERU OPERACIONES Y SERVICIOS SAC",null,10214966293,304654,"REYES BREÑA, FERNANDO"]
[20100014808,"FUNDICION VENTANILLA SA",null,10214595988,305385,"BELLIDO SULCA JORGE LUIS"]
[10292349071,"MAURILIO EDGARD SAUL  DURAN  LAZO",null,10214548661,304853,"CENTENO DE LA CRUZ CARLOS ALFREDO"]
[20517818136,"MARITIMA DEL WORLD SAC",null,10214393498,305249,"LEVY VILLANUEVA JOSE ISAAC"]
[20509447439,"CENTRO DE SERVICIOS CAPLAB",null,10214384227,304688,"DELGADO GONZALES CARLOS MARTIN"]
[20545101956,"INMOBILIARIA TACX SA",null,10214383221,304944,"CASO CHUECAS FRANCISCO JAVIER"]
[20131644524,"DISTRIBUIDORA NORTE PACASMAYO SRL",null,10214358030,305034,"SALAZAR BERNALES GONZALO ORESTES"]
[20523108574,"FOSFATOS DEL PACIFICO SA",null,10212723369,305537,"MARTHA ISABEL TAIPE RODRIGUEZ"]
[20602802311,"ASOCIAC EDUCATIVA ADVENTISTA PERUANA CENTRAL SUR",null,10212421648,305216,"CURI ROBLES VICTOR GODOFREDO"]
[10712051260,"ORICK WILLIAMNS  MOZOMBITE  GONZALES",null,10209020527,305103,"HUARICAPCHA DURAND GINA LUZ"]
[20491837633,"FUL SERVICIOS LAS PERLAS DE ORO SAC",null,10208914753,303798,"HUARICAPCHA DURAND EDGARDO JORGE"]
[20491671999,"HILSE CONTRATISTAS SRL",null,10205304555,304782,"ARONI CALDERON, MARINO ROBERTO"]
[10487588712,"JYERSON MARCELINO  CHILON  INFANTE",null,10205243939,304027,"VILLAIZAN NAVARRO JUAN"]
[20191308868,"ARCOR DE PERU SA",null,10201220756,305415,"CARLOS IVAN SALCEDO ROJAS"]
[20393425530,"VILLENA & COMPAÑIA INVERSIONES EIRL",null,10201117360,305076,"ALBINA PILAR ATOC ALANIA"]
[20506140421,"FUNDO SANTA ROSITA SAC",null,10201052331,305048,"PEREZ PORTUGAL GISSELA PAOLA"]
[20527747644,"GO2INKAS SAC",null,10201013521,305199,"ARROYO  BAHAMONDE JUANA NUMIDA"]
[20101364152,"LABORATORIOS INDUQUIMICA SA",null,10201012461,304468,"PEZO PATIÑO, HILARIO WILBERT"]
[20126141956,"CENTRO DE LA MUJER PERUANA FLORA TRISTAN",null,10200698229,304796,"TINEO RAMOS ISABEL"]
[20493650042,"AGENCIA NAVIERA ORIENTE SRL",null,10200522261,305310,"FLORES MEZA LOURDES CARMEN"]
[20602697780,"URUSEGA SAC",null,10200503576,304756,"BARRIOS MONTERO, GLADYS"]
[20135948641,"AGRO INDUSTRIAL PARAMONGA SAA",null,10200466051,305024,"ASTO GUTARRA GEOANGELA"]
[20393590573,"LOGISTICS SELVA ATALAYA EIRL",null,10200458996,305093,"NEIRA AVILA ANA SOCORRO"]
[20393434105,"TRANSPORTES CONTA EIRL",null,10200212164,304961,"LEON VEGA KATIA RINA"]
[20600109392,"TRANS BRAVO & LAMAR EIRL",null,10200082058,304740,"TRAVERSO CARDENAS JULIO ALFREDO"]
[20222935246,"TECNOLOGIA METALICA SA METALTEC SA",null,10199197164,304749,"GRANADOS YUPANQUI JESUS"]
[20536951912,"LOS BACHICHE SAC",null,10199192707,304995,"MELVA LUZ ORTEGA BLANCO"]
[10001264511,"MARIA LIZETT  RODRIGUEZ  MURAYARI",null,10199163286,303532,"ARIAS ZORRILLA, AIDA LUZ"]
[20425542193,"TRAMARSA SERVICIOS GENERALES SA",null,10198998104,304613,"REFULIO FLORES, HAMILTON"]
[20363347461,"ASOCIACION EDUCATIVA ADVENTISTA DE PUNO",null,10198686081,304747,"SAENZ HERNANI PEDRO MANUEL"]
[10452067442,"LEYDI  CASTRO  GONZALES",null,10198598467,305381,"RUIZ PEREZ RIQUELME"]
[20600831837,"TRADING CORPORATION SVD SAC",null,10190826169,305336,"AMAY VELASQUEZ  FRANCISCO RENATO"]
[20507750380,"PRODUCCIONES PROTV SAC",null,10182171749,405339,"PROTEXA CORREDORES DE SEGUROS SAC"]
[20491677172,"PISIT SERVICIOS GENERALES SRL",null,10182127791,304839,"HORNA ALVAREZ LUIS HUMBERTO"]
[20557158406,"AXESAT PERU SAC",null,10182116152,305008,"RICARDO CAVA DIAZ"]
[10710313925,"JHONNY  BEDOYA  TORRE",null,10182115563,305118,"VASQUEZ COSTA OSCAR FERNANDO"]
[20337682066,"INDUSTRIAS DEL ZINC SA",null,10182068671,405328,"GOLDEN PERU CORREDORES DE SEGUROS SAC"]
[20605308997,"CONSORCIO PROTECCION MALA",null,10181992579,305276,"LEON  BECERRA  CESAR SEGUNDO"]
[10092953284,"CESAR AUGUSTO  REVOLLEDO  MENDOZA",null,10181982956,305322,"SANCHEZ LINARES OMAR ALFREDO"]
[20545888522,"VIALVA SERVICIOS COMPLEMENTARIOS SRL",null,10181946771,304510,"FRANCISCO VELASCO FERNANDEZ"]
[20406399185,"PUNO TRAVEL AGENCIA DE VIAJES Y TURISMO EIRL",null,10181871879,303893,"QUATTRINI BURGA CISNEROS JULIO"]
[20289015699,"ORGANIZAC PANAMERICANA DE LA SALUD OPS",null,10181823611,304677,"CHOCANO DELGADO, JORGE"]
[20104121374,"PALMAS DEL ESPINO SA",null,10181806040,305232,"VEREAU AGUILAR BENJAMIN ALFONSO"]
[20504311342,"PLUSPETROL NORTE SA",null,10181732178,304888,"LEON YBARCENA RICARDO JAVIER"]
[20601537550,"CEM ENERGY MANAGEMENT QUALITY EIRL",null,10181671471,304943,"ROJAS ANTON IVAN FERNANDO"]
[20393529076,"INVERSIONES EN GRANOS Y PESCADO AMAZONICO EIRL",null,10181434410,305194,"CHAVEZ HIDALGO TWINKY"]
[10435046164,"MARISOL  RIVAS  CABRERA",null,10181413536,305177,"VEGA PEREZ ENRIQUE ARTURO"]
[20493431162,"INVERSIONES N H EIRL",null,10181329675,305191,"LUNA VICTORIA VITTERY ELIO ALBERTO"]
[10752837673,"JUAN FELIPE  CRISOSTOMO  RAMOS",null,10181099548,305535,"RITA DE LAS MERCEDES MENDOZA PAREDES"]
[20406541518,"ETTA & SM ROYAL EXPRESS SRL",null,10180840856,305300,"MIRKO YGOR MONTOYA ALVAREZ"]
[20100032458,"GRIFOSA SAC",null,10180387922,304513,"CARLOS BOCANEGRA"]
[20168544252,"EURO MOTORS SA",null,10180340985,305377,"PONCE TIRADO LILY ROSA"]
[20521064430,"INS PERUANO DE TECNOLOGIA, INNOVACION Y GESTION",null,10180181992,305019,"VALDIVIA CORNELIO MARCOS ABEL"]
[20493437365,"DINOSELVA IQUITOS SAC",null,10179684557,304478,"JULIO BAZAN"]
[10429807307,"GLADIZ  GALVAN  ARANGO",null,10179398996,303960,"BURGOS ESCOBEDO WILMER VICENTE"]
[20600102843,"ACUACULTURA Y TURISMO SAC",null,10179379045,305212,"CHAVEZ LOMBARDI JORGE MARTIN"]
[20509917338,"RESPONDE SAC",null,10179345582,304843,"CRUZ QUIROZ CARLOS ALEJANDRO"]
[20100975841,"MCCANN ERICKSON CORPORATION PUBLICIDAD SA",null,10179195076,304882,"ZAVALETA FERRADAS MARIA DEL PILAR EUGENIA"]
[20359847042,"ASOC EDUCATIVA ADVENTISTA ANDINA CENTRAL",null,10179109749,304685,"SANABRIA SOLARI, MIGUEL"]
[20601422850,"INKARIVER LOGISTICA SAC",null,10179084517,305120,"VERMEJO RAZZETO MONICA PATRICIA"]
[10000659750,"SEGUNDO WENCESLAO  CARDENAS  LAURELL",null,10178903425,304893,"SIFUENTES PALACIOS JAVIER GONZALO ENRIQUE"]
[20524481236,"PATRONATO DE LA RESERVA PAISAJ NOR YAUYOS COCHAS",null,10178803609,304427,"VERMEJO RAZZETO GUILLERMO LUIS"]
[20419022722,"FONDO NAC DE CAPACITAC LABORAL Y PROM DEL EMPLEO",null,10178696462,304396,"ESTUARDO IVAN ALCANTARA"]
[20487913791,"TECHQUK SAC",null,10178624836,405309,"COSTA CONTINENTAL S.A.C ASESORES Y CORREDORES DE SEGUROS"]
[20601899711,"INVERSIONES MIRAMEL SAC",null,10178624194,303972,"TORRES CAVA, ALFREDO FELIPE"]
[20118032021,"CLUB ESMERALDA",null,10178421668,304456,"CARLOS MONTENEGRO"]
[10287149358,"DIOMEDES  HUAMAN  ICHACCAYA",null,10178323798,303375,"VINATEA MARINI, ABEL D."]
[20528474510,"COMER DISTRIBUID DISTRIMOTOR DE LA SELVA SAC",null,10178291071,304964,"FLORES AYALA LUIS"]
[10334156775,"JESUS  PUSCAN  ROJAS",null,10178248532,305222,"CHICHIZOLA SANCHEZ LUIS DANTE"]
[20261677955,"NEXA RESOURCES CAJAMARQUILLA SA",null,10178159467,304339,"FALLA NAVARRO, OSCAR REYNALDO"]
[20506355622,"ECOCRUCEROS SAC",null,10176334466,303166,"GASTELO ESCURRA RICARDO HUMBERTO"]
[20214821452,"ASOC EDUCATIVA ABDALA CARRILLO",null,10176197451,304774,"FACHO FLORES GERVE ANTONIO"]
[20100132916,"CERAMICOS PERUANOS SA",null,10175314810,303961,"FERNANDEZ DIAZ, PABLO"]
[20514905500,"ROATSA SERVICE SOCIEDAD ANONIMA",null,10167872226,305206,"SIME QUINTANILLA GLORIA MARIA"]
[10328688668,"NICOLAS ROLANDO  CASTILLO  MINAYA",null,10167365260,405370,"ROMA CORREDORES DE SEGUROS SAC"]
[20601702798,"QUISPE EVENTOS Y TURISMO EIRL",null,10166971352,304917,"CIEZA FERNANDEZ NANCY"]
[10447969063,"MAGIN PIO  PILLACA  MORALES",null,10166740172,305018,"CASTRO CALLE VIVIANA ANGELICA SOFIA"]
[20414766308,"SODEXO PERU SAC",null,10166733664,305014,"BRIONES SANCHEZ PEPE JAIME"]
[20601312710,"CONSORCIO FLUVIAL DEL AMAZONAS",null,10166459856,405370,"ROMA CORREDORES DE SEGUROS SAC"]
[10802513874,"MACEDONIO  RAMIREZ  PILLACA",null,10166415522,303819,"LUIS VALLE LINT"]
[20604279519,"CONSORCIO COOPROGETTI SOC COOP Y AGROTEC SPA",null,10166398318,403839,"LUIS BECERRA E HIJOS CORRED DE SEG SA"]
[10471483899,"CESAR ANTONIO  DIAZ  CUCHO",null,10166394878,304832,"ZAPATA VILLEGAS JOSE ALEJANDRO"]
[10470582222,"PAOLO ISIDORO  MINAYA  CCAIHUIRE",null,10166342274,304417,"FRANCISCO VASQUEZ"]
[20100449871,"ACTUALIDADES PUBLICITARIAS SAC",null,10166167197,305262,"BRAVO GARCIA EDISON MARCOS"]
[20512217533,"MASTERCOL SA",null,10165962872,303781,"NOMBERA CASTRO VICTOR ENRIQUE"]
[10403728841,"COPERTINA  DUEÑAS  PARQUI",null,10165919004,303294,"VERA LORA, MIGUEL AUGUSTO"]
[20601235791,"ESISEL SAC",null,10165602876,304718,"RODRIGUEZ CHEREQUE, HERMINIA LEONOR"]
[20100816611,"CONAFOVICER",null,10165315770,405297,"LA CORPORATIVA CORREDORES DE SEGUROS EIRL"]
[10717116785,"PAUL EDWIN  FERNANDEZ  GONZALES",null,10165283681,405196,"ROCA FUERTE CORREDORES DE SEGUROS SAC"]
[20600670949,"HELIX RENTING SAC",null,10164637056,304487,"FRANCISCO SALAZAR"]
[20110353538,"CRAMER PERU SAC",null,10164501693,304838,"PUICAN MIÑAN ALEJANDRO JESUS"]
[20206639289,"ARDEPE SAC",null,10164130822,305131,"VASQUEZ CASTRO MARCO ALBERTO"]
[20100901481,"J & V RESGUARDO SAC",null,10164020164,303213,"VILLANUEVA M HIPOLITO FELIPE"]
[20537025388,"G I INDUSTRIA PERU SAC",null,10157248443,305286,"MANRIQUE HUACCHA  MARIA GENOVEVA"]
[20601993652,"FENIX LOGISTICS ALLIANCE SAC",null,10156785968,304485,"JESUS ASENCIOS SUAREZ"]
[20601431425,"PEAK DMC SOUTH AMERICA SAC",null,10156144822,304920,"PAZ CARVALLO DE VACCARI MAGDALENA MARIA ELENA"]
[10283087862,"JAVIER ARTURO  GUTIERREZ  SANCHEZ",null,10153818555,304769,"CRISOSTOMO FERMIN VICTOR OLIMPIO"]
[20547893515,"JOKARAMA EIRL",null,10153645979,304154,"PADILLA PASSUNI, JAIME ROBERTO"]
[10285915321,"JUAN MACARIO  RAMIREZ  PILLACA",null,10108683207,304630,"LA ROSA INJOQUE DIEGO ALFONSO"]
[20275772969,"COMPAÑIA CONTRATISTA DE EQUIPOS Y OBRAS SA",null,10108681913,304693,"HERNANDEZ ALVARADO LUIS EDUARDO"]
[10295780296,"JUAN CARLOS  SALAS  DEL CARPIO",null,10108668445,405432,"TORRES ASESORES Y CORREDORES DE SEGUROS"]
[20447941521,"MUNDO INKA SERVICIOS TURISTICOS SOC COM RESPON LTD",null,10108666698,304765,"WHITTEMBURY AGUILAR ERICK FRANZ"]
[20100182263,"MONTANA SA",null,10108166849,304440,"MAGNA YVY ASTONITAS SANCHEZ"]
[20209133394,"MINERA BARRICK MISQUICHILCA SA",null,10108132332,305298,"CARRILLO  DE LA FUENTE PERCY"]
[20100152941,"KIMBERLY CLARK PERU SRL",null,10108090940,304935,"TABOADA HOYOS DE PEREYRA MARIA MILAGROS"]
[20171994048,"COLEGIO ODONTOLOGICO DEL PERU",null,10108083935,305071,"CALMET RIVERA LUIS ALBERTO"]
[20547132158,"DOMINIONPERU SOLUCIONES Y SERVICIOS SAC",null,10108062415,405343,"MIRANDA CORREDORES DE SEGUROS SAC"]
[20167858067,"CIRCOLO SPORTIVO ITALIANO",null,10108056687,305392,"ARCENTALES  DEL ALCAZAR GISELLA AMPARO"]
[10001627231,"JUAN  MOLLEHUARA  MUÑOZ",null,10108040306,304872,"DIAZ CALDERON PEDRO ENRIQUE"]
[20543722309,"CINDEL SA",null,10108033326,304776,"COLE DE BRACAMONTE GARY"]
[20100083010,"FILAMENTOS INDUSTRIALES S A",null,10107909449,405321,"ATEGIA CORREDORES DE SEGUROS SAC"]
[20573039646,"ROAD SOLUTIONS EIRL",null,10107820910,305389,"ZEVALLOS SARAVIA LYS YESSENIA"]
[20415465221,"KENSISA SOCIEDAD ANONIMA",null,10107303877,305337,"GUERRA URIOSTE CARMEN"]
[20251252409,"SOLVER PRODUCTIONS GROUP SA",null,10107231191,305159,"POLO MARTINEZ CARMEN MILAGROS"]
[20600040473,"ARIANSEN ALLEMANT CORREDORES DE SEGUROS SAC",null,10107145171,304448,"WILLIAM TORO AGUERO"]
[20600990871,"SERVICIOS TWO SAC",null,10106867823,304132,"ATENCIO ARQUE, ALEX"]
[20502847784,"FEDERACION PERUANA DE VOLEIBOL",null,10106813073,304162,"TAMARIZ ADRIANZEN, WALTER"]
[20603058381,"TRANSPORTES FLUVIALES MACHI MACHIN EIRL",null,10106803175,305052,"VELASQUEZ CORREDORES DE SEGUROS EIRL"]
[20132834351,"AUTOMOVILES SA",null,10106375912,405369,"SEGURAMA CORREDORES DE SEGUROS SAC"]
[20489174023,"CEMENTOS SELVA SA",null,10106311329,305431,"MOLINA GONZALES JENNY ELENA"]
[20487453421,"SERVICIOS DE RENT A & V EIRL",null,10106125924,303287,"HERRERA GAMARRA DANTE EDUARDO"]
[20447644402,"TRANSPORTES ACUATICO AYNI TITICACA SAC",null,10105959902,405354,"MAGNO ASESORES Y CORREDORES DE SEGUROS SAC"]
[20601229006,"OCHO SUR U SAC",null,10105878198,304967,"ROJAS LLANOS ABEL OSWALDO"]
[20100055661,"BOLSA DE VALORES DE LIMA SAA",null,10105850455,305174,"CASTRO BARANDIARAN VICTOR DIEGO"]
[10410769684,"ELVA CAROLINA  SAAVEDRA  VILLARREAL",null,10105592162,405404,"GELTS PERU CORREDORES DE SEGUROS SAC"]
[20408705046,"SERVICIOS Y TRANSPORTES SRL",null,10105553426,304784,"RUEDA LUNA RONALD PERCY"]
[20529645121,"CESVEG SERVICIOS GENERALES SRL",null,10105529908,304257,"PALACIOS DE JORDAN, CARMEN GRACIELA"]
[20392614487,"PHOENICIA SERVICIOS GENERALES EIRL",null,10105450210,405335,"AV CORREDORES DE SEGUROS SOCIEDAD ANONIMA CERRADA"]
[20114393810,"HOTEL IVANSINO INN SA",null,10105426963,304834,"JOSE ALFREDO RADA PARODI"]
[20517356680,"H & M NEGOCIACIONES GENERALES SAC",null,10105265048,305531,"ABANTO CULQUIMBOZ DAVID MERCEDES"]
[20557321919,"PASEOS MARINOS SAC",null,10104949725,303203,"CUENCA VELASCO, LUIS"]
[20496106963,"RILEVE INGENIERIA & CONSTRUCCION EIRL",null,10104789281,304602,"SOBREVILLA TALAVERA CARLOS ROBERTO"]
[10266105458,"ENERI HOMERO  SANGAY  VILCA",null,10104776049,305244,"VIERA AREVALO IRMA JANETH"]
[20492283259,"SOLMAR  SUPPLY SAC",null,10104761688,304609,"JORGE TORRES VERA"]
[20100078105,"LABORATORIOS TABBLER DEL PERU SA",null,10104715465,304443,"CARMEN CONSUELO BENAVIDES CALDAS"]
[20376408834,"SOS FAIM",null,10104713055,303870,"TAFUR INGA GLADIS PETITA"]
[20308287395,"JOY GLOBAL (PERU) SAC",null,10104709741,304460,"PULGAR ALBERTI ELIANA ANGELICA"]
[20394006697,"INVERSIONES Y SERVICIOS CESAR EIRL",null,10104707799,304051,"MANTILLA VARGAS, SEGUNDO JAVIER"]
[10477841371,"GUSTAVO ADOLFO  APAZA  VARGAS",null,10104356651,304290,"PAREDES GARCIA, MANUEL JAVIER"]
[10157370559,"ROCIO MARIELA  FARROMEQUE  CANO",null,10104270706,304779,"ZAMBRANO BEJARANO OMAR DAVID"]
[20351981211,"O & O SERVICIOS SRL",null,10104237164,305324,"ALMERCO ROJAS JULIE PILAR"]
[20491753294,"CRUZ DE MARIA SERVICIOS GENERALES SRL",null,10103754572,304188,"PALMA REYES, ROSARIO AURORA"]
[10404233578,"GABRIELA BERTHA  PEREZ  ROMANI",null,10103271342,305404,"RIVERA GARRIDO JOSE CARLOS"]
[20553180695,"COOP DE AHORRO Y CREDITO MICROFINANZAS PRISMA",null,10103242202,305102,"TORRES PALACIOS JOSE CARLOS MANUEL"]
[20604544191,"QHSE LOGISTICA Y CONSTRUCCION SAC",null,10103207423,304739,"HORNA PEREDA, ADOLFO"]
[20601397154,"LOGISTICA Y TRANSPORTE UCAYALI SAC",null,10103111442,405129,"SANTA MARIA SAC CORREDORES DE SEGUROS"]
[10486582753,"LEYLA ANDREA  BENITES  CONTRERAS",null,10103096184,305284,"CERDEÑA RODRIGUEZ RAUL GUSTAVO DOMINGO"]
[20461677836,"CARRERA & CIA SOCIEDAD CIVIL DE RESPONSABILIDAD LI",null,10103090020,303998,"ICAZA GOSCH, VICTORIA"]
[20419020606,"MIRANDA & AMADO ABOGADOS SCRL",null,10103087762,304185,"CABRERA FUENTES ANA MARIA CECILIA"]
[20211614545,"UNIVERSIDAD PERUANA DE CIENCIAS APLICADAS",null,10102995002,304353,"CAMACHO GONZALES DEL VALLE MANUEL EMILIO"]
[20100862132,"ISETEK SA",null,10102846121,405379,"AKIRA OTA Y ASOCIADOS CORREDORES DE SEGUROS SAC"]
[10056162220,"MAGDALENA  MACEDO  VALLES",null,10102834564,405193,"F & G SAC CORREDORES DE SEGUROS"]
[20605309012,"CONSORCIO PROTECCION HUARUA",null,10102818593,305011,"PICASSO GONZALES ENRIQUE MIGUEL"]
[20600254007,"EMPRESA DE TURISMO BAHIA BLANCA SRL",null,10102797634,305338,"VADILLO CORDOVA FABIO TULIO"]
[10454643882,"ALICIA  MAMANI  QUISPE",null,10102780081,305350,"VALLARINO RAMIREZ GASTON JOSE ANTONIO"]
[20600123166,"GLOBAL SERVICES VILLACREZ SRL",null,10102776238,304390,"TOVAR GOMEZ RUBEN JOSE"]
[10804639255,"FELIX  PEREZ  MIGUEL",null,10102760366,304382,"PESCHIERA REBAGLIATI, JAVIER BENJAMIN"]
[10103742213,"DELIA  TAPIA  DE HERNANDEZ",null,10102737267,405403,"ARRIBAS CORREDORES DE SEGUROS SAC"]
[10465341420,"GEYSI LUZVIT  PEÑA  LALANGUI",null,10102733962,303732,"PEDRO AURELIO GIANELLA MERINO"]
[20100039207,"RANSA COMERCIAL SA",null,10102732559,303047,"MAURI ARO, MARIA ROSA"]
[20167315446,"PESQUERA CEMBALI SRL",null,10102732222,303979,"PERLA PORRAS EMILIO"]
[20144031246,"TRABAJO MARITIMO CELENDIN SAC",null,10102719102,303609,"URBINA DE BERNARDIS VERONICA CECILIA"]
[15501861992,"JOSE ANTONIO  FERNANDEZ DAVILA  ROSAS",null,10102714194,305376,"MORALES HILDEBRANDT SANDRA MARIELA"]
[20602191282,"EMPRESA PESQUERA A & M SAC",null,10102694525,304269,"RUIZ DE SOMOCURCIO QUEVEDO RAUL CARLOS"]
[20540049409,"SERVICIOS FISIOTERAPEUTICOS SRL",null,10102656721,303968,"NAVARRO URIARTE MARTA YOLANDA"]
[20602935231,"CHOCORIARI SA",null,10102650561,304387,"CARLOS ALVARADO CABRERA"]
[20600451317,"TROPIC X SAC",null,10102644897,304231,"RENTERIA PIEROLA, VICTOR HUGO"]
[20139923635,"ASOC DE OFICIALES DE LA POLICIA DE INVEST DEL PERU",null,10102244384,303427,"REY RECAVARREN, ALVARO FELIPE"]
[20296136728,"ALTOS ANDES SAC",null,10102234907,405245,"ATANASOVSKI CORREDORES DE SEGUROS SRL"]
[20100175569,"PERUPLAST S A",null,10102189642,303765,"MAGUIÑA VARGAS, JHENY"]
[10001525200,"CLENY ELIZABETH  PACAYA  MIQUEAS",null,10102183491,6054756,"ALBURQUERQUE CORDOVA JOSE AUGUSTO"]
[20513238402,"CLINICA RINOFACIAL EIRL",null,10101839791,304230,"FALCON CUMAPA, RICARDO BENITO"]
[10287125998,"RODOLFO  CHAVEZ  AVENDAÑO",null,10101731176,305015,"HUAYNATE RICALDI JHENNY DEL CARMEN"]
[20600674464,"SERVICIOS GENERALES AVANZAR SRL",null,10101465166,305115,"VILLEGAS NIETO YUGER RUTH"]
[20100379211,"COMPAÑIA DE LANCHAS DESSOUKI SAC",null,10101451432,304023,"DELGADO VIVANCO LIMACO, ADRIAN"]
[20214445451,"SUMINISTROS NAVALES SRLTDA",null,10101413492,304637,"MORAN CAMONES ALEJANDRO JOSE"]
[10329220805,"MARCO ANTONIO  VILLAR  BERNUY",null,10101401915,305064,"CAMPOS LEIVA MARIA JUDITH"]
[20537589834,"CISIL SA",null,10101365498,305331,"PRADA BACA IVAN"]
[20101008283,"PLANINVEST SA",null,10101349905,303995,"AYESTA DE LA PIEDRA JOSE GABRIEL"]
[20491639670,"R&M CORPORACION SIERRA SERVICIOS GENERALES SAC",null,10101079185,305245,"BERROCAL SILVERA JULIO CESAR"]
[20100024862,"A TARRILLO BARBA SA",null,10100645110,405349,"ATRIA CORREDORES DE SEGUROS SAC"]
[20505284560,"ARGOS INTERNATIONAL TRADING SAC",null,10100583661,304550,"JUSCAMAITA MEDINA HENRY RAUL"]
[10180237505,"LUIS JOSE  AGUILAR  LAZARO",null,10100578561,305455,"CESAR CARLOS FIGUEROA LAURENTE"]
[20307218888,"SERV DE REPRES CONSIG Y LIMPIEZA MEGA INTGRAL SAC",null,10100101268,305012,"CANO GARCIA LILY ROCIO"]
[20117471161,"INVERSIONES SAN JOSE SAC",null,10100066748,304252,"MORY HERBOZO, NANCY"]
[20601499801,"SOLUCIONES AMBIENTALES SEGURAS SAC",null,10100066110,304928,"COAGUILA LEON ALBERTO RENAN"]
[20557230522,"MAVA CORP SAC",null,10100041125,305137,"CONTRERAS DE LA MELENA JOSE ERIC JESUS"]
[20528333614,"TRANSPORTES Y SERVICIOS GENERALES BRAYAN AMAZON EI",null,10099971873,304015,"LOECHLE SINTY, MARIEBKE"]
[10295514588,"PEDRO VALERIANO  HUACHO  TICONA",null,10099961347,305252,"QUEZADA ARGANDOÑA  JOSSIE SILVINA "]
[20136258240,"NEGOC MADERERA TRAVI SATIPO SRL",null,10099948821,304884,"PEÑA SALAMANCA GERARDO ERNESTO"]
[10474306785,"THALIA  CHAPIAMA  TELLO",null,10099725929,305056,"VENTOCILLA CHAVARRIA NATALIA"]
[20165718659,"ASOCIA IGLESIA EVANGELICA MISIONERA DE PUCALLPA",null,10099646905,305452,"SANCHEZ JOSE ARMANDO"]
[20394091511,"CORPORACION GERMAN Y MARJORIE SAC",null,10099608205,305342,"MERINO ATOCHE JADDY"]
[20603413700,"KUNTURFLY SERVICE SAC",null,10099554440,304542,"PAICO MORALES CESAR ENRIQUE"]
[10434815334,"JEREMIAS  BENDEZU  SOTO",null,10099416055,305390,"LUCICH VILLAREAL TERESA ELVIRA"]
[20100340438,"REPRODATA SAC",null,10099320848,304983,"HERNANDEZ BAMONDE  IBADE ESTHER"]
[20567223435,"TRANSPORTES RAPIDO G Y V SRL",null,10098792215,405142,"SIEMPRESEGUROS SRL CORREDORES DE SEGUROS"]
[20309996578,"ASOC EDUC ADVENTISTA DEL ORIENTE PERUANO",null,10098764351,304763,"DOMINGUEZ PASTOR, LIZZA"]
[20258679637,"FUNDACION CONSERVACION INTERNACIONAL",null,10098762235,405376,"ASSURANCE CORREDORES DE SEGUROS SAC"]
[20512128271,"CIF PERU SAC",null,10098729548,304229,"MACEDO FERNANDEZ, CLAUDIA CECILIA"]
[20528163191,"GREEN WILD AMAZON EXPEDITION EIRL",null,10098713765,304014,"CARMEN FAJARDO KAPPELER"]
[20537034701,"WATER FOR PEOPLE",null,10098712751,305318,"SIEKMANN QUEVEDO DE GAMBIRAZIO ELKE KATHERIN"]
[20510274009,"ECOLAB PERU HOLDINGS SRL",null,10098685940,305153,"CALMET RIVERA ANA LUCIA"]
[10414820196,"JOSE OMAR  REQUE  BARRIOS",null,10098586968,305059,"FELIPE FLORES ALIS CECILIA"]
[10078317685,"JOSEFINA YOLANDA  LEON  ARZOLA",null,10098579295,304735,"MUENTE HUARCAYA FAVIOLA"]
[20101251111,"COOP DE SERVS EDUCACIONALES STA FELICIA",null,10098532167,304960,"VARGAS GONZALEZ RICARDO JOSE"]
[20107742256,"CEP INMACULADO CORAZON",null,10098506361,405082,"ASESORES DE SEGUROS INDIVIDUALES ASOCIADOS SAC"]
[20600126181,"CENFOMIN EDUCACION SAC",null,10098503621,305224,"EAGLES CORREDORES DE SEGUROS SAC"]
[10414234181,"VERONIKA ISABEL  GANOZA  RAMIREZ",null,10098209421,304070,"RUEDA ARAGON, CARLOS ALBERTO"]
[20549340254,"ASOCIACION EDUCATIVA AMERICA SCHOOL SAC",null,10098024501,304638,"FLORES ATENCIO MAGDA JESSICA"]
[20138063900,"CEIGNE LOS ALAMITOS",null,10097872711,304896,"DIAZ GOMEZ MISAEL ERICO"]
[20603392958,"ASOCIACION EDUCATIVA LE' Z GO KINDER",null,10097194179,305112,"TUEROS ZARATE FREDY EDUARDO"]
[20353112113,"ASOCIACION EDUCATIVA PERUANA DEL NORTE",null,10096780571,91,"VERA COLLANTES JUAN CARLOS VERA"]
[20602000096,"IEI MY LITTLE HOME EIRL",null,10096460096,304371,"VASQUEZ PINEDO, PEDRO DAVID"]
[20297868790,"UNIVERSIDAD SAN IGNACIO DE LOYOLA SA",null,10096409015,304472,"ENIT GRACIELA BURGOS FARFAN"]
[10087284331,"JUAN CARLOS  GARCIA  CHAVEZ",null,10096384586,304008,"CAMPOS GUANILO HEBERT DAN"]
[20108444798,"PRO ARTE ASOCIACION CULTURAL",null,10096360971,304978,"VEGA LAVERIO ELISABETH MARLENY"]
[20554052470,"ASOCIACION DE ESTUDIANTES ADE IPNM",null,10096319911,305162,"PANTOJA CADILLO DANNY MILAGROS"]
[20538633021,"ASO IGL ADVENTISTA DEL SEPTIMO DIA PERUANA DEL NOR",null,10096203638,305365,"CARRILLO QUINTANILLA ROLANDO ENRRIQUE"]
[20602618995,"CORPORACION EDUCA SAC",null,10096018032,305361,"FONSECA CISNEROS VLADIMIR FRANK "]
[20539406419,"UNIVERSIDAD PRIVADA AUTONOMA DEL SUR SAC",null,10095942216,303917,"CONZA BLANCO, MIRIAM MERCEDES"]
[20520869655,"INSTITUCIONES TOULOUSE LAUTREC DE EDUCACION SUPERI",null,10095925036,304560,"MARTINEZ V, JAVIER"]
[20261490022,"COLEGIO PARROQUIAL SAN NORBERTO",null,10095658798,305073,"HUGO REYNALDO GAMARRA SILVA"]
[20171173354,"COLEGIO SANTA MARIA",null,10095428326,304160,"BAMONDE TORERO, CESAR ARTURO"]
[20440292519,"ASOCIACION EDUCATIVA ADVENTISTA NOR PACIFICO",null,10095422794,405348,"RODAS CORREDORES DE SEGUROS SAC"]
[20449254512,"ASOCIACION CIVIL NEOANDINA",null,10095407612,304496,"ESTRADA SEDAMANO YONNY"]
[20392579550,"ASOCIACION EDUCATIVA FORMANDO UN NUEVO MUNDO",null,10095386046,304948,"ALVA BACIGALUPO CARLOS ENRIQUE"]
[20160177013,"COLEGIO PIO XII",null,10095385635,305270,"CASTAÑEDA CERNA CLAUDIA LUZ"]
[20531416849,"ASOCIACION EDUCATIVA ADVENTISTA NOR ORIENTAL",null,10095383551,304639,"ESTRADA CORDOVA DANNY GUSTAVO"]
[20144011725,"CEGNE SANTIAGO APOSTOL",null,10095367203,305292,"SAISHO  CERRON SILVIA PATRICIA"]
[20101259014,"FUNDACION PARA EL DESARROLLO AGRARIO",null,10095353601,405284,"CENTRO SEGURO-CORREDORES DE SEGUROS EIRL"]
[20501618897,"EXITEC SAC",null,10095327244,304125,"GOACHET RIOS FERNANDO JULIO"]
[20269300141,"COLEGIO TRENER DE MONTERRICO SA",null,10094958674,305164,"CASTILLO GAMARRA GUSTAVO RAUL"]
[20507648691,"FUNDACION BELCORP",null,10094934741,305142,"CUENCA HERRERA ROSARIO LEONOR"]
[20138122256,"UNIVERSIDAD PERUANA UNION",null,10094897632,305023,"MARQUEZ SERNA DE PACHECO CECILIA FELICIANA"]
[20141230329,"UNIVERSIDAD FEMENINA DEL SAGRADO CORAZON",null,10094655647,304895,"REYES DIAZ DANIEL OMAR"]
[20111739855,"CE PARROQUIAL SAN JUAN MARIA VIANNEY",null,10094479709,405248,"TOP ASESORES CORREDORES DE SEGUROS SAC"]
[20454157835,"ASOCIACION PAOLA GARCIA MEDINA",null,10094460170,304690,"ZELADA RIVA LUGO"]
[20125080694,"IEP SANTA TERESITA DE LISIEUX",null,10094379259,305188,"SOTO GUILLEN JOSE LUIS"]
[20488012429,"INSTITUCION EDUCATIVA PRIVADA PRISMA SAC",null,10094331990,304966,"SANCHEZ RIVERA MARIO ARTURO EDMUNDO"]
[20455304424,"DUNALASTAIR SRL",null,10093942537,304444,"ABUGATTAS ABUSADA NAGUIB ELIAS"]
[20512667903,"PASITOS SEGUROS SAC",null,10093897108,304969,"ARRIETA SAONA HUGO ALEJANDRO"]
[20140962644,"CEP EL CARMELO",null,10093875341,405392,"SOSA CORREDORES DE SEGUROS SAC"]
[20327097611,"CEP REY DE REYES",null,10093840360,304578,"DAVILA RODRIGUEZ EDWIN"]
[20112885707,"ASOC PROM EDUC EL ROSARIO",null,10093840351,304457,"MILAGROS RIGLOS OLORTEGUI"]
[20227151197,"INST DE EDU SUPERIOR TECNOLOGICO PRIVADO TALLAN",null,10093825000,304431,"PANICHI PARDAVE BRUNO MARTIN"]
[20205443763,"COLEGIO MILITAR PEDRO RUIZ GALLO",null,10093815233,304741,"BUTTERMANN CLEMENS, PETRA"]
[20196769863,"A C E SCHOOL OF TOMORROW PERU",null,10093803031,303868,"PACHECO I ALOSILLA VIRGINIO REINALDO"]
[20161968600,"CENTRO EDUCATIVO PARROQUIAL REINA DE LAS AMERICAS",null,10093778087,305210,"AGUIRRE DEL SOLAR FERNANDO AUGUSTO"]
[20344249696,"CENT EDUCAT PRIV SAN BENITO PALERMO EIRL",null,10093493333,305313,"ARIAS & ASOCIADOS CORREDORES DE SEGUROS SAC"]
[20148032204,"COLEGIO PARROQUIAL SAN FRANCISCO JAVIER",null,10093434973,405315,"ATLANTIC CORREDORES DE SEGUROS SAC"]
[20543568971,"ASOCIACION EDUCATIVA SANTO DOMINGO, EL APOSTOL",null,10093396877,304180,"GUSTAVO JAVIER  REYNA SANCHEZ AIZCORBE"]
[20109174841,"COLEGIO PARTICULAR DE JESUS",null,10093394017,303905,"ARCE MAZZI GUILLERMO"]
[20414939768,"IGL BAUTIS VIDA NUEVA MONTERRICO CHRISTIAN SCHOOL",null,10093362433,405419,"JOLAY CORREDORES DE SEGUROS SOCIEDAD ANONIMA CERRA"]
[20372915529,"CEP REGINA COELIS EIRL",null,10093355224,304884,"PEÑA SALAMANCA GERARDO ERNESTO"]
[20414712046,"ENTIDAD EDUCATIVA SS BONDY SA",null,10093118303,305163,"VILLAFUERTE TORRES MILKO MANUEL"]
[20502476948,"FOREVER KIDS EIRL",null,10093035629,305246,"MOLINA CACERES  JAVIER EBERTHO"]
[20518185552,"ASOC SERVICIO EDUCACIONAL HOGAR Y SALUD DEL NORTE",null,10093020168,405279,"JTC & ASOCIADOS CORREDORES DE SEGUROS SAC"]
[20553278741,"ASOCIACION EDUCATIVA AVIA-ALLIANCE",null,10093005037,405226,"ZUBIRIA CORREDORES DE SEGUROS SAC"]
[20148042005,"COOP DE SERV EDUC ABRAHAM LINCOLN LTDA",null,10092982713,303305,"RIVERA BRAVO MARIO RAUL"]
[20137584680,"COLEGIO ANTONIO RAIMONDI",null,10092952008,303534,"PRO PAREDES JUSTO DANIEL"]
[10078349323,"JAVIER ARTURO  ANGELES  LEON",null,10092760982,305098,"ZUÑIGA FERNANDEZ VILMA LUZ"]
[20544305311,"DA UN CHANCE",null,10092757621,304316,"PORTUONDO LANDEO PAUL PABLO"]
[20148021261,"CENTRO EDUCATIVO PARROQUIAL MARIA DE LA PROVIDENCI",null,10092757159,303726,"LOBATON SANCHEZ JOSE LUIS"]
[20600963563,"ASOCIACION CIVIL COLIBRI AZUL",null,10092756781,304113,"CASANOVA CABRERA, MIGUEL GUILLERMO"]
[20145175616,"COLEGIO PARROQUIAL SANTA ROSA",null,10092738235,303989,"ROJAS VALENCIA, RICARDO ARTURO"]
[10427848278,"GLENNDY ELIZABETH  ARENAS  LAZO",null,10092703211,303701,"URRUTIA VIDAL JULIO ANTONIO"]
[20139580339,"CE PARROQUIAL NTRA SRA DE LA LUZ",null,10092484420,304007,"CHAVEZ BLOCK, JORGE LUIS"]
[20119969574,"CEP SANTA ROSA MM DD",null,10092408812,304245,"HUERTA SANCHEZ ALFREDO TOMAS"]
[20501711919,"CENTRO EDUCATIVO PRIVADO MIXTO DORA MAYER EIRL",null,10092255374,304519,"NIETO GALVAN OSCAR RAUL"]
[20451499514,"ASOCIACION EDUCATIVA ADVENTISTA CENTRO OESTE DEL P",null,10092093315,304429,"ONECIMO MONTOYA MONTOYA"]
[20372536005,"SERVICIOS EDUCATIVOS GAUSS SA",null,10091897526,305175,"BURGA LANFRANCHI WILSON ELMER"]
[10092992271,"EBERTH AUDBERTO  ECHEVARRIA  VILLANUEVA",null,10091787887,303402,"VARGAS VILLANES GABRIELA BEATRIZ"]
[20601032351,"MILEC SERVICIOS EDUCATIVOS SAC",null,10091780220,303933,"LARA HERRERA, CESAR AUGUSTO"]
[20451699793,"I E P DIVINO MAESTRO CHORRILLOS SAC",null,10091763856,304318,"CISNEROS GOMEZ, GUSTAVO ADOLFO"]
[10297328234,"VERONICA HELLEN  SUCLLA  MEDINA",null,10091656090,304458,"MIRELLA ÑIQUE"]
[20601206804,"IST SAN FRANCISCO XAVIER SFX SAC",null,10091631208,304956,"SANCHEZ CERNA JORGE LUIS"]
[10198391951,"MARIA  TAPARA  JIMENEZ",null,10091624309,262,"ANCHAYA CAMPANELLA SAMUEL ALFREDO"]
[20121231833,"COLEGIO PARTICULAR DE LA SALLE",null,10091622446,305171,"MENDOZA SANCHEZ GLORIA NATALIA"]
[20506634777,"ASOCIACION CULTURAL EDUCATIVA LOS ALPES SAC",null,10091613137,305234,"GERKES MOLFINO ESTEBAN MANUEL"]
[20454642024,"SAN ESTEBAN SAC",null,10091581201,303020,"LARA MANSILLA DE WONG SUSANA"]
[20512699937,"COLEGIO ROUSSEAU SAC",null,10091580867,405246,"LEADER CORREDORES DE SEGUROS EIRL"]
[20601916038,"CORPORACION EDUCATIVA EBEF EIRL",null,10091548696,303693,"ALVITES VILLANUEVA SERGIO LUCIO"]
[20144623259,"CEP SAN IGNACIO DE LOYOLA",null,10091478841,304229,"MACEDO FERNANDEZ, CLAUDIA CECILIA"]
[20414849424,"COLEGIO PRIVADO L'HERMITAGE SRL",null,10091432396,304908,"ORTEGA MALATESTA BERNARDO"]
[20168948779,"CEP PARROQ SANTISIMO NOMBRE DE JESUS",null,10091367217,6057728,"LABARTHE CARRANZA CARLOS JAVIER"]
[20160535386,"ASOCIACION CULTURAL GAMOR",null,10091325646,303997,"HUACHILLO VILLACORTA BERTHA CRISTINA"]
[20477262555,"IEP PLANETA AZUL SAC",null,10090822778,304536,"SANCHEZ FALLA JAVIER PEDRO"]
[10103002694,"JANET LILLY  TARAZONA  CORREA",null,10090815631,303835,"OBANDO SANGUINETTI, LUIS MARCOS"]
[20516886782,"ASOCIACION EDUCATIVA ARES",null,10090806195,304490,"ADOLFO PANAY"]
[20152986859,"CEP MIXTO CRISTO SALVADOR",null,10090805776,305405,"MARIA LILIANA MONZON REATEGUI"]
[20139608951,"CEPEA SA",null,10090765804,304289,"ESCOBAR FERNANDEZ VICTOR RAUL"]
[20536073494,"INSTITUCION EDUCATIVA INICIAL PRIVADA EL MUNDO DE",null,10090335320,304856,"HERRERA VALVERDE AZUCENA CONSUELO"]
[20527726566,"DIDASCALIO CRISTO REY",null,10088885584,305457,"SLEE VALLE PETER LOUIS"]
[20505929013,"INTERNACIONAL DE SERVICIOS EDUCATIVOS SAC",null,10088884278,6072187,"WELRIGTON  WASHINGTON SAAVEDRA CARRERA"]
[20147993979,"ASOCIACION UNIVERSIDAD SEMINARIO EVANGELICO DE LIM",null,10088873641,305443,"DIAZ VIZCARDO ERIKA"]
[20344788643,"ASOC EDUCATIVA ADVENTISTA CENTRAL NORTE",null,10088867918,305072,"MORENO GORDILLO MICHELL MILTON HAROLD"]
[20481261890,"PROMOTORA EDUCATIVA JAN KOMENSKY EIRL",null,10088837890,304629,"SOLIS MORALES EVA LUCERO"]
[20160303761,"CEP MARIA DE LAS MERCEDES",null,10088795569,304762,"CASTILLO CHUNGA PATRICIA MARTINA"]
[20482309381,"UNIVERSIDAD PRIVADA DE TRUJILLO",null,10088646211,304664,"PINTO VICTORIO LUIS ALBERTO"]
[20147725966,"ASOCIACION CIVIL PIURA 450",null,10088579319,239,"LARIOS MEOÑO JOSE LUIS"]
[20133115448,"ALIANZA FRANCESA DE AREQUIPA",null,10088563749,6007484,"GRANADOS SOYER, DOMINGO"]
[20521977591,"HIBER SB PALERMO SAC",null,10088463582,303698,"DIAZ MARQUEZ, PETRONILA"]
[10215255374,"ZORAYA  VASQUEZ  FUERTES",null,10088430455,304712,"MORALES YABAR, ROSARIO"]
[20513753277,"ASOCIACION COLEGIO PALESTRA",null,10088360228,304663,"PINTO CASTRO CELIA"]
[20601076315,"CEAE LINCE SAC",null,10088340111,305001,"AREVALO VEINTIMILLA FRANCISCO"]
[20505337434,"ASOCIACION CULTURAL RADIODIFUSORA NUEVO TIEMPO",null,10088282731,304075,"STORNAIUOLO BOLAÑOS, JESUS ALBERTO"]
[20106991180,"CEGNE HANS CHRISTIAN ANDERSEN",null,10088188433,303858,"NUÑEZ CARAZAS, CARMEN"]
[10087695218,"SONJA HILDEGARD  BORDA  STAHLHACKE",null,10088159964,304622,"CASTELLARES GALVEZ JESUS"]
[20126607742,"ALLEMANT Y ASOC CORRED DE SEGUROS SAC",null,10088142174,304531,"FLOREZ VIDAL JOSE CARLOS"]
[20137478651,"CENTRO EDUCATIVO PARROQUIAL SAN RICARDO",null,10088091596,303838,"AREVALO PAREDES CESAR AUGUSTO MARTIN"]
[20538669211,"INNOVACIONES PEDAGOGICAS SAC",null,10088081027,304526,"CASTAÑEDA RAMIREZ DE BAYTISTINI LUZ HAYDEE"]
[20133013441,"INST DE EDUC SUPERIOR TECNOLOGICO PRIVADO DEL SUR",null,10088058076,304136,"TOSO STAGI ALFREDO"]
[20504833471,"ASOCIACION DE SERVICIOS EDUCATIVOS 2000",null,10088053350,58,"AMEZAGA MENENDEZ SANDRA MARIA"]
[20138262422,"ASOCIACION COLEGIO MARIA ALVARADO",null,10087979101,304024,"SOTIL PONCE DE LEON, HECTOR"]
[20125370773,"CENTRO EDUCATIVO PARROQ REINA DE LA PAZ",null,10087978864,304312,"SEGURA ORLANDINI VICTOR EDUARDO"]
[20140900703,"SAN JUDAS TADEO - CORAZONISTAS",null,10087965703,405436,"VIDAL Y ASOCIADOS ASESORES Y CORREDORES DE SEGUROS SAC"]
[20327998413,"UNIVERSIDAD CATOLICA SAN PABLO",null,10087866071,303216,"LLOSA BARBER JORGE RICARDO"]
[20139537247,"CEP SALESIANO ROSENTHAL DE LA PUENTE",null,10087818051,304988,"VAREA DURAND UBALDO CARLOS"]
[20171299889,"IEP PERUANO - ITALIANA DOMINGO SAVIO",null,10087805528,305061,"CERVANTES PALOMINO PERCY DAVID"]
[20167320288,"CE PARROQUIAL NUESTRA SRA DE LA MERCED",null,10087804483,304753,"MUÑOZ-NAJAR MALAGA ALVARO JAVIER"]
[20126152991,"CEP LA SALLE",null,10087800551,303866,"AQUIJE CASTILLO RENE"]
[20100883725,"HERMES ASES Y CORREDORES DE SEGUROS SA",null,10087784270,304841,"RICKARDS BLANCO DE COLE, DEBORAH ROSARIO"]
[10087385227,"MELBA ELIZABETH  HERMOZA  RAMIREZ",null,10087770881,304808,"SANEZ ALCALDE JUAN OSWALDO"]
[20103560757,"COLEGIO SAN AGUSTIN",null,10087745592,6064288,"QUIROZ RIOS REBECA"]
[20519161401,"ASOCIACION EDUCATIVA BENAVIDES",null,10087732831,304508,"AREVALO VENEGAS LUIS MIGUEL"]
[20454383924,"ASOCIACION CIVIL MIRASOL",null,10087708140,72,"VILLALOBOS ARCA  RICARDO"]
[20128664531,"ASOCIACION COLEGIO DE LA INMACULADA",null,10087624604,304111,"TABOADA MORETTI, CARMEN ELVA"]
[20602947735,"NSG EDUCADORES EIRL",null,10087611324,303988,"CORDERO RODRIGUEZ OSCAR AUGUSTO"]
[20558642506,"KINDER GROUP SAC",null,10087582570,303648,"VELARDE NEGRON JAVIER LUIS"]
[20147864656,"C E P NUESTRA SEÑORA DE LA PAZ",null,10087567473,303682,"PEREZ SANCHEZ LUIS ALBERTO"]
[20111581291,"CEP SAN FRANCISCO DE BORJA",null,10087530308,304121,"GONZALES JIMENEZ, RENE ALFREDO"]
[20147864575,"CEP SOR QUERUBINA DE SAN PEDRO",null,10087524430,303688,"PARDO FIGUEROA OSORES, CESAR"]
[20252660217,"ASOCIACION EDUCATIVA SAN ISIDRO",null,10087445343,304005,"BARRERA FERNANDEZ MARIA DEL ROSARIO"]
[20501106641,"D'CHIQUITITOS SRL",null,10087374641,305351,"BOY SANCHEZ DE GRANTHON ZAIDA RENE"]
[20147917954,"CEP SANTA ANGELA",null,10087362880,303954,"CASALINO CASALINO, GUSTAVO JESUS"]
[20140658571,"COLEGIO PARROQUIAL SANTA ROSA DE LIMA",null,10087306106,305041,"MONTOYA BAZALAR ROSALUZ CARMEN"]
[20503916399,"ESTIMULACION TEMPRANA CERES SAC",null,10087252669,303296,"ASIN BARANDIARAN CARLOS ALBERTO"]
[20523736974,"CORPORACION EDUCATIVA LIMA SAC",null,10087248858,304258,"YATACO ALFARO, JULIO CESAR"]
[20140900452,"CEGNE CLARETIANO",null,10087225521,304045,"DAVILA ALCALDE OCTAVIO ENRIQUE"]
[20521068770,"NEWTON PRE SAC",null,10087203331,303787,"PERALTA FONTIS, JOSE LUIS"]
[20100219108,"CONSEJEROS Y CORREDORES DE SEGUROS SA",null,10087191724,305250,"CARDENAS GONZALES ENRIQUE MIGUEL"]
[20547036434,"SOCIEDAD EDUCATIVA GGB KID S SAC",null,10087158671,304236,"PACHAS PAZOS, MIGUEL ENRIQUE"]
[20550761972,"INSTITUCION EDUCATIVA SAN GERMAN EIRL",null,10087115556,305339,"PEDRO PABLO ZUTA TAFUR"]
[20259424268,"CES NUESTRA SENORA DE LA ESPERANZA",null,10087067241,303888,"MARCOS SOLIS GONZALO ESTEBAN"]
[20535529435,"SERVICIOS EDUCATIVOS DE AVANZADA SAC",null,10087038331,304500,"LAGOS MAR BRUNO LUIS"]
[20139219113,"ASOCIACION ACADEMIA DE CULTURA JAPONESA",null,10087016973,305082,"SILVA RODRIGUEZ ELIZABETH DIANA"]
[20428237596,"C E P NUESTRA SRA DE LA ASUNCION SRL",null,10086779809,304778,"ORDOÑEZ CAYCHO ANGEL VICENTE"]
[20504123856,"ASOCIACION EDUCATIVA PARDO SCHOOL",null,10086441492,303062,"SUAREZ ESTELA ANTONIO"]
[10087332751,"PATRICIA ESTHER  ZAKIMI  NAKANDAKARI",null,10086345248,405287,"ZEUS ASESORES Y CORREDORES DE SEGUROS SAC"]
[20601076633,"CEAE LIMA",null,10086336591,303879,"JOSE ROJAS"]
[20546500439,"IPAD INSTITUTO PERUANO DE ARTE Y DISEÑO SA",null,10086136169,303853,"CORDOVA ZAPATA HECTOR"]
[20217276951,"PROMOT DE SERV EDUC JEAN LE BOULCH SRL",null,10086059229,303970,"MONTOYA  LOPEZ, APOLINAR ESTUARDO"]
[20602614639,"SANTA ANA CONSORCIO EDUCATIVO",null,10085880379,304998,"DE PAZ INFANTE ROQUE"]
[20480991142,"COLE PRIV MIX MARCELINO CHAMPAG DE TRUJILLO EIRL",null,10085874794,304799,"ACOSTA MANRIQUE PEDRO PABEL"]
[20508497084,"CONSORCIO EDUCATIVO JUAN ESPINOZA MEDRANO",null,10085847169,304493,"NUÑEZ CHAVARRY MODESTO FRANCISCO"]
[20344135259,"CORP EDUC DEL PERU STA ROSA DE LIMA SRL",null,10085743088,305201,"GARCIA POMA EDGAR ROBERTO"]
[20108884097,"CEGNE SANTA ANITA",null,10085444099,305080,"ORTEGA CASIQUE SONIA LUCILA"]
[20512147225,"IEPM SANTISIMA MARIA SAC",null,10085186294,303822,"DIAZ VILLAFANE ROSARIO ADRIANA"]
[20508696010,"CONSORCIO SAN PATRICIO SAC",null,10085004986,304117,"ESPINOZA CASTAÑEDA, PEDRO JUSTO"]
[20126542781,"COLEGIO SAN IGNACIO DE RECALDE SAC",null,10084746750,304295,"QUISPE MORALES, RAMON ARISTIDES"]
[20125753869,"INST DE CIENCIAS Y HUMANIDADES",null,10084718730,304744,"DONAYRE BARRIOS, ATILIO MARIO"]
[20109705129,"UNIVERSIDAD DEL PACIFICO",null,10084694725,6065095,"VASQUEZ DE OSMA WILMER FRANCISCO"]
[20428343353,"CENTRO DE LA FOTOGRAFIA SA",null,10084659458,405288,"MASTER SEGUROS CORREDORES DE SEGUROS SAC"]
[20600006712,"UNIVERSIDAD GLOBAL DEL CUSCO SAC",null,10084587414,405276,"SEGURLOC'S SAC CORREDORES DE SEGUROS"]
[20371652630,"ASOC EDUCATIVA SAN JUAN BOSCO",null,10084481250,303975,"CABANILLAS POMIANO, HECTOR ABDON"]
[20511265305,"CORPORACION EDUCATIVA SANTA MARIA DE SURCO EIRL",null,10084438494,304346,"BALUARTE LAPEYRE, PEDRO JOSE"]
[20451481577,"UNIVERSIDAD INTERAMERICANA PARA EL DESARROLLO SAC",null,10084420951,304095,"LOBATON GUTIERREZ, MARIO  ALBERTO"]
[20516780526,"COLEGIO VILLA AMERICA SAC",null,10084258747,303613,"RODRIGUEZ MENESES MARIA EUGENIA"]
[20456220453,"ASOCIACION EDUCATIVA JUAN DE LA CRUZ CALIENES",null,10084161077,304105,"ALVA PRETELL JOSE MANUEL"]
[20502871146,"PROMOTORA EDUCATIVA TARAMONA SAC",null,10084069448,6065646,"MONICA  VIOLETA TEVES ESPINOZA"]
[20254529924,"PARROQUIA NTRA SRA DEL CONSUELO",null,10083796320,305275,"DELGADO CAVIEDES DORIS CONSTANZA"]
[20521555093,"NEWTON KID SAC",null,10083558402,304192,"UGARTE ESPINOZA, JAVIER"]
[20516912881,"ASOCIACION EDUCATIVA SANTO DOMINGO",null,10083380158,305332,"ANA CECILIA DEZA MEJIA"]
[20146698507,"CENTRO EDUCATIVO PARTICULAR SANTA MARIA",null,10082797616,303270,"HORNA RODRIGUEZ, VICTOR"]
[20498378286,"FIXES ING SRL",null,10082734347,305100,"VALLEJOS YANAMANGO NOEMI SUZIE"]
[20136629591,"ASOC EDUCACIONAL WILLIAMSON DEL PERU",null,10082710367,304218,"LOPEZ CHANG GUSTAVO ALBERTO"]
[20104985204,"UNIVERSIDAD TECNOLOGICA DE LOS ANDES",null,10082707471,304367,"FRITZ DIAZ, OSCAR JORGE"]
[20170517416,"PADRE DAMIAN DE LOS SAGRADOS CORAZONES",null,10082706467,303526,"STREULI HERENCIA, ROBERTO"]
[20160696631,"COLEGIO SS CC RECOLETA",null,10082682614,303923,"KUKURELO ROSENTHAL JUAN CARLOS"]
[20547080841,"ASOCIACION EDUCATIVA LICEO SANTO DOMINGO",null,10082662591,303687,"CABRERA GONZALES ARTURO MARTIN"]
[20142757207,"COLEG PARTIC PARROQ SANTA ROSA DE LIMA",null,10082661471,304528,"GONZALEZ NEUMANN ROLANDO"]
[20103416982,"COLEGIO MANUEL PARDO",null,10082654769,303716,"RAFAEL REY DE LA CUBA"]
[20477380833,"GLOBAL TRAINER EIRL",null,10082647860,304361,"GONZALES DALY MARROU RICARDO"]
[20372253470,"CORPORACION EDUCATIVA CORAZON DE JESUS SAC",null,10082647479,304434,"AMPARO GARCIA  HERRERA"]
[20545697263,"LIMA KIDS EIRL",null,10082644607,304066,"RIOS SUAREZ VICTOR SANTIAGO"]
[20600902891,"ALBERT EINSTEIN SAN MIGUEL SAC",null,10082642043,303608,"RICARDO OTERO SALCEDO"]
[20196818236,"SERVICIOS EDUCATIVOS SAN JOSE DE MONTERRICO SA",null,10082636108,303675,"JURGENS CARBAJAL LUIS EDUARDO"]
[20147900989,"CENE SEÑOR DE LA MISERICORDIA",null,10082626331,304087,"JORGE LUIS VEGA"]
[20510294531,"SAN CLEMS EDUCACION SAC",null,10082624827,405361,"CUZCANO RIVERA ASESORES Y CORREDORES DE SEGUR EIRL"]
[20600971230,"CUNA JARDIN BEBIÑOS SAC",null,10082624568,304616,"PRIALE MARQUINA MARCOS RAFAEL"]
[20600133889,"HBS EDUCACION SAC",null,10082613850,303539,"MONTENEGRO CHAVEZ-FERNANDEZ JORGE CARLOS"]
[20479988839,"INSTITUCION EDUCATIVA PRIVADA LA ANUNCIATA",null,10082613566,302940,"RICHARD WOOD MAGNANI"]
[20159528228,"CEP LA RECOLETA - AREQUIPA",null,10082606357,305273,"GOICOCHEA LLAQUE RICARDO JULIO"]
[20178503261,"THE KOREA PRESBYTERIAN MISSION IN PERU",null,10082603684,304133,"DI PAOLO FERRARINI, RENZO AMEDEO"]
[20520851365,"ARCANGELES Y QUERUBINES SOCIEDAD ANONIMA CERRADA",null,10082595100,304951,"BALAREZO REAÑO NELLY ANGELICA"]
[20543359034,"IEI PARROQUIAL JESUS MAESTRO",null,10082589240,304826,"GUILLERMO SCHMATZ ROGGERO"]
[20220805396,"COLEGIO MILITAR G M RAMON CASTILLA",null,10082554101,303823,"RAMIREZ HERNANDEZ LUIS EDUARDO"]
[20168389001,"INSTITUCION EDUCATIVA PRIVADA SAN JOSE",null,10082553270,304439,"CARLOS EDWARDS GARDELLA"]
[20600900685,"IEP COLEGIO INDEPENDENCIA",null,10082552176,304635,"CARDENAS LA MADRID JOSE EDUARDO"]
[10451180393,"MERCEDES  CENTENO  MEZA",null,10082552036,303794,"CARDENAS LA MADRID ADA"]
[20105401605,"CECILIA CECILIA SAC",null,10082532621,304698,"ASPINWALL RUIZ ZENAIDA"]
[20155770881,"ASO CEP PERUANO CHINO DIEZ DE OCTUBRE",null,10082525063,305380,"VIER ROSSI ROLAND ERICH"]
[20518015550,"ASOCIACION DEPORTIVO CULTURAL SIEMPRE AMANECER",null,10082523231,304279,"ARREDONDO DEL SOLAR, KELIN ISABEL"]
[20511419540,"INST DE LAS HIJAS DE NSTRA SRA DE LA MISERICORDIA",null,10082516153,304098,"MOSCOSO CARRASCO ENRIQUE FERNANDO"]
[20118110278,"COLEGIO PARTICULAR SANTA MARIA EUFRASIA",null,10082506841,303123,"CORDOVA CARRANZA GABRIEL EMILIO"]
[20563547511,"GRUPO LAS MERCEDES LUNA SCRL",null,10082484251,304633,"GUIBERT RIOS HUMBERTO MARTIN"]
[20526270364,"UNIVERSIDAD NACIONAL DE FRONTERA",null,10082430330,303622,"ESPINOSA FRENCH JOSE"]
[20215644431,"COLEGIO NUESTRA SEÑORA DEL CARMEN",null,10082423601,303832,"DONGO-SORIA CHAMPIN JOSE MIGUEL"]
[20545339774,"IEP DIVINO MAESTRO LOS CEDROS SAC",null,10082420725,305223,"SOUSA HOFFMANN FRANCISCO MIGUEL ALFONSO"]
[20314040610,"CEIP VICTORIA BARCIA BONIFFATTI",null,10082416485,305240,"ARCE ARCE ALFREDO JAVIER"]
[20105864702,"CEP SANTA MARIA REINA",null,10082408164,405383,"YARIN CORREDORES DE SEGUROS EIRL"]
[20456659765,"CORP EDUCAT BURRHUS FREDERICK SKINNER SA",null,10082407770,305140,"TAPIA SABOGAL ALVARO JOSE"]
[20602170641,"CEP LOS SANTOS APOSTOLES",null,10082398231,405406,"PERALBE CORREDORES DE SEGUROS SAC"]
[20338595892,"ORGANIZACION MAGISTER SAC",null,10082396271,303707,"LEON ESPANTOSO EUGENIO MARIA SERGIO"]
[20601416931,"EMPRESA EDUCATIVA PRIVADA YOLITA SAC",null,10082393531,304022,"PENNY BIDEGARAY RICHARD JUAN J"]
[20352736547,"IEP SANTO TORIBIO DE MOGROVEJO",null,10082347467,304197,"BELLOTA OMIZA DE MEZA MARIA DEL PILAR"]
[20489367255,"PROMOTORA DE SERVICIOS EDUCATIVOS SALBA SCRL",null,10082347271,304120,"PERSICO RENGIFO, YVAN"]
[20521334089,"INSTITUCION EDUCATIVA PRIVADA SOL DE FATIMA EIRL",null,10082337534,303721,"VEGAS VIZARRAGA JAVIER GUSTAVO"]
[20228900771,"CENTRO DE EDUCACION TECNICO PRODUCTIVA BOSCONIA",null,10082334071,405283,"LUNA VICTORIA DIAZ ALDO JESUS"]
[20506921831,"ASOCIACION EDUCATIVA ELIM",null,10082315441,305347,"MONTENEGRO CHAVEZ FERNANDEZ JAIME EUGENIO"]
[20491932202,"PROMOTORA LOS OLIVOS SAC",null,10082298202,304661,"LOPEZ COLON, FERNANDO"]
[20537886618,"UCAL SAC",null,10082291585,304102,"BIANCHI BURGA GIANNINA MARIA DEL CARMEN"]
[20502136926,"IEP SAN MARTINCITO DE PORRES",null,10082285071,304537,"AREVALO PEDREROS JULIO ALBERTO"]
[20145978590,"ASOCIACION EDUCACIONAL ANTONIO RAIMONDI",null,10082238188,304962,"BRAVO FLORES JAVIER EDUARDO"]
[20603817185,"DESARROLLO EDUCATIVO SA",null,10082228123,405332,"FERNANDO CORIAT CORREDORES DE SEGUROS SAC"]
[20213909178,"ASOC PROMOTORA DE EDUCACION INICIAL MUND",null,10082224446,304172,"MASIAS QUIROGA, AURELIO GUILLERMO"]
[20514428493,"NIDO LITTLE SCHOOL SAC",null,10082194733,304499,"JUAN EDUARDO ESCUDERO DEUSTUA"]
[20117356656,"COLEGIO PARTICULAR SC SOPHIANUM",null,10082183286,303841,"NOYA PORTELA ANDRES"]
[10084559372,"ISABEL  TEJADA  PEREZ",null,10082175011,303477,"ALMERINI REPETTO, AQUILES JOSE"]
[20509098671,"A CONSORCIO EDUCATIVO SANTO DOMINGO DE GUZMAN",null,10082134293,304240,"PALOMINO ROJAS CARMEN MARINA"]
[20140964850,"CEGNE SAN ANTONIO DE PADUA",null,10082133114,405318,"MGC & ASOCIADOS CORREDORES DE SEGUROS SRL"]
[20479637459,"MARIA DEL ROCIO HENDE SANTOLAYA EIRL",null,10082122830,303873,"CANDELA ORE, LUIS ANIBAL"]
[10086067744,"CELIA VICTORIA  VARGAS  MUÑOZ DE POLO",null,10082100861,303730,"CELSO MANUEL WHITTEMBURY SABLICH"]
[20509453161,"CORP EDUCATIVA LOS ROSALES DE SANTA ROSA SAC",null,10082099943,304411,"CASTAÑEDA CERNA LUIS ANTONIO"]
[20139596685,"CE PARROQUIAL SANTISIMA TRINIDAD",null,10082098564,304215,"HUERTAS VERA, PEDRO ENRIQUE"]
[10088880167,"JESSICA  ZAVALETA  CAJA",null,10082085322,405226,"ZUBIRIA CORREDORES DE SEGUROS SAC"]
[20602682553,"UNIVERSIDAD SEMINARIO BIBLICO ANDINO",null,10082077281,304002,"ANICAMA FLORES, FELIX VICTOR"]
[20548175764,"ROSALITOS KINDER GARDEN SAC",null,10082076587,185,"VELASCO DE LA RIVA VICTOR EDUARDO"]
[20504051332,"CENTRO EDUCATIVO PARTICULAR VIRGEN INMACULADA SAC",null,10082076366,304798,"GALVEZ FERRER CARLOS ALBERTO"]
[20168408740,"COLEGIO NUESTRA SEÑORA DEL PILAR",null,10082072409,303872,"AGUILAR GALARRETA, JUAN CARLOS"]
[20387237667,"CENTRO EDUCATIVO PARROQUIAL MARIA DE LA PROVIDENCI",null,10082058805,305151,"VELASCO DE LA RIVA FERNANDO JOSE"]
[20348800699,"COLEGIO SAN CHARBEL SRLTDA",null,10082058805,303927,"VELASCO DE LA RIVA, FERNANDO"]
[20392599747,"PROMOTORA SABBELY EIRL",null,10082049342,304686,"MINAYA ROSALES MANUEL TEODORO"]
[20344598356,"CEP REVERENDO HERMANO GASTON MARIA SA",null,10082048427,304671,"CALLE ARTEAGA MIRTHA GENOVEVA"]
[20147796634,"UNIVERSIDAD NACIONAL JORGE BASADRE G",null,10082040345,303815,"NAGATOME NAGATOME JUAN"]
[20601090741,"CEAE BREÑA SAC",null,10082028558,405395,"LOSTA CORREDORES DE SEGUROS EIRL"]
[20167652108,"COLEGIO MILITAR ELIAS AGUIRRE",null,10081992075,405000,"SEBASTIAN VEGA LANDA"]
[20156754898,"C E P PERUANO CHINO JUAN XXIII",null,10081980239,303575,"PROTTO ZAVALA FIORELLA VIVIANA"]
[20507790179,"UNIVERSIDAD ANTONIO RUIZ DE MONTOYA",null,10081953819,304134,"PRIANO SOBERON ATILIO FELIX"]
[20456344004,"UNIVERSIDAD LA SALLE",null,10081943414,303987,"ALVARADO CABRERA, JULIO"]
[20137753384,"COOPERATIVA DE SERVICIOS EDUCACIONALES LA UNION",null,10081932927,304397,"CARLOS ANGULO ALCANTARA"]
[20600260601,"SABERES CHILDREN SAC",null,10081932366,6073643,"GONZALEZ RUIZ, LUIS RICARDO"]
[20557012533,"AMERICAN SCHOOL CORPORATION SAC",null,10081923286,304333,"YATACO MATTA, MARTHA LEONOR"]
[20440135171,"ASOC CIVIL UNIV CATOLICA DE TRUJILLO BENEDICTO XVI",null,10081884060,304042,"LAYSECA VARELA JOSE MANUEL"]
[20433400934,"EDUCADORES SIN FRONTERAS SAC",null,10081881516,304442,"JOSE GERSHMAN WERTHEIMER"]
[20147174129,"COLEGIO SAN JOSE OBRERO",null,10081867980,304155,"PASSALACQUA SOTO, CARLOS ANTONIO"]
[20515156845,"CONSORCIO VIRGEN INMACULADA SAC",null,10081863674,6063379,"MOLINA SUAREZ JULIO ALFREDO"]
[20273251228,"CEGNE SANTA BEATRIZ",null,10081632451,405308,"MAVAL Y ASOCIADOS CORREDORES DE SEGUROS SCRL"]
[20601464153,"LIDERES EN DESARROLLO",null,10081560001,304548,"ROBLES GUZMAN PATRICIA NOEMI"]
[20170517254,"COLEGIO SANTA ROSA DE VITERBO",null,10081362098,304764,"BARDALES REATEGUI, CARLOS ENRIQUE"]
[20170517688,"COLEGIO PART ESCLAVAS DEL S C DE JESUS",null,10081350197,303916,"BENAVIDES MIRANDA, MARIA ISABEL"]
[null,null,null,10081217829,303871,"TORRES ROMAN, ALDO JAVIER"]
[null,null,null,10081140583,304806,"ZUBIETA KOLAN ALFREDO"]
[null,null,null,10081103262,303865,"CHAUCA FLORES FEDERICO"]
[null,null,null,10081030290,303437,"LORENZETTI MURILLO MARIA CARMEN"]
[null,null,null,10080898628,305208,"DEL CASTILLO RUIZ JORGE DAVID"]
[null,null,null,10080733645,304875,"SALAZAR HUACAHUASI ZENON"]
[null,null,null,10080508773,305068,"MORA MIRANDA DE LOZANO VILMA NOEMI"]
[null,null,null,10080403297,304514,"CCATAMAYO SALVATIERRA WILFREDO MARIO"]
[null,null,null,10080171990,303602,"CORNOCK MARQUINA NANCY ELIZABETH"]
[null,null,null,10080157725,303552,"CORDOVA PATIÑO, TEODORO"]
[null,null,null,10080092020,304464,"FERNANDEZ RODRIGUEZ HUADIA MICAELA"]
[null,null,null,10079777043,305092,"CLAUDIA MAGALLY FERNANDEZ DE PAREDES UBILLUZ"]
[null,null,null,10079776730,305198,"YNZA CHAMOCHUMBI LUIS MIGUEL"]
[null,null,null,10079719272,405367,"365 CORREDORES DE SEGUROS SAC"]
[null,null,null,10079719035,67,"CAVERO EGUSQUIZA RALLI MARIA REBECA"]
[null,null,null,10079710003,303914,"RODRIGUEZ VARGAS, DIEGO ANTONIO"]
[null,null,null,10079660685,305192,"GOBITZ COLCHADO MONICA FIORELA"]
[null,null,null,10079651767,305445,"GOMEZ PERALTA JAVIER ANTONIO"]
[null,null,null,10079635800,267,"MARCELO VEGA PATRICIA VICTORIA"]
[null,null,null,10079625022,304897,"SARRIA HERNANDEZ MIRTHA CRISTINA"]
[null,null,null,10079624174,304923,"VAJDA CHAVEZ ESTEBAN"]
[null,null,null,10079605242,305185,"ALVAREZ PACHECO GILBERTO OSCAR"]
[null,null,null,10079545339,305089,"CHANG WILSON HERNAN NORBERTO"]
[null,null,null,10079485476,304586,"CAMPOS BENDEZU URBANO"]
[null,null,null,10079453345,304184,"PAZ CAPPELLETTI LUIS ANGEL"]
[null,null,null,10079437048,303567,"ANGOBALDO TORRES MALAGA MIGUEL GUILLERMO"]
[null,null,null,10079388811,304350,"JARA AMPUERO ELIANA ROCIO"]
[null,null,null,10079376464,304889,"LEVANO LAZO DE OSTERLING ROXANA MERCEDES"]
[null,null,null,10079334923,304305,"AMES CONROY, ERICK"]
[null,null,null,10079334915,303971,"AMES CONROY JAIME ARTURO"]
[null,null,null,10079319291,304315,"MUÑIZ GUTIERREZ JAVIER"]
[null,null,null,10079284845,304907,"MEDINA MORALES MARTINICA DEL CARMEN"]
[null,null,null,10079240805,304810,"MENDIVIL MORENO  JORGE ERNESTO MARIO"]
[null,null,null,10079216793,304399,"OSCAR CORRALES BARRERA"]
[null,null,null,10079161743,304025,"ORTIZ GONZALEZ JOSE ANTONIO"]
[null,null,null,10079122659,305258,"WAKABAYASHI HIRATA JAVIER FRANCISCO"]
[null,null,null,10079093829,303845,"VASQUEZ URRUNAGA OSCAR"]
[null,null,null,10079092679,304600,"FELDMUTH CANOVAS HARRIET"]
[null,null,null,10079055561,305395,"SARAZU DAVILA NELLY MARIBET"]
[null,null,null,10079044313,303595,"DIAZ DE RUIZ, ROSA ELSA"]
[null,null,null,10078865917,304842,"LOPEZ BECERRA FRANCISCO JAVIER"]
[null,null,null,10078861083,405310,"J BURASCHI ASOCIADOS CORREDORES DE SEGUROS SAC"]
[null,null,null,10078822096,405437,"GF CONSULTOR CORREDORES DE SEGUROS SAC"]
[null,null,null,10078820832,305058,"STROMSDORFER GAMARRA JOSE MARIA"]
[null,null,null,10078788335,305400,"MATTO LUNA AUGUSTO RAFAEL"]
[null,null,null,10078780091,305074,"VILLANUEVA JAÑA PATRICIA ESTHER"]
[null,null,null,10078772064,305021,"EGUREN VILLALOBOS GONZALO JAVIER"]
[null,null,null,10078771335,305346,"VARGAS RELAYZE SILVIA ROSSANA"]
[null,null,null,10078741932,305302,"ARENAS RAYME MIGUEL GUIDO"]
[null,null,null,10078725996,305466,"TAY YAU JACQUELINE"]
[null,null,null,10078710964,305124,"VENERO BECERRA MARCO ANTONIO"]
[null,null,null,10078703879,405334,"ANTA ASESORES Y CORREDORES DE SEGUROS SAC"]
[null,null,null,10078696848,405373,"UGAZ ASESORES Y CORREDORES DE SEGUROS SAC"]
[null,null,null,10078674551,303863,"SILVA PARRA JORGE ANGEL"]
[null,null,null,10078669689,305387,"COLOMA DIEZ CANSECO PATRICIA ESPERANZA"]
[null,null,null,10078646999,304247,"CUBAS TENA FERNANDO GUSTAVO"]
[null,null,null,10078619193,303834,"MARROQUIN CANALES HUGO JESUS ENRIQUE"]
[null,null,null,10078615988,304294,"AYMAR YANSS, GEORGE TOMAS"]
[null,null,null,10078605508,303201,"BOGGIO ARRIETA, SERGIO"]
[null,null,null,10078598145,304640,"PAJARES GUTIERREZ JUAN ANTONIO MARTIN"]
[null,null,null,10078591701,305374,"CARRION MUÑOZ IVAN AUGUSTO"]
[null,null,null,10078555381,304679,"PAZOS BATTISTINI LUIS FERNANDO"]
[null,null,null,10078548873,85,"DEL AGUILA VALDIVIA, RICARDO"]
[null,null,null,10078538754,304149,"GERVASI PEREZ ROLANDO ADOLFO ANGEL"]
[null,null,null,10078537561,403670,"SEGUMAR S A CORREDORES DE SEGUROS"]
[null,null,null,10078513867,303796,"RAFAEL ADRIANZEN FALCON"]
[null,null,null,10078511783,405430,"SACO ASOCIADOS ASESORES Y CORREDORES DE SEGUROS SA"]
[null,null,null,10078506224,304802,"BARZOLA BARRIENTOS AUGUSTO"]
[null,null,null,10078502792,305265,"MARIMON PIZARRO LUIS MIGUEL"]
[null,null,null,10078483658,405431,"ALTA CORREDORES DE SEGUROS"]
[null,null,null,10078480233,303943,"DAVID RAZZETO, MARIO EMILIO"]
[null,null,null,10078462022,303878,"MARIA OLGA VEREGANI CHAVEZ"]
[null,null,null,10078447732,304235,"MANRIQUE BOTTGER, DIYEE MILAGROS"]
[null,null,null,10078413536,303742,"UGARTE SANTOS, ALBERTO"]
[null,null,null,10078399681,303913,"POLANCO BARRIOS, SANTIAGO"]
[null,null,null,10078393161,405333,"DINAMO CORREDORES DE SEGUROS SAC"]
[null,null,null,10078378803,303442,"SERRA SUITO GUILLERMO FERNANDO"]
[null,null,null,10078374816,303571,"CORCUERA CARRERA JORGE HERNAN"]
[null,null,null,10078368921,405385,"ARTHUR J. GALLAGHER PERU - CORREDORES DE SEGUROS"]
[null,null,null,10078352421,166,"JAMES STEWART ASESOR DE SEGURO"]
[null,null,null,10078347193,305402,"ARRIBAS CHIMPEN MARIO EDGAR"]
[null,null,null,10078326188,304297,"GONZALES DEL VALLE CABRERA, RICARDO MANUEL"]
[null,null,null,10078317430,303754,"PINILLOS GIANNONI ANTONIO BERNANDO JUAN"]
[null,null,null,10078302131,304599,"YLLATOPA PALOMINO JORGE ESTEBAN"]
[null,null,null,10078249345,305035,"GOMEZ MEGO NELLY CANDELARIA"]
[null,null,null,10078240836,6011064,"SOLARI VELIT  LILIANA"]
[null,null,null,10078225861,303261,"ALMENARA DIAZ FEDERICO FRANCISCO"]
[null,null,null,10078202161,6078545,"GONZALES DEL VALLE CABRERA, JORGE LUIS"]
[null,null,null,10078198520,304009,"GONZALES MENDOZA, FEDERICO EDGARDO"]
[null,null,null,10078193528,303577,"GIANNONI MULLER EDUARDO"]
[null,null,null,10078190863,305235,"PIEDRA COELLO LUIS ENRIQUE"]
[null,null,null,10078173853,303929,"RAFAEL GUILLERMO NOVOA CASTRO"]
[null,null,null,10078161090,304636,"GOTUZZO BALTA MARIO GUSTAVO"]
[null,null,null,10078159605,303517,"RIZO PATRON QUINTANA, DIEGO"]
[null,null,null,10078156487,304222,"JOSE AUGUSTO REQUENA LAGORIO"]
[null,null,null,10078128416,304873,"SEMINARIO VALDEZ ALVARO"]
[null,null,null,10078112081,304073,"ROMERO ARTEAGA, CARLOS"]
[null,null,null,10078102719,304331,"SCOTTINI MELENDEZ EZIO ULIO"]
[null,null,null,10078097693,304469,"DORA COLLANTES SESSAREGO"]
[null,null,null,10078076068,305327,"TEAS SOLARI GIULIANA MARISA"]
[null,null,null,10078074821,304285,"GUERRERO COLAN MIRTHA ANGELICA"]
[null,null,null,10078069169,304055,"GUEMBERENA RIZZO MARIA ELENA"]
[null,null,null,10078035817,304883,"GONZALEZ MANTILLA LUIS FERNANDO"]
[null,null,null,10078034527,304947,"MIURA SUGUIMITZU MIRTHA LUISA"]
[null,null,null,10077999154,304512,"WURST VERGARA GABRIEL"]
[null,null,null,10077985781,303632,"REISS LABRAÑA, MARILEA"]
[null,null,null,10077950031,304538,"BARBARAN VASQUEZ MANUEL AUGUSTO"]
[null,null,null,10077925185,7000131,"BOUILLON EYZAGUIRRE CESAR AUGUSTO"]
[null,null,null,10077920647,304100,"ZAVALA CAVASSA, RAUL CLEMENTE"]
[null,null,null,10077919240,405396,"JRABROKER CORREDORES DE SEGUROS SAC"]
[null,null,null,10077915074,303976,"FRISANCHO GUADALUPE, EDWIN MARCO"]
[null,null,null,10077913624,405409,"ACCIÓN ASESORES Y CORREDORES DE SEGUROS SAC"]
[null,null,null,10077912971,304398,"LUIS MEZA"]
[null,null,null,10077903343,304632,"ESQUECHE GONZALES MANUEL ARMANDO"]
[null,null,null,10077897289,303719,"ANGULO RIEDNER RICARDO JESUS"]
[null,null,null,10077886627,305476,"ARENS ORTIZ DE MARAVI MARIANA"]
[null,null,null,10077881463,304274,"HIDALGO BAZO, LAURA VERONICA"]
[null,null,null,10077876303,300013,"ALVAREZ RAMIREZ DORIS"]
[null,null,null,10077865131,304401,"ERNESTO CABIESES"]
[null,null,null,10077847958,304284,"COSTA BAUER ALFREDO LUIS ANTONIO"]
[null,null,null,10077817251,303106,"MONTOYA WEILL JAIME ALEJANDRO"]
[null,null,null,10077782481,303416,"NORIEGA CERDAN JORGE SANTIAGO"]
[null,null,null,10077777674,405286,"MAR & ASOCIADOS CORREDORES DE SEGUROS EIRL"]
[null,null,null,10077767971,303784,"FREIRE SARRIA MIGUEL ANGEL"]
[null,null,null,10077758416,303862,"VIACAVA VARGAS HUMBERTO JUAN"]
[null,null,null,10077747180,304337,"COSTA REBATA CATALINA VICTORIA"]
[null,null,null,10077743265,304405,"NUSSER DAMMERT ADOLFO EBERARDO"]
[null,null,null,10077743010,304112,"ALONSO MENDEZ JAVIER EDUARDO"]
[null,null,null,10077619131,405138,"RAMIREZ Y ASOCIADOS SAC CORREDORES DE SEGUROS"]
[null,null,null,10077607493,304885,"FIGUEROA PAREDES VLADIMIR JESUS"]
[null,null,null,10077561230,304261,"CAMPERO CALDERON CESAR AUGUSTO"]
[null,null,null,10077541034,303921,"LINARES VARILLAS, SALVADOR"]
[null,null,null,10077464862,303596,"PALOMINO BECERRA MANUEL ENRIQUE"]
[null,null,null,10077454361,304709,"GONZALES VILLALOBOS NELLY NOEMI"]
[null,null,null,10077431263,304642,"FIGUEROA FERNANDEZ PEREYRA JESUS RUBEN"]
[null,null,null,10077366909,303895,"AMOROS COBO, ANA MARIA"]
[null,null,null,10077332281,304108,"ALEJANDRO RIVERA QUISPE"]
[null,null,null,10077216541,304446,"EFRAIN ORTEGA NOVELLA"]
[null,null,null,10077154979,304313,"VARGAS RIVERA, LUIS RICARDO"]
[null,null,null,10077060940,305411,"CECILIA LUCRECIA CORDERO CABANILLAS"]
[null,null,null,10077020271,303931,"CHESSA ARANA MARINA LUCRECIA"]
[null,null,null,10076497015,304395,"DELGADO DELGADO LUIS AUGUSTO"]
[null,null,null,10076424298,304557,"MEZA CAMPANA JOSE ENRIQUE"]
[null,null,null,10076401182,304452,"WILFREDO MONT LAY"]
[null,null,null,10076400054,305441,"RAMIREZ CISNEROS LUIS CARLOS"]
[null,null,null,10076365003,304820,"TAMARIZ IDIAQUEZ CARLOS ELISEO"]
[null,null,null,10076280326,305017,"CACERES CASTILLO FERNANDO MAURICIO"]
[null,null,null,10076267486,305107,"LARRIVIERE LUCAR GUNTHER PAUL"]
[null,null,null,10076262824,305026,"RODRIGUEZ CALDAS LUIS ARTURO"]
[null,null,null,10076236556,405398,"JTM CORREDORES DE SEGUROS SAC"]
[null,null,null,10076134923,304380,"VASQUEZ PINEDO, CYNTHIA MONICA"]
[null,null,null,10076113292,304463,"QUIJANDRIA CHUTON CESAR HUMBERTO"]
[null,null,null,10076090829,304156,"MENDO MECHAN, MIRIAN DEL PILAR"]
[null,null,null,10076085515,303071,"VALLEJOS GASTELO, JAIME ANTONIO"]
[null,null,null,10076043626,304940,"MORENO CERNA MIGUEL"]
[null,null,null,10076006127,303434,"CESAR LEON ROCHA"]
[null,null,null,10075995194,303973,"ESPEJO SOLORZANO JOSE"]
[null,null,null,10075936473,304938,"MERINO NUÑEZ JOSE ANTONIO"]
[null,null,null,10075916693,304069,"TUESTA MONTES DE OCA JUAN ISAAC"]
[null,null,null,10075887707,305238,"BRIONES MARIN MARIA YSABEL"]
[null,null,null,10075830926,304383,"ENRIQUE SANCHEZ LEON"]
[null,null,null,10075829740,305079,"VILLA JARAMA JAIME VICENTE"]
[null,null,null,10075800318,304656,"BARRENECHEA S., SABINO"]
[null,null,null,10075773078,304887,"CHINCHAYAN FERNANDEZ CLEMENTINA RAFAELA"]
[null,null,null,10075740129,303712,"JIMENO MORA MAXIMILIANA ANGELICA"]
[null,null,null,10075727289,304160,"BAMONDE TORERO, CESAR ARTURO"]
[null,null,null,10075717674,301709,"TAKUMA HARA, ERNESTO"]
[null,null,null,10075697975,304232,"LUIS ENRIQUE MALAGA AGUERO"]
[null,null,null,10075674398,304658,"BAUDTS HEINSEN EDWIN JOSE"]
[null,null,null,10075648176,304874,"RODRIGUEZ CERVANTES JULIA CARMELA"]
[null,null,null,10075602192,305281,"LAZO OLAYA  LUIS ANTONIO"]
[null,null,null,10075574008,304123,"ALCEDO FLORES, AUGUSTO MARCOS"]
[null,null,null,10075399141,302720,"LUY LOO, CARLOS"]
[null,null,null,10075384659,304670,"TORREJON VEGA JOSE VICTOR"]
[null,null,null,10075355381,304788,"REATEGUI REATEGUI DE REYES PILAR CAROLINA"]
[null,null,null,10075345939,304280,"SALAZAR VERGARA, CESAR AUGUSTO"]
[null,null,null,10075226671,305308,"GONZALES GARCIA STEVE"]
[null,null,null,10075208401,304809,"TELLO MANRIQUE FLORENCIO JESUS"]
[null,null,null,10074832887,305391,"ALVAREZ PINEDA MERCEDES SILVIA"]
[null,null,null,10074818914,305345,"MALDONADO VELARDE VERONICA MILAGROS"]
[null,null,null,10074489015,304418,"ALONSO TORRES CARLOS ENRIQUE"]
[null,null,null,10074484927,303936,"VALDIVIA MONTERO CARMEN"]
[null,null,null,10074396050,305267,"CALDERON CASAS YOVANNA ERNESTINA"]
[null,null,null,10074326949,303711,"LADERA ORTIZ, JESUS ANGEL"]
[null,null,null,10074271389,304144,"TOLEDO ENRIQUEZ, DIEGO GODOFREDO"]
[null,null,null,10074156911,303512,"RUEDA DANCOURT JOSE ALFREDO"]
[null,null,null,10073973185,304465,"WILDER AGUIRRE POLO"]
[null,null,null,10073960008,304329,"ZAVALETA RAMOS, MARIA ANGELICA"]
[null,null,null,10073943154,303709,"LUIS JOSE VELASQUEZ VELASQUEZ"]
[null,null,null,10073836625,304139,"MOSCOSO LOPEZ, GUSTAVO ALONSO"]
[null,null,null,10073701762,405378,"SHIELD CORREDORES DE SEGUROS SAC"]
[null,null,null,10073498274,304674,"VILLACORTA MEDINA EDGARD WILMAR"]
[null,null,null,10073360949,304641,"TORRES KONG, RODOLFO"]
[null,null,null,10073304682,304126,"MOSCOLL LOZADA ALDO ARTURO"]
[null,null,null,10072935433,303338,"CERPA AMADO HELARF EDGAR"]
[null,null,null,10072914967,305196,"MIYAGUI KOBASHIGAWA JUANA CAROLINA"]
[null,null,null,10072847046,6066258,"LLONTOP VIDAL JAIME FERNANDO"]
[null,null,null,10072730599,405134,"MAVAC CORREDORES DE SEGUROS SAC"]
[null,null,null,10072712981,303704,"MALDONADO MOLINA, VICTOR HUGO"]
[null,null,null,10072680001,305436,"AYESTA DE LA PIEDRA CARLOS ALBERTO"]
[null,null,null,10072665975,305499,"JORGE LUIS BAYETO LESCANO"]
[null,null,null,10072656861,304064,"TORRES CRIOLLO MARIA TERESA"]
[null,null,null,10072648647,405051,"CALLSEGUROS CORREDORES DE SEGUROS ASESORIA Y CONSU"]
[null,null,null,10072642533,303965,"LUPERDIGA MENDOZA, PATRICIA DEL PILAR"]
[null,null,null,10072629847,305364,"OBRADOVICH SARMIENTO JAVIER ALFREDO MARTIN"]
[null,null,null,10072604488,304447,"CONCHA GOICOCHEA CARLOS PAUL"]
[null,null,null,10072551376,304982,"JOEL JAIME CARDENAS"]
[null,null,null,10072539759,303619,"MONTALVO CHERO SEGUNDO ANDRES"]
[null,null,null,10072488810,304650,"QUINTANILLA GIBAJA MARIA DEL CARMEN"]
[null,null,null,10072459984,304738,"GALVEZ VILLANUEVA TERESA DEL MILAGRO"]
[null,null,null,10072459097,303738,"MIRANDA MARINI, NAZARIO"]
[null,null,null,10072443760,304369,"PEÑA DEGREGORI LUIS GUILLERMO"]
[null,null,null,10072426041,304233,"BARRIGA BARBA ORLANDO"]
[null,null,null,10072409308,304817,"JULIO MARTINEZ CARO"]
[null,null,null,10072394661,303875,"HUAMAN SALAZAR EDER ARTURO"]
[null,null,null,10072332984,304615,"LAZO MAC, JORGE GUILLERMO"]
[null,null,null,10072327638,304052,"SILVA SANTISTEBAN BENZA ADA MARIELA"]
[null,null,null,10072312592,303504,"AGUILAR STUMPF, ROGER"]
[null,null,null,10072277525,304293,"AYMAR YANSS, RUBEN EMILIO"]
[null,null,null,10072259675,304326,"VIOLETA CARMEN FALEN ESCAJADILLO"]
[null,null,null,10072252271,304421,"DE LA PUENTE FARFAN OSCAR HUGO"]
[null,null,null,10072224154,304292,"LA ROSA URIBE ALEJANDRO"]
[null,null,null,10072217794,303329,"BAYETO CRUZ JORGE ALEJANDRO"]
[null,null,null,10072214311,303046,"ROJAS VALDIZAN ABEL JONAS"]
[null,null,null,10072158372,405399,"SEKYURITI CORREDORES DE SEGUROS SAC"]
[null,null,null,10072134341,304459,"TEJADA ANGULO JOSE MANUEL"]
[null,null,null,10072092673,304571,"VILLEGAS NIETO, VICTOR"]
[null,null,null,10072090166,303462,"QUINECHE LA ROSA RAUL ENRIQUE"]
[null,null,null,10072067547,305371,"MARTINEZ ENRIQUEZ GUSTAVO ENRIQUE"]
[null,null,null,10072040410,304321,"CHIU CASTRO, FELIPE GUSTAVO"]
[null,null,null,10072021504,303983,"GARCIA REATEGUI, JAIME"]
[null,null,null,10071969822,304298,"ASMAT RODRIGUEZ, JORGE ALFONSO"]
[null,null,null,10071963051,304532,"GARCIA CORDOVA LUIS ENRIQUE"]
[null,null,null,10071943882,303840,"ACUÑA VIDAL MIGUEL HECTOR"]
[null,null,null,10071883154,304534,"MABAMA NUE ELIAS AURELIO"]
[null,null,null,10071877120,305009,"BALTA GIL CARLOS ALFREDO"]
[null,null,null,10071801778,304241,"URIBE LOPEZ, NINA OLENKA"]
[null,null,null,10071408154,305155,"ROJAS ALANIA REYNALDO JOSE"]
[null,null,null,10071304359,303731,"MACHUCA BARRIENTOS, ISMAEL"]
[null,null,null,10070375881,304714,"STAGNARO GAMIO, MARIA DEL CARMEN"]
[null,null,null,10070142339,302962,"MOSCOSO GABANCHO, ENRIQUE"]
[null,null,null,10070089471,304745,"MARTHANS GARRO LUIS ALBERTO"]
[null,null,null,10070028111,304901,"LOPEZ DIAZ DE VASQUEZ LAURA ARMIDA"]
[null,null,null,10069710951,405350,"JUNGBLUTH & ASOCIADOS CORREDORES DE SEGUROS SAC"]
[null,null,null,10069669692,304836,"PETIT DEL RIO RAFAEL ANTONIO"]
[null,null,null,10069609614,304918,"PEÑA ALVES MILHO ERIC FELIPE"]
[null,null,null,10067868892,304256,"YAIPEN LLONTOP HENRRY STALIN"]
[null,null,null,10067832014,303132,"YATACO ROSAS, FELIPE"]
[null,null,null,10067761435,304697,"SALAZAR ROMERO JORGE BERNARDO"]
[null,null,null,10067758655,405331,"REYES ASOCIADOS & CORREDORES DE SEGUROS SAC"]
[null,null,null,10067756512,304975,"HILFREICH DEL PIELAGO CARLOS EDUARDO"]
[null,null,null,10067672131,303720,"LLAQUE CALDERON, MARIO"]
[null,null,null,10067644994,304250,"MUJICA GRIPPA FRANCISCO DAVID"]
[null,null,null,10067642169,305172,"MUÑOZ DEL CORAL MARCO EDUARDO"]
[null,null,null,10067586862,303813,"CARDENAS OBREGON ALEJANDRO"]
[null,null,null,10067504548,303520,"SAAVEDRA GARCIA, GILMER"]
[null,null,null,10067438219,305160,"AREVALO SOTO LOURDES JENIVA"]
[null,null,null,10067393711,304324,"CASTRO CASTRO, ELIZABETH CLAUDIA"]
[null,null,null,10067364398,302849,"MORENO GARCIA, RAMON"]
[null,null,null,10067286699,6057281,"VELASCO VASQUEZ, ROBERTO"]
[null,null,null,10067269841,304178,"CASTRO RONDON, RUFINO"]
[null,null,null,10067236519,303717,"EUGENIO ALFREDO CHACALTANA PAREDES"]
[null,null,null,10067228761,304818,"BARDALES CANAZAS LUIS ALBERTO"]
[null,null,null,10067140201,304605,"GONZALO NUÑEZ RODRIGUEZ"]
[null,null,null,10067112836,305084,"SALAZAR CASTAÃ‘EDA DORIS CARMELA"]
[null,null,null,10067095656,304682,"SANCHEZ BELLIDO AURELIO NICOLAS"]
[null,null,null,10067069841,305393,"PARDO FONSECA ROSA LEONOR"]
[null,null,null,10067032549,303755,"CASTAÑEDA VISCONDE MARCO ANTONIO"]
[null,null,null,10066823755,303327,"GENY GARAY NALVARTE"]
[null,null,null,10066741228,304404,"MEY MACCAGNO LESLIE ORLANDO"]
[null,null,null,10066704551,305081,"LEYTHON VERA NORLEY JACQUELINE"]
[null,null,null,10066701471,304142,"RODRIGUEZ VELEZ, ALDO MOISES"]
[null,null,null,10066643102,305280,"GINA BRENDA CECILIA"]
[null,null,null,10066631422,304010,"ZUAZO DEL AGUILA, JESUS SERAFIN"]
[null,null,null,10066595655,304480,"BLAS OLIVAS MIRIAM"]
[null,null,null,10066581891,304340,"DEGOLLAR LANTERON MARIA DEL PILAR"]
[null,null,null,10066546123,304569,"VARGAS QUINO CARMEN MARITZA"]
[null,null,null,10066523557,304143,"ORDOÑEZ ROJAS DE SILUPU ANGELITA PILAR"]
[null,null,null,10066513144,303956,"BACA ARBAÑIL PEDRO LUIS"]
[null,null,null,10066490594,303443,"CHUMPITAZ VERANO, GREGORIO"]
[null,null,null,10066468831,303777,"NUÑEZ MALPARTIDA, ROMULO VIDAL"]
[null,null,null,10066456302,304858,"SANCHEZ MERCADO FRANCISCO JOSE"]
[null,null,null,10066424991,101,"JORGE ALFREDO ESCALANTE SIFUENTES"]
[null,null,null,10066415754,405452,"CCA CORREDORES DE SEGUROS SAC"]
[null,null,null,10066403110,6010734,"SCERPELLA PORTH, JUAN"]
[null,null,null,10066374870,305287,"CASTILLO CORBELLA  RICARDO JOSE"]
[null,null,null,10066369248,304847,"AGUIRRE IBAÑEZ LAURA PRISCA"]
[null,null,null,10066366371,303708,"CARPIO NEYRA JUAN PABLO"]
[null,null,null,10066037938,304347,"ZAPATA SABOGAL ROSA MERCEDES"]
[null,null,null,10066026421,304272,"PEREZ SUAREZ, HUMBERTO"]
[null,null,null,10066010509,405300,"COQUIS & LORENZETTI ASES Y CORRED  DE  SEGUROS SAC"]
[null,null,null,10065999230,6000143,"FIGUEROA LLANOS MAX"]
[null,null,null,10065980075,304084,"BENAVIDES GALLEGOS FERNANDO MANUEL"]
[null,null,null,10065883193,304152,"VILLARREAL CORDOVA, EDGAR EDSON"]
[null,null,null,10065865055,305139,"HOPKINS RODRIGUEZ ANA MARIA"]
[null,null,null,10064904316,304413,"GONZALEZ CARMONA DE NUÑEZ DEL PRADO DORA INES ALIC"]
[null,null,null,10064339678,305294,"VERA FERNANDEZ DE PONCZYK PATRICIA IVONNE"]
[null,null,null,10064271879,305135,"NAKASONE NOZOE FERNANDO"]
[null,null,null,10063853904,304840,"JO RAMIREZ MARCOS ALFONSO"]
[null,null,null,10063253745,305323,"HUERTA GONZALES RUTH BEATRIZ"]
[null,null,null,10062944345,304705,"MARIA DEL ROSARIO TABOADA HOYOS"]
[null,null,null,10062910874,305150,"SEGURA BENAVENTE LILIANA TERESA"]
[null,null,null,10062723357,304517,"LUIS GUERRERO FLORES"]
[null,null,null,10062720552,304746,"RACHUMI IBARCENA, CESAR AUGUSTO"]
[null,null,null,10062650911,305013,"DIESTRA ROQUE ANA MARIA"]
[null,null,null,10062486991,304626,"QUIJADA ARIAS JOSE LUIS"]
[null,null,null,10062436374,304811,"SERTZEN FERNANDEZ MARCO"]
[null,null,null,10062416055,303377,"CELIS GARCIA TOMAS"]
[null,null,null,10062391281,304886,"PANTA FIESTAS MANUEL"]
[null,null,null,10062036031,405393,"TORRE FUERTE CORREDORES DE SEGUROS S.A.C."]
[null,null,null,10062036031,405393,"TORRE FUERTE CORREDORES DE SEGUROS S.A.C."]
[null,null,null,10062006205,303681,"DEL AGUILA SCHUTT, CARLOS"]
[null,null,null,10061992702,305333,"CANALES ROJAS JOSE WILFREDO"]
[null,null,null,10061559677,305033,"RUIZ CRUZADO ARTURO"]
[null,null,null,10061549272,405429,"FEVIA ASESORES Y CORREDORES DE SEGUROS SAC"]
[null,null,null,10061545226,304201,"PRADO VALVERDE, CARLOS LORENZO"]
[null,null,null,10061365261,304090,"ARTETA CLAROS, JORGE"]
[null,null,null,10061335931,303788,"DINA ANA MARIA VIDARTE GARCIA"]
[null,null,null,10061291208,304238,"QUIROZ ARROSPIDE HECTOR JESUS"]
[null,null,null,10061267617,304151,"VILLENA RUEDA, FEDERICO"]
[null,null,null,10061233691,303612,"VENTO SAYAN, SARA"]
[null,null,null,10061058082,303790,"FERNANDEZ VERA, GALO GERARDO"]
[null,null,null,10061057451,305095,"WILSON TRUJILLO LAURA ROSA"]
[null,null,null,10060981341,305090,"ENRIQUEZ COLFER LUIS MIGUEL"]
[null,null,null,10060863283,304792,"ROTALDE OLIVA JOSE MIGUEL"]
[null,null,null,10060806123,304088,"BUZZIO REYNOSO, HUGO"]
[null,null,null,10060747160,304393,"ARNALDO ANTONIO DIOSES  VIGO"]
[null,null,null,10060635850,405417,"VITTAL CORREDORES DE SEGURO SAC"]
[null,null,null,10060449363,303564,"BRAVO DELGADO, JUAN"]
[null,null,null,10060369084,303891,"SERTZEN MATHEWS, MARCOS A."]
[null,null,null,10060215494,304821,"ARCE RAMIREZ LUCY ENITH"]
[null,null,null,10060205502,303638,"SIU IGLESIAS, DORA"]
[null,null,null,10056438837,305446,"LEIGH RIOFRIO HENRY"]
[null,null,null,10054170187,405408,"GYZ CORREDORES DE SEGUROS Y ASOCIADOS SA"]
[null,null,null,10054131688,304466,"ALBERTO ABAD CORNEJO"]
[null,null,null,10054058417,304902,"GARCES NUÑEZ HILDA LUZ"]
[null,null,null,10053985977,303398,"ACUY REATEGUI ROSA YOLANDA"]
[null,null,null,10053812584,304909,"FACHIN MALAVERRY KARLA MABEL"]
[null,null,null,10053736501,304759,"MELCHOR SOLIS, SABINO CLEMENTE"]
[null,null,null,10053694735,6061660,"LOPEZ  IBAÑEZ, ALFREDO"]
[null,null,null,10053654504,305422,"CESAR MARTIN ARMAS RAMIREZ"]
[null,null,null,10053373190,304535,"ROBERT RENGIFO LOPEZ"]
[null,null,null,10053178621,304702,"VASQUEZ PINEDO, GISELA PATRICIA"]
[null,null,null,10052816195,304306,"VASQUEZ PEZO, MIGUEL"]
[null,null,null,10052284002,304694,"TELLO BARRERA ELBA"]
[null,null,null,10052052268,303898,"ELESPURU PEZO, ULISES"]
[null,null,null,10046531588,304952,"KOC ZEBALLOS MARIA DEL CARMEN"]
[null,null,null,10040858429,305519,"CECILIA RIVERA IBARRA"]
[null,null,null,10039004254,305173,"G Y C CORREDORES DE SEGUROS"]
[null,null,null,10038966460,305261,"FARFAN NOVOA  MELISA MELINA"]
[null,null,null,10038794260,305005,"SANDOVAL CESPEDES DE LEVANO JANET MARISA"]
[null,null,null,10036466044,305305,"CHIROQUE SANDOVAL BETSY"]
[null,null,null,10028838358,304498,"BENJAMIN TRISTAN VALDIVIA"]
[null,null,null,10028482642,304327,"PITA REYNA, FRANCISCO NEPTALI"]
[null,null,null,10028253422,304574,"GARCIA PALACIOS JOSE LUIS"]
[null,null,null,10027714175,304936,"SEMINARIO WEST FRANCISCO ARTURO"]
[null,null,null,10027708213,305007,"REQUENA OLAVARRIA DENISSE ROXANA DE J"]
[null,null,null,10026784676,303072,"IPANAQUE AREVALO, JAVIER"]
[null,null,null,10026592611,304194,"VALIENTE DE SALDARRIAGA, VIOLETA"]
[null,null,null,10026494431,304879,"ÑAMO BACA LUIS ARMANDO"]
[null,null,null,10026486748,304927,"LANDA AGURTO CESAR"]
[null,null,null,10026472143,305010,"SANCHEZ MONTALBAN HAYDEE MARGOT"]
[null,null,null,10026416944,305529,"PALACIOS RAMIREZ LUZ DEL SOCORRO"]
[null,null,null,10026358243,302955,"COLOMA GUZMAN, JAVIER"]
[null,null,null,10026316982,304332,"ANDRADE LEON, MIGUEL ANGEL"]
[null,null,null,10026277235,305111,"AMESQUITA ARANDA SILVIA ROSA"]
[null,null,null,10026012576,304852,"CORDOVA PALACIOS VICENTE FELIX"]
[null,null,null,10024298049,304772,"BUSTAMANTE VALDIVIA YAAN"]
[null,null,null,10024106662,305209,"ACHATA DEL CARPIO DE CALLE LINDA MIRIAM"]
[null,null,null,10012975428,304653,"DELGADO CORRALES, ARTURO LORENZO A."]
[null,null,null,10012968693,304645,"FIGUEROA URQUIZO, MAYCKOL"]
[null,null,null,10012306577,304377,"FIGUEROA COSIO, ROLANDO ERNESTO"]
[null,null,null,10011113864,305525,"JUAN CARLOS BERNAZZA VASQUEZ"]
[null,null,null,10010628895,304751,"SIMON MARIN TUANAMA"]
[null,null,null,10010618148,304786,"DOCUMET PEREA FELIPE RAMON"]
[null,null,null,10007906167,405405,"FENIX ASESORES Y CORREDORES DE SEGUROS EIRL"]
[null,null,null,10005166646,305317,"CALIZAYA CONDORI LUCIO GILBERTO"]
[null,null,null,10005093096,304621,"HIDALGO BAZO MIRYAN JESUS"]
[null,null,null,10005083759,405277,"ASEGURATEPERU CORREDORES DE SEGUROS SAC"]
[null,null,null,10004951579,405145,"GRUPO COPAJA ASESORES Y CORREDORES DE SEGUROS SAC"]
[null,null,null,10004771503,305299,"CACERES  PICOAGA ROLANDO FELIX"]
[null,null,null,10004331244,405435,"FS CORREDORES DE SEGUROS SOCIEDAD ANONIMA CERRADA"]
[null,null,null,10004322491,304581,"CACERES ROQUE JOSE"]
[null,null,null,10004272205,405330,"HUGO CHURA Y ASOCIADOS CORREDORES DE SEGUROS SAC"]
[null,null,null,10002370854,304720,"MEDINA FEIJOO MARCO ANTONIO"]
[null,null,null,1075115955,305458,"GOMEZ PANTOJA GIANDARE"]

{"sheet":"Planes de Fraccionamiento","index":13,"n_rows":21,"n_cols":12,"rows_kept":21,"cut":false,"hidden":true,"merged":[]}
["Tipo","Plan","Interés (anual)","condiciondepago","N° cuotas","formadePago","Factores que se aplica a la prima total","Plan",null,"Persona natural",null,"Empresa"]
["Persona Natural","Contado",0,"contado",1,"Cupones",1,"Contado",null,1,null,1]
["Persona Natural","cuotas s/i",0,"cuotas",4,"Cupones",1,"4 cuotas s/i",null,4,null,4]
["Persona Natural","Contado",0,"contado",1,"Débito Automático",1,"Contado",null,6,null,6]
["Persona Natural","cuotas s/i",0,"cuotas",4,"Débito Automático",1,"4 cuotas s/i",null,10,null,8]
["Persona Natural","cuotas c/i",0.17499999999999999,"cuotas",6,"Cupones",1.0478842900000001,"6 cuotas c/i",null,12,null,10]
["Persona Natural","cuotas c/i",0.17499999999999999,"cuotas",10,"Cupones",1.0759130800000001,"10 cuotas c/i"]
["Persona Natural","cuotas c/i",0.17499999999999999,"cuotas",12,"Cupones",1.0901090099999999,"12 cuotas c/i"]
["Persona Natural","cuotas c/i",0.12,"cuotas",6,"Débito Automático",1.03347213,"6 cuotas c/i"]
["Persona Natural","cuotas c/i",0.12,"cuotas",10,"Débito Automático",1.0529275499999999,"10 cuotas c/i"]
["Persona Natural","cuotas c/i",0.12,"cuotas",12,"Débito Automático",1.0627448100000001,"12 cuotas c/i"]
["Empresa","Contado",0,"contado",1,"Cupones",1,"Contado"]
["Empresa","cuotas s/i",0,"cuotas",4,"Cupones",1,"4 cuotas s/i"]
["Empresa","cuotas c/i",0.12,"cuotas",6,"Cupones",1.03347213,"6 cuotas c/i"]
["Empresa","cuotas c/i",0.12,"cuotas",8,"Cupones",1.04316999,"8 cuotas c/i"]
["Empresa","cuotas c/i",0.12,"cuotas",10,"Cupones",1.0529275499999999,"10 cuotas c/i"]
["Empresa","Contado",0,"contado",1,"Débito Automático",1,"Contado"]
["Empresa","cuotas s/i",0,"cuotas",4,"Débito Automático",1,"4 cuotas s/i"]
["Empresa","cuotas c/i",0.12,"cuotas",6,"Débito Automático",1.03347213,"6 cuotas c/i"]
["Empresa","cuotas c/i",0.12,"cuotas",8,"Débito Automático",1.04316999,"8 cuotas c/i"]
["Empresa","cuotas c/i",0.12,"cuotas",10,"Débito Automático",1.0529275499999999,"10 cuotas c/i"]

{"sheet":"Período corto","index":14,"n_rows":18,"n_cols":4,"rows_kept":18,"cut":false,"hidden":true,"merged":[]}
["Unidad","Mayor a ","Menor igual a","% Períod corto"]
["Días",0,1,0.05]
["Días",{"$f":"+C2","v":1},2,7.0000000000000007E-2]
["Días",{"$f":"+C3","v":2},3,0.09]
["Días",3,4,0.11]
["Días",4,5,0.13]
["Días",5,6,0.14000000000000001]
["Días",6,7,0.15]
["Días",7,15,0.2]
["Días",15,30,0.25]
["Días",30,61,0.3]
["Días",61,91,0.4]
["Días",91,122,0.5]
["Días",122,152,0.6]
["Días",152,183,0.7]
["Días",183,213,0.8]
["Días",213,243,0.9]
["Días",243,366,1]